BEGIN:VCALENDAR
VERSION:2.0
PRODID:-//Colchester East Hants Public Library - ECPv6.15.20//NONSGML v1.0//EN
CALSCALE:GREGORIAN
METHOD:PUBLISH
X-ORIGINAL-URL:https://www.lovemylibrary.ca
X-WR-CALDESC:Events for Colchester East Hants Public Library
REFRESH-INTERVAL;VALUE=DURATION:PT1H
X-Robots-Tag:noindex
X-PUBLISHED-TTL:PT1H
BEGIN:VTIMEZONE
TZID:America/Halifax
BEGIN:DAYLIGHT
TZOFFSETFROM:-0400
TZOFFSETTO:-0300
TZNAME:ADT
DTSTART:20240310T060000
END:DAYLIGHT
BEGIN:STANDARD
TZOFFSETFROM:-0300
TZOFFSETTO:-0400
TZNAME:AST
DTSTART:20241103T050000
END:STANDARD
BEGIN:DAYLIGHT
TZOFFSETFROM:-0400
TZOFFSETTO:-0300
TZNAME:ADT
DTSTART:20250309T060000
END:DAYLIGHT
BEGIN:STANDARD
TZOFFSETFROM:-0300
TZOFFSETTO:-0400
TZNAME:AST
DTSTART:20251102T050000
END:STANDARD
BEGIN:DAYLIGHT
TZOFFSETFROM:-0400
TZOFFSETTO:-0300
TZNAME:ADT
DTSTART:20260308T060000
END:DAYLIGHT
BEGIN:STANDARD
TZOFFSETFROM:-0300
TZOFFSETTO:-0400
TZNAME:AST
DTSTART:20261101T050000
END:STANDARD
BEGIN:DAYLIGHT
TZOFFSETFROM:-0400
TZOFFSETTO:-0300
TZNAME:ADT
DTSTART:20270314T060000
END:DAYLIGHT
BEGIN:STANDARD
TZOFFSETFROM:-0300
TZOFFSETTO:-0400
TZNAME:AST
DTSTART:20271107T050000
END:STANDARD
END:VTIMEZONE
BEGIN:VEVENT
DTSTART;VALUE=DATE:20251202
DTEND;VALUE=DATE:20260601
DTSTAMP:20260419T164740
CREATED:20250818T193306Z
LAST-MODIFIED:20260415T142120Z
UID:10012341-1764633600-1780271999@www.lovemylibrary.ca
SUMMARY:Technically Speaking
DESCRIPTION:Is your tablet confusing? Having trouble downloading an app to your phone or don’t know what an app means? Want to learn more about TikTok? Drop into the library with your questions and we can help. All ages are welcome. \nNo registration is required.
URL:https://www.lovemylibrary.ca/event/technically-speaking-9-2-2/
LOCATION:Mount Uniacke Library\, 555\, Highway 1\, Mount Uniacke\, Nova Scotia\, Canada
CATEGORIES:Events For Adults,Location: Mount Uniacke
ATTACH;FMTTYPE=image/png:https://www.lovemylibrary.ca/wp-content/uploads/2023/04/Untitled-design-65.png
END:VEVENT
BEGIN:VEVENT
DTSTART;VALUE=DATE:20260101
DTEND;VALUE=DATE:20260430
DTSTAMP:20260419T164740
CREATED:20260102T193054Z
LAST-MODIFIED:20260401T153101Z
UID:10013493-1767225600-1777507199@www.lovemylibrary.ca
SUMMARY:Tech Help: Drop-in Sessions & One-on-One Appointments
DESCRIPTION:Experiencing tech troubles with your phone\, tablet\, computer\, or the library computers? Would you like to learn how to access FREE eBooks\, audiobooks\, movies\, and music online using your library card? Our Digital Literacy Trainer is here to answer your tech questions! \nTo book an appointment\, or for more information\, please visit our front desk\, email digital.literacytrainers@gmail.com\, or call (902) 895-4183\n\n\nMonday-10:00-12:00pm drop-in (Maker Lab)\n\n\n1:00-4:00 appointments (Teen Room) \n\n\n\n\nTuesday-3:00-6:00pm appointments    \n\n\n6:00-8:00pm drop-in  \n\n\nWednesday –10:00-11:30am drop-in (Maker Lab) \n\n\n12:00-2:00pm appointments (Teen Room) \n\n\n\n\nSaturday  –2:00-3:00pm appointments  \n\n\n3:00-5:00pm drop-ins
URL:https://www.lovemylibrary.ca/event/tech-help-drop-in-session-2/
LOCATION:Truro Library\, 754 Prince St\, Truro\, Nova Scotia\, Canada
CATEGORIES:Events For Adults,Events For Seniors,Location: Truro
ATTACH;FMTTYPE=image/png:https://www.lovemylibrary.ca/wp-content/uploads/2025/09/Untitled-design-41.png
END:VEVENT
BEGIN:VEVENT
DTSTART;TZID=America/Halifax:20260209T103000
DTEND;TZID=America/Halifax:20260430T103000
DTSTAMP:20260419T164740
CREATED:20260129T172511Z
LAST-MODIFIED:20260401T153234Z
UID:10014170-1770633000-1777545000@www.lovemylibrary.ca
SUMMARY:Community Volunteer Income Tax Program: Appointments
DESCRIPTION:Beginning Mon\, Feb 9\, volunteers will be taking appointments for income tax preparation on Mondays\, Tuesdays\, Wednesdays and Fridays from 10:30 am to 1:30 pm\, in person or by phone. This will continue until the end of the tax season or until all slots are full. \nCall 902-896-4192 for appointments or drop by the library.
URL:https://www.lovemylibrary.ca/event/community-volunteer-income-tax-program-appointments/
LOCATION:Truro Library\, 754 Prince St\, Truro\, Nova Scotia\, Canada
CATEGORIES:Events For Adults,Location: Truro
ATTACH;FMTTYPE=image/png:https://www.lovemylibrary.ca/wp-content/uploads/2026/01/Info-Calendar-Images-6.png
END:VEVENT
BEGIN:VEVENT
DTSTART;VALUE=DATE:20260301
DTEND;VALUE=DATE:20260425
DTSTAMP:20260419T164740
CREATED:20260228T184750Z
LAST-MODIFIED:20260228T184750Z
UID:10014311-1772323200-1777075199@www.lovemylibrary.ca
SUMMARY:For the Love of Painting
DESCRIPTION:Sean Benton paints in an expressive realist style. His images replicate realism with an emphasis on the elements of art and design. Sean hopes viewers experience familiarity depicted in new ways. The works currently on display vary in subject matter with portraits\, landscape\, architecture\, and still life. \nAll ages. Drop-in. In-person\, 2nd Floor Exhibit Area.
URL:https://www.lovemylibrary.ca/event/for-the-love-of-painting/
LOCATION:Truro Library\, 754 Prince St\, Truro\, Nova Scotia\, Canada
CATEGORIES:Events For Adults,Events For Kids,Events For Seniors,Events For Teens,Location: Truro
ATTACH;FMTTYPE=image/png:https://www.lovemylibrary.ca/wp-content/uploads/2026/02/Info-Calendar-Images-8.png
END:VEVENT
BEGIN:VEVENT
DTSTART;VALUE=DATE:20260301
DTEND;VALUE=DATE:20260531
DTSTAMP:20260419T164740
CREATED:20251024T181941Z
LAST-MODIFIED:20260417T164415Z
UID:10013519-1772323200-1780185599@www.lovemylibrary.ca
SUMMARY:Tech Help by Appointment
DESCRIPTION:Bring your own device or use one of our computers. This program covers: eReaders/ebooks\, basic computer navigation\, basic app use\, basic cellphone use\, basic tablet use\, general internet instruction\, research and using library electronic resources. All ages are welcome. \nRegister: stewiacke@cehpubliclibrary.ca
URL:https://www.lovemylibrary.ca/event/tech-help-by-appointment-5/
LOCATION:Stewiacke Library\, 295 George Street\, Stewiacke\, Nova Scotia\, Canada
CATEGORIES:Events For Adults,Location: Stewiacke
ATTACH;FMTTYPE=image/jpeg:https://www.lovemylibrary.ca/wp-content/uploads/2021/08/11.jpg
END:VEVENT
BEGIN:VEVENT
DTSTART;TZID=America/Halifax:20260401T100000
DTEND;TZID=America/Halifax:20260521T140000
DTSTAMP:20260419T164740
CREATED:20260318T173356Z
LAST-MODIFIED:20260318T173356Z
UID:10014532-1775037600-1779372000@www.lovemylibrary.ca
SUMMARY:Free Income Tax Clinic
DESCRIPTION:File your taxes to get your benefits and credits. If you have a modest income and simple tax situation\, volunteers may be able to do your taxes.
URL:https://www.lovemylibrary.ca/event/free-income-tax-clinic/
LOCATION:Tatamagouche Library\, 170 Main Street\, Tatamagouche\, Nova Scotia\, Canada
CATEGORIES:Events For Adults,Location: Tatamagouche
ATTACH;FMTTYPE=image/png:https://www.lovemylibrary.ca/wp-content/uploads/2026/01/Info-Calendar-Images-6.png
END:VEVENT
BEGIN:VEVENT
DTSTART;VALUE=DATE:20260402
DTEND;VALUE=DATE:20260501
DTSTAMP:20260419T164740
CREATED:20231127T145031Z
LAST-MODIFIED:20260316T124913Z
UID:10006041-1775088000-1777593599@www.lovemylibrary.ca
SUMMARY:Take Home Craft Kits
DESCRIPTION:Kits change on a weekly basis and contain all supplies needed to complete the craft. For preschool and early elementary kids. \nDrop In: No registration necessary
URL:https://www.lovemylibrary.ca/event/take-home-craft-kits-8/
LOCATION:Stewiacke Library\, 295 George Street\, Stewiacke\, Nova Scotia\, Canada
CATEGORIES:Events For Kids,Location: Stewiacke
ATTACH;FMTTYPE=image/png:https://www.lovemylibrary.ca/wp-content/uploads/2023/11/Untitled-design-57.png
END:VEVENT
BEGIN:VEVENT
DTSTART;VALUE=DATE:20260402
DTEND;VALUE=DATE:20260501
DTSTAMP:20260419T164740
CREATED:20260119T175258Z
LAST-MODIFIED:20260316T125607Z
UID:10014070-1775088000-1777593599@www.lovemylibrary.ca
SUMMARY:Scavenger Hunt - Spring
DESCRIPTION:Spring is full of exciting changes in nature\, and you’ll be searching for them–right here at the library! \nAll ages. In-person: drop-in\, no registration necessary.
URL:https://www.lovemylibrary.ca/event/scavenger-hunt-hearts/
LOCATION:Stewiacke Library\, 295 George Street\, Stewiacke\, Nova Scotia\, Canada
CATEGORIES:Events For Kids,Location: Stewiacke
ATTACH;FMTTYPE=image/png:https://www.lovemylibrary.ca/wp-content/uploads/2026/01/Info-Calendar-Images-8.png
END:VEVENT
BEGIN:VEVENT
DTSTART;TZID=America/Halifax:20260402T103000
DTEND;TZID=America/Halifax:20260402T110000
DTSTAMP:20260419T164740
CREATED:20260119T175917Z
LAST-MODIFIED:20260316T130008Z
UID:10014384-1775125800-1775127600@www.lovemylibrary.ca
SUMMARY:Baby Rhyme Time
DESCRIPTION:Bring your little one to Baby Rhyme Time—a fun\, interactive session filled with songs\, rhymes\, and snuggly story moments. Perfect for babies and their caregivers! Infant-2 years old with a caregiver \nThis is a drop in program. No registration is required.
URL:https://www.lovemylibrary.ca/event/baby-rhyme-time-7-2-2-2-2-2/2026-04-02/
LOCATION:Stewiacke Library\, 295 George Street\, Stewiacke\, Nova Scotia\, Canada
CATEGORIES:Events For Kids,Location: Stewiacke
ATTACH;FMTTYPE=image/png:https://www.lovemylibrary.ca/wp-content/uploads/2022/03/Untitled-design-75.png
END:VEVENT
BEGIN:VEVENT
DTSTART;TZID=America/Halifax:20260402T103000
DTEND;TZID=America/Halifax:20260402T113000
DTSTAMP:20260419T164740
CREATED:20230223T193657Z
LAST-MODIFIED:20260402T124300Z
UID:10003846-1775125800-1775129400@www.lovemylibrary.ca
SUMMARY:Playdough Palooza(April 2nd\, not 3rd)
DESCRIPTION:Wondering what you can make and do with playdough? Come and discover your creative talents! For ages 3+ \nThis is a drop-in program. No registration is required.
URL:https://www.lovemylibrary.ca/event/playdough-pallooza/
LOCATION:Truro Library\, 754 Prince St\, Truro\, Nova Scotia\, Canada
CATEGORIES:Events For Kids,Location: Truro
ATTACH;FMTTYPE=image/png:https://www.lovemylibrary.ca/wp-content/uploads/2023/02/Untitled-design-76.png
END:VEVENT
BEGIN:VEVENT
DTSTART;TZID=America/Halifax:20260402T103000
DTEND;TZID=America/Halifax:20260402T123000
DTSTAMP:20260419T164740
CREATED:20250905T184306Z
LAST-MODIFIED:20260401T152251Z
UID:10014676-1775125800-1775133000@www.lovemylibrary.ca
SUMMARY:Drop-in Housing Outreach Services with Housing Outreach Society
DESCRIPTION:Workers from the Truro Housing Outreach Society will be at the library to offer housing and outreach support services for folks experiencing homelessness and/or housing insecurity. This can include access to survival supplies\, client case management and care plans\, assistance with rental and subsidy applications\, sending paperwork to agencies\, and interfacing with landlords. \nAdults. In-person. Drop-in: no registration required.
URL:https://www.lovemylibrary.ca/event/drop-in-housing-outreach-services-with-housing-outreach-society/2026-04-02/
LOCATION:Truro Library\, 754 Prince St\, Truro\, Nova Scotia\, Canada
CATEGORIES:Events For Adults,Location: Truro
ATTACH;FMTTYPE=image/png:https://www.lovemylibrary.ca/wp-content/uploads/2025/08/Untitled-design-39.png
END:VEVENT
BEGIN:VEVENT
DTSTART;TZID=America/Halifax:20260402T110000
DTEND;TZID=America/Halifax:20260402T112000
DTSTAMP:20260419T164740
CREATED:20250820T135034Z
LAST-MODIFIED:20260414T165957Z
UID:10014547-1775127600-1775128800@www.lovemylibrary.ca
SUMMARY:Tales for Tots
DESCRIPTION:Join us Thursday mornings in the Big Brothers Big Sisters Room for stories\, songs\, and activities that are just right for terrific toddlers! \n18 months-4 years with a parent/caregiver. \nDrop-in\, no registration required.
URL:https://www.lovemylibrary.ca/event/tales-for-tots-2-2-2-2-2/2026-04-02/
LOCATION:Truro Library\, 754 Prince St\, Truro\, Nova Scotia\, Canada
CATEGORIES:Events For Kids,Location: Truro
ATTACH;FMTTYPE=image/png:https://www.lovemylibrary.ca/wp-content/uploads/2022/03/Untitled-design-81.png
END:VEVENT
BEGIN:VEVENT
DTSTART;TZID=America/Halifax:20260402T140000
DTEND;TZID=America/Halifax:20260402T170000
DTSTAMP:20260419T164740
CREATED:20260317T152933Z
LAST-MODIFIED:20260317T153022Z
UID:10014446-1775138400-1775149200@www.lovemylibrary.ca
SUMMARY:No School Scavenger Hunt
DESCRIPTION:No school\, we have just the thing. Pop into the library for an Easter Scavenger Hunt. As always there is a prize if you find all the hidden eggs \nSchool Age. In-person. Drop-in: no registration required.
URL:https://www.lovemylibrary.ca/event/no-school-scavenger-hunt/
LOCATION:Mount Uniacke Library\, 555\, Highway 1\, Mount Uniacke\, Nova Scotia\, Canada
CATEGORIES:Events For Kids,Location: Mount Uniacke
ATTACH;FMTTYPE=image/png:https://www.lovemylibrary.ca/wp-content/uploads/2026/03/Info-Calendar-Images-5.png
END:VEVENT
BEGIN:VEVENT
DTSTART;TZID=America/Halifax:20260402T153000
DTEND;TZID=America/Halifax:20260402T163000
DTSTAMP:20260419T164740
CREATED:20260108T174724Z
LAST-MODIFIED:20260402T191418Z
UID:10014655-1775143800-1775147400@www.lovemylibrary.ca
SUMMARY:Read Aloud Book Club- There will be no session on April 9th
DESCRIPTION:Picture this: A room full of children\, quietly sipping hot chocolate\, nibbling on popcorn\, doodling\, or relaxing as they listen to the librarian read aloud from a novel. If this sounds like fun\, then please join us for Read it Out Loud\, a book club for children ages 6-12 \nTo register email info@cehpubliclibrary.ca
URL:https://www.lovemylibrary.ca/event/read-it-out-loud-2-2-2/2026-04-02/
LOCATION:Truro Library\, 754 Prince St\, Truro\, Nova Scotia\, Canada
CATEGORIES:Events For Kids,Location: Truro
ATTACH;FMTTYPE=image/png:https://www.lovemylibrary.ca/wp-content/uploads/2024/12/Untitled-design-2024-12-13T165407.976.png
END:VEVENT
BEGIN:VEVENT
DTSTART;TZID=America/Halifax:20260402T183000
DTEND;TZID=America/Halifax:20260402T193000
DTSTAMP:20260419T164740
CREATED:20251218T155238Z
LAST-MODIFIED:20260417T171232Z
UID:10014389-1775154600-1775158200@www.lovemylibrary.ca
SUMMARY:Writers’ Group
DESCRIPTION:Discover a community of writers at the library! Our Writer’s Group provides a relaxed\, encouraging environment to discuss works-in-progress\, explore writing prompts\, and grow your craft. Bring your notebook\, your ideas\, and your love of words. This is an adult program. \nThis is an adult program. No registration is required.
URL:https://www.lovemylibrary.ca/event/writers-group/2026-04-02/
LOCATION:Stewiacke Library\, 295 George Street\, Stewiacke\, Nova Scotia\, Canada
CATEGORIES:Events For Adults,Location: Stewiacke
ATTACH;FMTTYPE=image/png:https://www.lovemylibrary.ca/wp-content/uploads/2025/12/Untitled-design-2025-12-18T114622.943.png
END:VEVENT
END:VCALENDAR