BEGIN:VCALENDAR
VERSION:2.0
PRODID:-//Colchester East Hants Public Library - ECPv6.15.20//NONSGML v1.0//EN
CALSCALE:GREGORIAN
METHOD:PUBLISH
X-WR-CALNAME:Colchester East Hants Public Library
X-ORIGINAL-URL:https://www.lovemylibrary.ca
X-WR-CALDESC:Events for Colchester East Hants Public Library
REFRESH-INTERVAL;VALUE=DURATION:PT1H
X-Robots-Tag:noindex
X-PUBLISHED-TTL:PT1H
BEGIN:VTIMEZONE
TZID:America/Halifax
BEGIN:DAYLIGHT
TZOFFSETFROM:-0400
TZOFFSETTO:-0300
TZNAME:ADT
DTSTART:20240310T060000
END:DAYLIGHT
BEGIN:STANDARD
TZOFFSETFROM:-0300
TZOFFSETTO:-0400
TZNAME:AST
DTSTART:20241103T050000
END:STANDARD
BEGIN:DAYLIGHT
TZOFFSETFROM:-0400
TZOFFSETTO:-0300
TZNAME:ADT
DTSTART:20250309T060000
END:DAYLIGHT
BEGIN:STANDARD
TZOFFSETFROM:-0300
TZOFFSETTO:-0400
TZNAME:AST
DTSTART:20251102T050000
END:STANDARD
BEGIN:DAYLIGHT
TZOFFSETFROM:-0400
TZOFFSETTO:-0300
TZNAME:ADT
DTSTART:20260308T060000
END:DAYLIGHT
BEGIN:STANDARD
TZOFFSETFROM:-0300
TZOFFSETTO:-0400
TZNAME:AST
DTSTART:20261101T050000
END:STANDARD
BEGIN:DAYLIGHT
TZOFFSETFROM:-0400
TZOFFSETTO:-0300
TZNAME:ADT
DTSTART:20270314T060000
END:DAYLIGHT
BEGIN:STANDARD
TZOFFSETFROM:-0300
TZOFFSETTO:-0400
TZNAME:AST
DTSTART:20271107T050000
END:STANDARD
END:VTIMEZONE
BEGIN:VEVENT
DTSTART;VALUE=DATE:20251202
DTEND;VALUE=DATE:20260601
DTSTAMP:20260419T180355
CREATED:20250818T193306Z
LAST-MODIFIED:20260415T142120Z
UID:10012341-1764633600-1780271999@www.lovemylibrary.ca
SUMMARY:Technically Speaking
DESCRIPTION:Is your tablet confusing? Having trouble downloading an app to your phone or don’t know what an app means? Want to learn more about TikTok? Drop into the library with your questions and we can help. All ages are welcome. \nNo registration is required.
URL:https://www.lovemylibrary.ca/event/technically-speaking-9-2-2/
LOCATION:Mount Uniacke Library\, 555\, Highway 1\, Mount Uniacke\, Nova Scotia\, Canada
CATEGORIES:Events For Adults,Location: Mount Uniacke
ATTACH;FMTTYPE=image/png:https://www.lovemylibrary.ca/wp-content/uploads/2023/04/Untitled-design-65.png
END:VEVENT
BEGIN:VEVENT
DTSTART;VALUE=DATE:20260101
DTEND;VALUE=DATE:20260430
DTSTAMP:20260419T180355
CREATED:20260102T193054Z
LAST-MODIFIED:20260401T153101Z
UID:10013493-1767225600-1777507199@www.lovemylibrary.ca
SUMMARY:Tech Help: Drop-in Sessions & One-on-One Appointments
DESCRIPTION:Experiencing tech troubles with your phone\, tablet\, computer\, or the library computers? Would you like to learn how to access FREE eBooks\, audiobooks\, movies\, and music online using your library card? Our Digital Literacy Trainer is here to answer your tech questions! \nTo book an appointment\, or for more information\, please visit our front desk\, email digital.literacytrainers@gmail.com\, or call (902) 895-4183\n\n\nMonday-10:00-12:00pm drop-in (Maker Lab)\n\n\n1:00-4:00 appointments (Teen Room) \n\n\n\n\nTuesday-3:00-6:00pm appointments    \n\n\n6:00-8:00pm drop-in  \n\n\nWednesday –10:00-11:30am drop-in (Maker Lab) \n\n\n12:00-2:00pm appointments (Teen Room) \n\n\n\n\nSaturday  –2:00-3:00pm appointments  \n\n\n3:00-5:00pm drop-ins
URL:https://www.lovemylibrary.ca/event/tech-help-drop-in-session-2/
LOCATION:Truro Library\, 754 Prince St\, Truro\, Nova Scotia\, Canada
CATEGORIES:Events For Adults,Events For Seniors,Location: Truro
ATTACH;FMTTYPE=image/png:https://www.lovemylibrary.ca/wp-content/uploads/2025/09/Untitled-design-41.png
END:VEVENT
BEGIN:VEVENT
DTSTART;TZID=America/Halifax:20260209T103000
DTEND;TZID=America/Halifax:20260430T103000
DTSTAMP:20260419T180355
CREATED:20260129T172511Z
LAST-MODIFIED:20260401T153234Z
UID:10014170-1770633000-1777545000@www.lovemylibrary.ca
SUMMARY:Community Volunteer Income Tax Program: Appointments
DESCRIPTION:Beginning Mon\, Feb 9\, volunteers will be taking appointments for income tax preparation on Mondays\, Tuesdays\, Wednesdays and Fridays from 10:30 am to 1:30 pm\, in person or by phone. This will continue until the end of the tax season or until all slots are full. \nCall 902-896-4192 for appointments or drop by the library.
URL:https://www.lovemylibrary.ca/event/community-volunteer-income-tax-program-appointments/
LOCATION:Truro Library\, 754 Prince St\, Truro\, Nova Scotia\, Canada
CATEGORIES:Events For Adults,Location: Truro
ATTACH;FMTTYPE=image/png:https://www.lovemylibrary.ca/wp-content/uploads/2026/01/Info-Calendar-Images-6.png
END:VEVENT
BEGIN:VEVENT
DTSTART;VALUE=DATE:20260301
DTEND;VALUE=DATE:20260531
DTSTAMP:20260419T180355
CREATED:20251024T181941Z
LAST-MODIFIED:20260417T164415Z
UID:10013519-1772323200-1780185599@www.lovemylibrary.ca
SUMMARY:Tech Help by Appointment
DESCRIPTION:Bring your own device or use one of our computers. This program covers: eReaders/ebooks\, basic computer navigation\, basic app use\, basic cellphone use\, basic tablet use\, general internet instruction\, research and using library electronic resources. All ages are welcome. \nRegister: stewiacke@cehpubliclibrary.ca
URL:https://www.lovemylibrary.ca/event/tech-help-by-appointment-5/
LOCATION:Stewiacke Library\, 295 George Street\, Stewiacke\, Nova Scotia\, Canada
CATEGORIES:Events For Adults,Location: Stewiacke
ATTACH;FMTTYPE=image/jpeg:https://www.lovemylibrary.ca/wp-content/uploads/2021/08/11.jpg
END:VEVENT
BEGIN:VEVENT
DTSTART;TZID=America/Halifax:20260401T100000
DTEND;TZID=America/Halifax:20260521T140000
DTSTAMP:20260419T180355
CREATED:20260318T173356Z
LAST-MODIFIED:20260318T173356Z
UID:10014532-1775037600-1779372000@www.lovemylibrary.ca
SUMMARY:Free Income Tax Clinic
DESCRIPTION:File your taxes to get your benefits and credits. If you have a modest income and simple tax situation\, volunteers may be able to do your taxes.
URL:https://www.lovemylibrary.ca/event/free-income-tax-clinic/
LOCATION:Tatamagouche Library\, 170 Main Street\, Tatamagouche\, Nova Scotia\, Canada
CATEGORIES:Events For Adults,Location: Tatamagouche
ATTACH;FMTTYPE=image/png:https://www.lovemylibrary.ca/wp-content/uploads/2026/01/Info-Calendar-Images-6.png
END:VEVENT
BEGIN:VEVENT
DTSTART;VALUE=DATE:20260402
DTEND;VALUE=DATE:20260501
DTSTAMP:20260419T180355
CREATED:20231127T145031Z
LAST-MODIFIED:20260316T124913Z
UID:10006041-1775088000-1777593599@www.lovemylibrary.ca
SUMMARY:Take Home Craft Kits
DESCRIPTION:Kits change on a weekly basis and contain all supplies needed to complete the craft. For preschool and early elementary kids. \nDrop In: No registration necessary
URL:https://www.lovemylibrary.ca/event/take-home-craft-kits-8/
LOCATION:Stewiacke Library\, 295 George Street\, Stewiacke\, Nova Scotia\, Canada
CATEGORIES:Events For Kids,Location: Stewiacke
ATTACH;FMTTYPE=image/png:https://www.lovemylibrary.ca/wp-content/uploads/2023/11/Untitled-design-57.png
END:VEVENT
BEGIN:VEVENT
DTSTART;VALUE=DATE:20260402
DTEND;VALUE=DATE:20260501
DTSTAMP:20260419T180355
CREATED:20260119T175258Z
LAST-MODIFIED:20260316T125607Z
UID:10014070-1775088000-1777593599@www.lovemylibrary.ca
SUMMARY:Scavenger Hunt - Spring
DESCRIPTION:Spring is full of exciting changes in nature\, and you’ll be searching for them–right here at the library! \nAll ages. In-person: drop-in\, no registration necessary.
URL:https://www.lovemylibrary.ca/event/scavenger-hunt-hearts/
LOCATION:Stewiacke Library\, 295 George Street\, Stewiacke\, Nova Scotia\, Canada
CATEGORIES:Events For Kids,Location: Stewiacke
ATTACH;FMTTYPE=image/png:https://www.lovemylibrary.ca/wp-content/uploads/2026/01/Info-Calendar-Images-8.png
END:VEVENT
BEGIN:VEVENT
DTSTART;TZID=America/Halifax:20260428T100000
DTEND;TZID=America/Halifax:20260428T110000
DTSTAMP:20260419T180355
CREATED:20260414T165114Z
LAST-MODIFIED:20260414T165115Z
UID:10014539-1777370400-1777374000@www.lovemylibrary.ca
SUMMARY:Baby\, Me\, & Mother Goose
DESCRIPTION:All babies 3-18 months are welcome to come for rhymes\, songs\, and stories! In partnership with Maggie’s Place. Call Maggie’s Place at 902-895-0200 to register. \nCall Maggie’s Place at 902-895-0200 to register.
URL:https://www.lovemylibrary.ca/event/baby-me-mother-goose-2-2-2-2-2-2-2-2-2-2-2/2026-04-28/
LOCATION:Townsview Estates Long Term Care Home\, 310 Abenaki Rd\, Truro\, Nova Scotia\, B2N 6Y7\, Canada
CATEGORIES:Events For Kids,Location: Truro
ATTACH;FMTTYPE=image/png:https://www.lovemylibrary.ca/wp-content/uploads/2022/03/Untitled-design-75.png
END:VEVENT
BEGIN:VEVENT
DTSTART;TZID=America/Halifax:20260428T110000
DTEND;TZID=America/Halifax:20260428T120000
DTSTAMP:20260419T180355
CREATED:20250905T181042Z
LAST-MODIFIED:20260401T152058Z
UID:10014670-1777374000-1777377600@www.lovemylibrary.ca
SUMMARY:Conversational English
DESCRIPTION:Is English your 2nd language? Or maybe your 4th? Our Conversational English program is for those who would like to practice their English in a fun and friendly environment. In partnership with YREACH. \nThis is a drop-in event. No registration is required.
URL:https://www.lovemylibrary.ca/event/conversational-english-10-2/2026-04-28/
LOCATION:Truro Library\, 754 Prince St\, Truro\, Nova Scotia\, Canada
CATEGORIES:Events For Adults,Location: Truro
ATTACH;FMTTYPE=image/jpeg:https://www.lovemylibrary.ca/wp-content/uploads/2021/08/13.jpg
END:VEVENT
BEGIN:VEVENT
DTSTART;TZID=America/Halifax:20260428T133000
DTEND;TZID=America/Halifax:20260428T153000
DTSTAMP:20260419T180355
CREATED:20260317T160855Z
LAST-MODIFIED:20260317T160855Z
UID:10014461-1777383000-1777390200@www.lovemylibrary.ca
SUMMARY:Caregiver Education Series
DESCRIPTION:A series for family members and care partners of people recently diagnosed with dementia. Participants learn about symptoms of dementia\, coping strategies\, future planning and community resources. \nPlease call 1-800-611-6345 to register
URL:https://www.lovemylibrary.ca/event/caregiver-education-series/2026-04-28/
LOCATION:Elmsdale Library\, 15 Commerce Ct\, Elmsdale\, Nova Scotia\, Canada
CATEGORIES:Events For Adults,Location: Elmsdale
ATTACH;FMTTYPE=image/png:https://www.lovemylibrary.ca/wp-content/uploads/2026/03/Untitled-design-2026-03-17T130950.868.png
END:VEVENT
BEGIN:VEVENT
DTSTART;TZID=America/Halifax:20260428T140000
DTEND;TZID=America/Halifax:20260428T170000
DTSTAMP:20260419T180355
CREATED:20260415T141856Z
LAST-MODIFIED:20260415T141919Z
UID:10014776-1777384800-1777395600@www.lovemylibrary.ca
SUMMARY:Afterschool Survival
DESCRIPTION:Time to unwind\, get your homework done\, play on the computer\, or just hang out with your friends. For ages 8-15 \nThis is a drop in program. No registration is required.
URL:https://www.lovemylibrary.ca/event/afterschool-survival-2/2026-04-28/
LOCATION:Mount Uniacke Library\, 555\, Highway 1\, Mount Uniacke\, Nova Scotia\, Canada
CATEGORIES:Events For Kids,Events For Teens,Location: Mount Uniacke
ATTACH;FMTTYPE=image/png:https://www.lovemylibrary.ca/wp-content/uploads/2023/08/Untitled-design-99.png
END:VEVENT
BEGIN:VEVENT
DTSTART;TZID=America/Halifax:20260428T150000
DTEND;TZID=America/Halifax:20260428T153000
DTSTAMP:20260419T180355
CREATED:20250123T163525Z
LAST-MODIFIED:20260317T152126Z
UID:10011117-1777388400-1777390200@www.lovemylibrary.ca
SUMMARY:Bingo
DESCRIPTION:Bernie is pulling out the BINGO cards and prizes. Who doesn’t love a few games of BINGO! \nFor school aged children. This is a drop in program. No registration is required.\n 
URL:https://www.lovemylibrary.ca/event/bingo/
LOCATION:Mount Uniacke Library\, 555\, Highway 1\, Mount Uniacke\, Nova Scotia\, Canada
CATEGORIES:Events For Kids,Location: Mount Uniacke
ATTACH;FMTTYPE=image/png:https://www.lovemylibrary.ca/wp-content/uploads/2025/01/Untitled-design-2025-01-23T123552.020.png
END:VEVENT
BEGIN:VEVENT
DTSTART;TZID=America/Halifax:20260428T150000
DTEND;TZID=America/Halifax:20260428T163000
DTSTAMP:20260419T180355
CREATED:20260323T191525Z
LAST-MODIFIED:20260414T171217Z
UID:10014639-1777388400-1777393800@www.lovemylibrary.ca
SUMMARY:Teen Room Drop In
DESCRIPTION:Come hang out after school! Grab a snack\, play our Nintendo Switch\, challenge your friends to a board game\, build with Lego\, or make art. Ages 13-18 \nThis is a drop-in program. No registration is required.
URL:https://www.lovemylibrary.ca/event/teen-room-drop-in-6/2026-04-28/
LOCATION:Truro Library\, 754 Prince St\, Truro\, Nova Scotia\, Canada
CATEGORIES:Events For Teens,Location: Truro
ATTACH;FMTTYPE=image/png:https://www.lovemylibrary.ca/wp-content/uploads/2022/10/Untitled-design-53.png
END:VEVENT
BEGIN:VEVENT
DTSTART;TZID=America/Halifax:20260428T150000
DTEND;TZID=America/Halifax:20260428T170000
DTSTAMP:20260419T180355
CREATED:20260303T215049Z
LAST-MODIFIED:20260417T181656Z
UID:10014528-1777388400-1777395600@www.lovemylibrary.ca
SUMMARY:Dungeons and Dragons
DESCRIPTION:“Join us for an epic Dungeons & Dragons game night! Roll dice\, slay monsters\, and embark on thrilling adventures with friends. Whether you’re a seasoned hero or a curious newbie\, there’s a spot for you at the table!” For ages 13-24 \nRegister by phone 902-657-3064 or email: tatamago@cehpubliclibrary.ca
URL:https://www.lovemylibrary.ca/event/dungeons-and-dragons-9/2026-04-28/
LOCATION:Tatamagouche Library\, 170 Main Street\, Tatamagouche\, Nova Scotia\, Canada
CATEGORIES:Location: Tatamagouche
ATTACH;FMTTYPE=image/png:https://www.lovemylibrary.ca/wp-content/uploads/2022/06/D-and-D.png
END:VEVENT
BEGIN:VEVENT
DTSTART;TZID=America/Halifax:20260428T163000
DTEND;TZID=America/Halifax:20260428T193000
DTSTAMP:20260419T180355
CREATED:20260217T223846Z
LAST-MODIFIED:20260317T164258Z
UID:10014519-1777393800-1777404600@www.lovemylibrary.ca
SUMMARY:Collage Club
DESCRIPTION:Explore your creative side at the Elmsdale Library with the Collage Club! We’re busting out the scissors and glue and cutting up magazines and picture books to assemble a cool piece of art. You can also make postcards\, vision boards\, zines – whatever you want! Whether you’re a seasoned collage pro or just looking to try a new creative outlet\, come get creative! Ages 10+ \nIn Person\, drop in. Please call (902) 883-9383 or email us at elmsdale@cehpubliclibrary.ca for more details.
URL:https://www.lovemylibrary.ca/event/collage-club-4/2026-04-28/
LOCATION:Elmsdale Library\, 15 Commerce Ct\, Elmsdale\, Nova Scotia\, Canada
CATEGORIES:Events For Kids,Location: Elmsdale
ATTACH;FMTTYPE=image/png:https://www.lovemylibrary.ca/wp-content/uploads/2024/12/Untitled-design-1.png
END:VEVENT
BEGIN:VEVENT
DTSTART;TZID=America/Halifax:20260428T183000
DTEND;TZID=America/Halifax:20260428T193000
DTSTAMP:20260419T180355
CREATED:20260316T134232Z
LAST-MODIFIED:20260316T134232Z
UID:10014414-1777401000-1777404600@www.lovemylibrary.ca
SUMMARY:Adult Crafty Crew - Bird Seed Houses
DESCRIPTION:It is the spring version of a gingerbread house! \nAdults. In-person. Register: stewiacke@cehpubliclibrary.ca
URL:https://www.lovemylibrary.ca/event/adult-crafty-crew-bird-seed-houses/
LOCATION:Stewiacke Library\, 295 George Street\, Stewiacke\, Nova Scotia\, Canada
ATTACH;FMTTYPE=image/png:https://www.lovemylibrary.ca/wp-content/uploads/2026/03/Info-Calendar-Images-15.png
END:VEVENT
BEGIN:VEVENT
DTSTART;TZID=America/Halifax:20260428T183000
DTEND;TZID=America/Halifax:20260428T200000
DTSTAMP:20260419T180355
CREATED:20240919T175158Z
LAST-MODIFIED:20260415T142046Z
UID:10014441-1777401000-1777406400@www.lovemylibrary.ca
SUMMARY:Ewe-niacke Yarn Club
DESCRIPTION:Fiber art for all ages and abilities. Learn to knit or crochet\, bring a project you are working on\, or just come hang out with the club for some social time. All ages welcome. \nDrop in\, no registration required.
URL:https://www.lovemylibrary.ca/event/ewe-niacke-yarn-club-3-2-2-2/2026-04-28/
LOCATION:Mount Uniacke Library\, 555\, Highway 1\, Mount Uniacke\, Nova Scotia\, Canada
CATEGORIES:Crafting,Events For Adults,Events For Kids,Events For Seniors,Location: Mount Uniacke
ATTACH;FMTTYPE=image/png:https://www.lovemylibrary.ca/wp-content/uploads/2022/03/Untitled-design-89.png
END:VEVENT
END:VCALENDAR