BEGIN:VCALENDAR
VERSION:2.0
PRODID:-//Colchester East Hants Public Library - ECPv6.15.20//NONSGML v1.0//EN
CALSCALE:GREGORIAN
METHOD:PUBLISH
X-ORIGINAL-URL:https://www.lovemylibrary.ca
X-WR-CALDESC:Events for Colchester East Hants Public Library
REFRESH-INTERVAL;VALUE=DURATION:PT1H
X-Robots-Tag:noindex
X-PUBLISHED-TTL:PT1H
BEGIN:VTIMEZONE
TZID:America/Halifax
BEGIN:DAYLIGHT
TZOFFSETFROM:-0400
TZOFFSETTO:-0300
TZNAME:ADT
DTSTART:20250309T060000
END:DAYLIGHT
BEGIN:STANDARD
TZOFFSETFROM:-0300
TZOFFSETTO:-0400
TZNAME:AST
DTSTART:20251102T050000
END:STANDARD
BEGIN:DAYLIGHT
TZOFFSETFROM:-0400
TZOFFSETTO:-0300
TZNAME:ADT
DTSTART:20260308T060000
END:DAYLIGHT
BEGIN:STANDARD
TZOFFSETFROM:-0300
TZOFFSETTO:-0400
TZNAME:AST
DTSTART:20261101T050000
END:STANDARD
BEGIN:DAYLIGHT
TZOFFSETFROM:-0400
TZOFFSETTO:-0300
TZNAME:ADT
DTSTART:20270314T060000
END:DAYLIGHT
BEGIN:STANDARD
TZOFFSETFROM:-0300
TZOFFSETTO:-0400
TZNAME:AST
DTSTART:20271107T050000
END:STANDARD
END:VTIMEZONE
BEGIN:VEVENT
DTSTART;TZID=America/Halifax:20260422T113000
DTEND;TZID=America/Halifax:20260422T123000
DTSTAMP:20260421T142004
CREATED:20260224T225151Z
LAST-MODIFIED:20260317T151808Z
UID:10014444-1776857400-1776861000@www.lovemylibrary.ca
SUMMARY:The Mind Readers
DESCRIPTION:We are reading Canadian authors all this year. Drop by the library in April to pick up your copy of Will Ferguson’s The Shoe on the Roof. \nThis is a drop in program. No registration is required.
URL:https://www.lovemylibrary.ca/event/the-mind-readers-7/2026-04-22/
LOCATION:Mount Uniacke Library\, 555\, Highway 1\, Mount Uniacke\, Nova Scotia\, Canada
CATEGORIES:Events For Adults,Location: Mount Uniacke
ATTACH;FMTTYPE=image/png:https://www.lovemylibrary.ca/wp-content/uploads/2022/08/Untitled-700-×-500-px-9.png
END:VEVENT
BEGIN:VEVENT
DTSTART;TZID=America/Halifax:20260422T113000
DTEND;TZID=America/Halifax:20260422T123000
DTSTAMP:20260421T142004
CREATED:20260415T170412Z
LAST-MODIFIED:20260415T170412Z
UID:10014806-1776857400-1776861000@www.lovemylibrary.ca
SUMMARY:The Mind Readers
DESCRIPTION:We are reading Canadian authors all this year. We are discussing Will Ferguson’s The Shoe on the Roof. Next month’s book will be Son of a Trickster. \nThis is a drop in program. No registration is required.
URL:https://www.lovemylibrary.ca/event/the-mind-readers-8/2026-04-22/
LOCATION:Mount Uniacke Library\, 555\, Highway 1\, Mount Uniacke\, Nova Scotia\, Canada
CATEGORIES:Events For Adults,Location: Mount Uniacke
ATTACH;FMTTYPE=image/png:https://www.lovemylibrary.ca/wp-content/uploads/2022/08/Untitled-700-×-500-px-9.png
END:VEVENT
BEGIN:VEVENT
DTSTART;TZID=America/Halifax:20260422T130000
DTEND;TZID=America/Halifax:20260422T150000
DTSTAMP:20260421T142004
CREATED:20250905T181307Z
LAST-MODIFIED:20260401T152139Z
UID:10014674-1776862800-1776870000@www.lovemylibrary.ca
SUMMARY:Makers in the Maker Lab
DESCRIPTION:Calling all Makers! Drop by for a relaxing afternoon to hang out with fellow crafters. Bring along your ongoing projects like knitting\, crochet\, needlework\, painting or other hands on crafts. \nNo registration\, drop in.
URL:https://www.lovemylibrary.ca/event/makers-in-the-maker-lab-14-2-2/2026-04-22/
LOCATION:Truro Library\, 754 Prince St\, Truro\, Nova Scotia\, Canada
CATEGORIES:Crafting,Events For Adults,Events For Seniors,Location: Truro
ATTACH;FMTTYPE=image/png:https://www.lovemylibrary.ca/wp-content/uploads/2025/09/Info-Calendar-Images-1.png
END:VEVENT
BEGIN:VEVENT
DTSTART;TZID=America/Halifax:20260423T103000
DTEND;TZID=America/Halifax:20260423T123000
DTSTAMP:20260421T142004
CREATED:20250905T184306Z
LAST-MODIFIED:20260401T152251Z
UID:10014679-1776940200-1776947400@www.lovemylibrary.ca
SUMMARY:Drop-in Housing Outreach Services with Housing Outreach Society
DESCRIPTION:Workers from the Truro Housing Outreach Society will be at the library to offer housing and outreach support services for folks experiencing homelessness and/or housing insecurity. This can include access to survival supplies\, client case management and care plans\, assistance with rental and subsidy applications\, sending paperwork to agencies\, and interfacing with landlords. \nAdults. In-person. Drop-in: no registration required.
URL:https://www.lovemylibrary.ca/event/drop-in-housing-outreach-services-with-housing-outreach-society/2026-04-23/
LOCATION:Truro Library\, 754 Prince St\, Truro\, Nova Scotia\, Canada
CATEGORIES:Events For Adults,Location: Truro
ATTACH;FMTTYPE=image/png:https://www.lovemylibrary.ca/wp-content/uploads/2025/08/Untitled-design-39.png
END:VEVENT
BEGIN:VEVENT
DTSTART;TZID=America/Halifax:20260423T180000
DTEND;TZID=America/Halifax:20260423T190000
DTSTAMP:20260421T142004
CREATED:20260318T182232Z
LAST-MODIFIED:20260318T182628Z
UID:10014537-1776967200-1776970800@www.lovemylibrary.ca
SUMMARY:Wind & Nature Craft Workshop
DESCRIPTION:Spend a relaxing evening making a nature-inspired wind charm. This creative workshop will guide participants through designing a decorative piece that can hang in a window\, porch\, or garden. For adults \nPre register in person or by phone 902 – 657-3064 or email: tatamago@cehpubliclibrary.ca
URL:https://www.lovemylibrary.ca/event/wind-nature-craft-workshop/
LOCATION:Tatamagouche Library\, 170 Main Street\, Tatamagouche\, Nova Scotia\, Canada
CATEGORIES:Events For Adults,Location: Tatamagouche
ATTACH;FMTTYPE=image/png:https://www.lovemylibrary.ca/wp-content/uploads/2026/03/Untitled-design-2026-03-18T152325.103.png
END:VEVENT
BEGIN:VEVENT
DTSTART;TZID=America/Halifax:20260424T100000
DTEND;TZID=America/Halifax:20260424T113000
DTSTAMP:20260421T142004
CREATED:20260316T130952Z
LAST-MODIFIED:20260417T164606Z
UID:10014396-1777024800-1777030200@www.lovemylibrary.ca
SUMMARY:First Bites
DESCRIPTION:This workshop focuses on providing guidance to parents on how to introduce solids to their infants using a baby led feeding approach. This will be facilitated by Maggie’s Place and Nova Scotia Health-Northern Zone Mobile Health and Wellness. \nAdults and their littles. In person. Register: stewiacke@cehpubliclibrary.ca
URL:https://www.lovemylibrary.ca/event/first-bites/2026-04-24/
LOCATION:Stewiacke Library\, 295 George Street\, Stewiacke\, Nova Scotia\, Canada
CATEGORIES:Events For Adults,Location: Stewiacke
ATTACH;FMTTYPE=image/png:https://www.lovemylibrary.ca/wp-content/uploads/2026/03/Info-Calendar-Images-9.png
END:VEVENT
BEGIN:VEVENT
DTSTART;TZID=America/Halifax:20260424T100000
DTEND;TZID=America/Halifax:20260424T120000
DTSTAMP:20260421T142004
CREATED:20250417T174051Z
LAST-MODIFIED:20260415T173232Z
UID:10014455-1777024800-1777032000@www.lovemylibrary.ca
SUMMARY:One on One Tech Help
DESCRIPTION:Issues with your phone? Laptop? Social Media? Meet in-person with our digital literacy trainer to get your tech questions answered. \nDrop in – please call (902) 883-9838 or email us at elmsdale@cehpubliclibrary.ca for more details.
URL:https://www.lovemylibrary.ca/event/one-on-one-tech-help-7-2-2-2-2/2026-04-24/
LOCATION:Elmsdale Library\, 15 Commerce Ct\, Elmsdale\, Nova Scotia\, Canada
CATEGORIES:Events For Adults,Location: Elmsdale
ATTACH;FMTTYPE=image/png:https://www.lovemylibrary.ca/wp-content/uploads/2022/03/Untitled-design-80.png
END:VEVENT
BEGIN:VEVENT
DTSTART;TZID=America/Halifax:20260424T130000
DTEND;TZID=America/Halifax:20260424T143000
DTSTAMP:20260421T142004
CREATED:20250815T135548Z
LAST-MODIFIED:20260417T164739Z
UID:10014401-1777035600-1777041000@www.lovemylibrary.ca
SUMMARY:Scrabble Squad
DESCRIPTION:What spells F-U-N? Playing Scrabble with friends! All adults welcome. \nThis is a drop-in program. No registration is required.
URL:https://www.lovemylibrary.ca/event/scrabble-squad-5-2/2026-04-24/
LOCATION:Stewiacke Library\, 295 George Street\, Stewiacke\, Nova Scotia\, Canada
CATEGORIES:Events For Adults,Events For Seniors,Location: Stewiacke
ATTACH;FMTTYPE=image/png:https://www.lovemylibrary.ca/wp-content/uploads/2022/05/Add-a-subheading-700-×-500-px-3.png
END:VEVENT
BEGIN:VEVENT
DTSTART;TZID=America/Halifax:20260425T113000
DTEND;TZID=America/Halifax:20260425T123000
DTSTAMP:20260421T142004
CREATED:20260224T225404Z
LAST-MODIFIED:20260317T152417Z
UID:10014445-1777116600-1777120200@www.lovemylibrary.ca
SUMMARY:The 745.5 Club (adult crafters)
DESCRIPTION:Easter is coming so we thought we would try an Easter Craft. You can never have enough bunny crafts.. \nRegister in branch or by email mtuniack@cehpubliclibrary.ca
URL:https://www.lovemylibrary.ca/event/the-745-5-club-adult-crafters-2/2026-04-25/
LOCATION:Mount Uniacke Library\, 555\, Highway 1\, Mount Uniacke\, Nova Scotia\, Canada
CATEGORIES:Crafting,Location: Mount Uniacke
ATTACH;FMTTYPE=image/png:https://www.lovemylibrary.ca/wp-content/uploads/2022/03/Untitled-design-85.png
END:VEVENT
BEGIN:VEVENT
DTSTART;TZID=America/Halifax:20260425T143000
DTEND;TZID=America/Halifax:20260425T153000
DTSTAMP:20260421T142004
CREATED:20260316T133704Z
LAST-MODIFIED:20260417T184004Z
UID:10014412-1777127400-1777131000@www.lovemylibrary.ca
SUMMARY:Crochet Club
DESCRIPTION:Looking for a cozy place to stitch\, chat\, and create? Join our Crochet Club! Whether you’re a seasoned crocheter or just learning your first stitches\, everyone is welcome. Bring your current project\, share tips and patterns\, and enjoy a relaxed time connecting with fellow yarn lovers. Tatianna Grosvenor from Rising Tides Art Society will be with us!! \n8 and up. In Person. Drop In: No registration necessary
URL:https://www.lovemylibrary.ca/event/crochet-club/2026-04-25/
LOCATION:Stewiacke Library\, 295 George Street\, Stewiacke\, Nova Scotia\, Canada
CATEGORIES:Events For Adults,Events For Kids,Events For Seniors,Events For Teens,Location: Stewiacke
ATTACH;FMTTYPE=image/png:https://www.lovemylibrary.ca/wp-content/uploads/2026/03/Info-Calendar-Images-14.png
END:VEVENT
BEGIN:VEVENT
DTSTART;TZID=America/Halifax:20260427T133000
DTEND;TZID=America/Halifax:20260427T163000
DTSTAMP:20260421T142004
CREATED:20250902T183625Z
LAST-MODIFIED:20260401T152006Z
UID:10014666-1777296600-1777307400@www.lovemylibrary.ca
SUMMARY:Scrabble Group
DESCRIPTION:What spells F-U-N? Playing Scrabble with friends! \nThis is a drop-in event. No registration is required.
URL:https://www.lovemylibrary.ca/event/scrabble-group-6-2-2/2026-04-27/
LOCATION:Truro Library\, 754 Prince St\, Truro\, Nova Scotia\, Canada
CATEGORIES:Events For Adults,Events For Seniors,Location: Truro
ATTACH;FMTTYPE=image/png:https://www.lovemylibrary.ca/wp-content/uploads/2022/05/Add-a-subheading-700-×-500-px-3.png
END:VEVENT
BEGIN:VEVENT
DTSTART;TZID=America/Halifax:20260428T110000
DTEND;TZID=America/Halifax:20260428T120000
DTSTAMP:20260421T142004
CREATED:20250905T181042Z
LAST-MODIFIED:20260401T152058Z
UID:10014670-1777374000-1777377600@www.lovemylibrary.ca
SUMMARY:Conversational English
DESCRIPTION:Is English your 2nd language? Or maybe your 4th? Our Conversational English program is for those who would like to practice their English in a fun and friendly environment. In partnership with YREACH. \nThis is a drop-in event. No registration is required.
URL:https://www.lovemylibrary.ca/event/conversational-english-10-2/2026-04-28/
LOCATION:Truro Library\, 754 Prince St\, Truro\, Nova Scotia\, Canada
CATEGORIES:Events For Adults,Location: Truro
ATTACH;FMTTYPE=image/jpeg:https://www.lovemylibrary.ca/wp-content/uploads/2021/08/13.jpg
END:VEVENT
BEGIN:VEVENT
DTSTART;TZID=America/Halifax:20260428T133000
DTEND;TZID=America/Halifax:20260428T153000
DTSTAMP:20260421T142004
CREATED:20260317T160855Z
LAST-MODIFIED:20260317T160855Z
UID:10014461-1777383000-1777390200@www.lovemylibrary.ca
SUMMARY:Caregiver Education Series
DESCRIPTION:A series for family members and care partners of people recently diagnosed with dementia. Participants learn about symptoms of dementia\, coping strategies\, future planning and community resources. \nPlease call 1-800-611-6345 to register
URL:https://www.lovemylibrary.ca/event/caregiver-education-series/2026-04-28/
LOCATION:Elmsdale Library\, 15 Commerce Ct\, Elmsdale\, Nova Scotia\, Canada
CATEGORIES:Events For Adults,Location: Elmsdale
ATTACH;FMTTYPE=image/png:https://www.lovemylibrary.ca/wp-content/uploads/2026/03/Untitled-design-2026-03-17T130950.868.png
END:VEVENT
BEGIN:VEVENT
DTSTART;TZID=America/Halifax:20260428T183000
DTEND;TZID=America/Halifax:20260428T200000
DTSTAMP:20260421T142004
CREATED:20240919T175158Z
LAST-MODIFIED:20260415T142046Z
UID:10014441-1777401000-1777406400@www.lovemylibrary.ca
SUMMARY:Ewe-niacke Yarn Club
DESCRIPTION:Fiber art for all ages and abilities. Learn to knit or crochet\, bring a project you are working on\, or just come hang out with the club for some social time. All ages welcome. \nDrop in\, no registration required.
URL:https://www.lovemylibrary.ca/event/ewe-niacke-yarn-club-3-2-2-2/2026-04-28/
LOCATION:Mount Uniacke Library\, 555\, Highway 1\, Mount Uniacke\, Nova Scotia\, Canada
CATEGORIES:Crafting,Events For Adults,Events For Kids,Events For Seniors,Location: Mount Uniacke
ATTACH;FMTTYPE=image/png:https://www.lovemylibrary.ca/wp-content/uploads/2022/03/Untitled-design-89.png
END:VEVENT
BEGIN:VEVENT
DTSTART;TZID=America/Halifax:20260429T130000
DTEND;TZID=America/Halifax:20260429T150000
DTSTAMP:20260421T142004
CREATED:20250905T181307Z
LAST-MODIFIED:20260401T152139Z
UID:10014675-1777467600-1777474800@www.lovemylibrary.ca
SUMMARY:Makers in the Maker Lab
DESCRIPTION:Calling all Makers! Drop by for a relaxing afternoon to hang out with fellow crafters. Bring along your ongoing projects like knitting\, crochet\, needlework\, painting or other hands on crafts. \nNo registration\, drop in.
URL:https://www.lovemylibrary.ca/event/makers-in-the-maker-lab-14-2-2/2026-04-29/
LOCATION:Truro Library\, 754 Prince St\, Truro\, Nova Scotia\, Canada
CATEGORIES:Crafting,Events For Adults,Events For Seniors,Location: Truro
ATTACH;FMTTYPE=image/png:https://www.lovemylibrary.ca/wp-content/uploads/2025/09/Info-Calendar-Images-1.png
END:VEVENT
BEGIN:VEVENT
DTSTART;TZID=America/Halifax:20260429T140000
DTEND;TZID=America/Halifax:20260429T160000
DTSTAMP:20260421T142004
CREATED:20250417T181643Z
LAST-MODIFIED:20260415T173925Z
UID:10014204-1777471200-1777478400@www.lovemylibrary.ca
SUMMARY:Social Café
DESCRIPTION:Are you retired\, new to the area\, or just looking to connect with some new people? We would love to see you and welcome you to the library! Light refreshments available. \nIn person\, drop in. For more details call us at (902) 883-9838 or email us at elmsdale@cehpubliclibrary.ca
URL:https://www.lovemylibrary.ca/event/social-cafe-5/2026-04-29/
LOCATION:Elmsdale Library\, 15 Commerce Ct\, Elmsdale\, Nova Scotia\, Canada
CATEGORIES:Events For Adults,Events For Seniors,Location: Elmsdale
ATTACH;FMTTYPE=image/png:https://www.lovemylibrary.ca/wp-content/uploads/2025/04/Untitled-design-2023-06-19T111314.785.png
END:VEVENT
BEGIN:VEVENT
DTSTART;TZID=America/Halifax:20260430T103000
DTEND;TZID=America/Halifax:20260430T123000
DTSTAMP:20260421T142004
CREATED:20250905T184306Z
LAST-MODIFIED:20260401T152251Z
UID:10014680-1777545000-1777552200@www.lovemylibrary.ca
SUMMARY:Drop-in Housing Outreach Services with Housing Outreach Society
DESCRIPTION:Workers from the Truro Housing Outreach Society will be at the library to offer housing and outreach support services for folks experiencing homelessness and/or housing insecurity. This can include access to survival supplies\, client case management and care plans\, assistance with rental and subsidy applications\, sending paperwork to agencies\, and interfacing with landlords. \nAdults. In-person. Drop-in: no registration required.
URL:https://www.lovemylibrary.ca/event/drop-in-housing-outreach-services-with-housing-outreach-society/2026-04-30/
LOCATION:Truro Library\, 754 Prince St\, Truro\, Nova Scotia\, Canada
CATEGORIES:Events For Adults,Location: Truro
ATTACH;FMTTYPE=image/png:https://www.lovemylibrary.ca/wp-content/uploads/2025/08/Untitled-design-39.png
END:VEVENT
BEGIN:VEVENT
DTSTART;TZID=America/Halifax:20260430T183000
DTEND;TZID=America/Halifax:20260430T193000
DTSTAMP:20260421T142004
CREATED:20251218T155238Z
LAST-MODIFIED:20260417T171232Z
UID:10014391-1777573800-1777577400@www.lovemylibrary.ca
SUMMARY:Writers’ Group
DESCRIPTION:Discover a community of writers at the library! Our Writer’s Group provides a relaxed\, encouraging environment to discuss works-in-progress\, explore writing prompts\, and grow your craft. Bring your notebook\, your ideas\, and your love of words. This is an adult program. \nThis is an adult program. No registration is required.
URL:https://www.lovemylibrary.ca/event/writers-group/2026-04-30/
LOCATION:Stewiacke Library\, 295 George Street\, Stewiacke\, Nova Scotia\, Canada
CATEGORIES:Events For Adults,Location: Stewiacke
ATTACH;FMTTYPE=image/png:https://www.lovemylibrary.ca/wp-content/uploads/2025/12/Untitled-design-2025-12-18T114622.943.png
END:VEVENT
BEGIN:VEVENT
DTSTART;TZID=America/Halifax:20260501T100000
DTEND;TZID=America/Halifax:20260501T113000
DTSTAMP:20260421T142004
CREATED:20260316T130952Z
LAST-MODIFIED:20260417T164606Z
UID:10014397-1777629600-1777635000@www.lovemylibrary.ca
SUMMARY:First Bites
DESCRIPTION:This workshop focuses on providing guidance to parents on how to introduce solids to their infants using a baby led feeding approach. This will be facilitated by Maggie’s Place and Nova Scotia Health-Northern Zone Mobile Health and Wellness. \nAdults and their littles. In person. Register: stewiacke@cehpubliclibrary.ca
URL:https://www.lovemylibrary.ca/event/first-bites/2026-05-01/
LOCATION:Stewiacke Library\, 295 George Street\, Stewiacke\, Nova Scotia\, Canada
CATEGORIES:Events For Adults,Location: Stewiacke
ATTACH;FMTTYPE=image/png:https://www.lovemylibrary.ca/wp-content/uploads/2026/03/Info-Calendar-Images-9.png
END:VEVENT
BEGIN:VEVENT
DTSTART;TZID=America/Halifax:20260501T100000
DTEND;TZID=America/Halifax:20260501T120000
DTSTAMP:20260421T142004
CREATED:20250417T174051Z
LAST-MODIFIED:20260415T173232Z
UID:10014812-1777629600-1777636800@www.lovemylibrary.ca
SUMMARY:One on One Tech Help
DESCRIPTION:Issues with your phone? Laptop? Social Media? Meet in-person with our digital literacy trainer to get your tech questions answered. \nDrop in – please call (902) 883-9838 or email us at elmsdale@cehpubliclibrary.ca for more details.
URL:https://www.lovemylibrary.ca/event/one-on-one-tech-help-7-2-2-2-2/2026-05-01/
LOCATION:Elmsdale Library\, 15 Commerce Ct\, Elmsdale\, Nova Scotia\, Canada
CATEGORIES:Events For Adults,Location: Elmsdale
ATTACH;FMTTYPE=image/png:https://www.lovemylibrary.ca/wp-content/uploads/2022/03/Untitled-design-80.png
END:VEVENT
BEGIN:VEVENT
DTSTART;TZID=America/Halifax:20260501T130000
DTEND;TZID=America/Halifax:20260501T143000
DTSTAMP:20260421T142004
CREATED:20250815T135548Z
LAST-MODIFIED:20260417T164739Z
UID:10014835-1777640400-1777645800@www.lovemylibrary.ca
SUMMARY:Scrabble Squad
DESCRIPTION:What spells F-U-N? Playing Scrabble with friends! All adults welcome. \nThis is a drop-in program. No registration is required.
URL:https://www.lovemylibrary.ca/event/scrabble-squad-5-2/2026-05-01/
LOCATION:Stewiacke Library\, 295 George Street\, Stewiacke\, Nova Scotia\, Canada
CATEGORIES:Events For Adults,Events For Seniors,Location: Stewiacke
ATTACH;FMTTYPE=image/png:https://www.lovemylibrary.ca/wp-content/uploads/2022/05/Add-a-subheading-700-×-500-px-3.png
END:VEVENT
BEGIN:VEVENT
DTSTART;TZID=America/Halifax:20260502T140000
DTEND;TZID=America/Halifax:20260502T160000
DTSTAMP:20260421T142004
CREATED:20260417T165409Z
LAST-MODIFIED:20260417T165409Z
UID:10011956-1777730400-1777737600@www.lovemylibrary.ca
SUMMARY:Spin-In With Geraldine
DESCRIPTION:Join our warm and welcoming circle of friends who gather to spin\, share\, and connect. Bring your spinning wheel\, or come to explore fibre arts. Beginners welcome! \nDrop In. No registration necessary.
URL:https://www.lovemylibrary.ca/event/spin-in-with-geraldine-3/
LOCATION:Stewiacke Library\, 295 George Street\, Stewiacke\, Nova Scotia\, Canada
CATEGORIES:Events For Adults,Events For Kids,Events For Seniors,Events For Teens,Location: Stewiacke
ATTACH;FMTTYPE=image/png:https://www.lovemylibrary.ca/wp-content/uploads/2024/12/Untitled-design-2-1.png
END:VEVENT
BEGIN:VEVENT
DTSTART;TZID=America/Halifax:20260505T133000
DTEND;TZID=America/Halifax:20260505T153000
DTSTAMP:20260421T142004
CREATED:20260317T160855Z
LAST-MODIFIED:20260317T160855Z
UID:10014462-1777987800-1777995000@www.lovemylibrary.ca
SUMMARY:Caregiver Education Series
DESCRIPTION:A series for family members and care partners of people recently diagnosed with dementia. Participants learn about symptoms of dementia\, coping strategies\, future planning and community resources. \nPlease call 1-800-611-6345 to register
URL:https://www.lovemylibrary.ca/event/caregiver-education-series/2026-05-05/
LOCATION:Elmsdale Library\, 15 Commerce Ct\, Elmsdale\, Nova Scotia\, Canada
CATEGORIES:Events For Adults,Location: Elmsdale
ATTACH;FMTTYPE=image/png:https://www.lovemylibrary.ca/wp-content/uploads/2026/03/Untitled-design-2026-03-17T130950.868.png
END:VEVENT
BEGIN:VEVENT
DTSTART;TZID=America/Halifax:20260505T140000
DTEND;TZID=America/Halifax:20260505T170000
DTSTAMP:20260421T142004
CREATED:20260417T170527Z
LAST-MODIFIED:20260417T170527Z
UID:10014840-1777989600-1778000400@www.lovemylibrary.ca
SUMMARY:Clove Creations: Exploring a Versatile Spice
DESCRIPTION:Discover the rich aroma and surprising versatility of ground cloves. Sample ideas and learn practical tips you can try at home. Each participant will also receive a jar of ground cloves to take home\, as well as a recipe book. This is a program for adults. \nDrop In: No registration necessary
URL:https://www.lovemylibrary.ca/event/clove-creations-exploring-a-versatile-spice/
LOCATION:Stewiacke Library\, 295 George Street\, Stewiacke\, Nova Scotia\, Canada
CATEGORIES:Events For Adults,Location: Stewiacke
ATTACH;FMTTYPE=image/png:https://www.lovemylibrary.ca/wp-content/uploads/2026/04/Untitled-design-2026-04-17T140648.340.png
END:VEVENT
BEGIN:VEVENT
DTSTART;TZID=America/Halifax:20260505T150000
DTEND;TZID=America/Halifax:20260505T153000
DTSTAMP:20260421T142004
CREATED:20250830T150208Z
LAST-MODIFIED:20260415T142358Z
UID:10012897-1777993200-1777995000@www.lovemylibrary.ca
SUMMARY:Seasonal Craft with Bernie
DESCRIPTION:Mother’s Day is coming and Bernie wants to help you celebrate with a craft. Join Bernie to support that special person in your life.. For school aged children. \nThis is a drop in program. No registration is required.
URL:https://www.lovemylibrary.ca/event/bernies-seasonal-craft-time/
LOCATION:Mount Uniacke Library\, 555\, Highway 1\, Mount Uniacke\, Nova Scotia\, Canada
CATEGORIES:Crafting,Events For Kids,Location: Mount Uniacke
ATTACH;FMTTYPE=image/png:https://www.lovemylibrary.ca/wp-content/uploads/2023/11/Untitled-design-57.png
END:VEVENT
BEGIN:VEVENT
DTSTART;TZID=America/Halifax:20260505T183000
DTEND;TZID=America/Halifax:20260505T200000
DTSTAMP:20260421T142004
CREATED:20240919T175158Z
LAST-MODIFIED:20260415T142046Z
UID:10014791-1778005800-1778011200@www.lovemylibrary.ca
SUMMARY:Ewe-niacke Yarn Club
DESCRIPTION:Fiber art for all ages and abilities. Learn to knit or crochet\, bring a project you are working on\, or just come hang out with the club for some social time. All ages welcome. \nDrop in\, no registration required.
URL:https://www.lovemylibrary.ca/event/ewe-niacke-yarn-club-3-2-2-2/2026-05-05/
LOCATION:Mount Uniacke Library\, 555\, Highway 1\, Mount Uniacke\, Nova Scotia\, Canada
CATEGORIES:Crafting,Events For Adults,Events For Kids,Events For Seniors,Location: Mount Uniacke
ATTACH;FMTTYPE=image/png:https://www.lovemylibrary.ca/wp-content/uploads/2022/03/Untitled-design-89.png
END:VEVENT
BEGIN:VEVENT
DTSTART;TZID=America/Halifax:20260506T100000
DTEND;TZID=America/Halifax:20260506T113000
DTSTAMP:20260421T142004
CREATED:20251218T153843Z
LAST-MODIFIED:20260417T181536Z
UID:10014853-1778061600-1778067000@www.lovemylibrary.ca
SUMMARY:Cyber Café by Maggies Place
DESCRIPTION:We are offering assistance in navigating online resources and forms. Healthy snacks and drinks available. Supervised kids corner This is an adult program. \nThis is a drop in program. No registration is required.\n.
URL:https://www.lovemylibrary.ca/event/cyber-cafe-by-maggies-place/2026-05-06/
LOCATION:Tatamagouche Library\, 170 Main Street\, Tatamagouche\, Nova Scotia\, Canada
CATEGORIES:Events For Adults,Location: Tatamagouche
ATTACH;FMTTYPE=image/png:https://www.lovemylibrary.ca/wp-content/uploads/2025/12/Untitled-design-2025-12-18T113828.589.png
END:VEVENT
BEGIN:VEVENT
DTSTART;TZID=America/Halifax:20260507T150000
DTEND;TZID=America/Halifax:20260507T160000
DTSTAMP:20260421T142004
CREATED:20260417T182135Z
LAST-MODIFIED:20260417T182135Z
UID:10014861-1778166000-1778169600@www.lovemylibrary.ca
SUMMARY:Bloom & Paint: Flower Pot Workshop
DESCRIPTION:Create and decorate your own flower pot with fun designs and colours. Add a small handmade touch alongside your pot to turn it into a thoughtful Mother’s Day gift.  For ages 8-14 \nPre register in person or by phone 902 – 657-3064 or email: tatamago@cehpubliclibrary.ca
URL:https://www.lovemylibrary.ca/event/bloom-paint-flower-pot-workshop/
LOCATION:Tatamagouche Library\, 170 Main Street\, Tatamagouche\, Nova Scotia\, Canada
CATEGORIES:Crafting,Location: Tatamagouche
ATTACH;FMTTYPE=image/png:https://www.lovemylibrary.ca/wp-content/uploads/2026/04/Untitled-design-2026-04-17T152258.584.png
END:VEVENT
BEGIN:VEVENT
DTSTART;TZID=America/Halifax:20260508T100000
DTEND;TZID=America/Halifax:20260508T120000
DTSTAMP:20260421T142004
CREATED:20250417T174051Z
LAST-MODIFIED:20260415T173232Z
UID:10014813-1778234400-1778241600@www.lovemylibrary.ca
SUMMARY:One on One Tech Help
DESCRIPTION:Issues with your phone? Laptop? Social Media? Meet in-person with our digital literacy trainer to get your tech questions answered. \nDrop in – please call (902) 883-9838 or email us at elmsdale@cehpubliclibrary.ca for more details.
URL:https://www.lovemylibrary.ca/event/one-on-one-tech-help-7-2-2-2-2/2026-05-08/
LOCATION:Elmsdale Library\, 15 Commerce Ct\, Elmsdale\, Nova Scotia\, Canada
CATEGORIES:Events For Adults,Location: Elmsdale
ATTACH;FMTTYPE=image/png:https://www.lovemylibrary.ca/wp-content/uploads/2022/03/Untitled-design-80.png
END:VEVENT
BEGIN:VEVENT
DTSTART;TZID=America/Halifax:20260508T130000
DTEND;TZID=America/Halifax:20260508T143000
DTSTAMP:20260421T142004
CREATED:20250815T135548Z
LAST-MODIFIED:20260417T164739Z
UID:10014836-1778245200-1778250600@www.lovemylibrary.ca
SUMMARY:Scrabble Squad
DESCRIPTION:What spells F-U-N? Playing Scrabble with friends! All adults welcome. \nThis is a drop-in program. No registration is required.
URL:https://www.lovemylibrary.ca/event/scrabble-squad-5-2/2026-05-08/
LOCATION:Stewiacke Library\, 295 George Street\, Stewiacke\, Nova Scotia\, Canada
CATEGORIES:Events For Adults,Events For Seniors,Location: Stewiacke
ATTACH;FMTTYPE=image/png:https://www.lovemylibrary.ca/wp-content/uploads/2022/05/Add-a-subheading-700-×-500-px-3.png
END:VEVENT
END:VCALENDAR