BEGIN:VCALENDAR
VERSION:2.0
PRODID:-//Colchester East Hants Public Library - ECPv6.15.20//NONSGML v1.0//EN
CALSCALE:GREGORIAN
METHOD:PUBLISH
X-WR-CALNAME:Colchester East Hants Public Library
X-ORIGINAL-URL:https://www.lovemylibrary.ca
X-WR-CALDESC:Events for Colchester East Hants Public Library
REFRESH-INTERVAL;VALUE=DURATION:PT1H
X-Robots-Tag:noindex
X-PUBLISHED-TTL:PT1H
BEGIN:VTIMEZONE
TZID:America/Halifax
BEGIN:DAYLIGHT
TZOFFSETFROM:-0400
TZOFFSETTO:-0300
TZNAME:ADT
DTSTART:20220313T060000
END:DAYLIGHT
BEGIN:STANDARD
TZOFFSETFROM:-0300
TZOFFSETTO:-0400
TZNAME:AST
DTSTART:20221106T050000
END:STANDARD
BEGIN:DAYLIGHT
TZOFFSETFROM:-0400
TZOFFSETTO:-0300
TZNAME:ADT
DTSTART:20230312T060000
END:DAYLIGHT
BEGIN:STANDARD
TZOFFSETFROM:-0300
TZOFFSETTO:-0400
TZNAME:AST
DTSTART:20231105T050000
END:STANDARD
BEGIN:DAYLIGHT
TZOFFSETFROM:-0400
TZOFFSETTO:-0300
TZNAME:ADT
DTSTART:20240310T060000
END:DAYLIGHT
BEGIN:STANDARD
TZOFFSETFROM:-0300
TZOFFSETTO:-0400
TZNAME:AST
DTSTART:20241103T050000
END:STANDARD
END:VTIMEZONE
BEGIN:VEVENT
DTSTART;TZID=America/Halifax:20230906T143000
DTEND;TZID=America/Halifax:20230906T190000
DTSTAMP:20260425T210716
CREATED:20210830T143625Z
LAST-MODIFIED:20231213T140902Z
UID:10006142-1694010600-1694026800@www.lovemylibrary.ca
SUMMARY:Satellite Library Visit: Kennetcook Fire Hall
DESCRIPTION:Meet us at the Kennetcook Fire Hall where you can browse and borrow materials\, sign up for a Library card\, and hear about our upcoming programs! \n 
URL:https://www.lovemylibrary.ca/event/satellite-library-visit-kennetcook-fire-hall/2023-09-06/
LOCATION:Kennetcook Fire Hall\, 32 Martin Walsh Road\, Kennetcook\, Nova Scotia\, Canada
CATEGORIES:Events For Adults,Events For Kids,Events For Seniors,Events For Teens,Location: Kennetcook
ATTACH;FMTTYPE=image/jpeg:https://www.lovemylibrary.ca/wp-content/uploads/2021/08/16.jpg
END:VEVENT
BEGIN:VEVENT
DTSTART;TZID=America/Halifax:20230907T173000
DTEND;TZID=America/Halifax:20230907T193000
DTSTAMP:20260425T210716
CREATED:20230215T203141Z
LAST-MODIFIED:20230919T213828Z
UID:10004732-1694107800-1694115000@www.lovemylibrary.ca
SUMMARY:Adult Board Games Night
DESCRIPTION:Get your game on! Come on out for an evening of board games. This is your chance to play some old favourites or learn a new one. For teens and adults. \nThis is a drop-in program. No registration is required. Please call 902-883-9838 or email at elmsdale@cehpubliclibrary.ca for more details
URL:https://www.lovemylibrary.ca/event/adult-board-games-night-6-2/2023-09-07/
LOCATION:Elmsdale Library\, 15 Commerce Ct\, Elmsdale\, Nova Scotia\, Canada
CATEGORIES:Events For Adults,Events For Seniors,Events For Teens,Location: Elmsdale
ATTACH;FMTTYPE=image/png:https://www.lovemylibrary.ca/wp-content/uploads/2023/02/Untitled-design-2023-05-16T103613.895.png
END:VEVENT
BEGIN:VEVENT
DTSTART;TZID=America/Halifax:20230909T140000
DTEND;TZID=America/Halifax:20230909T150000
DTSTAMP:20260425T210716
CREATED:20230821T193517Z
LAST-MODIFIED:20230907T165635Z
UID:10004754-1694268000-1694271600@www.lovemylibrary.ca
SUMMARY:W. D. Seitz Author Visit
DESCRIPTION:Willow D. Seitz is a science fiction and fantasy author living in Greenwood\, NS. She will be here to read from her YA novel. “The Beauty of the Dawn” is an epic fantasy adventure. Open to ages 12 and up. \nNo registration is required
URL:https://www.lovemylibrary.ca/event/w-d-seitz-author-visit/
LOCATION:Stewiacke Library\, 295 George Street\, Stewiacke\, Nova Scotia\, Canada
CATEGORIES:Events For Teens,Location: Stewiacke
ATTACH;FMTTYPE=image/png:https://www.lovemylibrary.ca/wp-content/uploads/2023/08/Untitled-design-2023-08-21T164134.009.png
END:VEVENT
BEGIN:VEVENT
DTSTART;TZID=America/Halifax:20230912T140000
DTEND;TZID=America/Halifax:20230912T170000
DTSTAMP:20260425T210716
CREATED:20230825T174138Z
LAST-MODIFIED:20230926T210755Z
UID:10004801-1694527200-1694538000@www.lovemylibrary.ca
SUMMARY:Afterschool Survival
DESCRIPTION:Time to unwind\, get your homework done\, play on the computer\, or just hang out with your friends. For ages 8-15 \nThis is a drop in program. No registration is required.
URL:https://www.lovemylibrary.ca/event/afterschool-survival/2023-09-12/
LOCATION:Mount Uniacke Library\, 555\, Highway 1\, Mount Uniacke\, Nova Scotia\, Canada
CATEGORIES:Events For Kids,Events For Teens,Location: Mount Uniacke
ATTACH;FMTTYPE=image/png:https://www.lovemylibrary.ca/wp-content/uploads/2023/08/Untitled-design-99.png
END:VEVENT
BEGIN:VEVENT
DTSTART;TZID=America/Halifax:20230912T150000
DTEND;TZID=America/Halifax:20230912T163000
DTSTAMP:20260425T210716
CREATED:20221025T215043Z
LAST-MODIFIED:20230905T220447Z
UID:10004822-1694530800-1694536200@www.lovemylibrary.ca
SUMMARY:Teen Room Drop In
DESCRIPTION:Come hang out\, grab a snack\, play some Mario Kart on our new Nintendo Switch\, or make art. \nAges 13-18 \nThis is a drop-in program. No registration is required.
URL:https://www.lovemylibrary.ca/event/teen-room-drop-in/2023-09-12/
LOCATION:Truro Library\, 754 Prince St\, Truro\, Nova Scotia\, Canada
CATEGORIES:Events For Teens,Location: Truro
ATTACH;FMTTYPE=image/png:https://www.lovemylibrary.ca/wp-content/uploads/2022/10/Untitled-design-53.png
END:VEVENT
BEGIN:VEVENT
DTSTART;TZID=America/Halifax:20230913T180000
DTEND;TZID=America/Halifax:20230913T190000
DTSTAMP:20260425T210716
CREATED:20221025T214754Z
LAST-MODIFIED:20230905T220106Z
UID:10002272-1694628000-1694631600@www.lovemylibrary.ca
SUMMARY:Art Attack: Back to School Swag
DESCRIPTION:Start the school year in style! Use shrink plastic and melty beads to craft and create awesome accessories for your backpack\, binders\, and more! Ages 8-14 \nThis is a drop-in program. No registration is required.
URL:https://www.lovemylibrary.ca/event/art-attack-fall-scratch-art/
LOCATION:Truro Library\, 754 Prince St\, Truro\, Nova Scotia\, Canada
CATEGORIES:Crafting,Events For Kids,Events For Teens,Location: Truro
ATTACH;FMTTYPE=image/png:https://www.lovemylibrary.ca/wp-content/uploads/2022/10/Untitled-design-2023-09-05T190029.304.png
END:VEVENT
BEGIN:VEVENT
DTSTART;TZID=America/Halifax:20230914T140000
DTEND;TZID=America/Halifax:20230914T170000
DTSTAMP:20260425T210716
CREATED:20230825T174138Z
LAST-MODIFIED:20230926T210755Z
UID:10004802-1694700000-1694710800@www.lovemylibrary.ca
SUMMARY:Afterschool Survival
DESCRIPTION:Time to unwind\, get your homework done\, play on the computer\, or just hang out with your friends. For ages 8-15 \nThis is a drop in program. No registration is required.
URL:https://www.lovemylibrary.ca/event/afterschool-survival/2023-09-14/
LOCATION:Mount Uniacke Library\, 555\, Highway 1\, Mount Uniacke\, Nova Scotia\, Canada
CATEGORIES:Events For Kids,Events For Teens,Location: Mount Uniacke
ATTACH;FMTTYPE=image/png:https://www.lovemylibrary.ca/wp-content/uploads/2023/08/Untitled-design-99.png
END:VEVENT
BEGIN:VEVENT
DTSTART;TZID=America/Halifax:20230914T150000
DTEND;TZID=America/Halifax:20230914T163000
DTSTAMP:20260425T210716
CREATED:20221025T215043Z
LAST-MODIFIED:20230905T220447Z
UID:10004823-1694703600-1694709000@www.lovemylibrary.ca
SUMMARY:Teen Room Drop In
DESCRIPTION:Come hang out\, grab a snack\, play some Mario Kart on our new Nintendo Switch\, or make art. \nAges 13-18 \nThis is a drop-in program. No registration is required.
URL:https://www.lovemylibrary.ca/event/teen-room-drop-in/2023-09-14/
LOCATION:Truro Library\, 754 Prince St\, Truro\, Nova Scotia\, Canada
CATEGORIES:Events For Teens,Location: Truro
ATTACH;FMTTYPE=image/png:https://www.lovemylibrary.ca/wp-content/uploads/2022/10/Untitled-design-53.png
END:VEVENT
BEGIN:VEVENT
DTSTART;TZID=America/Halifax:20230914T180000
DTEND;TZID=America/Halifax:20230914T193000
DTSTAMP:20260425T210716
CREATED:20230531T163638Z
LAST-MODIFIED:20231121T231959Z
UID:10004738-1694714400-1694719800@www.lovemylibrary.ca
SUMMARY:Mindfulness Meditation
DESCRIPTION:We invite you to explore the practice of mindfulness and enjoy a time of meditation. Learn about how mindfulness can enhance your everyday living. Ages 14+ \nPlease call us at 902-883-9838 or email us at elmsdale@cehpubliclibrary.ca to register
URL:https://www.lovemylibrary.ca/event/mindfulness-meditation-2/2023-09-14/
LOCATION:Elmsdale Library\, 15 Commerce Ct\, Elmsdale\, Nova Scotia\, Canada
CATEGORIES:Events For Adults,Events For Teens,Location: Elmsdale
ATTACH;FMTTYPE=image/png:https://www.lovemylibrary.ca/wp-content/uploads/2023/03/Untitled-design-51.png
END:VEVENT
BEGIN:VEVENT
DTSTART;TZID=America/Halifax:20230915T130000
DTEND;TZID=America/Halifax:20230915T150000
DTSTAMP:20260425T210716
CREATED:20230816T145210Z
LAST-MODIFIED:20231214T202633Z
UID:10004293-1694782800-1694790000@www.lovemylibrary.ca
SUMMARY:Homeschoolers Hangout
DESCRIPTION:Learn and explore at the library! We want to be part of your education experience. For ages 5-18 \nThis is a drop in – call 902-883-9838 or email elmsdale@cehpubliclibrary.ca for more details
URL:https://www.lovemylibrary.ca/event/homeschoolers-hangout-2/2023-09-15/
LOCATION:Elmsdale Library\, 15 Commerce Ct\, Elmsdale\, Nova Scotia\, Canada
CATEGORIES:Events For Kids,Events For Teens,Location: Elmsdale
ATTACH;FMTTYPE=image/png:https://www.lovemylibrary.ca/wp-content/uploads/2022/07/Untitled-design-9.png
END:VEVENT
BEGIN:VEVENT
DTSTART;TZID=America/Halifax:20230915T140000
DTEND;TZID=America/Halifax:20230915T170000
DTSTAMP:20260425T210716
CREATED:20230825T174138Z
LAST-MODIFIED:20230926T210755Z
UID:10004803-1694786400-1694797200@www.lovemylibrary.ca
SUMMARY:Afterschool Survival
DESCRIPTION:Time to unwind\, get your homework done\, play on the computer\, or just hang out with your friends. For ages 8-15 \nThis is a drop in program. No registration is required.
URL:https://www.lovemylibrary.ca/event/afterschool-survival/2023-09-15/
LOCATION:Mount Uniacke Library\, 555\, Highway 1\, Mount Uniacke\, Nova Scotia\, Canada
CATEGORIES:Events For Kids,Events For Teens,Location: Mount Uniacke
ATTACH;FMTTYPE=image/png:https://www.lovemylibrary.ca/wp-content/uploads/2023/08/Untitled-design-99.png
END:VEVENT
BEGIN:VEVENT
DTSTART;TZID=America/Halifax:20230919T133000
DTEND;TZID=America/Halifax:20230919T143000
DTSTAMP:20260425T210716
CREATED:20230905T221526Z
LAST-MODIFIED:20230905T222025Z
UID:10004438-1695130200-1695133800@www.lovemylibrary.ca
SUMMARY:Homeschoolers Haven
DESCRIPTION:Homeschoolers Haven is a place for Homeschool families to meet and share resources. There will be  activities for the children.   For ages 5+ \nThis is a drop-in program. No registration is required.
URL:https://www.lovemylibrary.ca/event/homeschoolers-haven-2-2/2023-09-19/
LOCATION:Truro Library\, 754 Prince St\, Truro\, Nova Scotia\, Canada
CATEGORIES:Events For Kids,Events For Teens,Location: Truro
ATTACH;FMTTYPE=image/png:https://www.lovemylibrary.ca/wp-content/uploads/2022/07/Untitled-design-9.png
END:VEVENT
BEGIN:VEVENT
DTSTART;TZID=America/Halifax:20230919T140000
DTEND;TZID=America/Halifax:20230919T170000
DTSTAMP:20260425T210716
CREATED:20230825T174138Z
LAST-MODIFIED:20230926T210755Z
UID:10004804-1695132000-1695142800@www.lovemylibrary.ca
SUMMARY:Afterschool Survival
DESCRIPTION:Time to unwind\, get your homework done\, play on the computer\, or just hang out with your friends. For ages 8-15 \nThis is a drop in program. No registration is required.
URL:https://www.lovemylibrary.ca/event/afterschool-survival/2023-09-19/
LOCATION:Mount Uniacke Library\, 555\, Highway 1\, Mount Uniacke\, Nova Scotia\, Canada
CATEGORIES:Events For Kids,Events For Teens,Location: Mount Uniacke
ATTACH;FMTTYPE=image/png:https://www.lovemylibrary.ca/wp-content/uploads/2023/08/Untitled-design-99.png
END:VEVENT
BEGIN:VEVENT
DTSTART;TZID=America/Halifax:20230919T150000
DTEND;TZID=America/Halifax:20230919T163000
DTSTAMP:20260425T210716
CREATED:20221025T215043Z
LAST-MODIFIED:20230905T220447Z
UID:10004824-1695135600-1695141000@www.lovemylibrary.ca
SUMMARY:Teen Room Drop In
DESCRIPTION:Come hang out\, grab a snack\, play some Mario Kart on our new Nintendo Switch\, or make art. \nAges 13-18 \nThis is a drop-in program. No registration is required.
URL:https://www.lovemylibrary.ca/event/teen-room-drop-in/2023-09-19/
LOCATION:Truro Library\, 754 Prince St\, Truro\, Nova Scotia\, Canada
CATEGORIES:Events For Teens,Location: Truro
ATTACH;FMTTYPE=image/png:https://www.lovemylibrary.ca/wp-content/uploads/2022/10/Untitled-design-53.png
END:VEVENT
BEGIN:VEVENT
DTSTART;TZID=America/Halifax:20230920T143000
DTEND;TZID=America/Halifax:20230920T190000
DTSTAMP:20260425T210716
CREATED:20210830T161210Z
LAST-MODIFIED:20231213T141030Z
UID:10006159-1695220200-1695236400@www.lovemylibrary.ca
SUMMARY:Satellite Library Visit: Middle Stewiacke Recreation Centre
DESCRIPTION:Meet us at the Middle Stewiacke Recreation Centre where you can browse and borrow materials\, sign up for a Library card\, and use the public WiFi!
URL:https://www.lovemylibrary.ca/event/satellite-library-visit-middle-stewiacke-recreation-centre/2023-09-20/
LOCATION:Middle Stewiacke Recreation Centre\, 2395 Highway 289\, Middle Stewiacke\, Nova Scotia\, Canada
CATEGORIES:Events For Adults,Events For Kids,Events For Seniors,Events For Teens,Location: Middle Stewiacke
ATTACH;FMTTYPE=image/jpeg:https://www.lovemylibrary.ca/wp-content/uploads/2021/08/16.jpg
END:VEVENT
BEGIN:VEVENT
DTSTART;TZID=America/Halifax:20230920T180000
DTEND;TZID=America/Halifax:20230920T190000
DTSTAMP:20260425T210716
CREATED:20230905T223340Z
LAST-MODIFIED:20230905T223340Z
UID:10005362-1695232800-1695236400@www.lovemylibrary.ca
SUMMARY:Science Literacy Week: ENERGY!
DESCRIPTION:It’s Science Literacy Week\, and this year’s theme is Energy! Explore various cool circuits\, including a musical circuit! For ages 8-14 \nThis is a drop in program. No registration is required.
URL:https://www.lovemylibrary.ca/event/science-literacy-week-energy/
LOCATION:Truro Library\, 754 Prince St\, Truro\, Nova Scotia\, Canada
CATEGORIES:Events For Kids,Events For Teens,Location: Truro,STEAM Programs
ATTACH;FMTTYPE=image/png:https://www.lovemylibrary.ca/wp-content/uploads/2023/09/Untitled-design-2023-09-05T192528.286.png
END:VEVENT
BEGIN:VEVENT
DTSTART;TZID=America/Halifax:20230921T140000
DTEND;TZID=America/Halifax:20230921T170000
DTSTAMP:20260425T210716
CREATED:20230825T174138Z
LAST-MODIFIED:20230926T210755Z
UID:10004805-1695304800-1695315600@www.lovemylibrary.ca
SUMMARY:Afterschool Survival
DESCRIPTION:Time to unwind\, get your homework done\, play on the computer\, or just hang out with your friends. For ages 8-15 \nThis is a drop in program. No registration is required.
URL:https://www.lovemylibrary.ca/event/afterschool-survival/2023-09-21/
LOCATION:Mount Uniacke Library\, 555\, Highway 1\, Mount Uniacke\, Nova Scotia\, Canada
CATEGORIES:Events For Kids,Events For Teens,Location: Mount Uniacke
ATTACH;FMTTYPE=image/png:https://www.lovemylibrary.ca/wp-content/uploads/2023/08/Untitled-design-99.png
END:VEVENT
BEGIN:VEVENT
DTSTART;TZID=America/Halifax:20230921T150000
DTEND;TZID=America/Halifax:20230921T163000
DTSTAMP:20260425T210716
CREATED:20221025T215043Z
LAST-MODIFIED:20230905T220447Z
UID:10004825-1695308400-1695313800@www.lovemylibrary.ca
SUMMARY:Teen Room Drop In
DESCRIPTION:Come hang out\, grab a snack\, play some Mario Kart on our new Nintendo Switch\, or make art. \nAges 13-18 \nThis is a drop-in program. No registration is required.
URL:https://www.lovemylibrary.ca/event/teen-room-drop-in/2023-09-21/
LOCATION:Truro Library\, 754 Prince St\, Truro\, Nova Scotia\, Canada
CATEGORIES:Events For Teens,Location: Truro
ATTACH;FMTTYPE=image/png:https://www.lovemylibrary.ca/wp-content/uploads/2022/10/Untitled-design-53.png
END:VEVENT
BEGIN:VEVENT
DTSTART;TZID=America/Halifax:20230921T173000
DTEND;TZID=America/Halifax:20230921T193000
DTSTAMP:20260425T210716
CREATED:20230215T203141Z
LAST-MODIFIED:20230919T213828Z
UID:10004733-1695317400-1695324600@www.lovemylibrary.ca
SUMMARY:Adult Board Games Night
DESCRIPTION:Get your game on! Come on out for an evening of board games. This is your chance to play some old favourites or learn a new one. For teens and adults. \nThis is a drop-in program. No registration is required. Please call 902-883-9838 or email at elmsdale@cehpubliclibrary.ca for more details
URL:https://www.lovemylibrary.ca/event/adult-board-games-night-6-2/2023-09-21/
LOCATION:Elmsdale Library\, 15 Commerce Ct\, Elmsdale\, Nova Scotia\, Canada
CATEGORIES:Events For Adults,Events For Seniors,Events For Teens,Location: Elmsdale
ATTACH;FMTTYPE=image/png:https://www.lovemylibrary.ca/wp-content/uploads/2023/02/Untitled-design-2023-05-16T103613.895.png
END:VEVENT
BEGIN:VEVENT
DTSTART;TZID=America/Halifax:20230922T140000
DTEND;TZID=America/Halifax:20230922T170000
DTSTAMP:20260425T210716
CREATED:20230825T174138Z
LAST-MODIFIED:20230926T210755Z
UID:10004806-1695391200-1695402000@www.lovemylibrary.ca
SUMMARY:Afterschool Survival
DESCRIPTION:Time to unwind\, get your homework done\, play on the computer\, or just hang out with your friends. For ages 8-15 \nThis is a drop in program. No registration is required.
URL:https://www.lovemylibrary.ca/event/afterschool-survival/2023-09-22/
LOCATION:Mount Uniacke Library\, 555\, Highway 1\, Mount Uniacke\, Nova Scotia\, Canada
CATEGORIES:Events For Kids,Events For Teens,Location: Mount Uniacke
ATTACH;FMTTYPE=image/png:https://www.lovemylibrary.ca/wp-content/uploads/2023/08/Untitled-design-99.png
END:VEVENT
BEGIN:VEVENT
DTSTART;TZID=America/Halifax:20230926T133000
DTEND;TZID=America/Halifax:20230926T143000
DTSTAMP:20260425T210716
CREATED:20230905T221526Z
LAST-MODIFIED:20230905T222025Z
UID:10005350-1695735000-1695738600@www.lovemylibrary.ca
SUMMARY:Homeschoolers Haven
DESCRIPTION:Homeschoolers Haven is a place for Homeschool families to meet and share resources. There will be  activities for the children.   For ages 5+ \nThis is a drop-in program. No registration is required.
URL:https://www.lovemylibrary.ca/event/homeschoolers-haven-2-2/2023-09-26/
LOCATION:Truro Library\, 754 Prince St\, Truro\, Nova Scotia\, Canada
CATEGORIES:Events For Kids,Events For Teens,Location: Truro
ATTACH;FMTTYPE=image/png:https://www.lovemylibrary.ca/wp-content/uploads/2022/07/Untitled-design-9.png
END:VEVENT
BEGIN:VEVENT
DTSTART;TZID=America/Halifax:20230926T140000
DTEND;TZID=America/Halifax:20230926T170000
DTSTAMP:20260425T210716
CREATED:20230825T174138Z
LAST-MODIFIED:20230926T210755Z
UID:10004807-1695736800-1695747600@www.lovemylibrary.ca
SUMMARY:Afterschool Survival
DESCRIPTION:Time to unwind\, get your homework done\, play on the computer\, or just hang out with your friends. For ages 8-15 \nThis is a drop in program. No registration is required.
URL:https://www.lovemylibrary.ca/event/afterschool-survival/2023-09-26/
LOCATION:Mount Uniacke Library\, 555\, Highway 1\, Mount Uniacke\, Nova Scotia\, Canada
CATEGORIES:Events For Kids,Events For Teens,Location: Mount Uniacke
ATTACH;FMTTYPE=image/png:https://www.lovemylibrary.ca/wp-content/uploads/2023/08/Untitled-design-99.png
END:VEVENT
BEGIN:VEVENT
DTSTART;TZID=America/Halifax:20230926T150000
DTEND;TZID=America/Halifax:20230926T163000
DTSTAMP:20260425T210716
CREATED:20221025T215043Z
LAST-MODIFIED:20230905T220447Z
UID:10004826-1695740400-1695745800@www.lovemylibrary.ca
SUMMARY:Teen Room Drop In
DESCRIPTION:Come hang out\, grab a snack\, play some Mario Kart on our new Nintendo Switch\, or make art. \nAges 13-18 \nThis is a drop-in program. No registration is required.
URL:https://www.lovemylibrary.ca/event/teen-room-drop-in/2023-09-26/
LOCATION:Truro Library\, 754 Prince St\, Truro\, Nova Scotia\, Canada
CATEGORIES:Events For Teens,Location: Truro
ATTACH;FMTTYPE=image/png:https://www.lovemylibrary.ca/wp-content/uploads/2022/10/Untitled-design-53.png
END:VEVENT
BEGIN:VEVENT
DTSTART;TZID=America/Halifax:20230926T190000
DTEND;TZID=America/Halifax:20230926T200000
DTSTAMP:20260425T210716
CREATED:20230823T161903Z
LAST-MODIFIED:20230919T155408Z
UID:10004266-1695754800-1695758400@www.lovemylibrary.ca
SUMMARY:Maker Lab Certification Class
DESCRIPTION:Curious about the Maker Lab and the bookable equipment? Sign up to get certified in the Maker Lab and start your crafting adventure! For ages 16+ \nTo register email info@cehpubliclibrary.ca\n 
URL:https://www.lovemylibrary.ca/event/maker-lab-certification-class-2-2/2023-09-26/
LOCATION:Truro Library\, 754 Prince St\, Truro\, Nova Scotia\, Canada
CATEGORIES:Events For Adults,Events For Seniors,Events For Teens,Location: Truro
ATTACH;FMTTYPE=image/png:https://www.lovemylibrary.ca/wp-content/uploads/2023/02/Untitled-design-45.png
END:VEVENT
BEGIN:VEVENT
DTSTART;TZID=America/Halifax:20230927T143000
DTEND;TZID=America/Halifax:20230927T190000
DTSTAMP:20260425T210716
CREATED:20210830T143625Z
LAST-MODIFIED:20231213T140902Z
UID:10006143-1695825000-1695841200@www.lovemylibrary.ca
SUMMARY:Satellite Library Visit: Kennetcook Fire Hall
DESCRIPTION:Meet us at the Kennetcook Fire Hall where you can browse and borrow materials\, sign up for a Library card\, and hear about our upcoming programs! \n 
URL:https://www.lovemylibrary.ca/event/satellite-library-visit-kennetcook-fire-hall/2023-09-27/
LOCATION:Kennetcook Fire Hall\, 32 Martin Walsh Road\, Kennetcook\, Nova Scotia\, Canada
CATEGORIES:Events For Adults,Events For Kids,Events For Seniors,Events For Teens,Location: Kennetcook
ATTACH;FMTTYPE=image/jpeg:https://www.lovemylibrary.ca/wp-content/uploads/2021/08/16.jpg
END:VEVENT
BEGIN:VEVENT
DTSTART;TZID=America/Halifax:20230927T180000
DTEND;TZID=America/Halifax:20230927T190000
DTSTAMP:20260425T210716
CREATED:20230905T224458Z
LAST-MODIFIED:20230905T224458Z
UID:10005364-1695837600-1695841200@www.lovemylibrary.ca
SUMMARY:Mario Kart Tournament
DESCRIPTION:Do you have what it takes to be the ultimate Mario Kart champion? Try out the Teen Room’s new Nintendo Switch console\, compete for the title\, and grab a snack. Board games and card games also available to play! For ages 13-18 \nThis is a drop in program.
URL:https://www.lovemylibrary.ca/event/mario-kart-tournament/
LOCATION:Truro Library\, 754 Prince St\, Truro\, Nova Scotia\, Canada
CATEGORIES:Events For Teens,Location: Truro
ATTACH;FMTTYPE=image/png:https://www.lovemylibrary.ca/wp-content/uploads/2023/09/Untitled-design-2023-09-05T194425.268.png
END:VEVENT
BEGIN:VEVENT
DTSTART;TZID=America/Halifax:20230928T140000
DTEND;TZID=America/Halifax:20230928T170000
DTSTAMP:20260425T210716
CREATED:20230825T174138Z
LAST-MODIFIED:20230926T210755Z
UID:10004808-1695909600-1695920400@www.lovemylibrary.ca
SUMMARY:Afterschool Survival
DESCRIPTION:Time to unwind\, get your homework done\, play on the computer\, or just hang out with your friends. For ages 8-15 \nThis is a drop in program. No registration is required.
URL:https://www.lovemylibrary.ca/event/afterschool-survival/2023-09-28/
LOCATION:Mount Uniacke Library\, 555\, Highway 1\, Mount Uniacke\, Nova Scotia\, Canada
CATEGORIES:Events For Kids,Events For Teens,Location: Mount Uniacke
ATTACH;FMTTYPE=image/png:https://www.lovemylibrary.ca/wp-content/uploads/2023/08/Untitled-design-99.png
END:VEVENT
BEGIN:VEVENT
DTSTART;TZID=America/Halifax:20230928T150000
DTEND;TZID=America/Halifax:20230928T160000
DTSTAMP:20260425T210716
CREATED:20230823T174817Z
LAST-MODIFIED:20230823T174817Z
UID:10004787-1695913200-1695916800@www.lovemylibrary.ca
SUMMARY:Picture Frame Craft
DESCRIPTION:Do you have a picture that deserves to be framed? We can help. Visit the library and add some bling to a frame. Make it pop with some personal touches. For ages 13-18 \nRegistration by phone 902-657-3064 or email: tatamago@cehpubliclibrary.ca
URL:https://www.lovemylibrary.ca/event/picture-frame-craft/
LOCATION:Tatamagouche Library\, 170 Main Street\, Tatamagouche\, Nova Scotia\, Canada
CATEGORIES:Crafting,Events For Teens,Location: Tatamagouche
ATTACH;FMTTYPE=image/png:https://www.lovemylibrary.ca/wp-content/uploads/2023/08/Untitled-design-2023-08-23T145427.939.png
END:VEVENT
BEGIN:VEVENT
DTSTART;TZID=America/Halifax:20230928T150000
DTEND;TZID=America/Halifax:20230928T163000
DTSTAMP:20260425T210716
CREATED:20221025T215043Z
LAST-MODIFIED:20230905T220447Z
UID:10004827-1695913200-1695918600@www.lovemylibrary.ca
SUMMARY:Teen Room Drop In
DESCRIPTION:Come hang out\, grab a snack\, play some Mario Kart on our new Nintendo Switch\, or make art. \nAges 13-18 \nThis is a drop-in program. No registration is required.
URL:https://www.lovemylibrary.ca/event/teen-room-drop-in/2023-09-28/
LOCATION:Truro Library\, 754 Prince St\, Truro\, Nova Scotia\, Canada
CATEGORIES:Events For Teens,Location: Truro
ATTACH;FMTTYPE=image/png:https://www.lovemylibrary.ca/wp-content/uploads/2022/10/Untitled-design-53.png
END:VEVENT
BEGIN:VEVENT
DTSTART;TZID=America/Halifax:20230928T180000
DTEND;TZID=America/Halifax:20230928T190000
DTSTAMP:20260425T210716
CREATED:20221020T175453Z
LAST-MODIFIED:20230926T212124Z
UID:10002063-1695924000-1695927600@www.lovemylibrary.ca
SUMMARY:Teen Book Club
DESCRIPTION:We are getting together to discuss the upcoming years of book choices for a teen book club. Your opinion matters to us. Come in and suggest a book. For ages 13-19 \nThis is a drop in program. No registration is required.
URL:https://www.lovemylibrary.ca/event/teen-book-club/
LOCATION:Mount Uniacke Library\, 555\, Highway 1\, Mount Uniacke\, Nova Scotia\, Canada
CATEGORIES:Events For Teens,Location: Mount Uniacke
ATTACH;FMTTYPE=image/png:https://www.lovemylibrary.ca/wp-content/uploads/2022/10/Untitled-design-52.png
END:VEVENT
END:VCALENDAR