BEGIN:VCALENDAR
VERSION:2.0
PRODID:-//Colchester East Hants Public Library - ECPv6.15.20//NONSGML v1.0//EN
CALSCALE:GREGORIAN
METHOD:PUBLISH
X-ORIGINAL-URL:https://www.lovemylibrary.ca
X-WR-CALDESC:Events for Colchester East Hants Public Library
REFRESH-INTERVAL;VALUE=DURATION:PT1H
X-Robots-Tag:noindex
X-PUBLISHED-TTL:PT1H
BEGIN:VTIMEZONE
TZID:America/Halifax
BEGIN:DAYLIGHT
TZOFFSETFROM:-0400
TZOFFSETTO:-0300
TZNAME:ADT
DTSTART:20220313T060000
END:DAYLIGHT
BEGIN:STANDARD
TZOFFSETFROM:-0300
TZOFFSETTO:-0400
TZNAME:AST
DTSTART:20221106T050000
END:STANDARD
BEGIN:DAYLIGHT
TZOFFSETFROM:-0400
TZOFFSETTO:-0300
TZNAME:ADT
DTSTART:20230312T060000
END:DAYLIGHT
BEGIN:STANDARD
TZOFFSETFROM:-0300
TZOFFSETTO:-0400
TZNAME:AST
DTSTART:20231105T050000
END:STANDARD
BEGIN:DAYLIGHT
TZOFFSETFROM:-0400
TZOFFSETTO:-0300
TZNAME:ADT
DTSTART:20240310T060000
END:DAYLIGHT
BEGIN:STANDARD
TZOFFSETFROM:-0300
TZOFFSETTO:-0400
TZNAME:AST
DTSTART:20241103T050000
END:STANDARD
END:VTIMEZONE
BEGIN:VEVENT
DTSTART;TZID=America/Halifax:20231101T143000
DTEND;TZID=America/Halifax:20231101T190000
DTSTAMP:20260425T154158
CREATED:20210830T161210Z
LAST-MODIFIED:20231213T141030Z
UID:10006161-1698849000-1698865200@www.lovemylibrary.ca
SUMMARY:Satellite Library Visit: Middle Stewiacke Recreation Centre
DESCRIPTION:Meet us at the Middle Stewiacke Recreation Centre where you can browse and borrow materials\, sign up for a Library card\, and use the public WiFi!
URL:https://www.lovemylibrary.ca/event/satellite-library-visit-middle-stewiacke-recreation-centre/2023-11-01/
LOCATION:Middle Stewiacke Recreation Centre\, 2395 Highway 289\, Middle Stewiacke\, Nova Scotia\, Canada
CATEGORIES:Events For Adults,Events For Kids,Events For Seniors,Events For Teens,Location: Middle Stewiacke
ATTACH;FMTTYPE=image/jpeg:https://www.lovemylibrary.ca/wp-content/uploads/2021/08/16.jpg
END:VEVENT
BEGIN:VEVENT
DTSTART;TZID=America/Halifax:20231101T180000
DTEND;TZID=America/Halifax:20231101T190000
DTSTAMP:20260425T154158
CREATED:20231024T203657Z
LAST-MODIFIED:20231025T213641Z
UID:10005578-1698861600-1698865200@www.lovemylibrary.ca
SUMMARY:Cardboard Fort Night
DESCRIPTION:We’re building a giant cardboard fort in the Maker Lab and we need your help! Use cardboard boxes and tools from our MakeDo kits to construct the BEST FORT EVER. For ages 8-14 \nThis is a drop in program. No registration is required.
URL:https://www.lovemylibrary.ca/event/carboard-fort-night/
LOCATION:Truro Library\, 754 Prince St\, Truro\, Nova Scotia\, Canada
CATEGORIES:Events For Kids,Events For Teens,Location: Truro
ATTACH;FMTTYPE=image/png:https://www.lovemylibrary.ca/wp-content/uploads/2023/10/ardbo-1.png
END:VEVENT
BEGIN:VEVENT
DTSTART;TZID=America/Halifax:20231103T143000
DTEND;TZID=America/Halifax:20231103T153000
DTSTAMP:20260425T154158
CREATED:20231030T185801Z
LAST-MODIFIED:20231030T185801Z
UID:10005740-1699021800-1699025400@www.lovemylibrary.ca
SUMMARY:Friday Fun with Art
DESCRIPTION:We are trying different types of art techniques throughout the year. November is learning to draw. We have a video to watch and then we get to use put pencil to paper. For ages 5 -15 \nThis is a drop in event. No registration is required.
URL:https://www.lovemylibrary.ca/event/friday-fun-with-art-2/
LOCATION:Mount Uniacke Library\, 555\, Highway 1\, Mount Uniacke\, Nova Scotia\, Canada
CATEGORIES:Crafting,Events For Kids,Events For Teens
ATTACH;FMTTYPE=image/png:https://www.lovemylibrary.ca/wp-content/uploads/2023/09/Untitled-design-2023-09-26T191155.762.png
END:VEVENT
BEGIN:VEVENT
DTSTART;TZID=America/Halifax:20231104T110000
DTEND;TZID=America/Halifax:20231104T130000
DTSTAMP:20260425T154158
CREATED:20231030T175726Z
LAST-MODIFIED:20231030T175726Z
UID:10005737-1699095600-1699102800@www.lovemylibrary.ca
SUMMARY:Technically Speaking
DESCRIPTION:Is your tablet confusing? Having trouble downloading an app to your phone or don’t know what an app means? Want to learn more about TikTok? Drop into the library with your questions and we can help.  All ages. \nThis is a drop in event. No registration is required.
URL:https://www.lovemylibrary.ca/event/technically-speaking-4/
LOCATION:Mount Uniacke Library\, 555\, Highway 1\, Mount Uniacke\, Nova Scotia\, Canada
CATEGORIES:Events For Adults,Events For Kids,Events For Seniors,Events For Teens,Location: Mount Uniacke
ATTACH;FMTTYPE=image/png:https://www.lovemylibrary.ca/wp-content/uploads/2023/04/Untitled-design-65.png
END:VEVENT
BEGIN:VEVENT
DTSTART;TZID=America/Halifax:20231104T140000
DTEND;TZID=America/Halifax:20231104T160000
DTSTAMP:20260425T154158
CREATED:20231024T182712Z
LAST-MODIFIED:20231024T182712Z
UID:10005567-1699106400-1699113600@www.lovemylibrary.ca
SUMMARY:REadCYCLE Book Event
DESCRIPTION:This will be a great way to share your love of reading\, discover something new and help the environment. Need a book? Buy a book or take a book! Have a book? Donate your book! Drop off date for book donations: Thursday\, November 4 \nThis is a drop in event.
URL:https://www.lovemylibrary.ca/event/readcycle-book-event/
LOCATION:Stewiacke Library\, 295 George Street\, Stewiacke\, Nova Scotia\, Canada
CATEGORIES:Events For Adults,Events For Kids,Events For Seniors,Events For Teens,Location: Stewiacke
ATTACH;FMTTYPE=image/png:https://www.lovemylibrary.ca/wp-content/uploads/2023/10/Untitled-design-2023-10-24T152435.111.png
END:VEVENT
BEGIN:VEVENT
DTSTART;TZID=America/Halifax:20231107T133000
DTEND;TZID=America/Halifax:20231107T143000
DTSTAMP:20260425T154158
CREATED:20230905T221526Z
LAST-MODIFIED:20230905T222025Z
UID:10005356-1699363800-1699367400@www.lovemylibrary.ca
SUMMARY:Homeschoolers Haven
DESCRIPTION:Homeschoolers Haven is a place for Homeschool families to meet and share resources. There will be  activities for the children.   For ages 5+ \nThis is a drop-in program. No registration is required.
URL:https://www.lovemylibrary.ca/event/homeschoolers-haven-2-2/2023-11-07/
LOCATION:Truro Library\, 754 Prince St\, Truro\, Nova Scotia\, Canada
CATEGORIES:Events For Kids,Events For Teens,Location: Truro
ATTACH;FMTTYPE=image/png:https://www.lovemylibrary.ca/wp-content/uploads/2022/07/Untitled-design-9.png
END:VEVENT
BEGIN:VEVENT
DTSTART;TZID=America/Halifax:20231107T143000
DTEND;TZID=America/Halifax:20231107T150000
DTSTAMP:20260425T154158
CREATED:20231030T190452Z
LAST-MODIFIED:20231030T190452Z
UID:10005741-1699367400-1699369200@www.lovemylibrary.ca
SUMMARY:Seasonal Crafting with Bernie
DESCRIPTION:It’s November and we are remembering our brave men\, women\, and animals who served our country. Bernie has a craft to observe Remembrance Day. For ages 5-15 \nRegister in branch or by email mtuniack@cehpubliclibrary.ca
URL:https://www.lovemylibrary.ca/event/seasonal-crafting-with-bernie-2/
LOCATION:Mount Uniacke Library\, 555\, Highway 1\, Mount Uniacke\, Nova Scotia\, Canada
CATEGORIES:Crafting,Events For Kids,Events For Teens,Location: Mount Uniacke
ATTACH;FMTTYPE=image/png:https://www.lovemylibrary.ca/wp-content/uploads/2022/03/Untitled-design-57.png
END:VEVENT
BEGIN:VEVENT
DTSTART;TZID=America/Halifax:20231107T183000
DTEND;TZID=America/Halifax:20231107T200000
DTSTAMP:20260425T154158
CREATED:20231027T193507Z
LAST-MODIFIED:20231027T193957Z
UID:10005725-1699381800-1699387200@www.lovemylibrary.ca
SUMMARY:Ewe-niacke Yarn Club
DESCRIPTION:Fiber art for all ages and abilities. Learn to knit or crochet\, bring a project you are working on\, or just come hang out with the club for some social time. \nThis is a drop in event. No registration required.
URL:https://www.lovemylibrary.ca/event/ewe-niacke-yarn-club-4/2023-11-07/
LOCATION:Nova Scotia
CATEGORIES:Crafting,Events For Adults,Events For Kids,Events For Seniors,Events For Teens,Location: Mount Uniacke
ATTACH;FMTTYPE=image/png:https://www.lovemylibrary.ca/wp-content/uploads/2022/03/Untitled-design-89.png
END:VEVENT
BEGIN:VEVENT
DTSTART;TZID=America/Halifax:20231107T184500
DTEND;TZID=America/Halifax:20231107T194500
DTSTAMP:20260425T154158
CREATED:20230920T190431Z
LAST-MODIFIED:20231025T163346Z
UID:10005629-1699382700-1699386300@www.lovemylibrary.ca
SUMMARY:Fiber Art Tuesdays
DESCRIPTION:Bring your current project and meet with other fiber artists. This is a great opportunity to share and ask questions. All ages are welcome. \nThis is a drop in program. No registration is required.
URL:https://www.lovemylibrary.ca/event/fiber-art-tuesdays/2023-11-07/
LOCATION:Stewiacke Library\, 295 George Street\, Stewiacke\, Nova Scotia\, Canada
CATEGORIES:Events For Adults,Events For Kids,Events For Seniors,Events For Teens,Location: Stewiacke
ATTACH;FMTTYPE=image/png:https://www.lovemylibrary.ca/wp-content/uploads/2023/09/Untitled-design-2023-09-20T160357.765.png
END:VEVENT
BEGIN:VEVENT
DTSTART;TZID=America/Halifax:20231108T143000
DTEND;TZID=America/Halifax:20231108T190000
DTSTAMP:20260425T154158
CREATED:20210830T143625Z
LAST-MODIFIED:20231213T140902Z
UID:10006145-1699453800-1699470000@www.lovemylibrary.ca
SUMMARY:Satellite Library Visit: Kennetcook Fire Hall
DESCRIPTION:Meet us at the Kennetcook Fire Hall where you can browse and borrow materials\, sign up for a Library card\, and hear about our upcoming programs! \n 
URL:https://www.lovemylibrary.ca/event/satellite-library-visit-kennetcook-fire-hall/2023-11-08/
LOCATION:Kennetcook Fire Hall\, 32 Martin Walsh Road\, Kennetcook\, Nova Scotia\, Canada
CATEGORIES:Events For Adults,Events For Kids,Events For Seniors,Events For Teens,Location: Kennetcook
ATTACH;FMTTYPE=image/jpeg:https://www.lovemylibrary.ca/wp-content/uploads/2021/08/16.jpg
END:VEVENT
BEGIN:VEVENT
DTSTART;TZID=America/Halifax:20231108T180000
DTEND;TZID=America/Halifax:20231108T190000
DTSTAMP:20260425T154158
CREATED:20231024T211102Z
LAST-MODIFIED:20231024T211102Z
UID:10005607-1699466400-1699470000@www.lovemylibrary.ca
SUMMARY:Heartstopper Night
DESCRIPTION:Can’t get enough of Heartstopper? Neither can we! Drop by the Truro Library teen room to make a Heartstopper tote bag and enjoy snacks\, book recommendations\, and more. For ages 13-18 \nThis is a drop in program.
URL:https://www.lovemylibrary.ca/event/heartstopper-night-2/
LOCATION:Truro Library\, 754 Prince St\, Truro\, Nova Scotia\, Canada
CATEGORIES:Events For Teens,Location: Truro
ATTACH;FMTTYPE=image/png:https://www.lovemylibrary.ca/wp-content/uploads/2023/06/Untitled-design-2023-06-29T144737.804.png
END:VEVENT
BEGIN:VEVENT
DTSTART;TZID=America/Halifax:20231109T143000
DTEND;TZID=America/Halifax:20231109T153000
DTSTAMP:20260425T154158
CREATED:20231027T190358Z
LAST-MODIFIED:20231027T190358Z
UID:10005720-1699540200-1699543800@www.lovemylibrary.ca
SUMMARY:Game Day
DESCRIPTION:It’s Game Day at the library! Let’s play some BINGO. \nRegister in branch or by email mtuniack@cehpubliclibrary.ca
URL:https://www.lovemylibrary.ca/event/game-day-2/
LOCATION:Mount Uniacke Library\, 555\, Highway 1\, Mount Uniacke\, Nova Scotia\, Canada
CATEGORIES:Events For Kids,Events For Teens,Location: Mount Uniacke
ATTACH;FMTTYPE=image/png:https://www.lovemylibrary.ca/wp-content/uploads/2023/08/Untitled-design-97.png
END:VEVENT
BEGIN:VEVENT
DTSTART;TZID=America/Halifax:20231109T150000
DTEND;TZID=America/Halifax:20231109T160000
DTSTAMP:20260425T154158
CREATED:20231026T185946Z
LAST-MODIFIED:20231026T190010Z
UID:10005695-1699542000-1699545600@www.lovemylibrary.ca
SUMMARY:Fall water colours - Junior Edition
DESCRIPTION:Lets create art with fall leaves and watercolours. For ages 8-14 \nPre register in person or by phone 902 – 657-3064 or email: tatamago@cehpubliclibrary.ca
URL:https://www.lovemylibrary.ca/event/fall-water-colours/
LOCATION:Tatamagouche Library\, 170 Main Street\, Tatamagouche\, Nova Scotia\, Canada
CATEGORIES:Events For Kids,Events For Teens,Location: Tatamagouche
ATTACH;FMTTYPE=image/png:https://www.lovemylibrary.ca/wp-content/uploads/2023/10/Untitled-design-2023-10-26T155933.406.png
END:VEVENT
BEGIN:VEVENT
DTSTART;TZID=America/Halifax:20231109T180000
DTEND;TZID=America/Halifax:20231109T193000
DTSTAMP:20260425T154158
CREATED:20230531T163638Z
LAST-MODIFIED:20231121T231959Z
UID:10005654-1699552800-1699558200@www.lovemylibrary.ca
SUMMARY:Mindfulness Meditation
DESCRIPTION:We invite you to explore the practice of mindfulness and enjoy a time of meditation. Learn about how mindfulness can enhance your everyday living. Ages 14+ \nPlease call us at 902-883-9838 or email us at elmsdale@cehpubliclibrary.ca to register
URL:https://www.lovemylibrary.ca/event/mindfulness-meditation-2/2023-11-09/
LOCATION:Elmsdale Library\, 15 Commerce Ct\, Elmsdale\, Nova Scotia\, Canada
CATEGORIES:Events For Adults,Events For Teens,Location: Elmsdale
ATTACH;FMTTYPE=image/png:https://www.lovemylibrary.ca/wp-content/uploads/2023/03/Untitled-design-51.png
END:VEVENT
BEGIN:VEVENT
DTSTART;TZID=America/Halifax:20231110T130000
DTEND;TZID=America/Halifax:20231110T150000
DTSTAMP:20260425T154158
CREATED:20230816T145210Z
LAST-MODIFIED:20231214T202633Z
UID:10005650-1699621200-1699628400@www.lovemylibrary.ca
SUMMARY:Homeschoolers Hangout
DESCRIPTION:Learn and explore at the library! We want to be part of your education experience. For ages 5-18 \nThis is a drop in – call 902-883-9838 or email elmsdale@cehpubliclibrary.ca for more details
URL:https://www.lovemylibrary.ca/event/homeschoolers-hangout-2/2023-11-10/
LOCATION:Elmsdale Library\, 15 Commerce Ct\, Elmsdale\, Nova Scotia\, Canada
CATEGORIES:Events For Kids,Events For Teens,Location: Elmsdale
ATTACH;FMTTYPE=image/png:https://www.lovemylibrary.ca/wp-content/uploads/2022/07/Untitled-design-9.png
END:VEVENT
BEGIN:VEVENT
DTSTART;TZID=America/Halifax:20231114T133000
DTEND;TZID=America/Halifax:20231114T143000
DTSTAMP:20260425T154158
CREATED:20230905T221526Z
LAST-MODIFIED:20230905T222025Z
UID:10005357-1699968600-1699972200@www.lovemylibrary.ca
SUMMARY:Homeschoolers Haven
DESCRIPTION:Homeschoolers Haven is a place for Homeschool families to meet and share resources. There will be  activities for the children.   For ages 5+ \nThis is a drop-in program. No registration is required.
URL:https://www.lovemylibrary.ca/event/homeschoolers-haven-2-2/2023-11-14/
LOCATION:Truro Library\, 754 Prince St\, Truro\, Nova Scotia\, Canada
CATEGORIES:Events For Kids,Events For Teens,Location: Truro
ATTACH;FMTTYPE=image/png:https://www.lovemylibrary.ca/wp-content/uploads/2022/07/Untitled-design-9.png
END:VEVENT
BEGIN:VEVENT
DTSTART;TZID=America/Halifax:20231114T183000
DTEND;TZID=America/Halifax:20231114T200000
DTSTAMP:20260425T154158
CREATED:20231027T193507Z
LAST-MODIFIED:20231027T193957Z
UID:10005726-1699986600-1699992000@www.lovemylibrary.ca
SUMMARY:Ewe-niacke Yarn Club
DESCRIPTION:Fiber art for all ages and abilities. Learn to knit or crochet\, bring a project you are working on\, or just come hang out with the club for some social time. \nThis is a drop in event. No registration required.
URL:https://www.lovemylibrary.ca/event/ewe-niacke-yarn-club-4/2023-11-14/
LOCATION:Nova Scotia
CATEGORIES:Crafting,Events For Adults,Events For Kids,Events For Seniors,Events For Teens,Location: Mount Uniacke
ATTACH;FMTTYPE=image/png:https://www.lovemylibrary.ca/wp-content/uploads/2022/03/Untitled-design-89.png
END:VEVENT
BEGIN:VEVENT
DTSTART;TZID=America/Halifax:20231114T184500
DTEND;TZID=America/Halifax:20231114T194500
DTSTAMP:20260425T154159
CREATED:20230920T190431Z
LAST-MODIFIED:20231025T163346Z
UID:10005630-1699987500-1699991100@www.lovemylibrary.ca
SUMMARY:Fiber Art Tuesdays
DESCRIPTION:Bring your current project and meet with other fiber artists. This is a great opportunity to share and ask questions. All ages are welcome. \nThis is a drop in program. No registration is required.
URL:https://www.lovemylibrary.ca/event/fiber-art-tuesdays/2023-11-14/
LOCATION:Stewiacke Library\, 295 George Street\, Stewiacke\, Nova Scotia\, Canada
CATEGORIES:Events For Adults,Events For Kids,Events For Seniors,Events For Teens,Location: Stewiacke
ATTACH;FMTTYPE=image/png:https://www.lovemylibrary.ca/wp-content/uploads/2023/09/Untitled-design-2023-09-20T160357.765.png
END:VEVENT
BEGIN:VEVENT
DTSTART;TZID=America/Halifax:20231116T180000
DTEND;TZID=America/Halifax:20231116T190000
DTSTAMP:20260425T154159
CREATED:20231030T175306Z
LAST-MODIFIED:20231030T175306Z
UID:10005736-1700157600-1700161200@www.lovemylibrary.ca
SUMMARY:Teen Book Club
DESCRIPTION:We are getting together to discuss the upcoming years of book choices for a teen book club. Your opinion matters to us. Come in and suggest a book. For ages 13-19 \nThis is a drop in event. No registration required.
URL:https://www.lovemylibrary.ca/event/teen-book-club-2/
LOCATION:Mount Uniacke Library\, 555\, Highway 1\, Mount Uniacke\, Nova Scotia\, Canada
CATEGORIES:Events For Teens,Location: Mount Uniacke
ATTACH;FMTTYPE=image/png:https://www.lovemylibrary.ca/wp-content/uploads/2022/10/Untitled-design-52.png
END:VEVENT
BEGIN:VEVENT
DTSTART;TZID=America/Halifax:20231121T133000
DTEND;TZID=America/Halifax:20231121T150000
DTSTAMP:20260425T154159
CREATED:20231120T203025Z
LAST-MODIFIED:20240326T211358Z
UID:10005358-1700573400-1700578800@www.lovemylibrary.ca
SUMMARY:Homeschoolers Haven
DESCRIPTION:Homeschoolers Haven is a place for Homeschool families to meet and share resources. There will be  activities for the children.   For ages 5+ \nThis is a drop-in program. No registration is required.
URL:https://www.lovemylibrary.ca/event/homeschoolers-haven-2-2-2/2023-11-21/
LOCATION:Truro Library\, 754 Prince St\, Truro\, Nova Scotia\, Canada
CATEGORIES:Events For Kids,Events For Teens,Location: Truro
ATTACH;FMTTYPE=image/png:https://www.lovemylibrary.ca/wp-content/uploads/2022/07/Untitled-design-9.png
END:VEVENT
BEGIN:VEVENT
DTSTART;TZID=America/Halifax:20231121T183000
DTEND;TZID=America/Halifax:20231121T200000
DTSTAMP:20260425T154159
CREATED:20231120T135552Z
LAST-MODIFIED:20231120T135721Z
UID:10005727-1700591400-1700596800@www.lovemylibrary.ca
SUMMARY:Ewe-niacke Yarn Club
DESCRIPTION:Fiber art for all ages and abilities. Learn to knit or crochet\, bring a project you are working on\, or just come hang out with the club for some social time. \nThis is a drop in event. No registration required.
URL:https://www.lovemylibrary.ca/event/ewe-niacke-yarn-club-4-2/
LOCATION:Mount Uniacke Library\, 555\, Highway 1\, Mount Uniacke\, Nova Scotia\, Canada
CATEGORIES:Crafting,Events For Adults,Events For Kids,Events For Seniors,Events For Teens,Location: Mount Uniacke
ATTACH;FMTTYPE=image/png:https://www.lovemylibrary.ca/wp-content/uploads/2022/03/Untitled-design-89.png
END:VEVENT
BEGIN:VEVENT
DTSTART;TZID=America/Halifax:20231122T143000
DTEND;TZID=America/Halifax:20231122T190000
DTSTAMP:20260425T154159
CREATED:20210830T161210Z
LAST-MODIFIED:20231213T141030Z
UID:10006162-1700663400-1700679600@www.lovemylibrary.ca
SUMMARY:Satellite Library Visit: Middle Stewiacke Recreation Centre
DESCRIPTION:Meet us at the Middle Stewiacke Recreation Centre where you can browse and borrow materials\, sign up for a Library card\, and use the public WiFi!
URL:https://www.lovemylibrary.ca/event/satellite-library-visit-middle-stewiacke-recreation-centre/2023-11-22/
LOCATION:Middle Stewiacke Recreation Centre\, 2395 Highway 289\, Middle Stewiacke\, Nova Scotia\, Canada
CATEGORIES:Events For Adults,Events For Kids,Events For Seniors,Events For Teens,Location: Middle Stewiacke
ATTACH;FMTTYPE=image/jpeg:https://www.lovemylibrary.ca/wp-content/uploads/2021/08/16.jpg
END:VEVENT
BEGIN:VEVENT
DTSTART;TZID=America/Halifax:20231122T180000
DTEND;TZID=America/Halifax:20231122T193000
DTSTAMP:20260425T154159
CREATED:20231024T223220Z
LAST-MODIFIED:20231024T223220Z
UID:10005609-1700676000-1700681400@www.lovemylibrary.ca
SUMMARY:Teen Game Night
DESCRIPTION:What do Mario Kart\, Codenames\, and Exploding Kittens have in common? They’re all available to play in the Truro Library teen room\, along with tons of other games! Drop by to play with friends and enjoy some snacks. Ages 13-18 \nThis is a drop in program.
URL:https://www.lovemylibrary.ca/event/teen-game-night/
LOCATION:Truro Library\, 754 Prince St\, Truro\, Nova Scotia\, Canada
CATEGORIES:Events For Teens,Location: Truro
ATTACH;FMTTYPE=image/png:https://www.lovemylibrary.ca/wp-content/uploads/2023/10/Untitled-design-2023-10-24T193212.185.png
END:VEVENT
BEGIN:VEVENT
DTSTART;TZID=America/Halifax:20231123T180000
DTEND;TZID=America/Halifax:20231123T190000
DTSTAMP:20260425T154159
CREATED:20231030T174433Z
LAST-MODIFIED:20231030T174638Z
UID:10005734-1700762400-1700766000@www.lovemylibrary.ca
SUMMARY:Only Murders in our Library
DESCRIPTION:Introverts and extroverts unite. Extroverts come early to socialize and introverts can join us at 6pm. We are spending an hour listening to a true crime podcast and doing some adult coloring. For ages 15-99 (or older) \nThis is a drop in event\, No registration required\n  \n 
URL:https://www.lovemylibrary.ca/event/only-murders-in-our-library-2/
LOCATION:Mount Uniacke Library\, 555\, Highway 1\, Mount Uniacke\, Nova Scotia\, Canada
CATEGORIES:Events For Adults,Events For Seniors,Events For Teens,Location: Mount Uniacke
ATTACH;FMTTYPE=image/png:https://www.lovemylibrary.ca/wp-content/uploads/2023/08/Untitled-design-2023-08-25T151940.865.png
END:VEVENT
BEGIN:VEVENT
DTSTART;TZID=America/Halifax:20231123T180000
DTEND;TZID=America/Halifax:20231123T193000
DTSTAMP:20260425T154159
CREATED:20230531T163638Z
LAST-MODIFIED:20231121T231959Z
UID:10005655-1700762400-1700767800@www.lovemylibrary.ca
SUMMARY:Mindfulness Meditation
DESCRIPTION:We invite you to explore the practice of mindfulness and enjoy a time of meditation. Learn about how mindfulness can enhance your everyday living. Ages 14+ \nPlease call us at 902-883-9838 or email us at elmsdale@cehpubliclibrary.ca to register
URL:https://www.lovemylibrary.ca/event/mindfulness-meditation-2/2023-11-23/
LOCATION:Elmsdale Library\, 15 Commerce Ct\, Elmsdale\, Nova Scotia\, Canada
CATEGORIES:Events For Adults,Events For Teens,Location: Elmsdale
ATTACH;FMTTYPE=image/png:https://www.lovemylibrary.ca/wp-content/uploads/2023/03/Untitled-design-51.png
END:VEVENT
BEGIN:VEVENT
DTSTART;TZID=America/Halifax:20231124T130000
DTEND;TZID=America/Halifax:20231124T150000
DTSTAMP:20260425T154159
CREATED:20230816T145210Z
LAST-MODIFIED:20231214T202633Z
UID:10005651-1700830800-1700838000@www.lovemylibrary.ca
SUMMARY:Homeschoolers Hangout
DESCRIPTION:Learn and explore at the library! We want to be part of your education experience. For ages 5-18 \nThis is a drop in – call 902-883-9838 or email elmsdale@cehpubliclibrary.ca for more details
URL:https://www.lovemylibrary.ca/event/homeschoolers-hangout-2/2023-11-24/
LOCATION:Elmsdale Library\, 15 Commerce Ct\, Elmsdale\, Nova Scotia\, Canada
CATEGORIES:Events For Kids,Events For Teens,Location: Elmsdale
ATTACH;FMTTYPE=image/png:https://www.lovemylibrary.ca/wp-content/uploads/2022/07/Untitled-design-9.png
END:VEVENT
BEGIN:VEVENT
DTSTART;TZID=America/Halifax:20231125T100000
DTEND;TZID=America/Halifax:20231125T140000
DTSTAMP:20260425T154159
CREATED:20231025T192400Z
LAST-MODIFIED:20231025T192400Z
UID:10005656-1700906400-1700920800@www.lovemylibrary.ca
SUMMARY:Get to Know Your East Hants Writers!
DESCRIPTION:“Do you know your local East Hants writers?” Please visit us for a special presentation from our local authors. Barbara-Jean Moxsom\, Mindy Lee George\, and Lynn Lapthorne will be reading excerpts from their latest children’s books. As well\, Moreen Lim and Lynn Lapthorne will be reading from their latest adult fiction and non-fiction books. Books will be available for purchase and signings afterwards. Light refreshments will be available. 10 – 12pm (Children’s Author Reading) 12 – 2pm (Adult Author Reading\, FIC & Non-FIC)  All ages are welcome. \nDrop in – Please call 902-883-9838 or email us at elmsdale@cehpubliclibrary.ca for more details
URL:https://www.lovemylibrary.ca/event/get-to-know-your-east-hants-writers/
LOCATION:Elmsdale Library\, 15 Commerce Ct\, Elmsdale\, Nova Scotia\, Canada
CATEGORIES:Events For Adults,Events For Kids,Events For Seniors,Events For Teens,Location: Elmsdale
ATTACH;FMTTYPE=image/png:https://www.lovemylibrary.ca/wp-content/uploads/2023/10/Untitled-design-2023-10-25T162339.355.png
END:VEVENT
BEGIN:VEVENT
DTSTART;TZID=America/Halifax:20231125T150000
DTEND;TZID=America/Halifax:20231125T160000
DTSTAMP:20260425T154159
CREATED:20220524T174905Z
LAST-MODIFIED:20231025T173514Z
UID:10001037-1700924400-1700928000@www.lovemylibrary.ca
SUMMARY:Teen Escape Room
DESCRIPTION:Do you think you have the skills to figure out the clues and solve the puzzles? Ages 13-18. \nRegister: Stewiacke@cehpubliclibrary.ca
URL:https://www.lovemylibrary.ca/event/teen-escape-room-totally-radical-80s/
LOCATION:Stewiacke Library\, 295 George Street\, Stewiacke\, Nova Scotia\, Canada
CATEGORIES:Events For Teens,Location: Stewiacke
ATTACH;FMTTYPE=image/png:https://www.lovemylibrary.ca/wp-content/uploads/2022/05/Untitled-design-2023-10-25T143452.130.png
END:VEVENT
BEGIN:VEVENT
DTSTART;TZID=America/Halifax:20231128T133000
DTEND;TZID=America/Halifax:20231128T150000
DTSTAMP:20260425T154159
CREATED:20231120T203025Z
LAST-MODIFIED:20240326T211358Z
UID:10005359-1701178200-1701183600@www.lovemylibrary.ca
SUMMARY:Homeschoolers Haven
DESCRIPTION:Homeschoolers Haven is a place for Homeschool families to meet and share resources. There will be  activities for the children.   For ages 5+ \nThis is a drop-in program. No registration is required.
URL:https://www.lovemylibrary.ca/event/homeschoolers-haven-2-2-2/2023-11-28/
LOCATION:Truro Library\, 754 Prince St\, Truro\, Nova Scotia\, Canada
CATEGORIES:Events For Kids,Events For Teens,Location: Truro
ATTACH;FMTTYPE=image/png:https://www.lovemylibrary.ca/wp-content/uploads/2022/07/Untitled-design-9.png
END:VEVENT
BEGIN:VEVENT
DTSTART;TZID=America/Halifax:20231128T143000
DTEND;TZID=America/Halifax:20231128T150000
DTSTAMP:20260425T154159
CREATED:20231027T192952Z
LAST-MODIFIED:20231027T192952Z
UID:10005724-1701181800-1701183600@www.lovemylibrary.ca
SUMMARY:Boredom Buster
DESCRIPTION:Though we never get bored at the library\, we’ve got a fun activity to make sure you aren’t bored. This month we are trying to not let the balloon drop. \nThis is a drop in event. No registration required.
URL:https://www.lovemylibrary.ca/event/boredom-buster-2/
LOCATION:Mount Uniacke Library\, 555\, Highway 1\, Mount Uniacke\, Nova Scotia\, Canada
CATEGORIES:Events For Kids,Events For Teens,Location: Mount Uniacke
ATTACH;FMTTYPE=image/png:https://www.lovemylibrary.ca/wp-content/uploads/2022/03/Untitled-design-57.png
END:VEVENT
END:VCALENDAR