BEGIN:VCALENDAR
VERSION:2.0
PRODID:-//Colchester East Hants Public Library - ECPv6.15.20//NONSGML v1.0//EN
CALSCALE:GREGORIAN
METHOD:PUBLISH
X-WR-CALNAME:Colchester East Hants Public Library
X-ORIGINAL-URL:https://www.lovemylibrary.ca
X-WR-CALDESC:Events for Colchester East Hants Public Library
REFRESH-INTERVAL;VALUE=DURATION:PT1H
X-Robots-Tag:noindex
X-PUBLISHED-TTL:PT1H
BEGIN:VTIMEZONE
TZID:America/Halifax
BEGIN:DAYLIGHT
TZOFFSETFROM:-0400
TZOFFSETTO:-0300
TZNAME:ADT
DTSTART:20230312T060000
END:DAYLIGHT
BEGIN:STANDARD
TZOFFSETFROM:-0300
TZOFFSETTO:-0400
TZNAME:AST
DTSTART:20231105T050000
END:STANDARD
BEGIN:DAYLIGHT
TZOFFSETFROM:-0400
TZOFFSETTO:-0300
TZNAME:ADT
DTSTART:20240310T060000
END:DAYLIGHT
BEGIN:STANDARD
TZOFFSETFROM:-0300
TZOFFSETTO:-0400
TZNAME:AST
DTSTART:20241103T050000
END:STANDARD
BEGIN:DAYLIGHT
TZOFFSETFROM:-0400
TZOFFSETTO:-0300
TZNAME:ADT
DTSTART:20250309T060000
END:DAYLIGHT
BEGIN:STANDARD
TZOFFSETFROM:-0300
TZOFFSETTO:-0400
TZNAME:AST
DTSTART:20251102T050000
END:STANDARD
END:VTIMEZONE
BEGIN:VEVENT
DTSTART;TZID=America/Halifax:20240305T133000
DTEND;TZID=America/Halifax:20240305T150000
DTSTAMP:20260425T113417
CREATED:20231120T203025Z
LAST-MODIFIED:20240326T211358Z
UID:10007248-1709645400-1709650800@www.lovemylibrary.ca
SUMMARY:Homeschoolers Haven
DESCRIPTION:Homeschoolers Haven is a place for Homeschool families to meet and share resources. There will be  activities for the children.   For ages 5+ \nThis is a drop-in program. No registration is required.
URL:https://www.lovemylibrary.ca/event/homeschoolers-haven-2-2-2/2024-03-05/
LOCATION:Truro Library\, 754 Prince St\, Truro\, Nova Scotia\, Canada
CATEGORIES:Events For Kids,Events For Teens,Location: Truro
ATTACH;FMTTYPE=image/png:https://www.lovemylibrary.ca/wp-content/uploads/2022/07/Untitled-design-9.png
END:VEVENT
BEGIN:VEVENT
DTSTART;TZID=America/Halifax:20240305T173000
DTEND;TZID=America/Halifax:20240305T200000
DTSTAMP:20260425T113417
CREATED:20240221T224058Z
LAST-MODIFIED:20240221T224058Z
UID:10007382-1709659800-1709668800@www.lovemylibrary.ca
SUMMARY:Heroes & Adventurers
DESCRIPTION:Role-playing game nights with extraordinary people! We provide the supplies\, you provide the imagination. No experience needed. All welcome! \nRegister to play by emailing: HAATruro@gmail.com Sorry\, no drop-in players at this time.
URL:https://www.lovemylibrary.ca/event/heroes-adventurers-7/2024-03-05/
LOCATION:Truro Library\, 754 Prince St\, Truro\, Nova Scotia\, Canada
CATEGORIES:Events For Adults,Events For Kids,Events For Seniors,Events For Teens,Location: Truro
ATTACH;FMTTYPE=image/png:https://www.lovemylibrary.ca/wp-content/uploads/2022/06/D-and-D.png
END:VEVENT
BEGIN:VEVENT
DTSTART;TZID=America/Halifax:20240306T143000
DTEND;TZID=America/Halifax:20240306T190000
DTSTAMP:20260425T113417
CREATED:20210830T161210Z
LAST-MODIFIED:20231213T141030Z
UID:10006167-1709735400-1709751600@www.lovemylibrary.ca
SUMMARY:Satellite Library Visit: Middle Stewiacke Recreation Centre
DESCRIPTION:Meet us at the Middle Stewiacke Recreation Centre where you can browse and borrow materials\, sign up for a Library card\, and use the public WiFi!
URL:https://www.lovemylibrary.ca/event/satellite-library-visit-middle-stewiacke-recreation-centre/2024-03-06/
LOCATION:Middle Stewiacke Recreation Centre\, 2395 Highway 289\, Middle Stewiacke\, Nova Scotia\, Canada
CATEGORIES:Events For Adults,Events For Kids,Events For Seniors,Events For Teens,Location: Middle Stewiacke
ATTACH;FMTTYPE=image/jpeg:https://www.lovemylibrary.ca/wp-content/uploads/2021/08/16.jpg
END:VEVENT
BEGIN:VEVENT
DTSTART;TZID=America/Halifax:20240312T130000
DTEND;TZID=America/Halifax:20240312T150000
DTSTAMP:20260425T113417
CREATED:20240215T155409Z
LAST-MODIFIED:20240227T221647Z
UID:10007190-1710248400-1710255600@www.lovemylibrary.ca
SUMMARY:Spring Break Mini Golf
DESCRIPTION:Hole in One!  Visit us at the library for a round of golf. For kids/teens \nPlease call us at 902-883-9838 or email us at elmsdale@cehpubliclibrary.ca for more details
URL:https://www.lovemylibrary.ca/event/spring-break-mini-golf/
LOCATION:Elmsdale Library\, 15 Commerce Ct\, Elmsdale\, Nova Scotia\, Canada
CATEGORIES:Events For Kids,Events For Teens,Location: Elmsdale,March Break
ATTACH;FMTTYPE=image/png:https://www.lovemylibrary.ca/wp-content/uploads/2024/02/Untitled-design.png
END:VEVENT
BEGIN:VEVENT
DTSTART;TZID=America/Halifax:20240312T173000
DTEND;TZID=America/Halifax:20240312T200000
DTSTAMP:20260425T113417
CREATED:20240221T224058Z
LAST-MODIFIED:20240221T224058Z
UID:10007383-1710264600-1710273600@www.lovemylibrary.ca
SUMMARY:Heroes & Adventurers
DESCRIPTION:Role-playing game nights with extraordinary people! We provide the supplies\, you provide the imagination. No experience needed. All welcome! \nRegister to play by emailing: HAATruro@gmail.com Sorry\, no drop-in players at this time.
URL:https://www.lovemylibrary.ca/event/heroes-adventurers-7/2024-03-12/
LOCATION:Truro Library\, 754 Prince St\, Truro\, Nova Scotia\, Canada
CATEGORIES:Events For Adults,Events For Kids,Events For Seniors,Events For Teens,Location: Truro
ATTACH;FMTTYPE=image/png:https://www.lovemylibrary.ca/wp-content/uploads/2022/06/D-and-D.png
END:VEVENT
BEGIN:VEVENT
DTSTART;TZID=America/Halifax:20240313T100000
DTEND;TZID=America/Halifax:20240313T170000
DTSTAMP:20260425T113417
CREATED:20231122T224545Z
LAST-MODIFIED:20240215T173028Z
UID:10005948-1710324000-1710349200@www.lovemylibrary.ca
SUMMARY:Spring Break Boredom Busters!
DESCRIPTION:Are you bored yet?  We have many activities to at the library to keep you busy.  Art & Crafts\, LEGO\, games\, etc. For kids/teens \nPlease call us at 902-883-9838 or email us at elmsdale@cehpubliclibrary.ca for more details
URL:https://www.lovemylibrary.ca/event/boredom-buster-3/
LOCATION:Elmsdale Library\, 15 Commerce Ct\, Elmsdale\, Nova Scotia\, Canada
CATEGORIES:Events For Kids,Events For Teens,Location: Elmsdale,March Break
ATTACH;FMTTYPE=image/png:https://www.lovemylibrary.ca/wp-content/uploads/2022/03/Untitled-design-57.png
END:VEVENT
BEGIN:VEVENT
DTSTART;TZID=America/Halifax:20240313T110000
DTEND;TZID=America/Halifax:20240313T120000
DTSTAMP:20260425T113417
CREATED:20240221T202833Z
LAST-MODIFIED:20240221T202833Z
UID:10007352-1710327600-1710331200@www.lovemylibrary.ca
SUMMARY:Obstacle Course through the Stacks
DESCRIPTION:We have built an obstacle course in the library. Come in and see if you can complete it.  for ages 5-15 \nThis is a drop in program. No registration is required.\n 
URL:https://www.lovemylibrary.ca/event/obstacle-course-through-the-stacks/
LOCATION:Mount Uniacke Library\, 555\, Highway 1\, Mount Uniacke\, Nova Scotia\, Canada
CATEGORIES:Events For Kids,Events For Teens,Location: Mount Uniacke,March Break
ATTACH;FMTTYPE=image/png:https://www.lovemylibrary.ca/wp-content/uploads/2023/06/Untitled-design-2023-06-29T144324.784.png
END:VEVENT
BEGIN:VEVENT
DTSTART;TZID=America/Halifax:20240313T143000
DTEND;TZID=America/Halifax:20240313T190000
DTSTAMP:20260425T113417
CREATED:20210830T143625Z
LAST-MODIFIED:20231213T140902Z
UID:10006151-1710340200-1710356400@www.lovemylibrary.ca
SUMMARY:Satellite Library Visit: Kennetcook Fire Hall
DESCRIPTION:Meet us at the Kennetcook Fire Hall where you can browse and borrow materials\, sign up for a Library card\, and hear about our upcoming programs! \n 
URL:https://www.lovemylibrary.ca/event/satellite-library-visit-kennetcook-fire-hall/2024-03-13/
LOCATION:Kennetcook Fire Hall\, 32 Martin Walsh Road\, Kennetcook\, Nova Scotia\, Canada
CATEGORIES:Events For Adults,Events For Kids,Events For Seniors,Events For Teens,Location: Kennetcook
ATTACH;FMTTYPE=image/jpeg:https://www.lovemylibrary.ca/wp-content/uploads/2021/08/16.jpg
END:VEVENT
BEGIN:VEVENT
DTSTART;TZID=America/Halifax:20240314T160000
DTEND;TZID=America/Halifax:20240314T170000
DTSTAMP:20260425T113417
CREATED:20240216T174742Z
LAST-MODIFIED:20240216T174742Z
UID:10007244-1710432000-1710435600@www.lovemylibrary.ca
SUMMARY:Stranger Things-Teen Escape Room
DESCRIPTION:Dive into the exciting digital world of the upside down. Rescue your friend\, Will Byers and earn a sweet prize. For ages 13-18 \nTo register\, email: stewiacke@cehpubliclibrary.ca
URL:https://www.lovemylibrary.ca/event/stranger-things-teen-escape-room/
LOCATION:Stewiacke Library\, 295 George Street\, Stewiacke\, Nova Scotia\, Canada
CATEGORIES:Events For Teens,Location: Stewiacke,March Break
ATTACH;FMTTYPE=image/png:https://www.lovemylibrary.ca/wp-content/uploads/2024/02/Untitled-design-2024-02-16T134836.864.png
END:VEVENT
BEGIN:VEVENT
DTSTART;TZID=America/Halifax:20240314T180000
DTEND;TZID=America/Halifax:20240314T193000
DTSTAMP:20260425T113417
CREATED:20240215T175723Z
LAST-MODIFIED:20240215T175723Z
UID:10007195-1710439200-1710444600@www.lovemylibrary.ca
SUMMARY:Mindfulness Meditation
DESCRIPTION:We invite you to explore the practice of mindfulness and enjoy a time of meditation.   Learn about how mindfulness can enhance your everyday living. Ages 14+ \nRegistration is required.  Please call us at 902-883-9838 or email us at elmsdale@cehpubliclibrary.ca for more details
URL:https://www.lovemylibrary.ca/event/mindfulness-meditation-4/2024-03-14/
LOCATION:Elmsdale Library\, 15 Commerce Ct\, Elmsdale\, Nova Scotia\, Canada
CATEGORIES:Events For Adults,Events For Seniors,Events For Teens,Location: Elmsdale
ATTACH;FMTTYPE=image/png:https://www.lovemylibrary.ca/wp-content/uploads/2023/03/Untitled-design-51.png
END:VEVENT
BEGIN:VEVENT
DTSTART;TZID=America/Halifax:20240315T150000
DTEND;TZID=America/Halifax:20240315T160000
DTSTAMP:20260425T113417
CREATED:20240221T203039Z
LAST-MODIFIED:20240228T192248Z
UID:10007353-1710514800-1710518400@www.lovemylibrary.ca
SUMMARY:Swifties Unite
DESCRIPTION:It’s all about Taylor Swift. Join us for some music\, crafts\, food\, and fun.  For ages 4-15 \nRegister in branch or by email mtuniack@cehpubliclibrary.ca
URL:https://www.lovemylibrary.ca/event/swifties-unite/
LOCATION:Mount Uniacke Library\, 555\, Highway 1\, Mount Uniacke\, Nova Scotia\, Canada
CATEGORIES:Events For Kids,Events For Teens,Location: Mount Uniacke,March Break
ATTACH;FMTTYPE=image/png:https://www.lovemylibrary.ca/wp-content/uploads/2024/02/Untitled-design-2024-02-21T114216.633.png
END:VEVENT
BEGIN:VEVENT
DTSTART;TZID=America/Halifax:20240316T110000
DTEND;TZID=America/Halifax:20240316T120000
DTSTAMP:20260425T113417
CREATED:20240221T203600Z
LAST-MODIFIED:20240227T221250Z
UID:10007354-1710586800-1710590400@www.lovemylibrary.ca
SUMMARY:St Patrick’s Celebration
DESCRIPTION:We are celebrating St Patrick’s Day a little early. Bernie has a fun activity in store for the day. Wear your green clothes and join us for the fun.  For ages 5-15 \nThis is a drop in program. No registration is required.
URL:https://www.lovemylibrary.ca/event/st-patricks-celebration/
LOCATION:Mount Uniacke Library\, 555\, Highway 1\, Mount Uniacke\, Nova Scotia\, Canada
CATEGORIES:Events For Kids,Events For Teens,Location: Mount Uniacke,March Break
ATTACH;FMTTYPE=image/png:https://www.lovemylibrary.ca/wp-content/uploads/2023/02/Untitled-design-68.png
END:VEVENT
BEGIN:VEVENT
DTSTART;TZID=America/Halifax:20240319T133000
DTEND;TZID=America/Halifax:20240319T150000
DTSTAMP:20260425T113417
CREATED:20231120T203025Z
LAST-MODIFIED:20240326T211358Z
UID:10007249-1710855000-1710860400@www.lovemylibrary.ca
SUMMARY:Homeschoolers Haven
DESCRIPTION:Homeschoolers Haven is a place for Homeschool families to meet and share resources. There will be  activities for the children.   For ages 5+ \nThis is a drop-in program. No registration is required.
URL:https://www.lovemylibrary.ca/event/homeschoolers-haven-2-2-2/2024-03-19/
LOCATION:Truro Library\, 754 Prince St\, Truro\, Nova Scotia\, Canada
CATEGORIES:Events For Kids,Events For Teens,Location: Truro
ATTACH;FMTTYPE=image/png:https://www.lovemylibrary.ca/wp-content/uploads/2022/07/Untitled-design-9.png
END:VEVENT
BEGIN:VEVENT
DTSTART;TZID=America/Halifax:20240319T173000
DTEND;TZID=America/Halifax:20240319T200000
DTSTAMP:20260425T113417
CREATED:20240221T224058Z
LAST-MODIFIED:20240221T224058Z
UID:10007384-1710869400-1710878400@www.lovemylibrary.ca
SUMMARY:Heroes & Adventurers
DESCRIPTION:Role-playing game nights with extraordinary people! We provide the supplies\, you provide the imagination. No experience needed. All welcome! \nRegister to play by emailing: HAATruro@gmail.com Sorry\, no drop-in players at this time.
URL:https://www.lovemylibrary.ca/event/heroes-adventurers-7/2024-03-19/
LOCATION:Truro Library\, 754 Prince St\, Truro\, Nova Scotia\, Canada
CATEGORIES:Events For Adults,Events For Kids,Events For Seniors,Events For Teens,Location: Truro
ATTACH;FMTTYPE=image/png:https://www.lovemylibrary.ca/wp-content/uploads/2022/06/D-and-D.png
END:VEVENT
BEGIN:VEVENT
DTSTART;TZID=America/Halifax:20240321T130000
DTEND;TZID=America/Halifax:20240321T140000
DTSTAMP:20260425T113417
CREATED:20240112T203641Z
LAST-MODIFIED:20240221T222121Z
UID:10006855-1711026000-1711029600@www.lovemylibrary.ca
SUMMARY:Voices for Change:  An Author Reading with Gloria Ann Wesley
DESCRIPTION:Gloria Ann Wesley is an African-Nova Scotian poet\, author and educator. Join us as Wesley reads from her most recent novel\, Shovels Not Rifles\, the story of Will Coleman\, a young\, Nova Scotian\, Black man who enlists in the historical No. 2 Construction Battalion in 1916. He soon learns the harsh realities of war and what it means to be as much a victim as the enemy. \nDrop in. No registration required.\n 
URL:https://www.lovemylibrary.ca/event/voices-for-change-virtual-author-reading-with-gloria-ann-wesley/
LOCATION:Truro Library\, 754 Prince St\, Truro\, Nova Scotia\, Canada
CATEGORIES:Events For Adults,Events For Seniors,Events For Teens,Location: Truro
ATTACH;FMTTYPE=image/png:https://www.lovemylibrary.ca/wp-content/uploads/2024/01/Untitled-design-1.png
END:VEVENT
BEGIN:VEVENT
DTSTART;TZID=America/Halifax:20240326T133000
DTEND;TZID=America/Halifax:20240326T150000
DTSTAMP:20260425T113417
CREATED:20231120T203025Z
LAST-MODIFIED:20240326T211358Z
UID:10007250-1711459800-1711465200@www.lovemylibrary.ca
SUMMARY:Homeschoolers Haven
DESCRIPTION:Homeschoolers Haven is a place for Homeschool families to meet and share resources. There will be  activities for the children.   For ages 5+ \nThis is a drop-in program. No registration is required.
URL:https://www.lovemylibrary.ca/event/homeschoolers-haven-2-2-2/2024-03-26/
LOCATION:Truro Library\, 754 Prince St\, Truro\, Nova Scotia\, Canada
CATEGORIES:Events For Kids,Events For Teens,Location: Truro
ATTACH;FMTTYPE=image/png:https://www.lovemylibrary.ca/wp-content/uploads/2022/07/Untitled-design-9.png
END:VEVENT
BEGIN:VEVENT
DTSTART;TZID=America/Halifax:20240326T173000
DTEND;TZID=America/Halifax:20240326T200000
DTSTAMP:20260425T113417
CREATED:20240221T224058Z
LAST-MODIFIED:20240221T224058Z
UID:10007385-1711474200-1711483200@www.lovemylibrary.ca
SUMMARY:Heroes & Adventurers
DESCRIPTION:Role-playing game nights with extraordinary people! We provide the supplies\, you provide the imagination. No experience needed. All welcome! \nRegister to play by emailing: HAATruro@gmail.com Sorry\, no drop-in players at this time.
URL:https://www.lovemylibrary.ca/event/heroes-adventurers-7/2024-03-26/
LOCATION:Truro Library\, 754 Prince St\, Truro\, Nova Scotia\, Canada
CATEGORIES:Events For Adults,Events For Kids,Events For Seniors,Events For Teens,Location: Truro
ATTACH;FMTTYPE=image/png:https://www.lovemylibrary.ca/wp-content/uploads/2022/06/D-and-D.png
END:VEVENT
BEGIN:VEVENT
DTSTART;TZID=America/Halifax:20240327T143000
DTEND;TZID=America/Halifax:20240327T190000
DTSTAMP:20260425T113417
CREATED:20210830T161210Z
LAST-MODIFIED:20231213T141030Z
UID:10006168-1711549800-1711566000@www.lovemylibrary.ca
SUMMARY:Satellite Library Visit: Middle Stewiacke Recreation Centre
DESCRIPTION:Meet us at the Middle Stewiacke Recreation Centre where you can browse and borrow materials\, sign up for a Library card\, and use the public WiFi!
URL:https://www.lovemylibrary.ca/event/satellite-library-visit-middle-stewiacke-recreation-centre/2024-03-27/
LOCATION:Middle Stewiacke Recreation Centre\, 2395 Highway 289\, Middle Stewiacke\, Nova Scotia\, Canada
CATEGORIES:Events For Adults,Events For Kids,Events For Seniors,Events For Teens,Location: Middle Stewiacke
ATTACH;FMTTYPE=image/jpeg:https://www.lovemylibrary.ca/wp-content/uploads/2021/08/16.jpg
END:VEVENT
BEGIN:VEVENT
DTSTART;TZID=America/Halifax:20240328T100000
DTEND;TZID=America/Halifax:20240328T200000
DTSTAMP:20260425T113417
CREATED:20240215T191920Z
LAST-MODIFIED:20240215T191920Z
UID:10007201-1711620000-1711656000@www.lovemylibrary.ca
SUMMARY:Paper Mosaic Easter Egg
DESCRIPTION:Hop your way into the library!  We have all the materials you need to create your paper mosaic Easter egg. All ages. \nDrop in. Please call us at 902-883-9838 or email us at elmsdale@cehpubliclibrary.ca for more details
URL:https://www.lovemylibrary.ca/event/paper-mosaic-easter-egg/
LOCATION:Elmsdale Library\, 15 Commerce Ct\, Elmsdale\, Nova Scotia\, Canada
CATEGORIES:Crafting,Events For Adults,Events For Kids,Events For Teens,Location: Elmsdale
ATTACH;FMTTYPE=image/png:https://www.lovemylibrary.ca/wp-content/uploads/2024/02/Untitled-design-5.png
END:VEVENT
BEGIN:VEVENT
DTSTART;TZID=America/Halifax:20240328T143000
DTEND;TZID=America/Halifax:20240328T150000
DTSTAMP:20260425T113417
CREATED:20240221T201845Z
LAST-MODIFIED:20240221T201845Z
UID:10007350-1711636200-1711638000@www.lovemylibrary.ca
SUMMARY:Easter Fun
DESCRIPTION:We are diamond painting eggs just in time for Easter.  For ages 5-15 \nRegister in branch or by email mtuniack@cehpubliclibrary.ca 
URL:https://www.lovemylibrary.ca/event/easter-fun/
LOCATION:Mount Uniacke Library\, 555\, Highway 1\, Mount Uniacke\, Nova Scotia\, Canada
CATEGORIES:Crafting,Events For Kids,Events For Teens,Location: Mount Uniacke
ATTACH;FMTTYPE=image/png:https://www.lovemylibrary.ca/wp-content/uploads/2024/02/Untitled-design-2024-02-20T194755.366.png
END:VEVENT
BEGIN:VEVENT
DTSTART;TZID=America/Halifax:20240328T180000
DTEND;TZID=America/Halifax:20240328T193000
DTSTAMP:20260425T113417
CREATED:20240215T175723Z
LAST-MODIFIED:20240215T175723Z
UID:10007196-1711648800-1711654200@www.lovemylibrary.ca
SUMMARY:Mindfulness Meditation
DESCRIPTION:We invite you to explore the practice of mindfulness and enjoy a time of meditation.   Learn about how mindfulness can enhance your everyday living. Ages 14+ \nRegistration is required.  Please call us at 902-883-9838 or email us at elmsdale@cehpubliclibrary.ca for more details
URL:https://www.lovemylibrary.ca/event/mindfulness-meditation-4/2024-03-28/
LOCATION:Elmsdale Library\, 15 Commerce Ct\, Elmsdale\, Nova Scotia\, Canada
CATEGORIES:Events For Adults,Events For Seniors,Events For Teens,Location: Elmsdale
ATTACH;FMTTYPE=image/png:https://www.lovemylibrary.ca/wp-content/uploads/2023/03/Untitled-design-51.png
END:VEVENT
BEGIN:VEVENT
DTSTART;TZID=America/Halifax:20240330T110000
DTEND;TZID=America/Halifax:20240330T123000
DTSTAMP:20260425T113417
CREATED:20240221T175130Z
LAST-MODIFIED:20240325T184228Z
UID:10007310-1711796400-1711801800@www.lovemylibrary.ca
SUMMARY:Intro to Fly-tying workshop! (CANCELLED)
DESCRIPTION:Fishing season is right around the corner. Come out and learn about the Nova scotia fish and the best way to catch them.  All ages are welcome. (This program has been cancelled). \nThis is a drop in program. No registration is required.
URL:https://www.lovemylibrary.ca/event/intro-to-fly-tying-workshop/
LOCATION:Tatamagouche Library\, 170 Main Street\, Tatamagouche\, Nova Scotia\, Canada
CATEGORIES:Events For Adults,Events For Kids,Events For Seniors,Events For Teens,Location: Tatamagouche
ATTACH;FMTTYPE=image/png:https://www.lovemylibrary.ca/wp-content/uploads/2024/02/Untitled-design-2024-02-21T135029.219.png
END:VEVENT
END:VCALENDAR