BEGIN:VCALENDAR
VERSION:2.0
PRODID:-//Colchester East Hants Public Library - ECPv6.15.20//NONSGML v1.0//EN
CALSCALE:GREGORIAN
METHOD:PUBLISH
X-WR-CALNAME:Colchester East Hants Public Library
X-ORIGINAL-URL:https://www.lovemylibrary.ca
X-WR-CALDESC:Events for Colchester East Hants Public Library
REFRESH-INTERVAL;VALUE=DURATION:PT1H
X-Robots-Tag:noindex
X-PUBLISHED-TTL:PT1H
BEGIN:VTIMEZONE
TZID:America/Halifax
BEGIN:DAYLIGHT
TZOFFSETFROM:-0400
TZOFFSETTO:-0300
TZNAME:ADT
DTSTART:20230312T060000
END:DAYLIGHT
BEGIN:STANDARD
TZOFFSETFROM:-0300
TZOFFSETTO:-0400
TZNAME:AST
DTSTART:20231105T050000
END:STANDARD
BEGIN:DAYLIGHT
TZOFFSETFROM:-0400
TZOFFSETTO:-0300
TZNAME:ADT
DTSTART:20240310T060000
END:DAYLIGHT
BEGIN:STANDARD
TZOFFSETFROM:-0300
TZOFFSETTO:-0400
TZNAME:AST
DTSTART:20241103T050000
END:STANDARD
BEGIN:DAYLIGHT
TZOFFSETFROM:-0400
TZOFFSETTO:-0300
TZNAME:ADT
DTSTART:20250309T060000
END:DAYLIGHT
BEGIN:STANDARD
TZOFFSETFROM:-0300
TZOFFSETTO:-0400
TZNAME:AST
DTSTART:20251102T050000
END:STANDARD
END:VTIMEZONE
BEGIN:VEVENT
DTSTART;TZID=America/Halifax:20240702T173000
DTEND;TZID=America/Halifax:20240702T200000
DTSTAMP:20260424T092750
CREATED:20240621T175036Z
LAST-MODIFIED:20240621T175036Z
UID:10008574-1719941400-1719950400@www.lovemylibrary.ca
SUMMARY:Heroes & Adventurers
DESCRIPTION:Role-playing game nights with extraordinary people! We provide the supplies\, you provide the imagination. No experience needed. All welcome! \nRegister to play by emailing: HAATruro@gmail.com Sorry\, no drop-in players at this time.
URL:https://www.lovemylibrary.ca/event/heroes-adventurers-10/2024-07-02/
LOCATION:Truro Library\, 754 Prince St\, Truro\, Nova Scotia\, Canada
CATEGORIES:Events For Adults,Events For Kids,Events For Seniors,Events For Teens,Location: Truro
ATTACH;FMTTYPE=image/png:https://www.lovemylibrary.ca/wp-content/uploads/2022/06/D-and-D.png
END:VEVENT
BEGIN:VEVENT
DTSTART;TZID=America/Halifax:20240704T140000
DTEND;TZID=America/Halifax:20240704T160000
DTSTAMP:20260424T092750
CREATED:20230929T170147Z
LAST-MODIFIED:20240717T172239Z
UID:10005543-1720101600-1720108800@www.lovemylibrary.ca
SUMMARY:Epic X-box Kinect games
DESCRIPTION:Jump\, dance\, and play! Kids will enjoy active\, motion-sensing games that get them moving and laughing. Perfect for all skill levels. Get ready for epic fun! For ages 8-14 \nThis is a drop in program. No registration is required.
URL:https://www.lovemylibrary.ca/event/after-school-kinect-x-box-games/2024-07-04/
LOCATION:Tatamagouche Library\, 170 Main Street\, Tatamagouche\, Nova Scotia\, Canada
CATEGORIES:Events For Kids,Events For Teens,Location: Tatamagouche,March Break
ATTACH;FMTTYPE=image/png:https://www.lovemylibrary.ca/wp-content/uploads/2023/02/Untitled-design-70.png
END:VEVENT
BEGIN:VEVENT
DTSTART;TZID=America/Halifax:20240704T183000
DTEND;TZID=America/Halifax:20240704T193000
DTSTAMP:20260424T092750
CREATED:20240615T133050Z
LAST-MODIFIED:20240615T133050Z
UID:10008407-1720117800-1720121400@www.lovemylibrary.ca
SUMMARY:Fluff Ball Keychains
DESCRIPTION:No animals will be harmed in the making of this craft. Add your own special touch to a faux fur keychain. For ages 13-18 \nThis is a drop in program. No registration is required.
URL:https://www.lovemylibrary.ca/event/fluff-ball-keychains/
LOCATION:Stewiacke Library\, 295 George Street\, Stewiacke\, Nova Scotia\, Canada
CATEGORIES:Crafting,Events For Teens,Location: Stewiacke
ATTACH;FMTTYPE=image/png:https://www.lovemylibrary.ca/wp-content/uploads/2024/06/Untitled-design-2024-06-15T103302.843.png
END:VEVENT
BEGIN:VEVENT
DTSTART;TZID=America/Halifax:20240709T130000
DTEND;TZID=America/Halifax:20240709T150000
DTSTAMP:20260424T092750
CREATED:20240612T174832Z
LAST-MODIFIED:20240612T174832Z
UID:10008390-1720530000-1720537200@www.lovemylibrary.ca
SUMMARY:Recycled Art
DESCRIPTION:How artistic can you be with plastic bottles\, cardboard and cardboard tubes? We have all the supplies for the latest masterpiece! For children and teens. \nPlease call 902-883-9838 or email at elmsdale@cehpubliclibrary.ca for more detail. This is a drop in program. Registration is not required.
URL:https://www.lovemylibrary.ca/event/recycled-art/
LOCATION:Elmsdale Library\, 15 Commerce Ct\, Elmsdale\, Nova Scotia\, Canada
CATEGORIES:Crafting,Events For Kids,Events For Teens,Location: Elmsdale
ATTACH;FMTTYPE=image/png:https://www.lovemylibrary.ca/wp-content/uploads/2024/06/Untitled-design-2024-06-12T145100.942.png
END:VEVENT
BEGIN:VEVENT
DTSTART;TZID=America/Halifax:20240709T173000
DTEND;TZID=America/Halifax:20240709T200000
DTSTAMP:20260424T092750
CREATED:20240621T175036Z
LAST-MODIFIED:20240621T175036Z
UID:10008575-1720546200-1720555200@www.lovemylibrary.ca
SUMMARY:Heroes & Adventurers
DESCRIPTION:Role-playing game nights with extraordinary people! We provide the supplies\, you provide the imagination. No experience needed. All welcome! \nRegister to play by emailing: HAATruro@gmail.com Sorry\, no drop-in players at this time.
URL:https://www.lovemylibrary.ca/event/heroes-adventurers-10/2024-07-09/
LOCATION:Truro Library\, 754 Prince St\, Truro\, Nova Scotia\, Canada
CATEGORIES:Events For Adults,Events For Kids,Events For Seniors,Events For Teens,Location: Truro
ATTACH;FMTTYPE=image/png:https://www.lovemylibrary.ca/wp-content/uploads/2022/06/D-and-D.png
END:VEVENT
BEGIN:VEVENT
DTSTART;VALUE=DATE:20240715
DTEND;VALUE=DATE:20240722
DTSTAMP:20260424T092750
CREATED:20240619T192726Z
LAST-MODIFIED:20240619T192726Z
UID:10008541-1721001600-1721606399@www.lovemylibrary.ca
SUMMARY:Teen Take-Home Kit
DESCRIPTION:Starting on July 15th\, pick up a kit with a snack and supplies to make a cosmic-coloured friendship bracelet. While supplies last. For ages 13-18 \n 
URL:https://www.lovemylibrary.ca/event/teen-take-home-kit/
LOCATION:Truro Library\, 754 Prince St\, Truro\, Nova Scotia\, Canada
CATEGORIES:Events For Teens,Location: Truro
ATTACH;FMTTYPE=image/png:https://www.lovemylibrary.ca/wp-content/uploads/2024/06/uf-2.png
END:VEVENT
BEGIN:VEVENT
DTSTART;TZID=America/Halifax:20240716T130000
DTEND;TZID=America/Halifax:20240716T150000
DTSTAMP:20260424T092750
CREATED:20240612T180356Z
LAST-MODIFIED:20240612T180356Z
UID:10008392-1721134800-1721142000@www.lovemylibrary.ca
SUMMARY:Galaxy Chalk Art
DESCRIPTION:What is your favourite type of galaxy? Spiral\, elliptical\, or irregular? Come on in and create your own galaxy with chalk! for children and teens. \nPlease call 902-883-9838 or email us at elmsdale@cehpubliclibrary.ca for more details. This is a drop in program. Registration is not required.
URL:https://www.lovemylibrary.ca/event/galaxy-chalk-art/
LOCATION:Elmsdale Library\, 15 Commerce Ct\, Elmsdale\, Nova Scotia\, Canada
CATEGORIES:Events For Kids,Events For Teens,Location: Elmsdale
ATTACH;FMTTYPE=image/png:https://www.lovemylibrary.ca/wp-content/uploads/2024/06/Untitled-design-2024-06-12T150614.855.png
END:VEVENT
BEGIN:VEVENT
DTSTART;TZID=America/Halifax:20240716T173000
DTEND;TZID=America/Halifax:20240716T200000
DTSTAMP:20260424T092750
CREATED:20240621T175036Z
LAST-MODIFIED:20240621T175036Z
UID:10008576-1721151000-1721160000@www.lovemylibrary.ca
SUMMARY:Heroes & Adventurers
DESCRIPTION:Role-playing game nights with extraordinary people! We provide the supplies\, you provide the imagination. No experience needed. All welcome! \nRegister to play by emailing: HAATruro@gmail.com Sorry\, no drop-in players at this time.
URL:https://www.lovemylibrary.ca/event/heroes-adventurers-10/2024-07-16/
LOCATION:Truro Library\, 754 Prince St\, Truro\, Nova Scotia\, Canada
CATEGORIES:Events For Adults,Events For Kids,Events For Seniors,Events For Teens,Location: Truro
ATTACH;FMTTYPE=image/png:https://www.lovemylibrary.ca/wp-content/uploads/2022/06/D-and-D.png
END:VEVENT
BEGIN:VEVENT
DTSTART;TZID=America/Halifax:20240723T130000
DTEND;TZID=America/Halifax:20240723T150000
DTSTAMP:20260424T092750
CREATED:20240612T181622Z
LAST-MODIFIED:20240612T181622Z
UID:10008396-1721739600-1721746800@www.lovemylibrary.ca
SUMMARY:Rock Painting
DESCRIPTION:Hey kids! Visit us at the library to show us your artistic skills. Paint a pet rock for your friend or for your garden. For children and teens. \nPlease call 902-883-9838 or email us at elmsdale@cehpubliclibrary.ca for more details\n 
URL:https://www.lovemylibrary.ca/event/rock-painting-2/
LOCATION:Elmsdale Library\, 15 Commerce Ct\, Elmsdale\, Nova Scotia\, Canada
CATEGORIES:Crafting,Events For Kids,Events For Teens,Location: Elmsdale
ATTACH;FMTTYPE=image/png:https://www.lovemylibrary.ca/wp-content/uploads/2024/06/Untitled-design-2024-06-12T151832.560.png
END:VEVENT
BEGIN:VEVENT
DTSTART;TZID=America/Halifax:20240723T173000
DTEND;TZID=America/Halifax:20240723T200000
DTSTAMP:20260424T092750
CREATED:20240621T175036Z
LAST-MODIFIED:20240621T175036Z
UID:10008577-1721755800-1721764800@www.lovemylibrary.ca
SUMMARY:Heroes & Adventurers
DESCRIPTION:Role-playing game nights with extraordinary people! We provide the supplies\, you provide the imagination. No experience needed. All welcome! \nRegister to play by emailing: HAATruro@gmail.com Sorry\, no drop-in players at this time.
URL:https://www.lovemylibrary.ca/event/heroes-adventurers-10/2024-07-23/
LOCATION:Truro Library\, 754 Prince St\, Truro\, Nova Scotia\, Canada
CATEGORIES:Events For Adults,Events For Kids,Events For Seniors,Events For Teens,Location: Truro
ATTACH;FMTTYPE=image/png:https://www.lovemylibrary.ca/wp-content/uploads/2022/06/D-and-D.png
END:VEVENT
BEGIN:VEVENT
DTSTART;TZID=America/Halifax:20240724T103000
DTEND;TZID=America/Halifax:20240724T140000
DTSTAMP:20260424T092750
CREATED:20231214T203053Z
LAST-MODIFIED:20250624T215538Z
UID:10006680-1721817000-1721829600@www.lovemylibrary.ca
SUMMARY:Block Party!
DESCRIPTION:Let your imagination run wild with the library’s block collection. We can’t wait to see what you will build! For children and teens \nPlease call at 902-883-9838 or email us at elmsdale@cehpubliclibrary.ca for more details
URL:https://www.lovemylibrary.ca/event/block-party-4/
LOCATION:Elmsdale Library\, 15 Commerce Ct\, Elmsdale\, Nova Scotia\, Canada
CATEGORIES:Events For Kids,Events For Teens,Location: Elmsdale
ATTACH;FMTTYPE=image/png:https://www.lovemylibrary.ca/wp-content/uploads/2022/05/Block-Party.png
END:VEVENT
BEGIN:VEVENT
DTSTART;TZID=America/Halifax:20240724T143000
DTEND;TZID=America/Halifax:20240724T160000
DTSTAMP:20260424T092750
CREATED:20240618T174250Z
LAST-MODIFIED:20240620T194650Z
UID:10008499-1721831400-1721836800@www.lovemylibrary.ca
SUMMARY:Starry Night Art
DESCRIPTION:Dive into a creative journey inspired by Vincent van Gogh’s iconic masterpiece! Discover his unique style and paint your own interpretation of one of the world’s most beloved paintings. Join us for an unforgettable Starry Night experience! For ages 8-14 \nSpace is limited – email info@cehpubliclibrary.ca to register\, starting July 17
URL:https://www.lovemylibrary.ca/event/starry-night-art/
LOCATION:Truro Library\, 754 Prince St\, Truro\, Nova Scotia\, Canada
CATEGORIES:Events For Kids,Events For Teens,Location: Truro
ATTACH;FMTTYPE=image/png:https://www.lovemylibrary.ca/wp-content/uploads/2024/02/Untitled-design-3.png
END:VEVENT
BEGIN:VEVENT
DTSTART;TZID=America/Halifax:20240725T130000
DTEND;TZID=America/Halifax:20240725T150000
DTSTAMP:20260424T092750
CREATED:20240612T182952Z
LAST-MODIFIED:20240612T182952Z
UID:10008397-1721912400-1721919600@www.lovemylibrary.ca
SUMMARY:Comic Book Making
DESCRIPTION:KAPOW! Do you like comics as much as we do? Why not try your hand at making your own! Fill out some templates or learn the process to design your pages from scratch. For kids and teens. \nPlease call 902-883-9838 or email us at elmsdale@cehpubliclibrary.ca for more details
URL:https://www.lovemylibrary.ca/event/comic-book-making/
LOCATION:Elmsdale Library\, 15 Commerce Ct\, Elmsdale\, Nova Scotia\, Canada
CATEGORIES:Events For Kids,Events For Teens,Location: Elmsdale
ATTACH;FMTTYPE=image/jpeg:https://www.lovemylibrary.ca/wp-content/uploads/2024/06/joe-ciciarelli-BVNmFNShq6U-unsplash-scaled.jpg
END:VEVENT
BEGIN:VEVENT
DTSTART;TZID=America/Halifax:20240730T173000
DTEND;TZID=America/Halifax:20240730T200000
DTSTAMP:20260424T092750
CREATED:20240621T175036Z
LAST-MODIFIED:20240621T175036Z
UID:10008578-1722360600-1722369600@www.lovemylibrary.ca
SUMMARY:Heroes & Adventurers
DESCRIPTION:Role-playing game nights with extraordinary people! We provide the supplies\, you provide the imagination. No experience needed. All welcome! \nRegister to play by emailing: HAATruro@gmail.com Sorry\, no drop-in players at this time.
URL:https://www.lovemylibrary.ca/event/heroes-adventurers-10/2024-07-30/
LOCATION:Truro Library\, 754 Prince St\, Truro\, Nova Scotia\, Canada
CATEGORIES:Events For Adults,Events For Kids,Events For Seniors,Events For Teens,Location: Truro
ATTACH;FMTTYPE=image/png:https://www.lovemylibrary.ca/wp-content/uploads/2022/06/D-and-D.png
END:VEVENT
END:VCALENDAR