BEGIN:VCALENDAR
VERSION:2.0
PRODID:-//Colchester East Hants Public Library - ECPv6.15.20//NONSGML v1.0//EN
CALSCALE:GREGORIAN
METHOD:PUBLISH
X-WR-CALNAME:Colchester East Hants Public Library
X-ORIGINAL-URL:https://www.lovemylibrary.ca
X-WR-CALDESC:Events for Colchester East Hants Public Library
REFRESH-INTERVAL;VALUE=DURATION:PT1H
X-Robots-Tag:noindex
X-PUBLISHED-TTL:PT1H
BEGIN:VTIMEZONE
TZID:America/Halifax
BEGIN:DAYLIGHT
TZOFFSETFROM:-0400
TZOFFSETTO:-0300
TZNAME:ADT
DTSTART:20230312T060000
END:DAYLIGHT
BEGIN:STANDARD
TZOFFSETFROM:-0300
TZOFFSETTO:-0400
TZNAME:AST
DTSTART:20231105T050000
END:STANDARD
BEGIN:DAYLIGHT
TZOFFSETFROM:-0400
TZOFFSETTO:-0300
TZNAME:ADT
DTSTART:20240310T060000
END:DAYLIGHT
BEGIN:STANDARD
TZOFFSETFROM:-0300
TZOFFSETTO:-0400
TZNAME:AST
DTSTART:20241103T050000
END:STANDARD
BEGIN:DAYLIGHT
TZOFFSETFROM:-0400
TZOFFSETTO:-0300
TZNAME:ADT
DTSTART:20250309T060000
END:DAYLIGHT
BEGIN:STANDARD
TZOFFSETFROM:-0300
TZOFFSETTO:-0400
TZNAME:AST
DTSTART:20251102T050000
END:STANDARD
END:VTIMEZONE
BEGIN:VEVENT
DTSTART;TZID=America/Halifax:20240903T150000
DTEND;TZID=America/Halifax:20240903T170000
DTSTAMP:20260424T054556
CREATED:20240814T153858Z
LAST-MODIFIED:20240814T153858Z
UID:10009181-1725375600-1725382800@www.lovemylibrary.ca
SUMMARY:Tech Help by Appointment
DESCRIPTION:Bring your own device or use one of our computers. \nThis program covers: eReaders/ebooks\, basic computer navigation\, basic app use\, basic cellphone use\, basic tablet use\, general internet instruction\, research and using library electronic resources. For all ages. \nTo register\, email stewiacke@cehpubliclibrary.ca\n  \n 
URL:https://www.lovemylibrary.ca/event/tech-help-by-appointment/2024-09-03/
LOCATION:Stewiacke Library\, 295 George Street\, Stewiacke\, Nova Scotia\, Canada
CATEGORIES:Events For Adults,Events For Kids,Events For Seniors,Events For Teens,Location: Stewiacke
ATTACH;FMTTYPE=image/png:https://www.lovemylibrary.ca/wp-content/uploads/2022/11/Untitled-design-2022-11-29T112019.106.png
END:VEVENT
BEGIN:VEVENT
DTSTART;TZID=America/Halifax:20240903T173000
DTEND;TZID=America/Halifax:20240903T200000
DTSTAMP:20260424T054556
CREATED:20240824T134519Z
LAST-MODIFIED:20240824T134519Z
UID:10009470-1725384600-1725393600@www.lovemylibrary.ca
SUMMARY:Heroes & Adventurers
DESCRIPTION:Role-playing game nights with extraordinary people! We provide the supplies\, you provide the imagination. No experience needed. All welcome! \nRegister to play by emailing: HAATruro@gmail.com Sorry\, no drop-in players at this time.
URL:https://www.lovemylibrary.ca/event/heroes-adventurers-12/2024-09-03/
LOCATION:Truro Library\, 754 Prince St\, Truro\, Nova Scotia\, Canada
CATEGORIES:Events For Adults,Events For Kids,Events For Seniors,Events For Teens,Location: Truro
ATTACH;FMTTYPE=image/png:https://www.lovemylibrary.ca/wp-content/uploads/2022/06/D-and-D.png
END:VEVENT
BEGIN:VEVENT
DTSTART;TZID=America/Halifax:20240903T180000
DTEND;TZID=America/Halifax:20240903T200000
DTSTAMP:20260424T054556
CREATED:20240826T193015Z
LAST-MODIFIED:20240826T193349Z
UID:10009553-1725386400-1725393600@www.lovemylibrary.ca
SUMMARY:Maker Lab Fun Time
DESCRIPTION:Come on in and explore. Program robots\, create circuits\, build with magnetic tiles\, and more! All ages \nDrop in. No registration is required.
URL:https://www.lovemylibrary.ca/event/maker-lab-fun-time-5/2024-09-03/
LOCATION:Truro Library\, 754 Prince St\, Truro\, Nova Scotia\, Canada
CATEGORIES:Events For Adults,Events For Kids,Events For Teens,Location: Truro
ATTACH;FMTTYPE=image/png:https://www.lovemylibrary.ca/wp-content/uploads/2023/09/Untitled-design-2023-09-29T143321.527.png
END:VEVENT
BEGIN:VEVENT
DTSTART;TZID=America/Halifax:20240905T150000
DTEND;TZID=America/Halifax:20240905T170000
DTSTAMP:20260424T054556
CREATED:20240814T153858Z
LAST-MODIFIED:20240814T153858Z
UID:10009182-1725548400-1725555600@www.lovemylibrary.ca
SUMMARY:Tech Help by Appointment
DESCRIPTION:Bring your own device or use one of our computers. \nThis program covers: eReaders/ebooks\, basic computer navigation\, basic app use\, basic cellphone use\, basic tablet use\, general internet instruction\, research and using library electronic resources. For all ages. \nTo register\, email stewiacke@cehpubliclibrary.ca\n  \n 
URL:https://www.lovemylibrary.ca/event/tech-help-by-appointment/2024-09-05/
LOCATION:Stewiacke Library\, 295 George Street\, Stewiacke\, Nova Scotia\, Canada
CATEGORIES:Events For Adults,Events For Kids,Events For Seniors,Events For Teens,Location: Stewiacke
ATTACH;FMTTYPE=image/png:https://www.lovemylibrary.ca/wp-content/uploads/2022/11/Untitled-design-2022-11-29T112019.106.png
END:VEVENT
BEGIN:VEVENT
DTSTART;TZID=America/Halifax:20240906T130000
DTEND;TZID=America/Halifax:20240906T150000
DTSTAMP:20260424T054556
CREATED:20240320T164525Z
LAST-MODIFIED:20250613T163450Z
UID:10009275-1725627600-1725634800@www.lovemylibrary.ca
SUMMARY:Homeschoolers Hangout
DESCRIPTION:Learn and explore at the library! We want to be part of your education experience. \nIn person\, drop in. Please call (902) 883-9838 or email elmsdale@cehpubliclibrary.ca for more details
URL:https://www.lovemylibrary.ca/event/homeschoolers-hangout-2-2/2024-09-06/
LOCATION:Elmsdale Library\, 15 Commerce Ct\, Elmsdale\, Nova Scotia\, Canada
CATEGORIES:Events For Kids,Events For Teens,Location: Elmsdale
ATTACH;FMTTYPE=image/png:https://www.lovemylibrary.ca/wp-content/uploads/2022/07/Untitled-design-9.png
END:VEVENT
BEGIN:VEVENT
DTSTART;TZID=America/Halifax:20240906T150000
DTEND;TZID=America/Halifax:20240906T170000
DTSTAMP:20260424T054556
CREATED:20240814T153858Z
LAST-MODIFIED:20240814T153858Z
UID:10009183-1725634800-1725642000@www.lovemylibrary.ca
SUMMARY:Tech Help by Appointment
DESCRIPTION:Bring your own device or use one of our computers. \nThis program covers: eReaders/ebooks\, basic computer navigation\, basic app use\, basic cellphone use\, basic tablet use\, general internet instruction\, research and using library electronic resources. For all ages. \nTo register\, email stewiacke@cehpubliclibrary.ca\n  \n 
URL:https://www.lovemylibrary.ca/event/tech-help-by-appointment/2024-09-06/
LOCATION:Stewiacke Library\, 295 George Street\, Stewiacke\, Nova Scotia\, Canada
CATEGORIES:Events For Adults,Events For Kids,Events For Seniors,Events For Teens,Location: Stewiacke
ATTACH;FMTTYPE=image/png:https://www.lovemylibrary.ca/wp-content/uploads/2022/11/Untitled-design-2022-11-29T112019.106.png
END:VEVENT
BEGIN:VEVENT
DTSTART;TZID=America/Halifax:20240906T150000
DTEND;TZID=America/Halifax:20240906T170000
DTSTAMP:20260424T054556
CREATED:20240826T193015Z
LAST-MODIFIED:20240826T193349Z
UID:10009554-1725634800-1725642000@www.lovemylibrary.ca
SUMMARY:Maker Lab Fun Time
DESCRIPTION:Come on in and explore. Program robots\, create circuits\, build with magnetic tiles\, and more! All ages \nDrop in. No registration is required.
URL:https://www.lovemylibrary.ca/event/maker-lab-fun-time-5/2024-09-06/
LOCATION:Truro Library\, 754 Prince St\, Truro\, Nova Scotia\, Canada
CATEGORIES:Events For Adults,Events For Kids,Events For Teens,Location: Truro
ATTACH;FMTTYPE=image/png:https://www.lovemylibrary.ca/wp-content/uploads/2023/09/Untitled-design-2023-09-29T143321.527.png
END:VEVENT
BEGIN:VEVENT
DTSTART;TZID=America/Halifax:20240907T100000
DTEND;TZID=America/Halifax:20240907T120000
DTSTAMP:20260424T054556
CREATED:20240826T193015Z
LAST-MODIFIED:20240826T193349Z
UID:10009555-1725703200-1725710400@www.lovemylibrary.ca
SUMMARY:Maker Lab Fun Time
DESCRIPTION:Come on in and explore. Program robots\, create circuits\, build with magnetic tiles\, and more! All ages \nDrop in. No registration is required.
URL:https://www.lovemylibrary.ca/event/maker-lab-fun-time-5/2024-09-07/
LOCATION:Truro Library\, 754 Prince St\, Truro\, Nova Scotia\, Canada
CATEGORIES:Events For Adults,Events For Kids,Events For Teens,Location: Truro
ATTACH;FMTTYPE=image/png:https://www.lovemylibrary.ca/wp-content/uploads/2023/09/Untitled-design-2023-09-29T143321.527.png
END:VEVENT
BEGIN:VEVENT
DTSTART;TZID=America/Halifax:20240907T140000
DTEND;TZID=America/Halifax:20240907T150000
DTSTAMP:20260424T054556
CREATED:20240814T154458Z
LAST-MODIFIED:20240814T154458Z
UID:10009197-1725717600-1725721200@www.lovemylibrary.ca
SUMMARY:Celebrate Grandparents Day
DESCRIPTION:We will foster an appreciation for grandparents by exposing you to great works of art\, history\, culture and values. Each person will go home with a portrait and stories to share. For all ages. \nDrop in. No registration is required.\n 
URL:https://www.lovemylibrary.ca/event/celebrate-grandparents-day/
LOCATION:Stewiacke Library\, 295 George Street\, Stewiacke\, Nova Scotia\, Canada
CATEGORIES:Events For Adults,Events For Kids,Events For Seniors,Events For Teens,Location: Stewiacke
ATTACH;FMTTYPE=image/png:https://www.lovemylibrary.ca/wp-content/uploads/2022/12/Untitled-design-62.png
END:VEVENT
BEGIN:VEVENT
DTSTART;TZID=America/Halifax:20240907T150000
DTEND;TZID=America/Halifax:20240907T170000
DTSTAMP:20260424T054556
CREATED:20240814T153858Z
LAST-MODIFIED:20240814T153858Z
UID:10009184-1725721200-1725728400@www.lovemylibrary.ca
SUMMARY:Tech Help by Appointment
DESCRIPTION:Bring your own device or use one of our computers. \nThis program covers: eReaders/ebooks\, basic computer navigation\, basic app use\, basic cellphone use\, basic tablet use\, general internet instruction\, research and using library electronic resources. For all ages. \nTo register\, email stewiacke@cehpubliclibrary.ca\n  \n 
URL:https://www.lovemylibrary.ca/event/tech-help-by-appointment/2024-09-07/
LOCATION:Stewiacke Library\, 295 George Street\, Stewiacke\, Nova Scotia\, Canada
CATEGORIES:Events For Adults,Events For Kids,Events For Seniors,Events For Teens,Location: Stewiacke
ATTACH;FMTTYPE=image/png:https://www.lovemylibrary.ca/wp-content/uploads/2022/11/Untitled-design-2022-11-29T112019.106.png
END:VEVENT
BEGIN:VEVENT
DTSTART;TZID=America/Halifax:20240910T133000
DTEND;TZID=America/Halifax:20240910T143000
DTSTAMP:20260424T054556
CREATED:20240822T190930Z
LAST-MODIFIED:20240918T143833Z
UID:10007575-1725975000-1725978600@www.lovemylibrary.ca
SUMMARY:Homeschoolers Haven
DESCRIPTION:Homeschoolers Haven is a place for Homeschool families to meet and share resources. There will be  activities for the children.   For ages 5+ \nThis is a drop-in program. No registration is required.
URL:https://www.lovemylibrary.ca/event/homeschoolers-haven-2-2-2-2/2024-09-10/
LOCATION:Truro Library\, 754 Prince St\, Truro\, Nova Scotia\, Canada
CATEGORIES:Events For Kids,Events For Teens,Location: Truro
ATTACH;FMTTYPE=image/png:https://www.lovemylibrary.ca/wp-content/uploads/2022/07/Untitled-design-9.png
END:VEVENT
BEGIN:VEVENT
DTSTART;TZID=America/Halifax:20240910T143000
DTEND;TZID=America/Halifax:20240910T153000
DTSTAMP:20260424T054556
CREATED:20240824T152237Z
LAST-MODIFIED:20240824T152237Z
UID:10009545-1725978600-1725982200@www.lovemylibrary.ca
SUMMARY:Welcome Back to After School Survival Party
DESCRIPTION:We missed you during the summer. Celebrate the beginning of the school year with the library with an activity and some snacks. School age. \nDrop in. No registration is required.\n 
URL:https://www.lovemylibrary.ca/event/welcome-back-to-after-school-survival-party/
LOCATION:Mount Uniacke Library\, 555\, Highway 1\, Mount Uniacke\, Nova Scotia\, Canada
CATEGORIES:Events For Kids,Events For Teens,Location: Mount Uniacke
ATTACH;FMTTYPE=image/png:https://www.lovemylibrary.ca/wp-content/uploads/2024/06/uf-1.png
END:VEVENT
BEGIN:VEVENT
DTSTART;TZID=America/Halifax:20240910T150000
DTEND;TZID=America/Halifax:20240910T170000
DTSTAMP:20260424T054556
CREATED:20240814T153858Z
LAST-MODIFIED:20240814T153858Z
UID:10009185-1725980400-1725987600@www.lovemylibrary.ca
SUMMARY:Tech Help by Appointment
DESCRIPTION:Bring your own device or use one of our computers. \nThis program covers: eReaders/ebooks\, basic computer navigation\, basic app use\, basic cellphone use\, basic tablet use\, general internet instruction\, research and using library electronic resources. For all ages. \nTo register\, email stewiacke@cehpubliclibrary.ca\n  \n 
URL:https://www.lovemylibrary.ca/event/tech-help-by-appointment/2024-09-10/
LOCATION:Stewiacke Library\, 295 George Street\, Stewiacke\, Nova Scotia\, Canada
CATEGORIES:Events For Adults,Events For Kids,Events For Seniors,Events For Teens,Location: Stewiacke
ATTACH;FMTTYPE=image/png:https://www.lovemylibrary.ca/wp-content/uploads/2022/11/Untitled-design-2022-11-29T112019.106.png
END:VEVENT
BEGIN:VEVENT
DTSTART;TZID=America/Halifax:20240910T173000
DTEND;TZID=America/Halifax:20240910T200000
DTSTAMP:20260424T054556
CREATED:20240824T134519Z
LAST-MODIFIED:20240824T134519Z
UID:10009471-1725989400-1725998400@www.lovemylibrary.ca
SUMMARY:Heroes & Adventurers
DESCRIPTION:Role-playing game nights with extraordinary people! We provide the supplies\, you provide the imagination. No experience needed. All welcome! \nRegister to play by emailing: HAATruro@gmail.com Sorry\, no drop-in players at this time.
URL:https://www.lovemylibrary.ca/event/heroes-adventurers-12/2024-09-10/
LOCATION:Truro Library\, 754 Prince St\, Truro\, Nova Scotia\, Canada
CATEGORIES:Events For Adults,Events For Kids,Events For Seniors,Events For Teens,Location: Truro
ATTACH;FMTTYPE=image/png:https://www.lovemylibrary.ca/wp-content/uploads/2022/06/D-and-D.png
END:VEVENT
BEGIN:VEVENT
DTSTART;TZID=America/Halifax:20240910T180000
DTEND;TZID=America/Halifax:20240910T200000
DTSTAMP:20260424T054556
CREATED:20240826T193015Z
LAST-MODIFIED:20240826T193349Z
UID:10009562-1725991200-1725998400@www.lovemylibrary.ca
SUMMARY:Maker Lab Fun Time
DESCRIPTION:Come on in and explore. Program robots\, create circuits\, build with magnetic tiles\, and more! All ages \nDrop in. No registration is required.
URL:https://www.lovemylibrary.ca/event/maker-lab-fun-time-5/2024-09-10/
LOCATION:Truro Library\, 754 Prince St\, Truro\, Nova Scotia\, Canada
CATEGORIES:Events For Adults,Events For Kids,Events For Teens,Location: Truro
ATTACH;FMTTYPE=image/png:https://www.lovemylibrary.ca/wp-content/uploads/2023/09/Untitled-design-2023-09-29T143321.527.png
END:VEVENT
BEGIN:VEVENT
DTSTART;TZID=America/Halifax:20240912T150000
DTEND;TZID=America/Halifax:20240912T160000
DTSTAMP:20260424T054556
CREATED:20240809T193312Z
LAST-MODIFIED:20240911T181851Z
UID:10009178-1726153200-1726156800@www.lovemylibrary.ca
SUMMARY:Artful Aprons: Creative Painting Workshop
DESCRIPTION:Unleash your creativity at our Artful Aprons Painting Workshop! Customize your own apron with unique designs and colors. Perfect for all skill levels. All materials provided. Get ready to paint and have fun! For ages 13-18 \nPre register in person or by phone 902 – 657-3064 or email: tatamago@cehpubliclibrary.ca
URL:https://www.lovemylibrary.ca/event/artful-aprons-creative-painting-workshop/
LOCATION:Tatamagouche Library\, 170 Main Street\, Tatamagouche\, Nova Scotia\, Canada
CATEGORIES:Events For Teens,Location: Tatamagouche
ATTACH;FMTTYPE=image/png:https://www.lovemylibrary.ca/wp-content/uploads/2024/08/Untitled-design-2024-08-09T163602.448.png
END:VEVENT
BEGIN:VEVENT
DTSTART;TZID=America/Halifax:20240912T150000
DTEND;TZID=America/Halifax:20240912T170000
DTSTAMP:20260424T054556
CREATED:20240814T153858Z
LAST-MODIFIED:20240814T153858Z
UID:10009186-1726153200-1726160400@www.lovemylibrary.ca
SUMMARY:Tech Help by Appointment
DESCRIPTION:Bring your own device or use one of our computers. \nThis program covers: eReaders/ebooks\, basic computer navigation\, basic app use\, basic cellphone use\, basic tablet use\, general internet instruction\, research and using library electronic resources. For all ages. \nTo register\, email stewiacke@cehpubliclibrary.ca\n  \n 
URL:https://www.lovemylibrary.ca/event/tech-help-by-appointment/2024-09-12/
LOCATION:Stewiacke Library\, 295 George Street\, Stewiacke\, Nova Scotia\, Canada
CATEGORIES:Events For Adults,Events For Kids,Events For Seniors,Events For Teens,Location: Stewiacke
ATTACH;FMTTYPE=image/png:https://www.lovemylibrary.ca/wp-content/uploads/2022/11/Untitled-design-2022-11-29T112019.106.png
END:VEVENT
BEGIN:VEVENT
DTSTART;TZID=America/Halifax:20240913T150000
DTEND;TZID=America/Halifax:20240913T170000
DTSTAMP:20260424T054556
CREATED:20240814T153858Z
LAST-MODIFIED:20240814T153858Z
UID:10009187-1726239600-1726246800@www.lovemylibrary.ca
SUMMARY:Tech Help by Appointment
DESCRIPTION:Bring your own device or use one of our computers. \nThis program covers: eReaders/ebooks\, basic computer navigation\, basic app use\, basic cellphone use\, basic tablet use\, general internet instruction\, research and using library electronic resources. For all ages. \nTo register\, email stewiacke@cehpubliclibrary.ca\n  \n 
URL:https://www.lovemylibrary.ca/event/tech-help-by-appointment/2024-09-13/
LOCATION:Stewiacke Library\, 295 George Street\, Stewiacke\, Nova Scotia\, Canada
CATEGORIES:Events For Adults,Events For Kids,Events For Seniors,Events For Teens,Location: Stewiacke
ATTACH;FMTTYPE=image/png:https://www.lovemylibrary.ca/wp-content/uploads/2022/11/Untitled-design-2022-11-29T112019.106.png
END:VEVENT
BEGIN:VEVENT
DTSTART;TZID=America/Halifax:20240913T150000
DTEND;TZID=America/Halifax:20240913T170000
DTSTAMP:20260424T054556
CREATED:20240826T193015Z
LAST-MODIFIED:20240826T193349Z
UID:10009556-1726239600-1726246800@www.lovemylibrary.ca
SUMMARY:Maker Lab Fun Time
DESCRIPTION:Come on in and explore. Program robots\, create circuits\, build with magnetic tiles\, and more! All ages \nDrop in. No registration is required.
URL:https://www.lovemylibrary.ca/event/maker-lab-fun-time-5/2024-09-13/
LOCATION:Truro Library\, 754 Prince St\, Truro\, Nova Scotia\, Canada
CATEGORIES:Events For Adults,Events For Kids,Events For Teens,Location: Truro
ATTACH;FMTTYPE=image/png:https://www.lovemylibrary.ca/wp-content/uploads/2023/09/Untitled-design-2023-09-29T143321.527.png
END:VEVENT
BEGIN:VEVENT
DTSTART;TZID=America/Halifax:20240914T100000
DTEND;TZID=America/Halifax:20240914T120000
DTSTAMP:20260424T054556
CREATED:20240826T193015Z
LAST-MODIFIED:20240826T193349Z
UID:10009557-1726308000-1726315200@www.lovemylibrary.ca
SUMMARY:Maker Lab Fun Time
DESCRIPTION:Come on in and explore. Program robots\, create circuits\, build with magnetic tiles\, and more! All ages \nDrop in. No registration is required.
URL:https://www.lovemylibrary.ca/event/maker-lab-fun-time-5/2024-09-14/
LOCATION:Truro Library\, 754 Prince St\, Truro\, Nova Scotia\, Canada
CATEGORIES:Events For Adults,Events For Kids,Events For Teens,Location: Truro
ATTACH;FMTTYPE=image/png:https://www.lovemylibrary.ca/wp-content/uploads/2023/09/Untitled-design-2023-09-29T143321.527.png
END:VEVENT
BEGIN:VEVENT
DTSTART;TZID=America/Halifax:20240914T150000
DTEND;TZID=America/Halifax:20240914T170000
DTSTAMP:20260424T054556
CREATED:20240814T153858Z
LAST-MODIFIED:20240814T153858Z
UID:10009188-1726326000-1726333200@www.lovemylibrary.ca
SUMMARY:Tech Help by Appointment
DESCRIPTION:Bring your own device or use one of our computers. \nThis program covers: eReaders/ebooks\, basic computer navigation\, basic app use\, basic cellphone use\, basic tablet use\, general internet instruction\, research and using library electronic resources. For all ages. \nTo register\, email stewiacke@cehpubliclibrary.ca\n  \n 
URL:https://www.lovemylibrary.ca/event/tech-help-by-appointment/2024-09-14/
LOCATION:Stewiacke Library\, 295 George Street\, Stewiacke\, Nova Scotia\, Canada
CATEGORIES:Events For Adults,Events For Kids,Events For Seniors,Events For Teens,Location: Stewiacke
ATTACH;FMTTYPE=image/png:https://www.lovemylibrary.ca/wp-content/uploads/2022/11/Untitled-design-2022-11-29T112019.106.png
END:VEVENT
BEGIN:VEVENT
DTSTART;TZID=America/Halifax:20240917T150000
DTEND;TZID=America/Halifax:20240917T170000
DTSTAMP:20260424T054556
CREATED:20240814T153858Z
LAST-MODIFIED:20240814T153858Z
UID:10009189-1726585200-1726592400@www.lovemylibrary.ca
SUMMARY:Tech Help by Appointment
DESCRIPTION:Bring your own device or use one of our computers. \nThis program covers: eReaders/ebooks\, basic computer navigation\, basic app use\, basic cellphone use\, basic tablet use\, general internet instruction\, research and using library electronic resources. For all ages. \nTo register\, email stewiacke@cehpubliclibrary.ca\n  \n 
URL:https://www.lovemylibrary.ca/event/tech-help-by-appointment/2024-09-17/
LOCATION:Stewiacke Library\, 295 George Street\, Stewiacke\, Nova Scotia\, Canada
CATEGORIES:Events For Adults,Events For Kids,Events For Seniors,Events For Teens,Location: Stewiacke
ATTACH;FMTTYPE=image/png:https://www.lovemylibrary.ca/wp-content/uploads/2022/11/Untitled-design-2022-11-29T112019.106.png
END:VEVENT
BEGIN:VEVENT
DTSTART;TZID=America/Halifax:20240917T173000
DTEND;TZID=America/Halifax:20240917T200000
DTSTAMP:20260424T054556
CREATED:20240824T134519Z
LAST-MODIFIED:20240824T134519Z
UID:10009472-1726594200-1726603200@www.lovemylibrary.ca
SUMMARY:Heroes & Adventurers
DESCRIPTION:Role-playing game nights with extraordinary people! We provide the supplies\, you provide the imagination. No experience needed. All welcome! \nRegister to play by emailing: HAATruro@gmail.com Sorry\, no drop-in players at this time.
URL:https://www.lovemylibrary.ca/event/heroes-adventurers-12/2024-09-17/
LOCATION:Truro Library\, 754 Prince St\, Truro\, Nova Scotia\, Canada
CATEGORIES:Events For Adults,Events For Kids,Events For Seniors,Events For Teens,Location: Truro
ATTACH;FMTTYPE=image/png:https://www.lovemylibrary.ca/wp-content/uploads/2022/06/D-and-D.png
END:VEVENT
BEGIN:VEVENT
DTSTART;TZID=America/Halifax:20240917T180000
DTEND;TZID=America/Halifax:20240917T200000
DTSTAMP:20260424T054556
CREATED:20240826T193015Z
LAST-MODIFIED:20240826T193349Z
UID:10009563-1726596000-1726603200@www.lovemylibrary.ca
SUMMARY:Maker Lab Fun Time
DESCRIPTION:Come on in and explore. Program robots\, create circuits\, build with magnetic tiles\, and more! All ages \nDrop in. No registration is required.
URL:https://www.lovemylibrary.ca/event/maker-lab-fun-time-5/2024-09-17/
LOCATION:Truro Library\, 754 Prince St\, Truro\, Nova Scotia\, Canada
CATEGORIES:Events For Adults,Events For Kids,Events For Teens,Location: Truro
ATTACH;FMTTYPE=image/png:https://www.lovemylibrary.ca/wp-content/uploads/2023/09/Untitled-design-2023-09-29T143321.527.png
END:VEVENT
BEGIN:VEVENT
DTSTART;TZID=America/Halifax:20240918T150000
DTEND;TZID=America/Halifax:20240918T163000
DTSTAMP:20260424T054556
CREATED:20240822T192337Z
LAST-MODIFIED:20241105T220050Z
UID:10007593-1726671600-1726677000@www.lovemylibrary.ca
SUMMARY:Teen Room Drop In
DESCRIPTION:Come hang out\, grab a snack\, play Nintendo\, or make some art! \nAges 13-18 \nThis is a drop-in program. No registration is required.
URL:https://www.lovemylibrary.ca/event/teen-room-drop-in-3-2/2024-09-18/
LOCATION:Truro Library\, 754 Prince St\, Truro\, Nova Scotia\, Canada
CATEGORIES:Events For Teens,Location: Truro
ATTACH;FMTTYPE=image/png:https://www.lovemylibrary.ca/wp-content/uploads/2022/10/Untitled-design-53.png
END:VEVENT
BEGIN:VEVENT
DTSTART;TZID=America/Halifax:20240918T163000
DTEND;TZID=America/Halifax:20240918T180000
DTSTAMP:20260424T054556
CREATED:20240822T193150Z
LAST-MODIFIED:20240822T193150Z
UID:10009452-1726677000-1726682400@www.lovemylibrary.ca
SUMMARY:Teen Noodle Night & Open House
DESCRIPTION:The Teen Room is back and better than ever! Check out our new Nintendo setup\, craft cart\, and study areas\, then stick around to experiment with ways to amp up a pack of instant noodles. For ages 13-18 \nThis is a drop in program. No registration is required.\n 
URL:https://www.lovemylibrary.ca/event/teen-noodle-night-open-house/
LOCATION:Truro Library\, 754 Prince St\, Truro\, Nova Scotia\, Canada
CATEGORIES:Events For Teens,Location: Truro
ATTACH;FMTTYPE=image/png:https://www.lovemylibrary.ca/wp-content/uploads/2024/08/Untitled-design-2024-08-22T163107.048.png
END:VEVENT
BEGIN:VEVENT
DTSTART;TZID=America/Halifax:20240919T150000
DTEND;TZID=America/Halifax:20240919T163000
DTSTAMP:20260424T054556
CREATED:20240822T192337Z
LAST-MODIFIED:20241105T220050Z
UID:10009292-1726758000-1726763400@www.lovemylibrary.ca
SUMMARY:Teen Room Drop In
DESCRIPTION:Come hang out\, grab a snack\, play Nintendo\, or make some art! \nAges 13-18 \nThis is a drop-in program. No registration is required.
URL:https://www.lovemylibrary.ca/event/teen-room-drop-in-3-2/2024-09-19/
LOCATION:Truro Library\, 754 Prince St\, Truro\, Nova Scotia\, Canada
CATEGORIES:Events For Teens,Location: Truro
ATTACH;FMTTYPE=image/png:https://www.lovemylibrary.ca/wp-content/uploads/2022/10/Untitled-design-53.png
END:VEVENT
BEGIN:VEVENT
DTSTART;TZID=America/Halifax:20240919T150000
DTEND;TZID=America/Halifax:20240919T170000
DTSTAMP:20260424T054556
CREATED:20240814T153858Z
LAST-MODIFIED:20240814T153858Z
UID:10009190-1726758000-1726765200@www.lovemylibrary.ca
SUMMARY:Tech Help by Appointment
DESCRIPTION:Bring your own device or use one of our computers. \nThis program covers: eReaders/ebooks\, basic computer navigation\, basic app use\, basic cellphone use\, basic tablet use\, general internet instruction\, research and using library electronic resources. For all ages. \nTo register\, email stewiacke@cehpubliclibrary.ca\n  \n 
URL:https://www.lovemylibrary.ca/event/tech-help-by-appointment/2024-09-19/
LOCATION:Stewiacke Library\, 295 George Street\, Stewiacke\, Nova Scotia\, Canada
CATEGORIES:Events For Adults,Events For Kids,Events For Seniors,Events For Teens,Location: Stewiacke
ATTACH;FMTTYPE=image/png:https://www.lovemylibrary.ca/wp-content/uploads/2022/11/Untitled-design-2022-11-29T112019.106.png
END:VEVENT
BEGIN:VEVENT
DTSTART;TZID=America/Halifax:20240919T180000
DTEND;TZID=America/Halifax:20240919T190000
DTSTAMP:20260424T054556
CREATED:20240824T153533Z
LAST-MODIFIED:20240824T153533Z
UID:10009547-1726768800-1726772400@www.lovemylibrary.ca
SUMMARY:Only Murders in our Library
DESCRIPTION:Introverts and extroverts unite. Extroverts come early to socialize and introverts can join us at 6pm. We are spending an hour listening to a true crime podcast and doing some adult coloring. Ages 15-99 (or older) \nThis is a drop in event\, No registration required\n  \n 
URL:https://www.lovemylibrary.ca/event/only-murders-in-our-library-5/
LOCATION:Mount Uniacke Library\, 555\, Highway 1\, Mount Uniacke\, Nova Scotia\, Canada
CATEGORIES:Events For Adults,Events For Seniors,Events For Teens,Location: Mount Uniacke
ATTACH;FMTTYPE=image/png:https://www.lovemylibrary.ca/wp-content/uploads/2023/08/Untitled-design-2023-08-25T151940.865.png
END:VEVENT
BEGIN:VEVENT
DTSTART;TZID=America/Halifax:20240920T130000
DTEND;TZID=America/Halifax:20240920T150000
DTSTAMP:20260424T054556
CREATED:20240320T164525Z
LAST-MODIFIED:20250613T163450Z
UID:10009276-1726837200-1726844400@www.lovemylibrary.ca
SUMMARY:Homeschoolers Hangout
DESCRIPTION:Learn and explore at the library! We want to be part of your education experience. \nIn person\, drop in. Please call (902) 883-9838 or email elmsdale@cehpubliclibrary.ca for more details
URL:https://www.lovemylibrary.ca/event/homeschoolers-hangout-2-2/2024-09-20/
LOCATION:Elmsdale Library\, 15 Commerce Ct\, Elmsdale\, Nova Scotia\, Canada
CATEGORIES:Events For Kids,Events For Teens,Location: Elmsdale
ATTACH;FMTTYPE=image/png:https://www.lovemylibrary.ca/wp-content/uploads/2022/07/Untitled-design-9.png
END:VEVENT
END:VCALENDAR