BEGIN:VCALENDAR
VERSION:2.0
PRODID:-//Colchester East Hants Public Library - ECPv6.15.20//NONSGML v1.0//EN
CALSCALE:GREGORIAN
METHOD:PUBLISH
X-ORIGINAL-URL:https://www.lovemylibrary.ca
X-WR-CALDESC:Events for Colchester East Hants Public Library
REFRESH-INTERVAL;VALUE=DURATION:PT1H
X-Robots-Tag:noindex
X-PUBLISHED-TTL:PT1H
BEGIN:VTIMEZONE
TZID:America/Halifax
BEGIN:DAYLIGHT
TZOFFSETFROM:-0400
TZOFFSETTO:-0300
TZNAME:ADT
DTSTART:20240310T060000
END:DAYLIGHT
BEGIN:STANDARD
TZOFFSETFROM:-0300
TZOFFSETTO:-0400
TZNAME:AST
DTSTART:20241103T050000
END:STANDARD
BEGIN:DAYLIGHT
TZOFFSETFROM:-0400
TZOFFSETTO:-0300
TZNAME:ADT
DTSTART:20250309T060000
END:DAYLIGHT
BEGIN:STANDARD
TZOFFSETFROM:-0300
TZOFFSETTO:-0400
TZNAME:AST
DTSTART:20251102T050000
END:STANDARD
BEGIN:DAYLIGHT
TZOFFSETFROM:-0400
TZOFFSETTO:-0300
TZNAME:ADT
DTSTART:20260308T060000
END:DAYLIGHT
BEGIN:STANDARD
TZOFFSETFROM:-0300
TZOFFSETTO:-0400
TZNAME:AST
DTSTART:20261101T050000
END:STANDARD
END:VTIMEZONE
BEGIN:VEVENT
DTSTART;TZID=America/Halifax:20250401T150000
DTEND;TZID=America/Halifax:20250401T163000
DTSTAMP:20260422T145105
CREATED:20241213T191147Z
LAST-MODIFIED:20250509T192439Z
UID:10011352-1743519600-1743525000@www.lovemylibrary.ca
SUMMARY:Teen Room Drop In
DESCRIPTION:Come hang out! Grab a snack\, play our Nintendo Switch\, challenge your friends to a board game\, build with Lego\, or make art!  Ages 13-18 \nThis is a drop-in program. No registration is required.
URL:https://www.lovemylibrary.ca/event/teen-room-drop-in-5/2025-04-01/
LOCATION:Truro Library\, 754 Prince St\, Truro\, Nova Scotia\, Canada
CATEGORIES:Events For Teens,Location: Truro
ATTACH;FMTTYPE=image/png:https://www.lovemylibrary.ca/wp-content/uploads/2022/10/Untitled-design-53.png
END:VEVENT
BEGIN:VEVENT
DTSTART;TZID=America/Halifax:20250401T150000
DTEND;TZID=America/Halifax:20250401T170000
DTSTAMP:20260422T145105
CREATED:20241121T185306Z
LAST-MODIFIED:20250320T184440Z
UID:10011492-1743519600-1743526800@www.lovemylibrary.ca
SUMMARY:Dungeons and Dragons
DESCRIPTION:“Join us for an epic Dungeons & Dragons game night! Roll dice\, slay monsters\, and embark on thrilling adventures with friends. Whether you’re a seasoned hero or a curious newbie\, there’s a spot for you at the table!” For ages 13-24 \n\nPre-Register in person or by phone: (902) 657-3064\, or email: tatamago@cehpubliclibrary.ca
URL:https://www.lovemylibrary.ca/event/dd/2025-04-01/
LOCATION:Tatamagouche Library\, 170 Main Street\, Tatamagouche\, Nova Scotia\, Canada
CATEGORIES:Events For Adults,Events For Teens,Location: Tatamagouche
ATTACH;FMTTYPE=image/png:https://www.lovemylibrary.ca/wp-content/uploads/2024/11/Untitled-design-1.png
END:VEVENT
BEGIN:VEVENT
DTSTART;TZID=America/Halifax:20250401T173000
DTEND;TZID=America/Halifax:20250401T200000
DTSTAMP:20260422T145105
CREATED:20250324T180428Z
LAST-MODIFIED:20250801T174610Z
UID:10010429-1743528600-1743537600@www.lovemylibrary.ca
SUMMARY:Heroes & Adventurers
DESCRIPTION:Role-playing game nights with extraordinary people! We provide the supplies\, you provide the imagination. No experience needed. All welcome! \nRegister to play by emailing: HAATruro@gmail.com Sorry\, no drop-in players at this time.
URL:https://www.lovemylibrary.ca/event/heroes-adventurers-14-2/2025-04-01/
LOCATION:Truro Library\, 754 Prince St\, Truro\, Nova Scotia\, Canada
CATEGORIES:Events For Adults,Events For Kids,Events For Seniors,Events For Teens,Location: Truro
ATTACH;FMTTYPE=image/png:https://www.lovemylibrary.ca/wp-content/uploads/2022/06/D-and-D.png
END:VEVENT
BEGIN:VEVENT
DTSTART;TZID=America/Halifax:20250402T150000
DTEND;TZID=America/Halifax:20250402T163000
DTSTAMP:20260422T145105
CREATED:20241213T191147Z
LAST-MODIFIED:20250509T192439Z
UID:10011353-1743606000-1743611400@www.lovemylibrary.ca
SUMMARY:Teen Room Drop In
DESCRIPTION:Come hang out! Grab a snack\, play our Nintendo Switch\, challenge your friends to a board game\, build with Lego\, or make art!  Ages 13-18 \nThis is a drop-in program. No registration is required.
URL:https://www.lovemylibrary.ca/event/teen-room-drop-in-5/2025-04-02/
LOCATION:Truro Library\, 754 Prince St\, Truro\, Nova Scotia\, Canada
CATEGORIES:Events For Teens,Location: Truro
ATTACH;FMTTYPE=image/png:https://www.lovemylibrary.ca/wp-content/uploads/2022/10/Untitled-design-53.png
END:VEVENT
BEGIN:VEVENT
DTSTART;TZID=America/Halifax:20250402T163000
DTEND;TZID=America/Halifax:20250402T173000
DTSTAMP:20260422T145105
CREATED:20250315T191131Z
LAST-MODIFIED:20250315T191131Z
UID:10011438-1743611400-1743615000@www.lovemylibrary.ca
SUMMARY:Stickers & Snacks
DESCRIPTION:Enjoy a snack as you choose up to 10 vinyl stickers to personalize your stuff with. Whether you’re outdoorsy or a Swiftie (or both!)\, we’ve got the perfect stickers to give away. For ages 13-18 \nThis is a drop in program. No registration is required.
URL:https://www.lovemylibrary.ca/event/stickers-snacks/
LOCATION:Truro Library\, 754 Prince St\, Truro\, Nova Scotia\, Canada
CATEGORIES:Events For Teens,Location: Truro
ATTACH;FMTTYPE=image/png:https://www.lovemylibrary.ca/wp-content/uploads/2025/03/Untitled-design-2025-03-15T161301.673.png
END:VEVENT
BEGIN:VEVENT
DTSTART;TZID=America/Halifax:20250402T163000
DTEND;TZID=America/Halifax:20250402T173000
DTSTAMP:20260422T145105
CREATED:20250315T191712Z
LAST-MODIFIED:20250315T191712Z
UID:10011440-1743611400-1743615000@www.lovemylibrary.ca
SUMMARY:Stickers and Snacks
DESCRIPTION:Enjoy a snack as you choose up to 10 vinyl stickers to personalize your stuff with. Whether you’re outdoorsy or a Swiftie (or both!)\, we’ve got the perfect stickers to give away. For ages 13-18 \nThis is a drop in program. No registration required.
URL:https://www.lovemylibrary.ca/event/stickers-and-snacks/
LOCATION:Truro Library\, 754 Prince St\, Truro\, Nova Scotia\, Canada
CATEGORIES:Events For Teens,Location: Truro
ATTACH;FMTTYPE=image/png:https://www.lovemylibrary.ca/wp-content/uploads/2025/03/Untitled-design-2025-03-15T161301.673.png
END:VEVENT
BEGIN:VEVENT
DTSTART;TZID=America/Halifax:20250403T150000
DTEND;TZID=America/Halifax:20250403T163000
DTSTAMP:20260422T145105
CREATED:20241213T191147Z
LAST-MODIFIED:20250509T192439Z
UID:10011354-1743692400-1743697800@www.lovemylibrary.ca
SUMMARY:Teen Room Drop In
DESCRIPTION:Come hang out! Grab a snack\, play our Nintendo Switch\, challenge your friends to a board game\, build with Lego\, or make art!  Ages 13-18 \nThis is a drop-in program. No registration is required.
URL:https://www.lovemylibrary.ca/event/teen-room-drop-in-5/2025-04-03/
LOCATION:Truro Library\, 754 Prince St\, Truro\, Nova Scotia\, Canada
CATEGORIES:Events For Teens,Location: Truro
ATTACH;FMTTYPE=image/png:https://www.lovemylibrary.ca/wp-content/uploads/2022/10/Untitled-design-53.png
END:VEVENT
BEGIN:VEVENT
DTSTART;TZID=America/Halifax:20250404T130000
DTEND;TZID=America/Halifax:20250404T150000
DTSTAMP:20260422T145105
CREATED:20240320T164525Z
LAST-MODIFIED:20250613T163450Z
UID:10011160-1743771600-1743778800@www.lovemylibrary.ca
SUMMARY:Homeschoolers Hangout
DESCRIPTION:Learn and explore at the library! We want to be part of your education experience. \nIn person\, drop in. Please call (902) 883-9838 or email elmsdale@cehpubliclibrary.ca for more details
URL:https://www.lovemylibrary.ca/event/homeschoolers-hangout-2-2/2025-04-04/
LOCATION:Elmsdale Library\, 15 Commerce Ct\, Elmsdale\, Nova Scotia\, Canada
CATEGORIES:Events For Kids,Events For Teens,Location: Elmsdale
ATTACH;FMTTYPE=image/png:https://www.lovemylibrary.ca/wp-content/uploads/2022/07/Untitled-design-9.png
END:VEVENT
BEGIN:VEVENT
DTSTART;TZID=America/Halifax:20250408T133000
DTEND;TZID=America/Halifax:20250408T143000
DTSTAMP:20260422T145105
CREATED:20241211T183924Z
LAST-MODIFIED:20250509T184430Z
UID:10011601-1744119000-1744122600@www.lovemylibrary.ca
SUMMARY:Homeschoolers Haven
DESCRIPTION:Homeschoolers Haven is a place for Homeschool families to meet and share resources. There will be  activities for the children.   For ages 5+ \nThis is a drop-in program. No registration is required.
URL:https://www.lovemylibrary.ca/event/homeschoolers-haven-2-2-2-2-2/2025-04-08/
LOCATION:Truro Library\, 754 Prince St\, Truro\, Nova Scotia\, Canada
CATEGORIES:Events For Kids,Events For Teens,Location: Truro
ATTACH;FMTTYPE=image/png:https://www.lovemylibrary.ca/wp-content/uploads/2022/07/Untitled-design-9.png
END:VEVENT
BEGIN:VEVENT
DTSTART;TZID=America/Halifax:20250408T150000
DTEND;TZID=America/Halifax:20250408T163000
DTSTAMP:20260422T145105
CREATED:20241213T191147Z
LAST-MODIFIED:20250509T192439Z
UID:10011355-1744124400-1744129800@www.lovemylibrary.ca
SUMMARY:Teen Room Drop In
DESCRIPTION:Come hang out! Grab a snack\, play our Nintendo Switch\, challenge your friends to a board game\, build with Lego\, or make art!  Ages 13-18 \nThis is a drop-in program. No registration is required.
URL:https://www.lovemylibrary.ca/event/teen-room-drop-in-5/2025-04-08/
LOCATION:Truro Library\, 754 Prince St\, Truro\, Nova Scotia\, Canada
CATEGORIES:Events For Teens,Location: Truro
ATTACH;FMTTYPE=image/png:https://www.lovemylibrary.ca/wp-content/uploads/2022/10/Untitled-design-53.png
END:VEVENT
BEGIN:VEVENT
DTSTART;TZID=America/Halifax:20250408T173000
DTEND;TZID=America/Halifax:20250408T200000
DTSTAMP:20260422T145105
CREATED:20250324T180428Z
LAST-MODIFIED:20250801T174610Z
UID:10011579-1744133400-1744142400@www.lovemylibrary.ca
SUMMARY:Heroes & Adventurers
DESCRIPTION:Role-playing game nights with extraordinary people! We provide the supplies\, you provide the imagination. No experience needed. All welcome! \nRegister to play by emailing: HAATruro@gmail.com Sorry\, no drop-in players at this time.
URL:https://www.lovemylibrary.ca/event/heroes-adventurers-14-2/2025-04-08/
LOCATION:Truro Library\, 754 Prince St\, Truro\, Nova Scotia\, Canada
CATEGORIES:Events For Adults,Events For Kids,Events For Seniors,Events For Teens,Location: Truro
ATTACH;FMTTYPE=image/png:https://www.lovemylibrary.ca/wp-content/uploads/2022/06/D-and-D.png
END:VEVENT
BEGIN:VEVENT
DTSTART;TZID=America/Halifax:20250408T183000
DTEND;TZID=America/Halifax:20250408T193000
DTSTAMP:20260422T145105
CREATED:20250315T140856Z
LAST-MODIFIED:20250315T141032Z
UID:10011328-1744137000-1744140600@www.lovemylibrary.ca
SUMMARY:Teen Terrariums
DESCRIPTION:Create your own tiny ecosystem at the library. For ages 13-18 \nRegister: stewiacke@cehpubliclibrary.ca or 902-639-2481
URL:https://www.lovemylibrary.ca/event/teen-terrariums/
LOCATION:Stewiacke Library\, 295 George Street\, Stewiacke\, Nova Scotia\, Canada
CATEGORIES:Events For Teens,Location: Stewiacke
ATTACH;FMTTYPE=image/png:https://www.lovemylibrary.ca/wp-content/uploads/2025/03/Untitled-design-2025-03-15T110952.336.png
END:VEVENT
BEGIN:VEVENT
DTSTART;TZID=America/Halifax:20250409T150000
DTEND;TZID=America/Halifax:20250409T163000
DTSTAMP:20260422T145105
CREATED:20241213T191147Z
LAST-MODIFIED:20250509T192439Z
UID:10011356-1744210800-1744216200@www.lovemylibrary.ca
SUMMARY:Teen Room Drop In
DESCRIPTION:Come hang out! Grab a snack\, play our Nintendo Switch\, challenge your friends to a board game\, build with Lego\, or make art!  Ages 13-18 \nThis is a drop-in program. No registration is required.
URL:https://www.lovemylibrary.ca/event/teen-room-drop-in-5/2025-04-09/
LOCATION:Truro Library\, 754 Prince St\, Truro\, Nova Scotia\, Canada
CATEGORIES:Events For Teens,Location: Truro
ATTACH;FMTTYPE=image/png:https://www.lovemylibrary.ca/wp-content/uploads/2022/10/Untitled-design-53.png
END:VEVENT
BEGIN:VEVENT
DTSTART;TZID=America/Halifax:20250410T150000
DTEND;TZID=America/Halifax:20250410T163000
DTSTAMP:20260422T145105
CREATED:20241213T191147Z
LAST-MODIFIED:20250509T192439Z
UID:10011357-1744297200-1744302600@www.lovemylibrary.ca
SUMMARY:Teen Room Drop In
DESCRIPTION:Come hang out! Grab a snack\, play our Nintendo Switch\, challenge your friends to a board game\, build with Lego\, or make art!  Ages 13-18 \nThis is a drop-in program. No registration is required.
URL:https://www.lovemylibrary.ca/event/teen-room-drop-in-5/2025-04-10/
LOCATION:Truro Library\, 754 Prince St\, Truro\, Nova Scotia\, Canada
CATEGORIES:Events For Teens,Location: Truro
ATTACH;FMTTYPE=image/png:https://www.lovemylibrary.ca/wp-content/uploads/2022/10/Untitled-design-53.png
END:VEVENT
BEGIN:VEVENT
DTSTART;TZID=America/Halifax:20250410T173000
DTEND;TZID=America/Halifax:20250410T190000
DTSTAMP:20260422T145105
CREATED:20241121T160922Z
LAST-MODIFIED:20250419T174854Z
UID:10011329-1744306200-1744311600@www.lovemylibrary.ca
SUMMARY:Dungeons and Dragons
DESCRIPTION:Join the action and adventure as we explore fantastic worlds. We are beginner friendly.  A safe and inclusive environment. For ages 9-13 \nTo register\, email stewiacke@cehpubliclibrary.ca
URL:https://www.lovemylibrary.ca/event/dungeons-and-dragons-8/2025-04-10/
LOCATION:Stewiacke Library\, 295 George Street\, Stewiacke\, Nova Scotia\, Canada
CATEGORIES:Events For Teens,Location: Stewiacke
ATTACH;FMTTYPE=image/png:https://www.lovemylibrary.ca/wp-content/uploads/2022/06/D-and-D.png
END:VEVENT
BEGIN:VEVENT
DTSTART;TZID=America/Halifax:20250415T150000
DTEND;TZID=America/Halifax:20250415T163000
DTSTAMP:20260422T145105
CREATED:20241213T191147Z
LAST-MODIFIED:20250509T192439Z
UID:10011358-1744729200-1744734600@www.lovemylibrary.ca
SUMMARY:Teen Room Drop In
DESCRIPTION:Come hang out! Grab a snack\, play our Nintendo Switch\, challenge your friends to a board game\, build with Lego\, or make art!  Ages 13-18 \nThis is a drop-in program. No registration is required.
URL:https://www.lovemylibrary.ca/event/teen-room-drop-in-5/2025-04-15/
LOCATION:Truro Library\, 754 Prince St\, Truro\, Nova Scotia\, Canada
CATEGORIES:Events For Teens,Location: Truro
ATTACH;FMTTYPE=image/png:https://www.lovemylibrary.ca/wp-content/uploads/2022/10/Untitled-design-53.png
END:VEVENT
BEGIN:VEVENT
DTSTART;TZID=America/Halifax:20250415T173000
DTEND;TZID=America/Halifax:20250415T200000
DTSTAMP:20260422T145105
CREATED:20250324T180428Z
LAST-MODIFIED:20250801T174610Z
UID:10011580-1744738200-1744747200@www.lovemylibrary.ca
SUMMARY:Heroes & Adventurers
DESCRIPTION:Role-playing game nights with extraordinary people! We provide the supplies\, you provide the imagination. No experience needed. All welcome! \nRegister to play by emailing: HAATruro@gmail.com Sorry\, no drop-in players at this time.
URL:https://www.lovemylibrary.ca/event/heroes-adventurers-14-2/2025-04-15/
LOCATION:Truro Library\, 754 Prince St\, Truro\, Nova Scotia\, Canada
CATEGORIES:Events For Adults,Events For Kids,Events For Seniors,Events For Teens,Location: Truro
ATTACH;FMTTYPE=image/png:https://www.lovemylibrary.ca/wp-content/uploads/2022/06/D-and-D.png
END:VEVENT
BEGIN:VEVENT
DTSTART;TZID=America/Halifax:20250416T150000
DTEND;TZID=America/Halifax:20250416T163000
DTSTAMP:20260422T145105
CREATED:20241213T191147Z
LAST-MODIFIED:20250509T192439Z
UID:10011359-1744815600-1744821000@www.lovemylibrary.ca
SUMMARY:Teen Room Drop In
DESCRIPTION:Come hang out! Grab a snack\, play our Nintendo Switch\, challenge your friends to a board game\, build with Lego\, or make art!  Ages 13-18 \nThis is a drop-in program. No registration is required.
URL:https://www.lovemylibrary.ca/event/teen-room-drop-in-5/2025-04-16/
LOCATION:Truro Library\, 754 Prince St\, Truro\, Nova Scotia\, Canada
CATEGORIES:Events For Teens,Location: Truro
ATTACH;FMTTYPE=image/png:https://www.lovemylibrary.ca/wp-content/uploads/2022/10/Untitled-design-53.png
END:VEVENT
BEGIN:VEVENT
DTSTART;TZID=America/Halifax:20250417T130000
DTEND;TZID=America/Halifax:20250417T150000
DTSTAMP:20260422T145105
CREATED:20240320T164525Z
LAST-MODIFIED:20250613T163450Z
UID:10011598-1744894800-1744902000@www.lovemylibrary.ca
SUMMARY:Homeschoolers Hangout
DESCRIPTION:Learn and explore at the library! We want to be part of your education experience. \nIn person\, drop in. Please call (902) 883-9838 or email elmsdale@cehpubliclibrary.ca for more details
URL:https://www.lovemylibrary.ca/event/homeschoolers-hangout-2-2/2025-04-17/
LOCATION:Elmsdale Library\, 15 Commerce Ct\, Elmsdale\, Nova Scotia\, Canada
CATEGORIES:Events For Kids,Events For Teens,Location: Elmsdale
ATTACH;FMTTYPE=image/png:https://www.lovemylibrary.ca/wp-content/uploads/2022/07/Untitled-design-9.png
END:VEVENT
BEGIN:VEVENT
DTSTART;TZID=America/Halifax:20250417T150000
DTEND;TZID=America/Halifax:20250417T163000
DTSTAMP:20260422T145105
CREATED:20241213T191147Z
LAST-MODIFIED:20250509T192439Z
UID:10011360-1744902000-1744907400@www.lovemylibrary.ca
SUMMARY:Teen Room Drop In
DESCRIPTION:Come hang out! Grab a snack\, play our Nintendo Switch\, challenge your friends to a board game\, build with Lego\, or make art!  Ages 13-18 \nThis is a drop-in program. No registration is required.
URL:https://www.lovemylibrary.ca/event/teen-room-drop-in-5/2025-04-17/
LOCATION:Truro Library\, 754 Prince St\, Truro\, Nova Scotia\, Canada
CATEGORIES:Events For Teens,Location: Truro
ATTACH;FMTTYPE=image/png:https://www.lovemylibrary.ca/wp-content/uploads/2022/10/Untitled-design-53.png
END:VEVENT
BEGIN:VEVENT
DTSTART;TZID=America/Halifax:20250417T153000
DTEND;TZID=America/Halifax:20250417T160000
DTSTAMP:20260422T145105
CREATED:20250121T163544Z
LAST-MODIFIED:20250315T152224Z
UID:10011075-1744903800-1744905600@www.lovemylibrary.ca
SUMMARY:Tween Trivia - Minecraft Edition
DESCRIPTION:“A Minecraft Movie” is scheduled to be released on April 4\, 2025. All trivia questions this month will be Minecraft related.. Ages 8-12. Join in person at the Stewiacke branch. \nVirtual and In Person. Register: info@cehpubliclibrary.ca
URL:https://www.lovemylibrary.ca/event/tween-trivia-marvel-edition/
LOCATION:Virtual
CATEGORIES:Events For Teens,Location: Stewiacke,Location: Virtual
ATTACH;FMTTYPE=image/png:https://www.lovemylibrary.ca/wp-content/uploads/2025/01/Untitled-design-2025-03-15T122155.372.png
END:VEVENT
BEGIN:VEVENT
DTSTART;TZID=America/Halifax:20250419T140000
DTEND;TZID=America/Halifax:20250419T160000
DTSTAMP:20260422T145105
CREATED:20241217T192541Z
LAST-MODIFIED:20250510T175345Z
UID:10011957-1745071200-1745078400@www.lovemylibrary.ca
SUMMARY:Spin-In With Geraldine
DESCRIPTION:Bring your spinning wheel and connect with other like minded individuals. Are you curious? Come have a look and ask questions! All Ages. \nDrop In. No registration necessary.
URL:https://www.lovemylibrary.ca/event/spin-in-with-geraldine/2025-04-19/
LOCATION:Stewiacke Library\, 295 George Street\, Stewiacke\, Nova Scotia\, Canada
CATEGORIES:Events For Adults,Events For Kids,Events For Seniors,Events For Teens,Location: Stewiacke
ATTACH;FMTTYPE=image/png:https://www.lovemylibrary.ca/wp-content/uploads/2024/12/Untitled-design-2-1.png
END:VEVENT
BEGIN:VEVENT
DTSTART;TZID=America/Halifax:20250422T133000
DTEND;TZID=America/Halifax:20250422T143000
DTSTAMP:20260422T145105
CREATED:20241211T183924Z
LAST-MODIFIED:20250509T184430Z
UID:10011602-1745328600-1745332200@www.lovemylibrary.ca
SUMMARY:Homeschoolers Haven
DESCRIPTION:Homeschoolers Haven is a place for Homeschool families to meet and share resources. There will be  activities for the children.   For ages 5+ \nThis is a drop-in program. No registration is required.
URL:https://www.lovemylibrary.ca/event/homeschoolers-haven-2-2-2-2-2/2025-04-22/
LOCATION:Truro Library\, 754 Prince St\, Truro\, Nova Scotia\, Canada
CATEGORIES:Events For Kids,Events For Teens,Location: Truro
ATTACH;FMTTYPE=image/png:https://www.lovemylibrary.ca/wp-content/uploads/2022/07/Untitled-design-9.png
END:VEVENT
BEGIN:VEVENT
DTSTART;TZID=America/Halifax:20250422T150000
DTEND;TZID=America/Halifax:20250422T163000
DTSTAMP:20260422T145105
CREATED:20241213T191147Z
LAST-MODIFIED:20250509T192439Z
UID:10011361-1745334000-1745339400@www.lovemylibrary.ca
SUMMARY:Teen Room Drop In
DESCRIPTION:Come hang out! Grab a snack\, play our Nintendo Switch\, challenge your friends to a board game\, build with Lego\, or make art!  Ages 13-18 \nThis is a drop-in program. No registration is required.
URL:https://www.lovemylibrary.ca/event/teen-room-drop-in-5/2025-04-22/
LOCATION:Truro Library\, 754 Prince St\, Truro\, Nova Scotia\, Canada
CATEGORIES:Events For Teens,Location: Truro
ATTACH;FMTTYPE=image/png:https://www.lovemylibrary.ca/wp-content/uploads/2022/10/Untitled-design-53.png
END:VEVENT
BEGIN:VEVENT
DTSTART;TZID=America/Halifax:20250422T173000
DTEND;TZID=America/Halifax:20250422T200000
DTSTAMP:20260422T145105
CREATED:20250324T180428Z
LAST-MODIFIED:20250801T174610Z
UID:10011581-1745343000-1745352000@www.lovemylibrary.ca
SUMMARY:Heroes & Adventurers
DESCRIPTION:Role-playing game nights with extraordinary people! We provide the supplies\, you provide the imagination. No experience needed. All welcome! \nRegister to play by emailing: HAATruro@gmail.com Sorry\, no drop-in players at this time.
URL:https://www.lovemylibrary.ca/event/heroes-adventurers-14-2/2025-04-22/
LOCATION:Truro Library\, 754 Prince St\, Truro\, Nova Scotia\, Canada
CATEGORIES:Events For Adults,Events For Kids,Events For Seniors,Events For Teens,Location: Truro
ATTACH;FMTTYPE=image/png:https://www.lovemylibrary.ca/wp-content/uploads/2022/06/D-and-D.png
END:VEVENT
BEGIN:VEVENT
DTSTART;TZID=America/Halifax:20250423T150000
DTEND;TZID=America/Halifax:20250423T163000
DTSTAMP:20260422T145105
CREATED:20241213T191147Z
LAST-MODIFIED:20250509T192439Z
UID:10011362-1745420400-1745425800@www.lovemylibrary.ca
SUMMARY:Teen Room Drop In
DESCRIPTION:Come hang out! Grab a snack\, play our Nintendo Switch\, challenge your friends to a board game\, build with Lego\, or make art!  Ages 13-18 \nThis is a drop-in program. No registration is required.
URL:https://www.lovemylibrary.ca/event/teen-room-drop-in-5/2025-04-23/
LOCATION:Truro Library\, 754 Prince St\, Truro\, Nova Scotia\, Canada
CATEGORIES:Events For Teens,Location: Truro
ATTACH;FMTTYPE=image/png:https://www.lovemylibrary.ca/wp-content/uploads/2022/10/Untitled-design-53.png
END:VEVENT
BEGIN:VEVENT
DTSTART;TZID=America/Halifax:20250423T163000
DTEND;TZID=America/Halifax:20250423T173000
DTSTAMP:20260422T145105
CREATED:20250315T193338Z
LAST-MODIFIED:20250315T193338Z
UID:10011444-1745425800-1745429400@www.lovemylibrary.ca
SUMMARY:Upcycled Poetry
DESCRIPTION:April is National Poetry Month AND April 22nd is Earth Day\, so we’re celebrating by making poems with discarded library materials. Turn the pages of torn-up books into blackout poetry or cut out words from magazines to craft new turns of phrase. For ages 13-18 \nThis is a drop in program. Registration is not required.
URL:https://www.lovemylibrary.ca/event/upcycled-poetry/
LOCATION:Truro Library\, 754 Prince St\, Truro\, Nova Scotia\, Canada
CATEGORIES:Events For Teens,Location: Truro
ATTACH;FMTTYPE=image/png:https://www.lovemylibrary.ca/wp-content/uploads/2025/03/ter-1.png
END:VEVENT
BEGIN:VEVENT
DTSTART;TZID=America/Halifax:20250424T150000
DTEND;TZID=America/Halifax:20250424T163000
DTSTAMP:20260422T145105
CREATED:20241213T191147Z
LAST-MODIFIED:20250509T192439Z
UID:10011363-1745506800-1745512200@www.lovemylibrary.ca
SUMMARY:Teen Room Drop In
DESCRIPTION:Come hang out! Grab a snack\, play our Nintendo Switch\, challenge your friends to a board game\, build with Lego\, or make art!  Ages 13-18 \nThis is a drop-in program. No registration is required.
URL:https://www.lovemylibrary.ca/event/teen-room-drop-in-5/2025-04-24/
LOCATION:Truro Library\, 754 Prince St\, Truro\, Nova Scotia\, Canada
CATEGORIES:Events For Teens,Location: Truro
ATTACH;FMTTYPE=image/png:https://www.lovemylibrary.ca/wp-content/uploads/2022/10/Untitled-design-53.png
END:VEVENT
BEGIN:VEVENT
DTSTART;TZID=America/Halifax:20250424T173000
DTEND;TZID=America/Halifax:20250424T190000
DTSTAMP:20260422T145105
CREATED:20241121T160922Z
LAST-MODIFIED:20250419T174854Z
UID:10011330-1745515800-1745521200@www.lovemylibrary.ca
SUMMARY:Dungeons and Dragons
DESCRIPTION:Join the action and adventure as we explore fantastic worlds. We are beginner friendly.  A safe and inclusive environment. For ages 9-13 \nTo register\, email stewiacke@cehpubliclibrary.ca
URL:https://www.lovemylibrary.ca/event/dungeons-and-dragons-8/2025-04-24/
LOCATION:Stewiacke Library\, 295 George Street\, Stewiacke\, Nova Scotia\, Canada
CATEGORIES:Events For Teens,Location: Stewiacke
ATTACH;FMTTYPE=image/png:https://www.lovemylibrary.ca/wp-content/uploads/2022/06/D-and-D.png
END:VEVENT
BEGIN:VEVENT
DTSTART;TZID=America/Halifax:20250426T100000
DTEND;TZID=America/Halifax:20250426T120000
DTSTAMP:20260422T145105
CREATED:20250423T225034Z
LAST-MODIFIED:20250423T225143Z
UID:10011915-1745661600-1745668800@www.lovemylibrary.ca
SUMMARY:Celebrate 75 Years with Your Library
DESCRIPTION:It’s Colchester-East Hants Public Library’s diamond jubilee and we’re having a party! Join us at the Mount Uniacke Library as we celebrate 75 years of books\, technology\, and community. There will be cake\, door prizes\, entertainment\, and more! \nOur musical guest is Mary Beth Carty\, winner of the 2024 Canadian Folk Music Award for Traditional Singer of the Year. She performs original and ancient music rooted in the rich traditions of her Nova Scotian home. Born in Antigonish County\, she blends the sounds of her Gaelic heritage with multicultural influences\, soulfully accompanying herself on accordion\, guitar\, and wooden rhythm bones. \nAll Ages. This is a drop-in program\, no registration required.
URL:https://www.lovemylibrary.ca/event/celebrate-75-years-with-your-library/
LOCATION:Mount Uniacke Library\, 555\, Highway 1\, Mount Uniacke\, Nova Scotia\, Canada
CATEGORIES:Events For Adults,Events For Kids,Events For Seniors,Events For Teens,Location: Mount Uniacke
ATTACH;FMTTYPE=image/png:https://www.lovemylibrary.ca/wp-content/uploads/2025/04/Untitled-design-18-1.png
END:VEVENT
END:VCALENDAR