BEGIN:VCALENDAR
VERSION:2.0
PRODID:-//Colchester East Hants Public Library - ECPv6.15.20//NONSGML v1.0//EN
CALSCALE:GREGORIAN
METHOD:PUBLISH
X-WR-CALNAME:Colchester East Hants Public Library
X-ORIGINAL-URL:https://www.lovemylibrary.ca
X-WR-CALDESC:Events for Colchester East Hants Public Library
REFRESH-INTERVAL;VALUE=DURATION:PT1H
X-Robots-Tag:noindex
X-PUBLISHED-TTL:PT1H
BEGIN:VTIMEZONE
TZID:America/Halifax
BEGIN:DAYLIGHT
TZOFFSETFROM:-0400
TZOFFSETTO:-0300
TZNAME:ADT
DTSTART:20240310T060000
END:DAYLIGHT
BEGIN:STANDARD
TZOFFSETFROM:-0300
TZOFFSETTO:-0400
TZNAME:AST
DTSTART:20241103T050000
END:STANDARD
BEGIN:DAYLIGHT
TZOFFSETFROM:-0400
TZOFFSETTO:-0300
TZNAME:ADT
DTSTART:20250309T060000
END:DAYLIGHT
BEGIN:STANDARD
TZOFFSETFROM:-0300
TZOFFSETTO:-0400
TZNAME:AST
DTSTART:20251102T050000
END:STANDARD
BEGIN:DAYLIGHT
TZOFFSETFROM:-0400
TZOFFSETTO:-0300
TZNAME:ADT
DTSTART:20260308T060000
END:DAYLIGHT
BEGIN:STANDARD
TZOFFSETFROM:-0300
TZOFFSETTO:-0400
TZNAME:AST
DTSTART:20261101T050000
END:STANDARD
END:VTIMEZONE
BEGIN:VEVENT
DTSTART;TZID=America/Halifax:20250603T150000
DTEND;TZID=America/Halifax:20250603T163000
DTSTAMP:20260421T120125
CREATED:20241213T191147Z
LAST-MODIFIED:20250509T192439Z
UID:10011924-1748962800-1748968200@www.lovemylibrary.ca
SUMMARY:Teen Room Drop In
DESCRIPTION:Come hang out! Grab a snack\, play our Nintendo Switch\, challenge your friends to a board game\, build with Lego\, or make art!  Ages 13-18 \nThis is a drop-in program. No registration is required.
URL:https://www.lovemylibrary.ca/event/teen-room-drop-in-5/2025-06-03/
LOCATION:Truro Library\, 754 Prince St\, Truro\, Nova Scotia\, Canada
CATEGORIES:Events For Teens,Location: Truro
ATTACH;FMTTYPE=image/png:https://www.lovemylibrary.ca/wp-content/uploads/2022/10/Untitled-design-53.png
END:VEVENT
BEGIN:VEVENT
DTSTART;TZID=America/Halifax:20250603T150000
DTEND;TZID=America/Halifax:20250603T170000
DTSTAMP:20260421T120125
CREATED:20250419T163700Z
LAST-MODIFIED:20250929T191526Z
UID:10012105-1748962800-1748970000@www.lovemylibrary.ca
SUMMARY:Dungeons and Dragons
DESCRIPTION:“Join us for an epic Dungeons & Dragons game night! Roll dice\, slay monsters\, and embark on thrilling adventures with friends. Whether you’re a seasoned hero or a curious newbie\, there’s a spot for you at the table!” For ages 13-24 \n\nPre-Register in person or by phone: (902) 657-3064\, or email: tatamago@cehpubliclibrary.ca
URL:https://www.lovemylibrary.ca/event/dd-2/2025-06-03/
LOCATION:Tatamagouche Library\, 170 Main Street\, Tatamagouche\, Nova Scotia\, Canada
CATEGORIES:Events For Adults,Events For Teens,Location: Tatamagouche
ATTACH;FMTTYPE=image/png:https://www.lovemylibrary.ca/wp-content/uploads/2024/11/Untitled-design-1.png
END:VEVENT
BEGIN:VEVENT
DTSTART;TZID=America/Halifax:20250603T173000
DTEND;TZID=America/Halifax:20250603T200000
DTSTAMP:20260421T120125
CREATED:20250324T180428Z
LAST-MODIFIED:20250801T174610Z
UID:10012139-1748971800-1748980800@www.lovemylibrary.ca
SUMMARY:Heroes & Adventurers
DESCRIPTION:Role-playing game nights with extraordinary people! We provide the supplies\, you provide the imagination. No experience needed. All welcome! \nRegister to play by emailing: HAATruro@gmail.com Sorry\, no drop-in players at this time.
URL:https://www.lovemylibrary.ca/event/heroes-adventurers-14-2/2025-06-03/
LOCATION:Truro Library\, 754 Prince St\, Truro\, Nova Scotia\, Canada
CATEGORIES:Events For Adults,Events For Kids,Events For Seniors,Events For Teens,Location: Truro
ATTACH;FMTTYPE=image/png:https://www.lovemylibrary.ca/wp-content/uploads/2022/06/D-and-D.png
END:VEVENT
BEGIN:VEVENT
DTSTART;TZID=America/Halifax:20250604T150000
DTEND;TZID=America/Halifax:20250604T163000
DTSTAMP:20260421T120125
CREATED:20241213T191147Z
LAST-MODIFIED:20250509T192439Z
UID:10011925-1749049200-1749054600@www.lovemylibrary.ca
SUMMARY:Teen Room Drop In
DESCRIPTION:Come hang out! Grab a snack\, play our Nintendo Switch\, challenge your friends to a board game\, build with Lego\, or make art!  Ages 13-18 \nThis is a drop-in program. No registration is required.
URL:https://www.lovemylibrary.ca/event/teen-room-drop-in-5/2025-06-04/
LOCATION:Truro Library\, 754 Prince St\, Truro\, Nova Scotia\, Canada
CATEGORIES:Events For Teens,Location: Truro
ATTACH;FMTTYPE=image/png:https://www.lovemylibrary.ca/wp-content/uploads/2022/10/Untitled-design-53.png
END:VEVENT
BEGIN:VEVENT
DTSTART;TZID=America/Halifax:20250605T150000
DTEND;TZID=America/Halifax:20250605T163000
DTSTAMP:20260421T120125
CREATED:20241213T191147Z
LAST-MODIFIED:20250509T192439Z
UID:10011926-1749135600-1749141000@www.lovemylibrary.ca
SUMMARY:Teen Room Drop In
DESCRIPTION:Come hang out! Grab a snack\, play our Nintendo Switch\, challenge your friends to a board game\, build with Lego\, or make art!  Ages 13-18 \nThis is a drop-in program. No registration is required.
URL:https://www.lovemylibrary.ca/event/teen-room-drop-in-5/2025-06-05/
LOCATION:Truro Library\, 754 Prince St\, Truro\, Nova Scotia\, Canada
CATEGORIES:Events For Teens,Location: Truro
ATTACH;FMTTYPE=image/png:https://www.lovemylibrary.ca/wp-content/uploads/2022/10/Untitled-design-53.png
END:VEVENT
BEGIN:VEVENT
DTSTART;TZID=America/Halifax:20250610T150000
DTEND;TZID=America/Halifax:20250610T163000
DTSTAMP:20260421T120125
CREATED:20241213T191147Z
LAST-MODIFIED:20250509T192439Z
UID:10011927-1749567600-1749573000@www.lovemylibrary.ca
SUMMARY:Teen Room Drop In
DESCRIPTION:Come hang out! Grab a snack\, play our Nintendo Switch\, challenge your friends to a board game\, build with Lego\, or make art!  Ages 13-18 \nThis is a drop-in program. No registration is required.
URL:https://www.lovemylibrary.ca/event/teen-room-drop-in-5/2025-06-10/
LOCATION:Truro Library\, 754 Prince St\, Truro\, Nova Scotia\, Canada
CATEGORIES:Events For Teens,Location: Truro
ATTACH;FMTTYPE=image/png:https://www.lovemylibrary.ca/wp-content/uploads/2022/10/Untitled-design-53.png
END:VEVENT
BEGIN:VEVENT
DTSTART;TZID=America/Halifax:20250610T150000
DTEND;TZID=America/Halifax:20250610T170000
DTSTAMP:20260421T120125
CREATED:20250419T163700Z
LAST-MODIFIED:20250929T191526Z
UID:10012106-1749567600-1749574800@www.lovemylibrary.ca
SUMMARY:Dungeons and Dragons
DESCRIPTION:“Join us for an epic Dungeons & Dragons game night! Roll dice\, slay monsters\, and embark on thrilling adventures with friends. Whether you’re a seasoned hero or a curious newbie\, there’s a spot for you at the table!” For ages 13-24 \n\nPre-Register in person or by phone: (902) 657-3064\, or email: tatamago@cehpubliclibrary.ca
URL:https://www.lovemylibrary.ca/event/dd-2/2025-06-10/
LOCATION:Tatamagouche Library\, 170 Main Street\, Tatamagouche\, Nova Scotia\, Canada
CATEGORIES:Events For Adults,Events For Teens,Location: Tatamagouche
ATTACH;FMTTYPE=image/png:https://www.lovemylibrary.ca/wp-content/uploads/2024/11/Untitled-design-1.png
END:VEVENT
BEGIN:VEVENT
DTSTART;TZID=America/Halifax:20250610T173000
DTEND;TZID=America/Halifax:20250610T200000
DTSTAMP:20260421T120125
CREATED:20250324T180428Z
LAST-MODIFIED:20250801T174610Z
UID:10012140-1749576600-1749585600@www.lovemylibrary.ca
SUMMARY:Heroes & Adventurers
DESCRIPTION:Role-playing game nights with extraordinary people! We provide the supplies\, you provide the imagination. No experience needed. All welcome! \nRegister to play by emailing: HAATruro@gmail.com Sorry\, no drop-in players at this time.
URL:https://www.lovemylibrary.ca/event/heroes-adventurers-14-2/2025-06-10/
LOCATION:Truro Library\, 754 Prince St\, Truro\, Nova Scotia\, Canada
CATEGORIES:Events For Adults,Events For Kids,Events For Seniors,Events For Teens,Location: Truro
ATTACH;FMTTYPE=image/png:https://www.lovemylibrary.ca/wp-content/uploads/2022/06/D-and-D.png
END:VEVENT
BEGIN:VEVENT
DTSTART;TZID=America/Halifax:20250611T150000
DTEND;TZID=America/Halifax:20250611T163000
DTSTAMP:20260421T120125
CREATED:20241213T191147Z
LAST-MODIFIED:20250509T192439Z
UID:10011928-1749654000-1749659400@www.lovemylibrary.ca
SUMMARY:Teen Room Drop In
DESCRIPTION:Come hang out! Grab a snack\, play our Nintendo Switch\, challenge your friends to a board game\, build with Lego\, or make art!  Ages 13-18 \nThis is a drop-in program. No registration is required.
URL:https://www.lovemylibrary.ca/event/teen-room-drop-in-5/2025-06-11/
LOCATION:Truro Library\, 754 Prince St\, Truro\, Nova Scotia\, Canada
CATEGORIES:Events For Teens,Location: Truro
ATTACH;FMTTYPE=image/png:https://www.lovemylibrary.ca/wp-content/uploads/2022/10/Untitled-design-53.png
END:VEVENT
BEGIN:VEVENT
DTSTART;TZID=America/Halifax:20250613T130000
DTEND;TZID=America/Halifax:20250613T150000
DTSTAMP:20260421T120125
CREATED:20240320T164525Z
LAST-MODIFIED:20250613T163450Z
UID:10011899-1749819600-1749826800@www.lovemylibrary.ca
SUMMARY:Homeschoolers Hangout
DESCRIPTION:Learn and explore at the library! We want to be part of your education experience. \nIn person\, drop in. Please call (902) 883-9838 or email elmsdale@cehpubliclibrary.ca for more details
URL:https://www.lovemylibrary.ca/event/homeschoolers-hangout-2-2/2025-06-13/
LOCATION:Elmsdale Library\, 15 Commerce Ct\, Elmsdale\, Nova Scotia\, Canada
CATEGORIES:Events For Kids,Events For Teens,Location: Elmsdale
ATTACH;FMTTYPE=image/png:https://www.lovemylibrary.ca/wp-content/uploads/2022/07/Untitled-design-9.png
END:VEVENT
BEGIN:VEVENT
DTSTART;VALUE=DATE:20250614
DTEND;VALUE=DATE:20250615
DTSTAMP:20260421T120125
CREATED:20250514T203855Z
LAST-MODIFIED:20250514T204042Z
UID:10012029-1749859200-1749945599@www.lovemylibrary.ca
SUMMARY:A Day for Dad at the Library
DESCRIPTION:Celebrate Father’s Day at the Library! We have tons of LEGO and board games for you to enjoy time with Dad or that special someone in your life. \nIn-Person\, drop in. Please call 902-883-9838\, or email elmsdale@cehpubliclibrary.ca for more details.
URL:https://www.lovemylibrary.ca/event/a-day-for-dad-at-the-library/
LOCATION:Elmsdale Library\, 15 Commerce Ct\, Elmsdale\, Nova Scotia\, Canada
CATEGORIES:Events For Adults,Events For Kids,Events For Seniors,Events For Teens,Location: Elmsdale
ATTACH;FMTTYPE=image/jpeg:https://www.lovemylibrary.ca/wp-content/uploads/2025/05/pexels-timmossholder-4618654-scaled.jpg
END:VEVENT
BEGIN:VEVENT
DTSTART;TZID=America/Halifax:20250617T150000
DTEND;TZID=America/Halifax:20250617T170000
DTSTAMP:20260421T120125
CREATED:20250419T163700Z
LAST-MODIFIED:20250929T191526Z
UID:10012107-1750172400-1750179600@www.lovemylibrary.ca
SUMMARY:Dungeons and Dragons
DESCRIPTION:“Join us for an epic Dungeons & Dragons game night! Roll dice\, slay monsters\, and embark on thrilling adventures with friends. Whether you’re a seasoned hero or a curious newbie\, there’s a spot for you at the table!” For ages 13-24 \n\nPre-Register in person or by phone: (902) 657-3064\, or email: tatamago@cehpubliclibrary.ca
URL:https://www.lovemylibrary.ca/event/dd-2/2025-06-17/
LOCATION:Tatamagouche Library\, 170 Main Street\, Tatamagouche\, Nova Scotia\, Canada
CATEGORIES:Events For Adults,Events For Teens,Location: Tatamagouche
ATTACH;FMTTYPE=image/png:https://www.lovemylibrary.ca/wp-content/uploads/2024/11/Untitled-design-1.png
END:VEVENT
BEGIN:VEVENT
DTSTART;TZID=America/Halifax:20250617T163000
DTEND;TZID=America/Halifax:20250617T180000
DTSTAMP:20260421T120125
CREATED:20241213T203859Z
LAST-MODIFIED:20250509T192208Z
UID:10011952-1750177800-1750183200@www.lovemylibrary.ca
SUMMARY:Cram Café
DESCRIPTION:Drop by the Truro Library teen room for a peaceful place to study for your exams. Snacks\, fidgets\, and basic school supplies provided. For ages 13-18 \nThis is a drop in program. No registration is required.
URL:https://www.lovemylibrary.ca/event/exam-cram-cafe/2025-06-17/
LOCATION:Truro Library\, 754 Prince St\, Truro\, Nova Scotia\, Canada
CATEGORIES:Events For Teens,Location: Truro
ATTACH;FMTTYPE=image/png:https://www.lovemylibrary.ca/wp-content/uploads/2024/12/Untitled-design-2024-12-13T163934.363.png
END:VEVENT
BEGIN:VEVENT
DTSTART;TZID=America/Halifax:20250617T173000
DTEND;TZID=America/Halifax:20250617T200000
DTSTAMP:20260421T120125
CREATED:20250324T180428Z
LAST-MODIFIED:20250801T174610Z
UID:10012141-1750181400-1750190400@www.lovemylibrary.ca
SUMMARY:Heroes & Adventurers
DESCRIPTION:Role-playing game nights with extraordinary people! We provide the supplies\, you provide the imagination. No experience needed. All welcome! \nRegister to play by emailing: HAATruro@gmail.com Sorry\, no drop-in players at this time.
URL:https://www.lovemylibrary.ca/event/heroes-adventurers-14-2/2025-06-17/
LOCATION:Truro Library\, 754 Prince St\, Truro\, Nova Scotia\, Canada
CATEGORIES:Events For Adults,Events For Kids,Events For Seniors,Events For Teens,Location: Truro
ATTACH;FMTTYPE=image/png:https://www.lovemylibrary.ca/wp-content/uploads/2022/06/D-and-D.png
END:VEVENT
BEGIN:VEVENT
DTSTART;TZID=America/Halifax:20250617T183000
DTEND;TZID=America/Halifax:20250617T193000
DTSTAMP:20260421T120125
CREATED:20250524T152337Z
LAST-MODIFIED:20250524T152337Z
UID:10012149-1750185000-1750188600@www.lovemylibrary.ca
SUMMARY:Teen Hang Out -  Noodle Bowl Edition
DESCRIPTION:Experiment with ways to amp up a pack of instant noodles. Music and games as always. \nAges 13-18. \nRegister: stewiacke@cehpubliclibrary.ca
URL:https://www.lovemylibrary.ca/event/teen-hang-out-noodle-bowl-edition/
LOCATION:Stewiacke Library\, 295 George Street\, Stewiacke\, Nova Scotia\, Canada
CATEGORIES:Events For Teens,Location: Stewiacke
ATTACH;FMTTYPE=image/png:https://www.lovemylibrary.ca/wp-content/uploads/2025/05/Untitled-design-23.png
END:VEVENT
BEGIN:VEVENT
DTSTART;TZID=America/Halifax:20250618T163000
DTEND;TZID=America/Halifax:20250618T173000
DTSTAMP:20260421T120125
CREATED:20250506T175012Z
LAST-MODIFIED:20250509T192558Z
UID:10011920-1750264200-1750267800@www.lovemylibrary.ca
SUMMARY:Teen Pride Party
DESCRIPTION:Head to the Teen Room for a Pride celebration! Get ready for the parade with buttons and bracelets and enjoy a rainbow snack. For ages 13-18 \nThis is a drop in program. No registration is required.
URL:https://www.lovemylibrary.ca/event/pride-party/
LOCATION:Truro Library\, 754 Prince St\, Truro\, Nova Scotia\, Canada
CATEGORIES:Events For Teens,Location: Truro
ATTACH;FMTTYPE=image/png:https://www.lovemylibrary.ca/wp-content/uploads/2025/05/Untitled-design-2025-05-06T145215.713.png
END:VEVENT
BEGIN:VEVENT
DTSTART;TZID=America/Halifax:20250618T163000
DTEND;TZID=America/Halifax:20250618T180000
DTSTAMP:20260421T120125
CREATED:20241213T203859Z
LAST-MODIFIED:20250509T192208Z
UID:10011953-1750264200-1750269600@www.lovemylibrary.ca
SUMMARY:Cram Café
DESCRIPTION:Drop by the Truro Library teen room for a peaceful place to study for your exams. Snacks\, fidgets\, and basic school supplies provided. For ages 13-18 \nThis is a drop in program. No registration is required.
URL:https://www.lovemylibrary.ca/event/exam-cram-cafe/2025-06-18/
LOCATION:Truro Library\, 754 Prince St\, Truro\, Nova Scotia\, Canada
CATEGORIES:Events For Teens,Location: Truro
ATTACH;FMTTYPE=image/png:https://www.lovemylibrary.ca/wp-content/uploads/2024/12/Untitled-design-2024-12-13T163934.363.png
END:VEVENT
BEGIN:VEVENT
DTSTART;TZID=America/Halifax:20250619T163000
DTEND;TZID=America/Halifax:20250619T180000
DTSTAMP:20260421T120125
CREATED:20241213T203859Z
LAST-MODIFIED:20250509T192208Z
UID:10011954-1750350600-1750356000@www.lovemylibrary.ca
SUMMARY:Cram Café
DESCRIPTION:Drop by the Truro Library teen room for a peaceful place to study for your exams. Snacks\, fidgets\, and basic school supplies provided. For ages 13-18 \nThis is a drop in program. No registration is required.
URL:https://www.lovemylibrary.ca/event/exam-cram-cafe/2025-06-19/
LOCATION:Truro Library\, 754 Prince St\, Truro\, Nova Scotia\, Canada
CATEGORIES:Events For Teens,Location: Truro
ATTACH;FMTTYPE=image/png:https://www.lovemylibrary.ca/wp-content/uploads/2024/12/Untitled-design-2024-12-13T163934.363.png
END:VEVENT
BEGIN:VEVENT
DTSTART;TZID=America/Halifax:20250621T110000
DTEND;TZID=America/Halifax:20250621T140000
DTSTAMP:20260421T120125
CREATED:20250514T223714Z
LAST-MODIFIED:20250514T223714Z
UID:10012036-1750503600-1750514400@www.lovemylibrary.ca
SUMMARY:Summer Reading Club Kick Off Party!
DESCRIPTION:Let’s celebrate! Help us kick off the summer with a party! A perfect time to sign up for summer reading while having fun! There will be a scavenger hunt\, paper bag kite craft\, LEGO\, snacks and more! We can’t wait to see you at the library! \nIn-person. Drop in. For more details\, please call 902-883-9838 or email us at elmsdale@cehpubliclibrary.ca
URL:https://www.lovemylibrary.ca/event/summer-reading-club-kick-off-party/
LOCATION:Elmsdale Library\, 15 Commerce Ct\, Elmsdale\, Nova Scotia\, Canada
CATEGORIES:Events For Kids,Events For Teens,Location: Elmsdale
ATTACH;FMTTYPE=image/png:https://www.lovemylibrary.ca/wp-content/uploads/2025/05/Untitled-design-20.png
END:VEVENT
BEGIN:VEVENT
DTSTART;TZID=America/Halifax:20250624T140000
DTEND;TZID=America/Halifax:20250624T160000
DTSTAMP:20260421T120125
CREATED:20241016T172344Z
LAST-MODIFIED:20250524T161318Z
UID:10012154-1750773600-1750780800@www.lovemylibrary.ca
SUMMARY:Maggie’s Crochet Club
DESCRIPTION:Crocheting is the perfect hobby for all ages. \n\nHave an afternoon snack and enjoy camaraderie and friendship.\nLearn a new skill or perfect your technique.\n\nAll skill levels welcome. Ages 8 and up. \nDrop in. No registration is required.
URL:https://www.lovemylibrary.ca/event/maggies-crochet-club-2-3/2025-06-24/
LOCATION:Stewiacke Library\, 295 George Street\, Stewiacke\, Nova Scotia\, Canada
CATEGORIES:Crafting,Events For Adults,Events For Kids,Events For Seniors,Events For Teens,Location: Stewiacke
ATTACH;FMTTYPE=image/png:https://www.lovemylibrary.ca/wp-content/uploads/2022/12/Untitled-design-33.png
END:VEVENT
BEGIN:VEVENT
DTSTART;TZID=America/Halifax:20250624T150000
DTEND;TZID=America/Halifax:20250624T170000
DTSTAMP:20260421T120125
CREATED:20250419T163700Z
LAST-MODIFIED:20250929T191526Z
UID:10012108-1750777200-1750784400@www.lovemylibrary.ca
SUMMARY:Dungeons and Dragons
DESCRIPTION:“Join us for an epic Dungeons & Dragons game night! Roll dice\, slay monsters\, and embark on thrilling adventures with friends. Whether you’re a seasoned hero or a curious newbie\, there’s a spot for you at the table!” For ages 13-24 \n\nPre-Register in person or by phone: (902) 657-3064\, or email: tatamago@cehpubliclibrary.ca
URL:https://www.lovemylibrary.ca/event/dd-2/2025-06-24/
LOCATION:Tatamagouche Library\, 170 Main Street\, Tatamagouche\, Nova Scotia\, Canada
CATEGORIES:Events For Adults,Events For Teens,Location: Tatamagouche
ATTACH;FMTTYPE=image/png:https://www.lovemylibrary.ca/wp-content/uploads/2024/11/Untitled-design-1.png
END:VEVENT
BEGIN:VEVENT
DTSTART;TZID=America/Halifax:20250624T173000
DTEND;TZID=America/Halifax:20250624T200000
DTSTAMP:20260421T120125
CREATED:20250324T180428Z
LAST-MODIFIED:20250801T174610Z
UID:10012142-1750786200-1750795200@www.lovemylibrary.ca
SUMMARY:Heroes & Adventurers
DESCRIPTION:Role-playing game nights with extraordinary people! We provide the supplies\, you provide the imagination. No experience needed. All welcome! \nRegister to play by emailing: HAATruro@gmail.com Sorry\, no drop-in players at this time.
URL:https://www.lovemylibrary.ca/event/heroes-adventurers-14-2/2025-06-24/
LOCATION:Truro Library\, 754 Prince St\, Truro\, Nova Scotia\, Canada
CATEGORIES:Events For Adults,Events For Kids,Events For Seniors,Events For Teens,Location: Truro
ATTACH;FMTTYPE=image/png:https://www.lovemylibrary.ca/wp-content/uploads/2022/06/D-and-D.png
END:VEVENT
BEGIN:VEVENT
DTSTART;TZID=America/Halifax:20250628T123000
DTEND;TZID=America/Halifax:20250628T140000
DTSTAMP:20260421T120125
CREATED:20250515T123416Z
LAST-MODIFIED:20250919T182042Z
UID:10012242-1751113800-1751119200@www.lovemylibrary.ca
SUMMARY:Video Game Club
DESCRIPTION:Join us once a month to play games like Mario Kart and Super Smash Bros\, sample some indie games\, trade Pokémon\, and catch the latest in gaming news – all at your local library! For tweens/teens \nIn-Person\, drop in – For more information\, please call 902-883-9838 or email us at elmsdale@cehpubliclibrary.ca
URL:https://www.lovemylibrary.ca/event/video-game-club-3-2/2025-06-28/
LOCATION:Elmsdale Library\, 15 Commerce Ct\, Elmsdale\, Nova Scotia\, Canada
CATEGORIES:Events For Kids,Events For Teens,Location: Elmsdale
ATTACH;FMTTYPE=image/png:https://www.lovemylibrary.ca/wp-content/uploads/2023/04/Untitled-design-30.png
END:VEVENT
BEGIN:VEVENT
DTSTART;TZID=America/Halifax:20250628T180000
DTEND;TZID=America/Halifax:20250628T193000
DTSTAMP:20260421T120125
CREATED:20250524T161141Z
LAST-MODIFIED:20250619T194126Z
UID:10012153-1751133600-1751139000@www.lovemylibrary.ca
SUMMARY:Family Forts After Hours
DESCRIPTION:Do you have fond memories of rainy days spent draping mismatched sheets and blankets over tables and couches to create the perfect indoor forts as a child? Now you can take it up a notch with your whole family at the library after hours! Supplies provided\, but feel free to bring your own sheets\, blankets and pillows. \nColchester-East Hants Public Library recognizes the support of the Province of Nova Scotia. We are pleased to work in partnership with the Department of Communities\, Culture\, Tourism and Heritage to develop and promote our cultural resources for all Nova Scotians. \nAll ages. In person. Drop in: no registration necessary
URL:https://www.lovemylibrary.ca/event/family-forts-after-hours/
LOCATION:Stewiacke Library\, 295 George Street\, Stewiacke\, Nova Scotia\, Canada
CATEGORIES:Events For Adults,Events For Kids,Events For Seniors,Events For Teens,Location: Stewiacke
ATTACH;FMTTYPE=image/png:https://www.lovemylibrary.ca/wp-content/uploads/2025/05/Untitled-design-27.png
END:VEVENT
END:VCALENDAR