BEGIN:VCALENDAR
VERSION:2.0
PRODID:-//Colchester East Hants Public Library - ECPv6.15.20//NONSGML v1.0//EN
CALSCALE:GREGORIAN
METHOD:PUBLISH
X-WR-CALNAME:Colchester East Hants Public Library
X-ORIGINAL-URL:https://www.lovemylibrary.ca
X-WR-CALDESC:Events for Colchester East Hants Public Library
REFRESH-INTERVAL;VALUE=DURATION:PT1H
X-Robots-Tag:noindex
X-PUBLISHED-TTL:PT1H
BEGIN:VTIMEZONE
TZID:America/Halifax
BEGIN:DAYLIGHT
TZOFFSETFROM:-0400
TZOFFSETTO:-0300
TZNAME:ADT
DTSTART:20220313T060000
END:DAYLIGHT
BEGIN:STANDARD
TZOFFSETFROM:-0300
TZOFFSETTO:-0400
TZNAME:AST
DTSTART:20221106T050000
END:STANDARD
BEGIN:DAYLIGHT
TZOFFSETFROM:-0400
TZOFFSETTO:-0300
TZNAME:ADT
DTSTART:20230312T060000
END:DAYLIGHT
BEGIN:STANDARD
TZOFFSETFROM:-0300
TZOFFSETTO:-0400
TZNAME:AST
DTSTART:20231105T050000
END:STANDARD
BEGIN:DAYLIGHT
TZOFFSETFROM:-0400
TZOFFSETTO:-0300
TZNAME:ADT
DTSTART:20240310T060000
END:DAYLIGHT
BEGIN:STANDARD
TZOFFSETFROM:-0300
TZOFFSETTO:-0400
TZNAME:AST
DTSTART:20241103T050000
END:STANDARD
END:VTIMEZONE
BEGIN:VEVENT
DTSTART;TZID=America/Halifax:20230801T140000
DTEND;TZID=America/Halifax:20230801T150000
DTSTAMP:20260426T005417
CREATED:20230630T144239Z
LAST-MODIFIED:20230630T144239Z
UID:10004697-1690898400-1690902000@www.lovemylibrary.ca
SUMMARY:Board Game Club
DESCRIPTION:Let’s mix it up and have some fun with awesome board games. For ages 8-14 \nRegistration by phone 902-657-3064 or email: tatamago@cehpubliclibrary.ca
URL:https://www.lovemylibrary.ca/event/board-game-club/2023-08-01/
LOCATION:Tatamagouche Library\, 170 Main Street\, Tatamagouche\, Nova Scotia\, Canada
CATEGORIES:Events For Kids,Events For Teens,Location: Tatamagouche
ATTACH;FMTTYPE=image/png:https://www.lovemylibrary.ca/wp-content/uploads/2023/06/Untitled-design-2023-06-30T114818.275.png
END:VEVENT
BEGIN:VEVENT
DTSTART;TZID=America/Halifax:20230801T140000
DTEND;TZID=America/Halifax:20230801T160000
DTSTAMP:20260426T005417
CREATED:20230613T203815Z
LAST-MODIFIED:20230613T203815Z
UID:10004524-1690898400-1690905600@www.lovemylibrary.ca
SUMMARY:Teen Room Drop In
DESCRIPTION:Get out of the sun this summer in the newly reopened Teen Room!  Grab a snack\, play some games\, make art\, or just hang out with old friends or new ones! For ages 13-18 \nThis is a drop in program. No registration is required.
URL:https://www.lovemylibrary.ca/event/teen-room-drop-in-2/2023-08-01/
LOCATION:Truro Library\, 754 Prince St\, Truro\, Nova Scotia\, Canada
CATEGORIES:Events For Teens,Location: Truro
ATTACH;FMTTYPE=image/png:https://www.lovemylibrary.ca/wp-content/uploads/2023/06/Untitled-design-78.png
END:VEVENT
BEGIN:VEVENT
DTSTART;TZID=America/Halifax:20230801T173000
DTEND;TZID=America/Halifax:20230801T193000
DTSTAMP:20260426T005417
CREATED:20230614T193807Z
LAST-MODIFIED:20230704T185547Z
UID:10004643-1690911000-1690918200@www.lovemylibrary.ca
SUMMARY:Dungeons & Dragons (Youth)
DESCRIPTION:Ready to embark on a fantasy adventure? Join us at the Elmsdale library for action\, drama\, and dice! No experience required; all materials provided! For ages 10-13 \nRegistration required.  Please call at 902-883-9838 or email us at elmsdale@cehpubliclibrary.ca to register 
URL:https://www.lovemylibrary.ca/event/dungeons-dragons-youth/2023-08-01/
LOCATION:Elmsdale Library\, 15 Commerce Ct\, Elmsdale\, Nova Scotia\, Canada
CATEGORIES:Events For Kids,Events For Teens,Location: Elmsdale
ATTACH;FMTTYPE=image/png:https://www.lovemylibrary.ca/wp-content/uploads/2022/06/D-and-D.png
END:VEVENT
BEGIN:VEVENT
DTSTART;TZID=America/Halifax:20230802T110000
DTEND;TZID=America/Halifax:20230802T120000
DTSTAMP:20260426T005417
CREATED:20230614T194611Z
LAST-MODIFIED:20230628T192918Z
UID:10004648-1690974000-1690977600@www.lovemylibrary.ca
SUMMARY:Youth Writing Circle
DESCRIPTION:Do you enjoy writing?  Meet us at the library to share your stories and hone your craft. For ages 9-14 \nThis is a drop in program. No registration is required. For details\, please call 902-883-9838 or email us at elmsdale@cehpubliclibrary.ca
URL:https://www.lovemylibrary.ca/event/youth-writing-circle/2023-08-02/
LOCATION:Nova Scotia
CATEGORIES:Events For Kids,Events For Teens,Location: Elmsdale
ATTACH;FMTTYPE=image/png:https://www.lovemylibrary.ca/wp-content/uploads/2023/06/Untitled-design-93-1.png
END:VEVENT
BEGIN:VEVENT
DTSTART;TZID=America/Halifax:20230802T183000
DTEND;TZID=America/Halifax:20230802T193000
DTSTAMP:20260426T005417
CREATED:20230629T174153Z
LAST-MODIFIED:20230629T174153Z
UID:10004662-1691001000-1691004600@www.lovemylibrary.ca
SUMMARY:Heartstopper Night
DESCRIPTION:It’s official: Heartstopper season two is on its way\, and our favourite characters are headed to Paris! Share in the excitement with snacks\, crafts\, book recommendations\, and more. For ages 13-18. \nNo registration required.
URL:https://www.lovemylibrary.ca/event/heartstopper-night/
LOCATION:Truro Library\, 754 Prince St\, Truro\, Nova Scotia\, Canada
CATEGORIES:Events For Teens,Location: Truro
ATTACH;FMTTYPE=image/png:https://www.lovemylibrary.ca/wp-content/uploads/2023/06/Untitled-design-2023-06-29T144737.804.png
END:VEVENT
BEGIN:VEVENT
DTSTART;TZID=America/Halifax:20230803T140000
DTEND;TZID=America/Halifax:20230803T150000
DTSTAMP:20260426T005417
CREATED:20230630T124955Z
LAST-MODIFIED:20230630T124955Z
UID:10004695-1691071200-1691074800@www.lovemylibrary.ca
SUMMARY:Tie Dye!
DESCRIPTION:We will show you have to make fun designs for tie dye! For ages 8-14 \nRegistration by phone 902-657-3064 or email: tatamago@cehpubliclibrary.ca
URL:https://www.lovemylibrary.ca/event/tie-dye/
LOCATION:Tatamagouche Library\, 170 Main Street\, Tatamagouche\, Nova Scotia\, Canada
CATEGORIES:Crafting,Events For Kids,Events For Teens,Location: Tatamagouche
ATTACH;FMTTYPE=image/png:https://www.lovemylibrary.ca/wp-content/uploads/2023/06/Untitled-design-2023-06-30T095536.264.png
END:VEVENT
BEGIN:VEVENT
DTSTART;TZID=America/Halifax:20230803T140000
DTEND;TZID=America/Halifax:20230803T160000
DTSTAMP:20260426T005417
CREATED:20230613T203815Z
LAST-MODIFIED:20230613T203815Z
UID:10004525-1691071200-1691078400@www.lovemylibrary.ca
SUMMARY:Teen Room Drop In
DESCRIPTION:Get out of the sun this summer in the newly reopened Teen Room!  Grab a snack\, play some games\, make art\, or just hang out with old friends or new ones! For ages 13-18 \nThis is a drop in program. No registration is required.
URL:https://www.lovemylibrary.ca/event/teen-room-drop-in-2/2023-08-03/
LOCATION:Truro Library\, 754 Prince St\, Truro\, Nova Scotia\, Canada
CATEGORIES:Events For Teens,Location: Truro
ATTACH;FMTTYPE=image/png:https://www.lovemylibrary.ca/wp-content/uploads/2023/06/Untitled-design-78.png
END:VEVENT
BEGIN:VEVENT
DTSTART;TZID=America/Halifax:20230804T100000
DTEND;TZID=America/Halifax:20230804T163000
DTSTAMP:20260426T005417
CREATED:20230612T194440Z
LAST-MODIFIED:20230628T143347Z
UID:10004629-1691143200-1691166600@www.lovemylibrary.ca
SUMMARY:Employment Services
DESCRIPTION:Need help getting hired or promoted? Learn to communicate your value and skills. Valerie Manuel\, Career Practitoner with Nova Scotia Works and YMCA of Greater Halifax/Dartmouth will be available to assist you. For ages 16+ \nDrop In or register at valerie.manuel@halifax.ymca.ca
URL:https://www.lovemylibrary.ca/event/employment-services-2/2023-08-04/
LOCATION:Stewiacke Library\, 295 George Street\, Stewiacke\, Nova Scotia\, Canada
CATEGORIES:Events For Adults,Events For Teens,Location: Stewiacke
ATTACH;FMTTYPE=image/png:https://www.lovemylibrary.ca/wp-content/uploads/2022/10/Untitled-design-49.png
END:VEVENT
BEGIN:VEVENT
DTSTART;TZID=America/Halifax:20230804T110000
DTEND;TZID=America/Halifax:20230804T130000
DTSTAMP:20260426T005417
CREATED:20230629T195714Z
LAST-MODIFIED:20230629T195714Z
UID:10004686-1691146800-1691154000@www.lovemylibrary.ca
SUMMARY:X-box games
DESCRIPTION:Take a break from outdoors and lets have fun playing active X-box games. For ages 8-14 \nThis is a drop in program. No registration is required.
URL:https://www.lovemylibrary.ca/event/x-box-games/2023-08-04/
LOCATION:Tatamagouche Library\, 170 Main Street\, Tatamagouche\, Nova Scotia\, Canada
CATEGORIES:Events For Kids,Events For Teens,Location: Tatamagouche
ATTACH;FMTTYPE=image/png:https://www.lovemylibrary.ca/wp-content/uploads/2023/06/Untitled-design-2023-06-29T170241.880.png
END:VEVENT
END:VCALENDAR