BEGIN:VCALENDAR
VERSION:2.0
PRODID:-//Colchester East Hants Public Library - ECPv6.15.20//NONSGML v1.0//EN
CALSCALE:GREGORIAN
METHOD:PUBLISH
X-ORIGINAL-URL:https://www.lovemylibrary.ca
X-WR-CALDESC:Events for Colchester East Hants Public Library
REFRESH-INTERVAL;VALUE=DURATION:PT1H
X-Robots-Tag:noindex
X-PUBLISHED-TTL:PT1H
BEGIN:VTIMEZONE
TZID:America/Halifax
BEGIN:DAYLIGHT
TZOFFSETFROM:-0400
TZOFFSETTO:-0300
TZNAME:ADT
DTSTART:20220313T060000
END:DAYLIGHT
BEGIN:STANDARD
TZOFFSETFROM:-0300
TZOFFSETTO:-0400
TZNAME:AST
DTSTART:20221106T050000
END:STANDARD
BEGIN:DAYLIGHT
TZOFFSETFROM:-0400
TZOFFSETTO:-0300
TZNAME:ADT
DTSTART:20230312T060000
END:DAYLIGHT
BEGIN:STANDARD
TZOFFSETFROM:-0300
TZOFFSETTO:-0400
TZNAME:AST
DTSTART:20231105T050000
END:STANDARD
BEGIN:DAYLIGHT
TZOFFSETFROM:-0400
TZOFFSETTO:-0300
TZNAME:ADT
DTSTART:20240310T060000
END:DAYLIGHT
BEGIN:STANDARD
TZOFFSETFROM:-0300
TZOFFSETTO:-0400
TZNAME:AST
DTSTART:20241103T050000
END:STANDARD
END:VTIMEZONE
BEGIN:VEVENT
DTSTART;TZID=America/Halifax:20230815T140000
DTEND;TZID=America/Halifax:20230815T150000
DTSTAMP:20260426T005510
CREATED:20230630T144239Z
LAST-MODIFIED:20230630T144239Z
UID:10004699-1692108000-1692111600@www.lovemylibrary.ca
SUMMARY:Board Game Club
DESCRIPTION:Let’s mix it up and have some fun with awesome board games. For ages 8-14 \nRegistration by phone 902-657-3064 or email: tatamago@cehpubliclibrary.ca
URL:https://www.lovemylibrary.ca/event/board-game-club/2023-08-15/
LOCATION:Tatamagouche Library\, 170 Main Street\, Tatamagouche\, Nova Scotia\, Canada
CATEGORIES:Events For Kids,Events For Teens,Location: Tatamagouche
ATTACH;FMTTYPE=image/png:https://www.lovemylibrary.ca/wp-content/uploads/2023/06/Untitled-design-2023-06-30T114818.275.png
END:VEVENT
BEGIN:VEVENT
DTSTART;TZID=America/Halifax:20230815T140000
DTEND;TZID=America/Halifax:20230815T160000
DTSTAMP:20260426T005510
CREATED:20230613T203815Z
LAST-MODIFIED:20230613T203815Z
UID:10004528-1692108000-1692115200@www.lovemylibrary.ca
SUMMARY:Teen Room Drop In
DESCRIPTION:Get out of the sun this summer in the newly reopened Teen Room!  Grab a snack\, play some games\, make art\, or just hang out with old friends or new ones! For ages 13-18 \nThis is a drop in program. No registration is required.
URL:https://www.lovemylibrary.ca/event/teen-room-drop-in-2/2023-08-15/
LOCATION:Truro Library\, 754 Prince St\, Truro\, Nova Scotia\, Canada
CATEGORIES:Events For Teens,Location: Truro
ATTACH;FMTTYPE=image/png:https://www.lovemylibrary.ca/wp-content/uploads/2023/06/Untitled-design-78.png
END:VEVENT
BEGIN:VEVENT
DTSTART;TZID=America/Halifax:20230815T173000
DTEND;TZID=America/Halifax:20230815T193000
DTSTAMP:20260426T005510
CREATED:20230614T193807Z
LAST-MODIFIED:20230704T185547Z
UID:10004645-1692120600-1692127800@www.lovemylibrary.ca
SUMMARY:Dungeons & Dragons (Youth)
DESCRIPTION:Ready to embark on a fantasy adventure? Join us at the Elmsdale library for action\, drama\, and dice! No experience required; all materials provided! For ages 10-13 \nRegistration required.  Please call at 902-883-9838 or email us at elmsdale@cehpubliclibrary.ca to register 
URL:https://www.lovemylibrary.ca/event/dungeons-dragons-youth/2023-08-15/
LOCATION:Elmsdale Library\, 15 Commerce Ct\, Elmsdale\, Nova Scotia\, Canada
CATEGORIES:Events For Kids,Events For Teens,Location: Elmsdale
ATTACH;FMTTYPE=image/png:https://www.lovemylibrary.ca/wp-content/uploads/2022/06/D-and-D.png
END:VEVENT
BEGIN:VEVENT
DTSTART;TZID=America/Halifax:20230816T110000
DTEND;TZID=America/Halifax:20230816T120000
DTSTAMP:20260426T005510
CREATED:20230614T194611Z
LAST-MODIFIED:20230628T192918Z
UID:10004650-1692183600-1692187200@www.lovemylibrary.ca
SUMMARY:Youth Writing Circle
DESCRIPTION:Do you enjoy writing?  Meet us at the library to share your stories and hone your craft. For ages 9-14 \nThis is a drop in program. No registration is required. For details\, please call 902-883-9838 or email us at elmsdale@cehpubliclibrary.ca
URL:https://www.lovemylibrary.ca/event/youth-writing-circle/2023-08-16/
LOCATION:Nova Scotia
CATEGORIES:Events For Kids,Events For Teens,Location: Elmsdale
ATTACH;FMTTYPE=image/png:https://www.lovemylibrary.ca/wp-content/uploads/2023/06/Untitled-design-93-1.png
END:VEVENT
BEGIN:VEVENT
DTSTART;TZID=America/Halifax:20230816T110000
DTEND;TZID=America/Halifax:20230816T120000
DTSTAMP:20260426T005510
CREATED:20230629T180045Z
LAST-MODIFIED:20230720T193829Z
UID:10004674-1692183600-1692187200@www.lovemylibrary.ca
SUMMARY:Discovery Centre Visit: Rethink\, Repair\, Reimagine
DESCRIPTION:They say\, ‘if it ain’t broke\, don’t fix it!’. But\, what if it is broken? How can we rethink what we buy\, repair what we have\, and reimagine what things could be? Join the Discovery Centre’s #GenAction team to get hands-on and be empowered with new skills! Together\, we’ll explore the materials that we buy\, use\, fix\, lose\, donate\, find\, and throw away. For ages 5+ \nNo registration required. Drop in!
URL:https://www.lovemylibrary.ca/event/discovery-centre-visit-creative-sustainability-2/
LOCATION:Tatamagouche Library\, 170 Main Street\, Tatamagouche\, Nova Scotia\, Canada
CATEGORIES:Events For Kids,Events For Teens,Location: Tatamagouche
ATTACH;FMTTYPE=image/png:https://www.lovemylibrary.ca/wp-content/uploads/2023/06/Untitled-design-2023-06-29T150459.860.png
END:VEVENT
BEGIN:VEVENT
DTSTART;TZID=America/Halifax:20230816T143000
DTEND;TZID=America/Halifax:20230816T190000
DTSTAMP:20260426T005510
CREATED:20210830T143625Z
LAST-MODIFIED:20231213T140902Z
UID:10006141-1692196200-1692212400@www.lovemylibrary.ca
SUMMARY:Satellite Library Visit: Kennetcook Fire Hall
DESCRIPTION:Meet us at the Kennetcook Fire Hall where you can browse and borrow materials\, sign up for a Library card\, and hear about our upcoming programs! \n 
URL:https://www.lovemylibrary.ca/event/satellite-library-visit-kennetcook-fire-hall/2023-08-16/
LOCATION:Kennetcook Fire Hall\, 32 Martin Walsh Road\, Kennetcook\, Nova Scotia\, Canada
CATEGORIES:Events For Adults,Events For Kids,Events For Seniors,Events For Teens,Location: Kennetcook
ATTACH;FMTTYPE=image/jpeg:https://www.lovemylibrary.ca/wp-content/uploads/2021/08/16.jpg
END:VEVENT
BEGIN:VEVENT
DTSTART;TZID=America/Halifax:20230816T153000
DTEND;TZID=America/Halifax:20230816T163000
DTSTAMP:20260426T005510
CREATED:20230629T175908Z
LAST-MODIFIED:20230720T193810Z
UID:10004673-1692199800-1692203400@www.lovemylibrary.ca
SUMMARY:Discovery Centre Visit: Rethink\, Repair\, Reimagine
DESCRIPTION:They say\, ‘if it ain’t broke\, don’t fix it!’. But\, what if it is broken? How can we rethink what we buy\, repair what we have\, and reimagine what things could be? Join the Discovery Centre’s #GenAction team to get hands-on and be empowered with new skills! Together\, we’ll explore the materials that we buy\, use\, fix\, lose\, donate\, find\, and throw away. For ages 5+ \nNo registration required. Drop in!
URL:https://www.lovemylibrary.ca/event/discovery-centre-visit-creative-sustainability/
LOCATION:Truro Library\, 754 Prince St\, Truro\, Nova Scotia\, Canada
CATEGORIES:Events For Kids,Events For Teens,Location: Truro
ATTACH;FMTTYPE=image/png:https://www.lovemylibrary.ca/wp-content/uploads/2023/06/Untitled-design-2023-06-29T150459.860.png
END:VEVENT
BEGIN:VEVENT
DTSTART;TZID=America/Halifax:20230816T183000
DTEND;TZID=America/Halifax:20230816T193000
DTSTAMP:20260426T005510
CREATED:20230629T180304Z
LAST-MODIFIED:20230629T180304Z
UID:10004675-1692210600-1692214200@www.lovemylibrary.ca
SUMMARY:Outer Space Night
DESCRIPTION:Did you know that over 600 people have been to space? We’re heading to the stars at Outer Space Night! Enjoy snacks and activities and make galaxy art to take home. For ages 8-14. \nNo registration required.
URL:https://www.lovemylibrary.ca/event/outer-space-night/
LOCATION:Truro Library\, 754 Prince St\, Truro\, Nova Scotia\, Canada
CATEGORIES:Events For Kids,Events For Teens,Location: Truro
ATTACH;FMTTYPE=image/png:https://www.lovemylibrary.ca/wp-content/uploads/2023/06/Untitled-design-2023-06-29T150847.784.png
END:VEVENT
BEGIN:VEVENT
DTSTART;TZID=America/Halifax:20230817T140000
DTEND;TZID=America/Halifax:20230817T160000
DTSTAMP:20260426T005510
CREATED:20230613T203815Z
LAST-MODIFIED:20230613T203815Z
UID:10004529-1692280800-1692288000@www.lovemylibrary.ca
SUMMARY:Teen Room Drop In
DESCRIPTION:Get out of the sun this summer in the newly reopened Teen Room!  Grab a snack\, play some games\, make art\, or just hang out with old friends or new ones! For ages 13-18 \nThis is a drop in program. No registration is required.
URL:https://www.lovemylibrary.ca/event/teen-room-drop-in-2/2023-08-17/
LOCATION:Truro Library\, 754 Prince St\, Truro\, Nova Scotia\, Canada
CATEGORIES:Events For Teens,Location: Truro
ATTACH;FMTTYPE=image/png:https://www.lovemylibrary.ca/wp-content/uploads/2023/06/Untitled-design-78.png
END:VEVENT
BEGIN:VEVENT
DTSTART;TZID=America/Halifax:20230818T100000
DTEND;TZID=America/Halifax:20230818T163000
DTSTAMP:20260426T005510
CREATED:20230612T194440Z
LAST-MODIFIED:20230628T143347Z
UID:10004631-1692352800-1692376200@www.lovemylibrary.ca
SUMMARY:Employment Services
DESCRIPTION:Need help getting hired or promoted? Learn to communicate your value and skills. Valerie Manuel\, Career Practitoner with Nova Scotia Works and YMCA of Greater Halifax/Dartmouth will be available to assist you. For ages 16+ \nDrop In or register at valerie.manuel@halifax.ymca.ca
URL:https://www.lovemylibrary.ca/event/employment-services-2/2023-08-18/
LOCATION:Stewiacke Library\, 295 George Street\, Stewiacke\, Nova Scotia\, Canada
CATEGORIES:Events For Adults,Events For Teens,Location: Stewiacke
ATTACH;FMTTYPE=image/png:https://www.lovemylibrary.ca/wp-content/uploads/2022/10/Untitled-design-49.png
END:VEVENT
BEGIN:VEVENT
DTSTART;TZID=America/Halifax:20230818T110000
DTEND;TZID=America/Halifax:20230818T130000
DTSTAMP:20260426T005510
CREATED:20230629T195714Z
LAST-MODIFIED:20230629T195714Z
UID:10004688-1692356400-1692363600@www.lovemylibrary.ca
SUMMARY:X-box games
DESCRIPTION:Take a break from outdoors and lets have fun playing active X-box games. For ages 8-14 \nThis is a drop in program. No registration is required.
URL:https://www.lovemylibrary.ca/event/x-box-games/2023-08-18/
LOCATION:Tatamagouche Library\, 170 Main Street\, Tatamagouche\, Nova Scotia\, Canada
CATEGORIES:Events For Kids,Events For Teens,Location: Tatamagouche
ATTACH;FMTTYPE=image/png:https://www.lovemylibrary.ca/wp-content/uploads/2023/06/Untitled-design-2023-06-29T170241.880.png
END:VEVENT
BEGIN:VEVENT
DTSTART;TZID=America/Halifax:20230819T120000
DTEND;TZID=America/Halifax:20230819T140000
DTSTAMP:20260426T005510
CREATED:20230710T122004Z
LAST-MODIFIED:20230710T122004Z
UID:10004704-1692446400-1692453600@www.lovemylibrary.ca
SUMMARY:Intro to Zines Workshop
DESCRIPTION:We’re getting together to make some zines! What’s a zine? It’s a DIY mini magazine/fanzine – they can be about anything you want it to be! Even Albert Einstein’s quest to become a Pokémon Master or a collection of haikus about pecan pies – whatever you want! We’ll have coloured-sharpies\, magazines for cut-outs and collages & a type-writer. We just need your help to fill in the paper with whatever is in your bouncing around in that creative brain of yours\, but feel free to bring your own supplies. \nFor ages 13+ \nDrop-in\, no registration required.
URL:https://www.lovemylibrary.ca/event/intro-to-zines-workshop/
LOCATION:Elmsdale Library\, 15 Commerce Ct\, Elmsdale\, Nova Scotia\, Canada
CATEGORIES:Events For Adults,Events For Teens,Location: Elmsdale
ATTACH;FMTTYPE=image/png:https://www.lovemylibrary.ca/wp-content/uploads/2023/07/Untitled-design-2023-07-10T092613.375.png
END:VEVENT
BEGIN:VEVENT
DTSTART;TZID=America/Halifax:20230819T130000
DTEND;TZID=America/Halifax:20230819T163000
DTSTAMP:20260426T005510
CREATED:20230628T135317Z
LAST-MODIFIED:20230628T135317Z
UID:10004623-1692450000-1692462600@www.lovemylibrary.ca
SUMMARY:Summer Reading Club Wind Up Party Adopt a Shell
DESCRIPTION:Keep those super fun summer memories going by adopting a shell to read to. Select a shell\, fill out the adoption certificate\, have a snack and take your new family member home. For ages 3-18 \nThis is a drop in program. No registration is required.
URL:https://www.lovemylibrary.ca/event/summer-reading-club-wind-up-party-adopt-a-shell/
LOCATION:Stewiacke Library\, 295 George Street\, Stewiacke\, Nova Scotia\, Canada
CATEGORIES:Events For Kids,Events For Teens,Location: Stewiacke
ATTACH;FMTTYPE=image/png:https://www.lovemylibrary.ca/wp-content/uploads/2023/05/DRAFT-SRC-2023-Postcard-2400-×-2560-px-500-×-500-px.png
END:VEVENT
END:VCALENDAR