BEGIN:VCALENDAR
VERSION:2.0
PRODID:-//Colchester East Hants Public Library - ECPv6.15.20//NONSGML v1.0//EN
CALSCALE:GREGORIAN
METHOD:PUBLISH
X-WR-CALNAME:Colchester East Hants Public Library
X-ORIGINAL-URL:https://www.lovemylibrary.ca
X-WR-CALDESC:Events for Colchester East Hants Public Library
REFRESH-INTERVAL;VALUE=DURATION:PT1H
X-Robots-Tag:noindex
X-PUBLISHED-TTL:PT1H
BEGIN:VTIMEZONE
TZID:America/Halifax
BEGIN:DAYLIGHT
TZOFFSETFROM:-0400
TZOFFSETTO:-0300
TZNAME:ADT
DTSTART:20220313T060000
END:DAYLIGHT
BEGIN:STANDARD
TZOFFSETFROM:-0300
TZOFFSETTO:-0400
TZNAME:AST
DTSTART:20221106T050000
END:STANDARD
BEGIN:DAYLIGHT
TZOFFSETFROM:-0400
TZOFFSETTO:-0300
TZNAME:ADT
DTSTART:20230312T060000
END:DAYLIGHT
BEGIN:STANDARD
TZOFFSETFROM:-0300
TZOFFSETTO:-0400
TZNAME:AST
DTSTART:20231105T050000
END:STANDARD
BEGIN:DAYLIGHT
TZOFFSETFROM:-0400
TZOFFSETTO:-0300
TZNAME:ADT
DTSTART:20240310T060000
END:DAYLIGHT
BEGIN:STANDARD
TZOFFSETFROM:-0300
TZOFFSETTO:-0400
TZNAME:AST
DTSTART:20241103T050000
END:STANDARD
END:VTIMEZONE
BEGIN:VEVENT
DTSTART;TZID=America/Halifax:20230822T140000
DTEND;TZID=America/Halifax:20230822T150000
DTSTAMP:20260425T233705
CREATED:20230630T144239Z
LAST-MODIFIED:20230630T144239Z
UID:10004700-1692712800-1692716400@www.lovemylibrary.ca
SUMMARY:Board Game Club
DESCRIPTION:Let’s mix it up and have some fun with awesome board games. For ages 8-14 \nRegistration by phone 902-657-3064 or email: tatamago@cehpubliclibrary.ca
URL:https://www.lovemylibrary.ca/event/board-game-club/2023-08-22/
LOCATION:Tatamagouche Library\, 170 Main Street\, Tatamagouche\, Nova Scotia\, Canada
CATEGORIES:Events For Kids,Events For Teens,Location: Tatamagouche
ATTACH;FMTTYPE=image/png:https://www.lovemylibrary.ca/wp-content/uploads/2023/06/Untitled-design-2023-06-30T114818.275.png
END:VEVENT
BEGIN:VEVENT
DTSTART;TZID=America/Halifax:20230822T140000
DTEND;TZID=America/Halifax:20230822T160000
DTSTAMP:20260425T233705
CREATED:20230613T203815Z
LAST-MODIFIED:20230613T203815Z
UID:10004530-1692712800-1692720000@www.lovemylibrary.ca
SUMMARY:Teen Room Drop In
DESCRIPTION:Get out of the sun this summer in the newly reopened Teen Room!  Grab a snack\, play some games\, make art\, or just hang out with old friends or new ones! For ages 13-18 \nThis is a drop in program. No registration is required.
URL:https://www.lovemylibrary.ca/event/teen-room-drop-in-2/2023-08-22/
LOCATION:Truro Library\, 754 Prince St\, Truro\, Nova Scotia\, Canada
CATEGORIES:Events For Teens,Location: Truro
ATTACH;FMTTYPE=image/png:https://www.lovemylibrary.ca/wp-content/uploads/2023/06/Untitled-design-78.png
END:VEVENT
BEGIN:VEVENT
DTSTART;TZID=America/Halifax:20230822T173000
DTEND;TZID=America/Halifax:20230822T193000
DTSTAMP:20260425T233705
CREATED:20230614T193807Z
LAST-MODIFIED:20230704T185547Z
UID:10004646-1692725400-1692732600@www.lovemylibrary.ca
SUMMARY:Dungeons & Dragons (Youth)
DESCRIPTION:Ready to embark on a fantasy adventure? Join us at the Elmsdale library for action\, drama\, and dice! No experience required; all materials provided! For ages 10-13 \nRegistration required.  Please call at 902-883-9838 or email us at elmsdale@cehpubliclibrary.ca to register 
URL:https://www.lovemylibrary.ca/event/dungeons-dragons-youth/2023-08-22/
LOCATION:Elmsdale Library\, 15 Commerce Ct\, Elmsdale\, Nova Scotia\, Canada
CATEGORIES:Events For Kids,Events For Teens,Location: Elmsdale
ATTACH;FMTTYPE=image/png:https://www.lovemylibrary.ca/wp-content/uploads/2022/06/D-and-D.png
END:VEVENT
BEGIN:VEVENT
DTSTART;TZID=America/Halifax:20230824T173000
DTEND;TZID=America/Halifax:20230824T193000
DTSTAMP:20260425T233705
CREATED:20230215T203141Z
LAST-MODIFIED:20230919T213828Z
UID:10004642-1692898200-1692905400@www.lovemylibrary.ca
SUMMARY:Adult Board Games Night
DESCRIPTION:Get your game on! Come on out for an evening of board games. This is your chance to play some old favourites or learn a new one. For teens and adults. \nThis is a drop-in program. No registration is required. Please call 902-883-9838 or email at elmsdale@cehpubliclibrary.ca for more details
URL:https://www.lovemylibrary.ca/event/adult-board-games-night-6-2/2023-08-24/
LOCATION:Elmsdale Library\, 15 Commerce Ct\, Elmsdale\, Nova Scotia\, Canada
CATEGORIES:Events For Adults,Events For Seniors,Events For Teens,Location: Elmsdale
ATTACH;FMTTYPE=image/png:https://www.lovemylibrary.ca/wp-content/uploads/2023/02/Untitled-design-2023-05-16T103613.895.png
END:VEVENT
BEGIN:VEVENT
DTSTART;TZID=America/Halifax:20230825T100000
DTEND;TZID=America/Halifax:20230825T163000
DTSTAMP:20260425T233705
CREATED:20230612T194440Z
LAST-MODIFIED:20230628T143347Z
UID:10004632-1692957600-1692981000@www.lovemylibrary.ca
SUMMARY:Employment Services
DESCRIPTION:Need help getting hired or promoted? Learn to communicate your value and skills. Valerie Manuel\, Career Practitoner with Nova Scotia Works and YMCA of Greater Halifax/Dartmouth will be available to assist you. For ages 16+ \nDrop In or register at valerie.manuel@halifax.ymca.ca
URL:https://www.lovemylibrary.ca/event/employment-services-2/2023-08-25/
LOCATION:Stewiacke Library\, 295 George Street\, Stewiacke\, Nova Scotia\, Canada
CATEGORIES:Events For Adults,Events For Teens,Location: Stewiacke
ATTACH;FMTTYPE=image/png:https://www.lovemylibrary.ca/wp-content/uploads/2022/10/Untitled-design-49.png
END:VEVENT
BEGIN:VEVENT
DTSTART;TZID=America/Halifax:20230825T110000
DTEND;TZID=America/Halifax:20230825T130000
DTSTAMP:20260425T233705
CREATED:20230629T195714Z
LAST-MODIFIED:20230629T195714Z
UID:10004689-1692961200-1692968400@www.lovemylibrary.ca
SUMMARY:X-box games
DESCRIPTION:Take a break from outdoors and lets have fun playing active X-box games. For ages 8-14 \nThis is a drop in program. No registration is required.
URL:https://www.lovemylibrary.ca/event/x-box-games/2023-08-25/
LOCATION:Tatamagouche Library\, 170 Main Street\, Tatamagouche\, Nova Scotia\, Canada
CATEGORIES:Events For Kids,Events For Teens,Location: Tatamagouche
ATTACH;FMTTYPE=image/png:https://www.lovemylibrary.ca/wp-content/uploads/2023/06/Untitled-design-2023-06-29T170241.880.png
END:VEVENT
END:VCALENDAR