BEGIN:VCALENDAR
VERSION:2.0
PRODID:-//Colchester East Hants Public Library - ECPv6.15.20//NONSGML v1.0//EN
CALSCALE:GREGORIAN
METHOD:PUBLISH
X-WR-CALNAME:Colchester East Hants Public Library
X-ORIGINAL-URL:https://www.lovemylibrary.ca
X-WR-CALDESC:Events for Colchester East Hants Public Library
REFRESH-INTERVAL;VALUE=DURATION:PT1H
X-Robots-Tag:noindex
X-PUBLISHED-TTL:PT1H
BEGIN:VTIMEZONE
TZID:America/Halifax
BEGIN:DAYLIGHT
TZOFFSETFROM:-0400
TZOFFSETTO:-0300
TZNAME:ADT
DTSTART:20220313T060000
END:DAYLIGHT
BEGIN:STANDARD
TZOFFSETFROM:-0300
TZOFFSETTO:-0400
TZNAME:AST
DTSTART:20221106T050000
END:STANDARD
BEGIN:DAYLIGHT
TZOFFSETFROM:-0400
TZOFFSETTO:-0300
TZNAME:ADT
DTSTART:20230312T060000
END:DAYLIGHT
BEGIN:STANDARD
TZOFFSETFROM:-0300
TZOFFSETTO:-0400
TZNAME:AST
DTSTART:20231105T050000
END:STANDARD
BEGIN:DAYLIGHT
TZOFFSETFROM:-0400
TZOFFSETTO:-0300
TZNAME:ADT
DTSTART:20240310T060000
END:DAYLIGHT
BEGIN:STANDARD
TZOFFSETFROM:-0300
TZOFFSETTO:-0400
TZNAME:AST
DTSTART:20241103T050000
END:STANDARD
END:VTIMEZONE
BEGIN:VEVENT
DTSTART;TZID=America/Halifax:20231003T133000
DTEND;TZID=America/Halifax:20231003T143000
DTSTAMP:20260425T231819
CREATED:20230905T221526Z
LAST-MODIFIED:20230905T222025Z
UID:10005351-1696339800-1696343400@www.lovemylibrary.ca
SUMMARY:Homeschoolers Haven
DESCRIPTION:Homeschoolers Haven is a place for Homeschool families to meet and share resources. There will be  activities for the children.   For ages 5+ \nThis is a drop-in program. No registration is required.
URL:https://www.lovemylibrary.ca/event/homeschoolers-haven-2-2/2023-10-03/
LOCATION:Truro Library\, 754 Prince St\, Truro\, Nova Scotia\, Canada
CATEGORIES:Events For Kids,Events For Teens,Location: Truro
ATTACH;FMTTYPE=image/png:https://www.lovemylibrary.ca/wp-content/uploads/2022/07/Untitled-design-9.png
END:VEVENT
BEGIN:VEVENT
DTSTART;TZID=America/Halifax:20231003T140000
DTEND;TZID=America/Halifax:20231003T170000
DTSTAMP:20260425T231819
CREATED:20230825T174138Z
LAST-MODIFIED:20230926T210755Z
UID:10005503-1696341600-1696352400@www.lovemylibrary.ca
SUMMARY:Afterschool Survival
DESCRIPTION:Time to unwind\, get your homework done\, play on the computer\, or just hang out with your friends. For ages 8-15 \nThis is a drop in program. No registration is required.
URL:https://www.lovemylibrary.ca/event/afterschool-survival/2023-10-03/
LOCATION:Mount Uniacke Library\, 555\, Highway 1\, Mount Uniacke\, Nova Scotia\, Canada
CATEGORIES:Events For Kids,Events For Teens,Location: Mount Uniacke
ATTACH;FMTTYPE=image/png:https://www.lovemylibrary.ca/wp-content/uploads/2023/08/Untitled-design-99.png
END:VEVENT
BEGIN:VEVENT
DTSTART;TZID=America/Halifax:20231003T184500
DTEND;TZID=America/Halifax:20231003T194500
DTSTAMP:20260425T231819
CREATED:20230920T190431Z
LAST-MODIFIED:20231025T163346Z
UID:10005478-1696358700-1696362300@www.lovemylibrary.ca
SUMMARY:Fiber Art Tuesdays
DESCRIPTION:Bring your current project and meet with other fiber artists. This is a great opportunity to share and ask questions. All ages are welcome. \nThis is a drop in program. No registration is required.
URL:https://www.lovemylibrary.ca/event/fiber-art-tuesdays/2023-10-03/
LOCATION:Stewiacke Library\, 295 George Street\, Stewiacke\, Nova Scotia\, Canada
CATEGORIES:Events For Adults,Events For Kids,Events For Seniors,Events For Teens,Location: Stewiacke
ATTACH;FMTTYPE=image/png:https://www.lovemylibrary.ca/wp-content/uploads/2023/09/Untitled-design-2023-09-20T160357.765.png
END:VEVENT
BEGIN:VEVENT
DTSTART;TZID=America/Halifax:20231005T140000
DTEND;TZID=America/Halifax:20231005T170000
DTSTAMP:20260425T231819
CREATED:20230825T174138Z
LAST-MODIFIED:20230926T210755Z
UID:10005504-1696514400-1696525200@www.lovemylibrary.ca
SUMMARY:Afterschool Survival
DESCRIPTION:Time to unwind\, get your homework done\, play on the computer\, or just hang out with your friends. For ages 8-15 \nThis is a drop in program. No registration is required.
URL:https://www.lovemylibrary.ca/event/afterschool-survival/2023-10-05/
LOCATION:Mount Uniacke Library\, 555\, Highway 1\, Mount Uniacke\, Nova Scotia\, Canada
CATEGORIES:Events For Kids,Events For Teens,Location: Mount Uniacke
ATTACH;FMTTYPE=image/png:https://www.lovemylibrary.ca/wp-content/uploads/2023/08/Untitled-design-99.png
END:VEVENT
BEGIN:VEVENT
DTSTART;TZID=America/Halifax:20231005T173000
DTEND;TZID=America/Halifax:20231005T193000
DTSTAMP:20260425T231819
CREATED:20230215T203141Z
LAST-MODIFIED:20230919T213828Z
UID:10005439-1696527000-1696534200@www.lovemylibrary.ca
SUMMARY:Adult Board Games Night
DESCRIPTION:Get your game on! Come on out for an evening of board games. This is your chance to play some old favourites or learn a new one. For teens and adults. \nThis is a drop-in program. No registration is required. Please call 902-883-9838 or email at elmsdale@cehpubliclibrary.ca for more details
URL:https://www.lovemylibrary.ca/event/adult-board-games-night-6-2/2023-10-05/
LOCATION:Elmsdale Library\, 15 Commerce Ct\, Elmsdale\, Nova Scotia\, Canada
CATEGORIES:Events For Adults,Events For Seniors,Events For Teens,Location: Elmsdale
ATTACH;FMTTYPE=image/png:https://www.lovemylibrary.ca/wp-content/uploads/2023/02/Untitled-design-2023-05-16T103613.895.png
END:VEVENT
BEGIN:VEVENT
DTSTART;TZID=America/Halifax:20231006T140000
DTEND;TZID=America/Halifax:20231006T170000
DTSTAMP:20260425T231819
CREATED:20230825T174138Z
LAST-MODIFIED:20230926T210755Z
UID:10005505-1696600800-1696611600@www.lovemylibrary.ca
SUMMARY:Afterschool Survival
DESCRIPTION:Time to unwind\, get your homework done\, play on the computer\, or just hang out with your friends. For ages 8-15 \nThis is a drop in program. No registration is required.
URL:https://www.lovemylibrary.ca/event/afterschool-survival/2023-10-06/
LOCATION:Mount Uniacke Library\, 555\, Highway 1\, Mount Uniacke\, Nova Scotia\, Canada
CATEGORIES:Events For Kids,Events For Teens,Location: Mount Uniacke
ATTACH;FMTTYPE=image/png:https://www.lovemylibrary.ca/wp-content/uploads/2023/08/Untitled-design-99.png
END:VEVENT
BEGIN:VEVENT
DTSTART;TZID=America/Halifax:20231007T140000
DTEND;TZID=America/Halifax:20231007T150000
DTSTAMP:20260425T231819
CREATED:20230920T191718Z
LAST-MODIFIED:20230920T191718Z
UID:10005483-1696687200-1696690800@www.lovemylibrary.ca
SUMMARY:Overbooked Social – Slow Cooker Edition
DESCRIPTION:Fall is upon us. Time to get your slow cooker out. Enjoy a relaxing time\, eat some yummy treats and share your favourite slow cooker recipe. For ages 16+ \nThis is a drop in program. No registration is required.
URL:https://www.lovemylibrary.ca/event/overbooked-social-slow-cooker-edition/
LOCATION:Stewiacke Library\, 295 George Street\, Stewiacke\, Nova Scotia\, Canada
CATEGORIES:Events For Adults,Events For Seniors,Events For Teens,Location: Stewiacke
ATTACH;FMTTYPE=image/png:https://www.lovemylibrary.ca/wp-content/uploads/2023/06/Your-paragraph-text-13.png
END:VEVENT
END:VCALENDAR