BEGIN:VCALENDAR
VERSION:2.0
PRODID:-//Colchester East Hants Public Library - ECPv6.15.20//NONSGML v1.0//EN
CALSCALE:GREGORIAN
METHOD:PUBLISH
X-ORIGINAL-URL:https://www.lovemylibrary.ca
X-WR-CALDESC:Events for Colchester East Hants Public Library
REFRESH-INTERVAL;VALUE=DURATION:PT1H
X-Robots-Tag:noindex
X-PUBLISHED-TTL:PT1H
BEGIN:VTIMEZONE
TZID:America/Halifax
BEGIN:DAYLIGHT
TZOFFSETFROM:-0400
TZOFFSETTO:-0300
TZNAME:ADT
DTSTART:20220313T060000
END:DAYLIGHT
BEGIN:STANDARD
TZOFFSETFROM:-0300
TZOFFSETTO:-0400
TZNAME:AST
DTSTART:20221106T050000
END:STANDARD
BEGIN:DAYLIGHT
TZOFFSETFROM:-0400
TZOFFSETTO:-0300
TZNAME:ADT
DTSTART:20230312T060000
END:DAYLIGHT
BEGIN:STANDARD
TZOFFSETFROM:-0300
TZOFFSETTO:-0400
TZNAME:AST
DTSTART:20231105T050000
END:STANDARD
BEGIN:DAYLIGHT
TZOFFSETFROM:-0400
TZOFFSETTO:-0300
TZNAME:ADT
DTSTART:20240310T060000
END:DAYLIGHT
BEGIN:STANDARD
TZOFFSETFROM:-0300
TZOFFSETTO:-0400
TZNAME:AST
DTSTART:20241103T050000
END:STANDARD
END:VTIMEZONE
BEGIN:VEVENT
DTSTART;TZID=America/Halifax:20231017T133000
DTEND;TZID=America/Halifax:20231017T143000
DTSTAMP:20260425T220908
CREATED:20230905T221526Z
LAST-MODIFIED:20230905T222025Z
UID:10005353-1697549400-1697553000@www.lovemylibrary.ca
SUMMARY:Homeschoolers Haven
DESCRIPTION:Homeschoolers Haven is a place for Homeschool families to meet and share resources. There will be  activities for the children.   For ages 5+ \nThis is a drop-in program. No registration is required.
URL:https://www.lovemylibrary.ca/event/homeschoolers-haven-2-2/2023-10-17/
LOCATION:Truro Library\, 754 Prince St\, Truro\, Nova Scotia\, Canada
CATEGORIES:Events For Kids,Events For Teens,Location: Truro
ATTACH;FMTTYPE=image/png:https://www.lovemylibrary.ca/wp-content/uploads/2022/07/Untitled-design-9.png
END:VEVENT
BEGIN:VEVENT
DTSTART;TZID=America/Halifax:20231017T140000
DTEND;TZID=America/Halifax:20231017T170000
DTSTAMP:20260425T220908
CREATED:20230825T174138Z
LAST-MODIFIED:20230926T210755Z
UID:10005509-1697551200-1697562000@www.lovemylibrary.ca
SUMMARY:Afterschool Survival
DESCRIPTION:Time to unwind\, get your homework done\, play on the computer\, or just hang out with your friends. For ages 8-15 \nThis is a drop in program. No registration is required.
URL:https://www.lovemylibrary.ca/event/afterschool-survival/2023-10-17/
LOCATION:Mount Uniacke Library\, 555\, Highway 1\, Mount Uniacke\, Nova Scotia\, Canada
CATEGORIES:Events For Kids,Events For Teens,Location: Mount Uniacke
ATTACH;FMTTYPE=image/png:https://www.lovemylibrary.ca/wp-content/uploads/2023/08/Untitled-design-99.png
END:VEVENT
BEGIN:VEVENT
DTSTART;TZID=America/Halifax:20231017T180000
DTEND;TZID=America/Halifax:20231017T184500
DTSTAMP:20260425T220908
CREATED:20230218T191310Z
LAST-MODIFIED:20230919T155515Z
UID:10005407-1697565600-1697568300@www.lovemylibrary.ca
SUMMARY:Media Lab Certification Class
DESCRIPTION:Curious about the Media Lab and what kind of podcasting\, music\, photography\, and video equipment we have to use? Sign up\, take a tour\, get certified\, and get ready to start using the Media Lab for your own projects! For ages 16+ \nTo register email info@cehpubliclibrary.ca
URL:https://www.lovemylibrary.ca/event/media-lab-certification-class-2/2023-10-17/
LOCATION:Truro Library\, 754 Prince St\, Truro\, Nova Scotia\, Canada
CATEGORIES:Events For Adults,Events For Seniors,Events For Teens,Location: Truro
ATTACH;FMTTYPE=image/png:https://www.lovemylibrary.ca/wp-content/uploads/2023/01/Untitled-design-2023-01-24T120808.300.png
END:VEVENT
BEGIN:VEVENT
DTSTART;TZID=America/Halifax:20231017T184500
DTEND;TZID=America/Halifax:20231017T194500
DTSTAMP:20260425T220908
CREATED:20230920T190431Z
LAST-MODIFIED:20231025T163346Z
UID:10005480-1697568300-1697571900@www.lovemylibrary.ca
SUMMARY:Fiber Art Tuesdays
DESCRIPTION:Bring your current project and meet with other fiber artists. This is a great opportunity to share and ask questions. All ages are welcome. \nThis is a drop in program. No registration is required.
URL:https://www.lovemylibrary.ca/event/fiber-art-tuesdays/2023-10-17/
LOCATION:Stewiacke Library\, 295 George Street\, Stewiacke\, Nova Scotia\, Canada
CATEGORIES:Events For Adults,Events For Kids,Events For Seniors,Events For Teens,Location: Stewiacke
ATTACH;FMTTYPE=image/png:https://www.lovemylibrary.ca/wp-content/uploads/2023/09/Untitled-design-2023-09-20T160357.765.png
END:VEVENT
BEGIN:VEVENT
DTSTART;TZID=America/Halifax:20231017T184500
DTEND;TZID=America/Halifax:20231017T200000
DTSTAMP:20260425T220908
CREATED:20230421T195254Z
LAST-MODIFIED:20230919T161535Z
UID:10005408-1697568300-1697572800@www.lovemylibrary.ca
SUMMARY:Podcasting PLUS
DESCRIPTION:Curious about the world of podcasting and how you could make a podcast in the Media Lab? Join us for an introduction to designing\, equipping\, recording\, editing\, hosting\, and launching a podcast with a take-home workbook guide and a beginners podcasting technology tutorial in the Media Lab. For ages 16+ \nTo register: email info@cehpubliclibrary.ca
URL:https://www.lovemylibrary.ca/event/podcasting-plus/2023-10-17/
LOCATION:Truro Library\, 754 Prince St\, Truro\, Nova Scotia\, Canada
CATEGORIES:Events For Adults,Events For Seniors,Events For Teens,Location: Truro
ATTACH;FMTTYPE=image/png:https://www.lovemylibrary.ca/wp-content/uploads/2023/04/Untitled-design-36.png
END:VEVENT
BEGIN:VEVENT
DTSTART;TZID=America/Halifax:20231017T190000
DTEND;TZID=America/Halifax:20231017T200000
DTSTAMP:20260425T220908
CREATED:20230823T161903Z
LAST-MODIFIED:20230919T155408Z
UID:10005406-1697569200-1697572800@www.lovemylibrary.ca
SUMMARY:Maker Lab Certification Class
DESCRIPTION:Curious about the Maker Lab and the bookable equipment? Sign up to get certified in the Maker Lab and start your crafting adventure! For ages 16+ \nTo register email info@cehpubliclibrary.ca\n 
URL:https://www.lovemylibrary.ca/event/maker-lab-certification-class-2-2/2023-10-17/
LOCATION:Truro Library\, 754 Prince St\, Truro\, Nova Scotia\, Canada
CATEGORIES:Events For Adults,Events For Seniors,Events For Teens,Location: Truro
ATTACH;FMTTYPE=image/png:https://www.lovemylibrary.ca/wp-content/uploads/2023/02/Untitled-design-45.png
END:VEVENT
BEGIN:VEVENT
DTSTART;TZID=America/Halifax:20231018T143000
DTEND;TZID=America/Halifax:20231018T190000
DTSTAMP:20260425T220908
CREATED:20210830T143625Z
LAST-MODIFIED:20231213T140902Z
UID:10006144-1697639400-1697655600@www.lovemylibrary.ca
SUMMARY:Satellite Library Visit: Kennetcook Fire Hall
DESCRIPTION:Meet us at the Kennetcook Fire Hall where you can browse and borrow materials\, sign up for a Library card\, and hear about our upcoming programs! \n 
URL:https://www.lovemylibrary.ca/event/satellite-library-visit-kennetcook-fire-hall/2023-10-18/
LOCATION:Kennetcook Fire Hall\, 32 Martin Walsh Road\, Kennetcook\, Nova Scotia\, Canada
CATEGORIES:Events For Adults,Events For Kids,Events For Seniors,Events For Teens,Location: Kennetcook
ATTACH;FMTTYPE=image/jpeg:https://www.lovemylibrary.ca/wp-content/uploads/2021/08/16.jpg
END:VEVENT
BEGIN:VEVENT
DTSTART;TZID=America/Halifax:20231018T180000
DTEND;TZID=America/Halifax:20231018T190000
DTSTAMP:20260425T220908
CREATED:20230926T223218Z
LAST-MODIFIED:20230926T223218Z
UID:10005530-1697652000-1697655600@www.lovemylibrary.ca
SUMMARY:Spell Books Teen Craft Night
DESCRIPTION:Halloween is coming\, so we’re transforming discarded library books into antique-looking books worthy of a wizard’s collection. Add designs and decorations until you have the spooky spell book of your dreams! For ages 13-18 \nThis is a drop in program.
URL:https://www.lovemylibrary.ca/event/spell-books-teen-craft-night/
LOCATION:Truro Library\, 754 Prince St\, Truro\, Nova Scotia\, Canada
CATEGORIES:Crafting,Events For Teens,Location: Truro
ATTACH;FMTTYPE=image/png:https://www.lovemylibrary.ca/wp-content/uploads/2023/09/Untitled-design-2023-09-26T193146.735.png
END:VEVENT
BEGIN:VEVENT
DTSTART;TZID=America/Halifax:20231019T140000
DTEND;TZID=America/Halifax:20231019T170000
DTSTAMP:20260425T220908
CREATED:20230825T174138Z
LAST-MODIFIED:20230926T210755Z
UID:10005510-1697724000-1697734800@www.lovemylibrary.ca
SUMMARY:Afterschool Survival
DESCRIPTION:Time to unwind\, get your homework done\, play on the computer\, or just hang out with your friends. For ages 8-15 \nThis is a drop in program. No registration is required.
URL:https://www.lovemylibrary.ca/event/afterschool-survival/2023-10-19/
LOCATION:Mount Uniacke Library\, 555\, Highway 1\, Mount Uniacke\, Nova Scotia\, Canada
CATEGORIES:Events For Kids,Events For Teens,Location: Mount Uniacke
ATTACH;FMTTYPE=image/png:https://www.lovemylibrary.ca/wp-content/uploads/2023/08/Untitled-design-99.png
END:VEVENT
BEGIN:VEVENT
DTSTART;TZID=America/Halifax:20231019T173000
DTEND;TZID=America/Halifax:20231019T193000
DTSTAMP:20260425T220908
CREATED:20230215T203141Z
LAST-MODIFIED:20230919T213828Z
UID:10005440-1697736600-1697743800@www.lovemylibrary.ca
SUMMARY:Adult Board Games Night
DESCRIPTION:Get your game on! Come on out for an evening of board games. This is your chance to play some old favourites or learn a new one. For teens and adults. \nThis is a drop-in program. No registration is required. Please call 902-883-9838 or email at elmsdale@cehpubliclibrary.ca for more details
URL:https://www.lovemylibrary.ca/event/adult-board-games-night-6-2/2023-10-19/
LOCATION:Elmsdale Library\, 15 Commerce Ct\, Elmsdale\, Nova Scotia\, Canada
CATEGORIES:Events For Adults,Events For Seniors,Events For Teens,Location: Elmsdale
ATTACH;FMTTYPE=image/png:https://www.lovemylibrary.ca/wp-content/uploads/2023/02/Untitled-design-2023-05-16T103613.895.png
END:VEVENT
BEGIN:VEVENT
DTSTART;TZID=America/Halifax:20231020T140000
DTEND;TZID=America/Halifax:20231020T170000
DTSTAMP:20260425T220908
CREATED:20230825T174138Z
LAST-MODIFIED:20230926T210755Z
UID:10005511-1697810400-1697821200@www.lovemylibrary.ca
SUMMARY:Afterschool Survival
DESCRIPTION:Time to unwind\, get your homework done\, play on the computer\, or just hang out with your friends. For ages 8-15 \nThis is a drop in program. No registration is required.
URL:https://www.lovemylibrary.ca/event/afterschool-survival/2023-10-20/
LOCATION:Mount Uniacke Library\, 555\, Highway 1\, Mount Uniacke\, Nova Scotia\, Canada
CATEGORIES:Events For Kids,Events For Teens,Location: Mount Uniacke
ATTACH;FMTTYPE=image/png:https://www.lovemylibrary.ca/wp-content/uploads/2023/08/Untitled-design-99.png
END:VEVENT
END:VCALENDAR