BEGIN:VCALENDAR
VERSION:2.0
PRODID:-//Colchester East Hants Public Library - ECPv6.15.20//NONSGML v1.0//EN
CALSCALE:GREGORIAN
METHOD:PUBLISH
X-ORIGINAL-URL:https://www.lovemylibrary.ca
X-WR-CALDESC:Events for Colchester East Hants Public Library
REFRESH-INTERVAL;VALUE=DURATION:PT1H
X-Robots-Tag:noindex
X-PUBLISHED-TTL:PT1H
BEGIN:VTIMEZONE
TZID:America/Halifax
BEGIN:DAYLIGHT
TZOFFSETFROM:-0400
TZOFFSETTO:-0300
TZNAME:ADT
DTSTART:20220313T060000
END:DAYLIGHT
BEGIN:STANDARD
TZOFFSETFROM:-0300
TZOFFSETTO:-0400
TZNAME:AST
DTSTART:20221106T050000
END:STANDARD
BEGIN:DAYLIGHT
TZOFFSETFROM:-0400
TZOFFSETTO:-0300
TZNAME:ADT
DTSTART:20230312T060000
END:DAYLIGHT
BEGIN:STANDARD
TZOFFSETFROM:-0300
TZOFFSETTO:-0400
TZNAME:AST
DTSTART:20231105T050000
END:STANDARD
BEGIN:DAYLIGHT
TZOFFSETFROM:-0400
TZOFFSETTO:-0300
TZNAME:ADT
DTSTART:20240310T060000
END:DAYLIGHT
BEGIN:STANDARD
TZOFFSETFROM:-0300
TZOFFSETTO:-0400
TZNAME:AST
DTSTART:20241103T050000
END:STANDARD
END:VTIMEZONE
BEGIN:VEVENT
DTSTART;TZID=America/Halifax:20231107T133000
DTEND;TZID=America/Halifax:20231107T143000
DTSTAMP:20260425T183200
CREATED:20230905T221526Z
LAST-MODIFIED:20230905T222025Z
UID:10005356-1699363800-1699367400@www.lovemylibrary.ca
SUMMARY:Homeschoolers Haven
DESCRIPTION:Homeschoolers Haven is a place for Homeschool families to meet and share resources. There will be  activities for the children.   For ages 5+ \nThis is a drop-in program. No registration is required.
URL:https://www.lovemylibrary.ca/event/homeschoolers-haven-2-2/2023-11-07/
LOCATION:Truro Library\, 754 Prince St\, Truro\, Nova Scotia\, Canada
CATEGORIES:Events For Kids,Events For Teens,Location: Truro
ATTACH;FMTTYPE=image/png:https://www.lovemylibrary.ca/wp-content/uploads/2022/07/Untitled-design-9.png
END:VEVENT
BEGIN:VEVENT
DTSTART;TZID=America/Halifax:20231107T143000
DTEND;TZID=America/Halifax:20231107T150000
DTSTAMP:20260425T183200
CREATED:20231030T190452Z
LAST-MODIFIED:20231030T190452Z
UID:10005741-1699367400-1699369200@www.lovemylibrary.ca
SUMMARY:Seasonal Crafting with Bernie
DESCRIPTION:It’s November and we are remembering our brave men\, women\, and animals who served our country. Bernie has a craft to observe Remembrance Day. For ages 5-15 \nRegister in branch or by email mtuniack@cehpubliclibrary.ca
URL:https://www.lovemylibrary.ca/event/seasonal-crafting-with-bernie-2/
LOCATION:Mount Uniacke Library\, 555\, Highway 1\, Mount Uniacke\, Nova Scotia\, Canada
CATEGORIES:Crafting,Events For Kids,Events For Teens,Location: Mount Uniacke
ATTACH;FMTTYPE=image/png:https://www.lovemylibrary.ca/wp-content/uploads/2022/03/Untitled-design-57.png
END:VEVENT
BEGIN:VEVENT
DTSTART;TZID=America/Halifax:20231107T183000
DTEND;TZID=America/Halifax:20231107T200000
DTSTAMP:20260425T183200
CREATED:20231027T193507Z
LAST-MODIFIED:20231027T193957Z
UID:10005725-1699381800-1699387200@www.lovemylibrary.ca
SUMMARY:Ewe-niacke Yarn Club
DESCRIPTION:Fiber art for all ages and abilities. Learn to knit or crochet\, bring a project you are working on\, or just come hang out with the club for some social time. \nThis is a drop in event. No registration required.
URL:https://www.lovemylibrary.ca/event/ewe-niacke-yarn-club-4/2023-11-07/
LOCATION:Nova Scotia
CATEGORIES:Crafting,Events For Adults,Events For Kids,Events For Seniors,Events For Teens,Location: Mount Uniacke
ATTACH;FMTTYPE=image/png:https://www.lovemylibrary.ca/wp-content/uploads/2022/03/Untitled-design-89.png
END:VEVENT
BEGIN:VEVENT
DTSTART;TZID=America/Halifax:20231107T184500
DTEND;TZID=America/Halifax:20231107T194500
DTSTAMP:20260425T183200
CREATED:20230920T190431Z
LAST-MODIFIED:20231025T163346Z
UID:10005629-1699382700-1699386300@www.lovemylibrary.ca
SUMMARY:Fiber Art Tuesdays
DESCRIPTION:Bring your current project and meet with other fiber artists. This is a great opportunity to share and ask questions. All ages are welcome. \nThis is a drop in program. No registration is required.
URL:https://www.lovemylibrary.ca/event/fiber-art-tuesdays/2023-11-07/
LOCATION:Stewiacke Library\, 295 George Street\, Stewiacke\, Nova Scotia\, Canada
CATEGORIES:Events For Adults,Events For Kids,Events For Seniors,Events For Teens,Location: Stewiacke
ATTACH;FMTTYPE=image/png:https://www.lovemylibrary.ca/wp-content/uploads/2023/09/Untitled-design-2023-09-20T160357.765.png
END:VEVENT
BEGIN:VEVENT
DTSTART;TZID=America/Halifax:20231108T143000
DTEND;TZID=America/Halifax:20231108T190000
DTSTAMP:20260425T183200
CREATED:20210830T143625Z
LAST-MODIFIED:20231213T140902Z
UID:10006145-1699453800-1699470000@www.lovemylibrary.ca
SUMMARY:Satellite Library Visit: Kennetcook Fire Hall
DESCRIPTION:Meet us at the Kennetcook Fire Hall where you can browse and borrow materials\, sign up for a Library card\, and hear about our upcoming programs! \n 
URL:https://www.lovemylibrary.ca/event/satellite-library-visit-kennetcook-fire-hall/2023-11-08/
LOCATION:Kennetcook Fire Hall\, 32 Martin Walsh Road\, Kennetcook\, Nova Scotia\, Canada
CATEGORIES:Events For Adults,Events For Kids,Events For Seniors,Events For Teens,Location: Kennetcook
ATTACH;FMTTYPE=image/jpeg:https://www.lovemylibrary.ca/wp-content/uploads/2021/08/16.jpg
END:VEVENT
BEGIN:VEVENT
DTSTART;TZID=America/Halifax:20231108T180000
DTEND;TZID=America/Halifax:20231108T190000
DTSTAMP:20260425T183200
CREATED:20231024T211102Z
LAST-MODIFIED:20231024T211102Z
UID:10005607-1699466400-1699470000@www.lovemylibrary.ca
SUMMARY:Heartstopper Night
DESCRIPTION:Can’t get enough of Heartstopper? Neither can we! Drop by the Truro Library teen room to make a Heartstopper tote bag and enjoy snacks\, book recommendations\, and more. For ages 13-18 \nThis is a drop in program.
URL:https://www.lovemylibrary.ca/event/heartstopper-night-2/
LOCATION:Truro Library\, 754 Prince St\, Truro\, Nova Scotia\, Canada
CATEGORIES:Events For Teens,Location: Truro
ATTACH;FMTTYPE=image/png:https://www.lovemylibrary.ca/wp-content/uploads/2023/06/Untitled-design-2023-06-29T144737.804.png
END:VEVENT
BEGIN:VEVENT
DTSTART;TZID=America/Halifax:20231109T143000
DTEND;TZID=America/Halifax:20231109T153000
DTSTAMP:20260425T183200
CREATED:20231027T190358Z
LAST-MODIFIED:20231027T190358Z
UID:10005720-1699540200-1699543800@www.lovemylibrary.ca
SUMMARY:Game Day
DESCRIPTION:It’s Game Day at the library! Let’s play some BINGO. \nRegister in branch or by email mtuniack@cehpubliclibrary.ca
URL:https://www.lovemylibrary.ca/event/game-day-2/
LOCATION:Mount Uniacke Library\, 555\, Highway 1\, Mount Uniacke\, Nova Scotia\, Canada
CATEGORIES:Events For Kids,Events For Teens,Location: Mount Uniacke
ATTACH;FMTTYPE=image/png:https://www.lovemylibrary.ca/wp-content/uploads/2023/08/Untitled-design-97.png
END:VEVENT
BEGIN:VEVENT
DTSTART;TZID=America/Halifax:20231109T150000
DTEND;TZID=America/Halifax:20231109T160000
DTSTAMP:20260425T183200
CREATED:20231026T185946Z
LAST-MODIFIED:20231026T190010Z
UID:10005695-1699542000-1699545600@www.lovemylibrary.ca
SUMMARY:Fall water colours - Junior Edition
DESCRIPTION:Lets create art with fall leaves and watercolours. For ages 8-14 \nPre register in person or by phone 902 – 657-3064 or email: tatamago@cehpubliclibrary.ca
URL:https://www.lovemylibrary.ca/event/fall-water-colours/
LOCATION:Tatamagouche Library\, 170 Main Street\, Tatamagouche\, Nova Scotia\, Canada
CATEGORIES:Events For Kids,Events For Teens,Location: Tatamagouche
ATTACH;FMTTYPE=image/png:https://www.lovemylibrary.ca/wp-content/uploads/2023/10/Untitled-design-2023-10-26T155933.406.png
END:VEVENT
BEGIN:VEVENT
DTSTART;TZID=America/Halifax:20231109T180000
DTEND;TZID=America/Halifax:20231109T193000
DTSTAMP:20260425T183200
CREATED:20230531T163638Z
LAST-MODIFIED:20231121T231959Z
UID:10005654-1699552800-1699558200@www.lovemylibrary.ca
SUMMARY:Mindfulness Meditation
DESCRIPTION:We invite you to explore the practice of mindfulness and enjoy a time of meditation. Learn about how mindfulness can enhance your everyday living. Ages 14+ \nPlease call us at 902-883-9838 or email us at elmsdale@cehpubliclibrary.ca to register
URL:https://www.lovemylibrary.ca/event/mindfulness-meditation-2/2023-11-09/
LOCATION:Elmsdale Library\, 15 Commerce Ct\, Elmsdale\, Nova Scotia\, Canada
CATEGORIES:Events For Adults,Events For Teens,Location: Elmsdale
ATTACH;FMTTYPE=image/png:https://www.lovemylibrary.ca/wp-content/uploads/2023/03/Untitled-design-51.png
END:VEVENT
BEGIN:VEVENT
DTSTART;TZID=America/Halifax:20231110T130000
DTEND;TZID=America/Halifax:20231110T150000
DTSTAMP:20260425T183200
CREATED:20230816T145210Z
LAST-MODIFIED:20231214T202633Z
UID:10005650-1699621200-1699628400@www.lovemylibrary.ca
SUMMARY:Homeschoolers Hangout
DESCRIPTION:Learn and explore at the library! We want to be part of your education experience. For ages 5-18 \nThis is a drop in – call 902-883-9838 or email elmsdale@cehpubliclibrary.ca for more details
URL:https://www.lovemylibrary.ca/event/homeschoolers-hangout-2/2023-11-10/
LOCATION:Elmsdale Library\, 15 Commerce Ct\, Elmsdale\, Nova Scotia\, Canada
CATEGORIES:Events For Kids,Events For Teens,Location: Elmsdale
ATTACH;FMTTYPE=image/png:https://www.lovemylibrary.ca/wp-content/uploads/2022/07/Untitled-design-9.png
END:VEVENT
END:VCALENDAR