BEGIN:VCALENDAR
VERSION:2.0
PRODID:-//Colchester East Hants Public Library - ECPv6.15.20//NONSGML v1.0//EN
CALSCALE:GREGORIAN
METHOD:PUBLISH
X-ORIGINAL-URL:https://www.lovemylibrary.ca
X-WR-CALDESC:Events for Colchester East Hants Public Library
REFRESH-INTERVAL;VALUE=DURATION:PT1H
X-Robots-Tag:noindex
X-PUBLISHED-TTL:PT1H
BEGIN:VTIMEZONE
TZID:America/Halifax
BEGIN:DAYLIGHT
TZOFFSETFROM:-0400
TZOFFSETTO:-0300
TZNAME:ADT
DTSTART:20220313T060000
END:DAYLIGHT
BEGIN:STANDARD
TZOFFSETFROM:-0300
TZOFFSETTO:-0400
TZNAME:AST
DTSTART:20221106T050000
END:STANDARD
BEGIN:DAYLIGHT
TZOFFSETFROM:-0400
TZOFFSETTO:-0300
TZNAME:ADT
DTSTART:20230312T060000
END:DAYLIGHT
BEGIN:STANDARD
TZOFFSETFROM:-0300
TZOFFSETTO:-0400
TZNAME:AST
DTSTART:20231105T050000
END:STANDARD
BEGIN:DAYLIGHT
TZOFFSETFROM:-0400
TZOFFSETTO:-0300
TZNAME:ADT
DTSTART:20240310T060000
END:DAYLIGHT
BEGIN:STANDARD
TZOFFSETFROM:-0300
TZOFFSETTO:-0400
TZNAME:AST
DTSTART:20241103T050000
END:STANDARD
END:VTIMEZONE
BEGIN:VEVENT
DTSTART;TZID=America/Halifax:20231212T133000
DTEND;TZID=America/Halifax:20231212T150000
DTSTAMP:20260425T195325
CREATED:20231120T203025Z
LAST-MODIFIED:20240326T211358Z
UID:10005361-1702387800-1702393200@www.lovemylibrary.ca
SUMMARY:Homeschoolers Haven
DESCRIPTION:Homeschoolers Haven is a place for Homeschool families to meet and share resources. There will be  activities for the children.   For ages 5+ \nThis is a drop-in program. No registration is required.
URL:https://www.lovemylibrary.ca/event/homeschoolers-haven-2-2-2/2023-12-12/
LOCATION:Truro Library\, 754 Prince St\, Truro\, Nova Scotia\, Canada
CATEGORIES:Events For Kids,Events For Teens,Location: Truro
ATTACH;FMTTYPE=image/png:https://www.lovemylibrary.ca/wp-content/uploads/2022/07/Untitled-design-9.png
END:VEVENT
BEGIN:VEVENT
DTSTART;TZID=America/Halifax:20231212T173000
DTEND;TZID=America/Halifax:20231212T200000
DTSTAMP:20260425T195325
CREATED:20231120T140456Z
LAST-MODIFIED:20231120T140812Z
UID:10005878-1702402200-1702411200@www.lovemylibrary.ca
SUMMARY:Heroes & Adventurers
DESCRIPTION:Role-playing game nights with extraordinary people! We provide the supplies\, you provide the imagination. No experience needed. All welcome! \nRegister to play by emailing: HAATruro@gmail.com Sorry\, no drop-in players at this time.
URL:https://www.lovemylibrary.ca/event/heroes-adventurers-4/2023-12-12/
LOCATION:Truro Library\, 754 Prince St\, Truro\, Nova Scotia\, Canada
CATEGORIES:Events For Adults,Events For Kids,Events For Seniors,Events For Teens,Location: Truro
ATTACH;FMTTYPE=image/png:https://www.lovemylibrary.ca/wp-content/uploads/2022/06/D-and-D.png
END:VEVENT
BEGIN:VEVENT
DTSTART;TZID=America/Halifax:20231212T183000
DTEND;TZID=America/Halifax:20231212T193000
DTSTAMP:20260425T195325
CREATED:20231124T202743Z
LAST-MODIFIED:20231124T202845Z
UID:10006033-1702405800-1702409400@www.lovemylibrary.ca
SUMMARY:Fiber Art Tuesdays
DESCRIPTION:Bring your current project and meet with other fiber artists. This is a great opportunity to share and ask questions. All ages are welcome. \nThis is a drop in program. No registration is required.
URL:https://www.lovemylibrary.ca/event/fiber-art-tuesdays-2/2023-12-12/
LOCATION:Stewiacke Library\, 295 George Street\, Stewiacke\, Nova Scotia\, Canada
CATEGORIES:Events For Adults,Events For Kids,Events For Seniors,Events For Teens,Location: Stewiacke
ATTACH;FMTTYPE=image/png:https://www.lovemylibrary.ca/wp-content/uploads/2023/09/Untitled-design-2023-09-20T160357.765.png
END:VEVENT
BEGIN:VEVENT
DTSTART;TZID=America/Halifax:20231212T183000
DTEND;TZID=America/Halifax:20231212T200000
DTSTAMP:20260425T195325
CREATED:20231122T233508Z
LAST-MODIFIED:20231122T233702Z
UID:10005953-1702405800-1702411200@www.lovemylibrary.ca
SUMMARY:Ewe-niacke Yarn Club
DESCRIPTION:Fiber art for all ages and abilities. Learn to knit or crochet\, bring a project you are working on\, or just come hang out with the club for some social time. \nThis is a drop in event. No registration required.
URL:https://www.lovemylibrary.ca/event/ewe-niacke-yarn-club-5-2/2023-12-12/
LOCATION:Mount Uniacke Library\, 555\, Highway 1\, Mount Uniacke\, Nova Scotia\, Canada
CATEGORIES:Crafting,Events For Adults,Events For Kids,Events For Seniors,Events For Teens,Location: Mount Uniacke
ATTACH;FMTTYPE=image/png:https://www.lovemylibrary.ca/wp-content/uploads/2022/03/Untitled-design-89.png
END:VEVENT
BEGIN:VEVENT
DTSTART;TZID=America/Halifax:20231213T143000
DTEND;TZID=America/Halifax:20231213T190000
DTSTAMP:20260425T195325
CREATED:20210830T161210Z
LAST-MODIFIED:20231213T141030Z
UID:10006163-1702477800-1702494000@www.lovemylibrary.ca
SUMMARY:Satellite Library Visit: Middle Stewiacke Recreation Centre
DESCRIPTION:Meet us at the Middle Stewiacke Recreation Centre where you can browse and borrow materials\, sign up for a Library card\, and use the public WiFi!
URL:https://www.lovemylibrary.ca/event/satellite-library-visit-middle-stewiacke-recreation-centre/2023-12-13/
LOCATION:Middle Stewiacke Recreation Centre\, 2395 Highway 289\, Middle Stewiacke\, Nova Scotia\, Canada
CATEGORIES:Events For Adults,Events For Kids,Events For Seniors,Events For Teens,Location: Middle Stewiacke
ATTACH;FMTTYPE=image/jpeg:https://www.lovemylibrary.ca/wp-content/uploads/2021/08/16.jpg
END:VEVENT
BEGIN:VEVENT
DTSTART;VALUE=DATE:20231214
DTEND;VALUE=DATE:20231215
DTSTAMP:20260425T195325
CREATED:20231216T173424Z
LAST-MODIFIED:20240113T185156Z
UID:10006564-1702512000-1702598399@www.lovemylibrary.ca
SUMMARY:Celebrating African Nova Scotia Educators
DESCRIPTION:An exciting art exhibit from the Nova Scotia Women’s History Society honouring four African-Nova Scotian women who led change in education.  The panels created by African Nova Scotia artist\, Letitia Fraser of North Preston\, will form the basis for an installation to be installed in 2024 in the Truro community of “The Marsh”. \nDrop-in. No registration is required.
URL:https://www.lovemylibrary.ca/event/celebrating-african-nova-scotia-educators/2023-12-14/
LOCATION:Truro Library\, 754 Prince St\, Truro\, Nova Scotia\, Canada
CATEGORIES:Events For Adults,Events For Seniors,Events For Teens,Location: Truro
ATTACH;FMTTYPE=image/png:https://www.lovemylibrary.ca/wp-content/uploads/2023/12/Untitled-design-1-1.png
END:VEVENT
BEGIN:VEVENT
DTSTART;TZID=America/Halifax:20231214T143000
DTEND;TZID=America/Halifax:20231214T150000
DTSTAMP:20260425T195325
CREATED:20231122T220853Z
LAST-MODIFIED:20231122T220853Z
UID:10005946-1702564200-1702566000@www.lovemylibrary.ca
SUMMARY:Science @ the library
DESCRIPTION:We are celebrating STEM! Science is fun! Technology rocks! Engineering makes things great! Math is #1! What does Karri have in store this month? An index card chain \nRegister in branch or by email mtuniack@cehpubliclibrary.ca
URL:https://www.lovemylibrary.ca/event/science-the-library-3/
LOCATION:Mount Uniacke Library\, 555\, Highway 1\, Mount Uniacke\, Nova Scotia\, Canada
CATEGORIES:Events For Kids,Events For Teens,Location: Mount Uniacke
ATTACH;FMTTYPE=image/png:https://www.lovemylibrary.ca/wp-content/uploads/2023/08/Untitled-design-2023-08-23T133241.219.png
END:VEVENT
BEGIN:VEVENT
DTSTART;TZID=America/Halifax:20231214T150000
DTEND;TZID=America/Halifax:20231214T160000
DTSTAMP:20260425T195325
CREATED:20231123T190953Z
LAST-MODIFIED:20231123T190953Z
UID:10005967-1702566000-1702569600@www.lovemylibrary.ca
SUMMARY:Jingle Crafts: Kids' Holiday Decor Delight
DESCRIPTION:Kids\, join the holiday fun at our crafting wonderland! Suitable for ages 8-14 \nPre register in person or by phone 902 – 657-3064 or email: tatamago@cehpubliclibrary.ca
URL:https://www.lovemylibrary.ca/event/jingle-crafts-kids-holiday-decor-delight/
LOCATION:Tatamagouche Library\, 170 Main Street\, Tatamagouche\, Nova Scotia\, Canada
CATEGORIES:Crafting,Events For Kids,Events For Teens,Location: Tatamagouche
ATTACH;FMTTYPE=image/png:https://www.lovemylibrary.ca/wp-content/uploads/2023/11/Untitled-design-2023-11-23T150941.021.png
END:VEVENT
BEGIN:VEVENT
DTSTART;TZID=America/Halifax:20231214T180000
DTEND;TZID=America/Halifax:20231214T190000
DTSTAMP:20260425T195325
CREATED:20231122T234356Z
LAST-MODIFIED:20231122T234356Z
UID:10005958-1702576800-1702580400@www.lovemylibrary.ca
SUMMARY:Only Murders in our Library
DESCRIPTION:Introverts and extroverts unite. Extroverts come early to socialize and introverts can join us at 6pm. We are spending an hour listening to a true crime podcast and doing some adult coloring. For ages 15-99 (or older) \nThis is a drop in event\, No registration required\n  \n 
URL:https://www.lovemylibrary.ca/event/only-murders-in-our-library-3/
LOCATION:Mount Uniacke Library\, 555\, Highway 1\, Mount Uniacke\, Nova Scotia\, Canada
CATEGORIES:Events For Adults,Events For Seniors,Events For Teens,Location: Mount Uniacke
ATTACH;FMTTYPE=image/png:https://www.lovemylibrary.ca/wp-content/uploads/2023/08/Untitled-design-2023-08-25T151940.865.png
END:VEVENT
BEGIN:VEVENT
DTSTART;VALUE=DATE:20231215
DTEND;VALUE=DATE:20231216
DTSTAMP:20260425T195325
CREATED:20231216T173424Z
LAST-MODIFIED:20240113T185156Z
UID:10006877-1702598400-1702684799@www.lovemylibrary.ca
SUMMARY:Celebrating African Nova Scotia Educators
DESCRIPTION:An exciting art exhibit from the Nova Scotia Women’s History Society honouring four African-Nova Scotian women who led change in education.  The panels created by African Nova Scotia artist\, Letitia Fraser of North Preston\, will form the basis for an installation to be installed in 2024 in the Truro community of “The Marsh”. \nDrop-in. No registration is required.
URL:https://www.lovemylibrary.ca/event/celebrating-african-nova-scotia-educators/2023-12-15/
LOCATION:Truro Library\, 754 Prince St\, Truro\, Nova Scotia\, Canada
CATEGORIES:Events For Adults,Events For Seniors,Events For Teens,Location: Truro
ATTACH;FMTTYPE=image/png:https://www.lovemylibrary.ca/wp-content/uploads/2023/12/Untitled-design-1-1.png
END:VEVENT
BEGIN:VEVENT
DTSTART;VALUE=DATE:20231216
DTEND;VALUE=DATE:20231217
DTSTAMP:20260425T195325
CREATED:20231216T173424Z
LAST-MODIFIED:20240113T185156Z
UID:10006878-1702684800-1702771199@www.lovemylibrary.ca
SUMMARY:Celebrating African Nova Scotia Educators
DESCRIPTION:An exciting art exhibit from the Nova Scotia Women’s History Society honouring four African-Nova Scotian women who led change in education.  The panels created by African Nova Scotia artist\, Letitia Fraser of North Preston\, will form the basis for an installation to be installed in 2024 in the Truro community of “The Marsh”. \nDrop-in. No registration is required.
URL:https://www.lovemylibrary.ca/event/celebrating-african-nova-scotia-educators/2023-12-16/
LOCATION:Truro Library\, 754 Prince St\, Truro\, Nova Scotia\, Canada
CATEGORIES:Events For Adults,Events For Seniors,Events For Teens,Location: Truro
ATTACH;FMTTYPE=image/png:https://www.lovemylibrary.ca/wp-content/uploads/2023/12/Untitled-design-1-1.png
END:VEVENT
BEGIN:VEVENT
DTSTART;VALUE=DATE:20231217
DTEND;VALUE=DATE:20231218
DTSTAMP:20260425T195325
CREATED:20231216T173424Z
LAST-MODIFIED:20240113T185156Z
UID:10006879-1702771200-1702857599@www.lovemylibrary.ca
SUMMARY:Celebrating African Nova Scotia Educators
DESCRIPTION:An exciting art exhibit from the Nova Scotia Women’s History Society honouring four African-Nova Scotian women who led change in education.  The panels created by African Nova Scotia artist\, Letitia Fraser of North Preston\, will form the basis for an installation to be installed in 2024 in the Truro community of “The Marsh”. \nDrop-in. No registration is required.
URL:https://www.lovemylibrary.ca/event/celebrating-african-nova-scotia-educators/2023-12-17/
LOCATION:Truro Library\, 754 Prince St\, Truro\, Nova Scotia\, Canada
CATEGORIES:Events For Adults,Events For Seniors,Events For Teens,Location: Truro
ATTACH;FMTTYPE=image/png:https://www.lovemylibrary.ca/wp-content/uploads/2023/12/Untitled-design-1-1.png
END:VEVENT
END:VCALENDAR