BEGIN:VCALENDAR
VERSION:2.0
PRODID:-//Colchester East Hants Public Library - ECPv6.15.20//NONSGML v1.0//EN
CALSCALE:GREGORIAN
METHOD:PUBLISH
X-ORIGINAL-URL:https://www.lovemylibrary.ca
X-WR-CALDESC:Events for Colchester East Hants Public Library
REFRESH-INTERVAL;VALUE=DURATION:PT1H
X-Robots-Tag:noindex
X-PUBLISHED-TTL:PT1H
BEGIN:VTIMEZONE
TZID:America/Halifax
BEGIN:DAYLIGHT
TZOFFSETFROM:-0400
TZOFFSETTO:-0300
TZNAME:ADT
DTSTART:20230312T060000
END:DAYLIGHT
BEGIN:STANDARD
TZOFFSETFROM:-0300
TZOFFSETTO:-0400
TZNAME:AST
DTSTART:20231105T050000
END:STANDARD
BEGIN:DAYLIGHT
TZOFFSETFROM:-0400
TZOFFSETTO:-0300
TZNAME:ADT
DTSTART:20240310T060000
END:DAYLIGHT
BEGIN:STANDARD
TZOFFSETFROM:-0300
TZOFFSETTO:-0400
TZNAME:AST
DTSTART:20241103T050000
END:STANDARD
BEGIN:DAYLIGHT
TZOFFSETFROM:-0400
TZOFFSETTO:-0300
TZNAME:ADT
DTSTART:20250309T060000
END:DAYLIGHT
BEGIN:STANDARD
TZOFFSETFROM:-0300
TZOFFSETTO:-0400
TZNAME:AST
DTSTART:20251102T050000
END:STANDARD
END:VTIMEZONE
BEGIN:VEVENT
DTSTART;VALUE=DATE:20240108
DTEND;VALUE=DATE:20240109
DTSTAMP:20260425T154224
CREATED:20231216T173424Z
LAST-MODIFIED:20240113T185156Z
UID:10006901-1704672000-1704758399@www.lovemylibrary.ca
SUMMARY:Celebrating African Nova Scotia Educators
DESCRIPTION:An exciting art exhibit from the Nova Scotia Women’s History Society honouring four African-Nova Scotian women who led change in education.  The panels created by African Nova Scotia artist\, Letitia Fraser of North Preston\, will form the basis for an installation to be installed in 2024 in the Truro community of “The Marsh”. \nDrop-in. No registration is required.
URL:https://www.lovemylibrary.ca/event/celebrating-african-nova-scotia-educators/2024-01-08/
LOCATION:Truro Library\, 754 Prince St\, Truro\, Nova Scotia\, Canada
CATEGORIES:Events For Adults,Events For Seniors,Events For Teens,Location: Truro
ATTACH;FMTTYPE=image/png:https://www.lovemylibrary.ca/wp-content/uploads/2023/12/Untitled-design-1-1.png
END:VEVENT
BEGIN:VEVENT
DTSTART;VALUE=DATE:20240109
DTEND;VALUE=DATE:20240110
DTSTAMP:20260425T154224
CREATED:20231216T173424Z
LAST-MODIFIED:20240113T185156Z
UID:10006902-1704758400-1704844799@www.lovemylibrary.ca
SUMMARY:Celebrating African Nova Scotia Educators
DESCRIPTION:An exciting art exhibit from the Nova Scotia Women’s History Society honouring four African-Nova Scotian women who led change in education.  The panels created by African Nova Scotia artist\, Letitia Fraser of North Preston\, will form the basis for an installation to be installed in 2024 in the Truro community of “The Marsh”. \nDrop-in. No registration is required.
URL:https://www.lovemylibrary.ca/event/celebrating-african-nova-scotia-educators/2024-01-09/
LOCATION:Truro Library\, 754 Prince St\, Truro\, Nova Scotia\, Canada
CATEGORIES:Events For Adults,Events For Seniors,Events For Teens,Location: Truro
ATTACH;FMTTYPE=image/png:https://www.lovemylibrary.ca/wp-content/uploads/2023/12/Untitled-design-1-1.png
END:VEVENT
BEGIN:VEVENT
DTSTART;TZID=America/Halifax:20240109T133000
DTEND;TZID=America/Halifax:20240109T150000
DTSTAMP:20260425T154224
CREATED:20231120T203025Z
LAST-MODIFIED:20240326T211358Z
UID:10006685-1704807000-1704812400@www.lovemylibrary.ca
SUMMARY:Homeschoolers Haven
DESCRIPTION:Homeschoolers Haven is a place for Homeschool families to meet and share resources. There will be  activities for the children.   For ages 5+ \nThis is a drop-in program. No registration is required.
URL:https://www.lovemylibrary.ca/event/homeschoolers-haven-2-2-2/2024-01-09/
LOCATION:Truro Library\, 754 Prince St\, Truro\, Nova Scotia\, Canada
CATEGORIES:Events For Kids,Events For Teens,Location: Truro
ATTACH;FMTTYPE=image/png:https://www.lovemylibrary.ca/wp-content/uploads/2022/07/Untitled-design-9.png
END:VEVENT
BEGIN:VEVENT
DTSTART;TZID=America/Halifax:20240109T173000
DTEND;TZID=America/Halifax:20240109T200000
DTSTAMP:20260425T154224
CREATED:20231212T185734Z
LAST-MODIFIED:20231212T190133Z
UID:10006135-1704821400-1704830400@www.lovemylibrary.ca
SUMMARY:Heroes & Adventurers
DESCRIPTION:Role-playing game nights with extraordinary people! We provide the supplies\, you provide the imagination. No experience needed. All welcome! \nRegister to play by emailing: HAATruro@gmail.com Sorry\, no drop-in players at this time.
URL:https://www.lovemylibrary.ca/event/heroes-adventurers-5/2024-01-09/
LOCATION:Truro Library\, 754 Prince St\, Truro\, Nova Scotia\, Canada
CATEGORIES:Events For Adults,Events For Kids,Events For Seniors,Events For Teens,Location: Truro
ATTACH;FMTTYPE=image/png:https://www.lovemylibrary.ca/wp-content/uploads/2022/06/D-and-D.png
END:VEVENT
BEGIN:VEVENT
DTSTART;VALUE=DATE:20240110
DTEND;VALUE=DATE:20240111
DTSTAMP:20260425T154224
CREATED:20231216T173424Z
LAST-MODIFIED:20240113T185156Z
UID:10006903-1704844800-1704931199@www.lovemylibrary.ca
SUMMARY:Celebrating African Nova Scotia Educators
DESCRIPTION:An exciting art exhibit from the Nova Scotia Women’s History Society honouring four African-Nova Scotian women who led change in education.  The panels created by African Nova Scotia artist\, Letitia Fraser of North Preston\, will form the basis for an installation to be installed in 2024 in the Truro community of “The Marsh”. \nDrop-in. No registration is required.
URL:https://www.lovemylibrary.ca/event/celebrating-african-nova-scotia-educators/2024-01-10/
LOCATION:Truro Library\, 754 Prince St\, Truro\, Nova Scotia\, Canada
CATEGORIES:Events For Adults,Events For Seniors,Events For Teens,Location: Truro
ATTACH;FMTTYPE=image/png:https://www.lovemylibrary.ca/wp-content/uploads/2023/12/Untitled-design-1-1.png
END:VEVENT
BEGIN:VEVENT
DTSTART;TZID=America/Halifax:20240110T143000
DTEND;TZID=America/Halifax:20240110T190000
DTSTAMP:20260425T154224
CREATED:20210830T143625Z
LAST-MODIFIED:20231213T140902Z
UID:10006148-1704897000-1704913200@www.lovemylibrary.ca
SUMMARY:Satellite Library Visit: Kennetcook Fire Hall
DESCRIPTION:Meet us at the Kennetcook Fire Hall where you can browse and borrow materials\, sign up for a Library card\, and hear about our upcoming programs! \n 
URL:https://www.lovemylibrary.ca/event/satellite-library-visit-kennetcook-fire-hall/2024-01-10/
LOCATION:Kennetcook Fire Hall\, 32 Martin Walsh Road\, Kennetcook\, Nova Scotia\, Canada
CATEGORIES:Events For Adults,Events For Kids,Events For Seniors,Events For Teens,Location: Kennetcook
ATTACH;FMTTYPE=image/jpeg:https://www.lovemylibrary.ca/wp-content/uploads/2021/08/16.jpg
END:VEVENT
BEGIN:VEVENT
DTSTART;VALUE=DATE:20240111
DTEND;VALUE=DATE:20240112
DTSTAMP:20260425T154224
CREATED:20231216T173424Z
LAST-MODIFIED:20240113T185156Z
UID:10006904-1704931200-1705017599@www.lovemylibrary.ca
SUMMARY:Celebrating African Nova Scotia Educators
DESCRIPTION:An exciting art exhibit from the Nova Scotia Women’s History Society honouring four African-Nova Scotian women who led change in education.  The panels created by African Nova Scotia artist\, Letitia Fraser of North Preston\, will form the basis for an installation to be installed in 2024 in the Truro community of “The Marsh”. \nDrop-in. No registration is required.
URL:https://www.lovemylibrary.ca/event/celebrating-african-nova-scotia-educators/2024-01-11/
LOCATION:Truro Library\, 754 Prince St\, Truro\, Nova Scotia\, Canada
CATEGORIES:Events For Adults,Events For Seniors,Events For Teens,Location: Truro
ATTACH;FMTTYPE=image/png:https://www.lovemylibrary.ca/wp-content/uploads/2023/12/Untitled-design-1-1.png
END:VEVENT
BEGIN:VEVENT
DTSTART;VALUE=DATE:20240112
DTEND;VALUE=DATE:20240113
DTSTAMP:20260425T154224
CREATED:20231216T173424Z
LAST-MODIFIED:20240113T185156Z
UID:10006905-1705017600-1705103999@www.lovemylibrary.ca
SUMMARY:Celebrating African Nova Scotia Educators
DESCRIPTION:An exciting art exhibit from the Nova Scotia Women’s History Society honouring four African-Nova Scotian women who led change in education.  The panels created by African Nova Scotia artist\, Letitia Fraser of North Preston\, will form the basis for an installation to be installed in 2024 in the Truro community of “The Marsh”. \nDrop-in. No registration is required.
URL:https://www.lovemylibrary.ca/event/celebrating-african-nova-scotia-educators/2024-01-12/
LOCATION:Truro Library\, 754 Prince St\, Truro\, Nova Scotia\, Canada
CATEGORIES:Events For Adults,Events For Seniors,Events For Teens,Location: Truro
ATTACH;FMTTYPE=image/png:https://www.lovemylibrary.ca/wp-content/uploads/2023/12/Untitled-design-1-1.png
END:VEVENT
BEGIN:VEVENT
DTSTART;VALUE=DATE:20240113
DTEND;VALUE=DATE:20240114
DTSTAMP:20260425T154224
CREATED:20240113T185533Z
LAST-MODIFIED:20240113T190616Z
UID:10006906-1705104000-1705190399@www.lovemylibrary.ca
SUMMARY:Celebrating African Nova Scotia Educators
DESCRIPTION:An exciting art exhibit from the Nova Scotia Women’s History Society honouring four African-Nova Scotian women who led change in education.  The panels created by African Nova Scotia artist\, Letitia Fraser of North Preston\, will form the basis for an installation to be installed in 2024 in the Truro community of “The Marsh”. \nDrop-in. No registration is required.
URL:https://www.lovemylibrary.ca/event/celebrating-african-nova-scotia-educators-2/2024-01-13/
LOCATION:Truro Library\, 754 Prince St\, Truro\, Nova Scotia\, Canada
CATEGORIES:Events For Adults,Events For Seniors,Events For Teens,Location: Truro
ATTACH;FMTTYPE=image/png:https://www.lovemylibrary.ca/wp-content/uploads/2023/12/Untitled-design-1-1.png
END:VEVENT
BEGIN:VEVENT
DTSTART;TZID=America/Halifax:20240113T110000
DTEND;TZID=America/Halifax:20240113T140000
DTSTAMP:20260425T154224
CREATED:20231214T203402Z
LAST-MODIFIED:20231214T203402Z
UID:10006681-1705143600-1705154400@www.lovemylibrary.ca
SUMMARY:Collage and Zines!
DESCRIPTION:What a better way to kick off the New Year than by making some cool art! We’re busting out the scissors and glue and cutting up some magazines to make some unique collages and zines! For teens and adults. \nDrop in – Please call 902-883-9838 or email us at elmsdale@cehpubliclibrary.ca for more details
URL:https://www.lovemylibrary.ca/event/collage-and-zines/
LOCATION:Elmsdale Library\, 15 Commerce Ct\, Elmsdale\, Nova Scotia\, Canada
CATEGORIES:Crafting,Events For Adults,Events For Teens,Location: Elmsdale
ATTACH;FMTTYPE=image/png:https://www.lovemylibrary.ca/wp-content/uploads/2023/07/Untitled-design-2023-07-10T092613.375.png
END:VEVENT
END:VCALENDAR