BEGIN:VCALENDAR
VERSION:2.0
PRODID:-//Colchester East Hants Public Library - ECPv6.15.20//NONSGML v1.0//EN
CALSCALE:GREGORIAN
METHOD:PUBLISH
X-ORIGINAL-URL:https://www.lovemylibrary.ca
X-WR-CALDESC:Events for Colchester East Hants Public Library
REFRESH-INTERVAL;VALUE=DURATION:PT1H
X-Robots-Tag:noindex
X-PUBLISHED-TTL:PT1H
BEGIN:VTIMEZONE
TZID:America/Halifax
BEGIN:DAYLIGHT
TZOFFSETFROM:-0400
TZOFFSETTO:-0300
TZNAME:ADT
DTSTART:20230312T060000
END:DAYLIGHT
BEGIN:STANDARD
TZOFFSETFROM:-0300
TZOFFSETTO:-0400
TZNAME:AST
DTSTART:20231105T050000
END:STANDARD
BEGIN:DAYLIGHT
TZOFFSETFROM:-0400
TZOFFSETTO:-0300
TZNAME:ADT
DTSTART:20240310T060000
END:DAYLIGHT
BEGIN:STANDARD
TZOFFSETFROM:-0300
TZOFFSETTO:-0400
TZNAME:AST
DTSTART:20241103T050000
END:STANDARD
BEGIN:DAYLIGHT
TZOFFSETFROM:-0400
TZOFFSETTO:-0300
TZNAME:ADT
DTSTART:20250309T060000
END:DAYLIGHT
BEGIN:STANDARD
TZOFFSETFROM:-0300
TZOFFSETTO:-0400
TZNAME:AST
DTSTART:20251102T050000
END:STANDARD
END:VTIMEZONE
BEGIN:VEVENT
DTSTART;VALUE=DATE:20240122
DTEND;VALUE=DATE:20240123
DTSTAMP:20260425T153845
CREATED:20240113T185533Z
LAST-MODIFIED:20240113T190616Z
UID:10006915-1705881600-1705967999@www.lovemylibrary.ca
SUMMARY:Celebrating African Nova Scotia Educators
DESCRIPTION:An exciting art exhibit from the Nova Scotia Women’s History Society honouring four African-Nova Scotian women who led change in education.  The panels created by African Nova Scotia artist\, Letitia Fraser of North Preston\, will form the basis for an installation to be installed in 2024 in the Truro community of “The Marsh”. \nDrop-in. No registration is required.
URL:https://www.lovemylibrary.ca/event/celebrating-african-nova-scotia-educators-2/2024-01-22/
LOCATION:Truro Library\, 754 Prince St\, Truro\, Nova Scotia\, Canada
CATEGORIES:Events For Adults,Events For Seniors,Events For Teens,Location: Truro
ATTACH;FMTTYPE=image/png:https://www.lovemylibrary.ca/wp-content/uploads/2023/12/Untitled-design-1-1.png
END:VEVENT
BEGIN:VEVENT
DTSTART;VALUE=DATE:20240123
DTEND;VALUE=DATE:20240124
DTSTAMP:20260425T153845
CREATED:20240113T185533Z
LAST-MODIFIED:20240113T190616Z
UID:10006916-1705968000-1706054399@www.lovemylibrary.ca
SUMMARY:Celebrating African Nova Scotia Educators
DESCRIPTION:An exciting art exhibit from the Nova Scotia Women’s History Society honouring four African-Nova Scotian women who led change in education.  The panels created by African Nova Scotia artist\, Letitia Fraser of North Preston\, will form the basis for an installation to be installed in 2024 in the Truro community of “The Marsh”. \nDrop-in. No registration is required.
URL:https://www.lovemylibrary.ca/event/celebrating-african-nova-scotia-educators-2/2024-01-23/
LOCATION:Truro Library\, 754 Prince St\, Truro\, Nova Scotia\, Canada
CATEGORIES:Events For Adults,Events For Seniors,Events For Teens,Location: Truro
ATTACH;FMTTYPE=image/png:https://www.lovemylibrary.ca/wp-content/uploads/2023/12/Untitled-design-1-1.png
END:VEVENT
BEGIN:VEVENT
DTSTART;TZID=America/Halifax:20240123T133000
DTEND;TZID=America/Halifax:20240123T150000
DTSTAMP:20260425T153845
CREATED:20231120T203025Z
LAST-MODIFIED:20240326T211358Z
UID:10006687-1706016600-1706022000@www.lovemylibrary.ca
SUMMARY:Homeschoolers Haven
DESCRIPTION:Homeschoolers Haven is a place for Homeschool families to meet and share resources. There will be  activities for the children.   For ages 5+ \nThis is a drop-in program. No registration is required.
URL:https://www.lovemylibrary.ca/event/homeschoolers-haven-2-2-2/2024-01-23/
LOCATION:Truro Library\, 754 Prince St\, Truro\, Nova Scotia\, Canada
CATEGORIES:Events For Kids,Events For Teens,Location: Truro
ATTACH;FMTTYPE=image/png:https://www.lovemylibrary.ca/wp-content/uploads/2022/07/Untitled-design-9.png
END:VEVENT
BEGIN:VEVENT
DTSTART;TZID=America/Halifax:20240123T143000
DTEND;TZID=America/Halifax:20240123T153000
DTSTAMP:20260425T153845
CREATED:20230525T164950Z
LAST-MODIFIED:20240416T210002Z
UID:10004377-1706020200-1706023800@www.lovemylibrary.ca
SUMMARY:Tuesday Crafternoon
DESCRIPTION:It’s slime time. Join us for gooey\, messy fun! For ages 5-15 \nRegister in branch or by email mtuniack@cehpubliclibrary.ca
URL:https://www.lovemylibrary.ca/event/tuesday-crafternoon-4/2024-01-23/
LOCATION:Mount Uniacke Library\, 555\, Highway 1\, Mount Uniacke\, Nova Scotia\, Canada
CATEGORIES:Crafting,Events For Kids,Events For Teens,Location: Mount Uniacke
ATTACH;FMTTYPE=image/png:https://www.lovemylibrary.ca/wp-content/uploads/2022/06/Untitled-700-×-500-px-1.png
END:VEVENT
BEGIN:VEVENT
DTSTART;TZID=America/Halifax:20240123T150000
DTEND;TZID=America/Halifax:20240123T160000
DTSTAMP:20260425T153845
CREATED:20231026T180946Z
LAST-MODIFIED:20231222T185317Z
UID:10005682-1706022000-1706025600@www.lovemylibrary.ca
SUMMARY:Ask the Beekeeper- Junior Edition
DESCRIPTION:“Buzz into the bee world with our friendly beekeeper!” For ages 8-14 \nPre register in person or by phone 902 – 657-3064 or email: tatamago@cehpubliclibrary.ca
URL:https://www.lovemylibrary.ca/event/ask-the-beekeeper/
LOCATION:Tatamagouche Library\, 170 Main Street\, Tatamagouche\, Nova Scotia\, Canada
CATEGORIES:Events For Kids,Events For Teens,Location: Tatamagouche
ATTACH;FMTTYPE=image/png:https://www.lovemylibrary.ca/wp-content/uploads/2023/10/Untitled-design-2023-10-26T150902.630.png
END:VEVENT
BEGIN:VEVENT
DTSTART;TZID=America/Halifax:20240123T173000
DTEND;TZID=America/Halifax:20240123T200000
DTSTAMP:20260425T153845
CREATED:20231212T185734Z
LAST-MODIFIED:20231212T190133Z
UID:10006137-1706031000-1706040000@www.lovemylibrary.ca
SUMMARY:Heroes & Adventurers
DESCRIPTION:Role-playing game nights with extraordinary people! We provide the supplies\, you provide the imagination. No experience needed. All welcome! \nRegister to play by emailing: HAATruro@gmail.com Sorry\, no drop-in players at this time.
URL:https://www.lovemylibrary.ca/event/heroes-adventurers-5/2024-01-23/
LOCATION:Truro Library\, 754 Prince St\, Truro\, Nova Scotia\, Canada
CATEGORIES:Events For Adults,Events For Kids,Events For Seniors,Events For Teens,Location: Truro
ATTACH;FMTTYPE=image/png:https://www.lovemylibrary.ca/wp-content/uploads/2022/06/D-and-D.png
END:VEVENT
BEGIN:VEVENT
DTSTART;VALUE=DATE:20240124
DTEND;VALUE=DATE:20240125
DTSTAMP:20260425T153845
CREATED:20240113T185533Z
LAST-MODIFIED:20240113T190616Z
UID:10006917-1706054400-1706140799@www.lovemylibrary.ca
SUMMARY:Celebrating African Nova Scotia Educators
DESCRIPTION:An exciting art exhibit from the Nova Scotia Women’s History Society honouring four African-Nova Scotian women who led change in education.  The panels created by African Nova Scotia artist\, Letitia Fraser of North Preston\, will form the basis for an installation to be installed in 2024 in the Truro community of “The Marsh”. \nDrop-in. No registration is required.
URL:https://www.lovemylibrary.ca/event/celebrating-african-nova-scotia-educators-2/2024-01-24/
LOCATION:Truro Library\, 754 Prince St\, Truro\, Nova Scotia\, Canada
CATEGORIES:Events For Adults,Events For Seniors,Events For Teens,Location: Truro
ATTACH;FMTTYPE=image/png:https://www.lovemylibrary.ca/wp-content/uploads/2023/12/Untitled-design-1-1.png
END:VEVENT
BEGIN:VEVENT
DTSTART;TZID=America/Halifax:20240124T143000
DTEND;TZID=America/Halifax:20240124T190000
DTSTAMP:20260425T153845
CREATED:20210830T161210Z
LAST-MODIFIED:20231213T141030Z
UID:10006165-1706106600-1706122800@www.lovemylibrary.ca
SUMMARY:Satellite Library Visit: Middle Stewiacke Recreation Centre
DESCRIPTION:Meet us at the Middle Stewiacke Recreation Centre where you can browse and borrow materials\, sign up for a Library card\, and use the public WiFi!
URL:https://www.lovemylibrary.ca/event/satellite-library-visit-middle-stewiacke-recreation-centre/2024-01-24/
LOCATION:Middle Stewiacke Recreation Centre\, 2395 Highway 289\, Middle Stewiacke\, Nova Scotia\, Canada
CATEGORIES:Events For Adults,Events For Kids,Events For Seniors,Events For Teens,Location: Middle Stewiacke
ATTACH;FMTTYPE=image/jpeg:https://www.lovemylibrary.ca/wp-content/uploads/2021/08/16.jpg
END:VEVENT
BEGIN:VEVENT
DTSTART;TZID=America/Halifax:20240124T180000
DTEND;TZID=America/Halifax:20240124T190000
DTSTAMP:20260425T153845
CREATED:20231222T145250Z
LAST-MODIFIED:20231222T145250Z
UID:10006729-1706119200-1706122800@www.lovemylibrary.ca
SUMMARY:Candy Science
DESCRIPTION:Science is a delight\, but candy science is delicious\, too! Experiment with sweet treats and learn your way to YUM. Ages 8-14 \nThis is a drop in program.
URL:https://www.lovemylibrary.ca/event/candy-science/
LOCATION:Truro Library\, 754 Prince St\, Truro\, Nova Scotia\, Canada
CATEGORIES:Events For Kids,Events For Teens,Location: Truro,STEAM
ATTACH;FMTTYPE=image/png:https://www.lovemylibrary.ca/wp-content/uploads/2023/12/Untitled-design-2023-12-22T105319.847.png
END:VEVENT
BEGIN:VEVENT
DTSTART;VALUE=DATE:20240125
DTEND;VALUE=DATE:20240126
DTSTAMP:20260425T153845
CREATED:20240113T185533Z
LAST-MODIFIED:20240113T190616Z
UID:10006918-1706140800-1706227199@www.lovemylibrary.ca
SUMMARY:Celebrating African Nova Scotia Educators
DESCRIPTION:An exciting art exhibit from the Nova Scotia Women’s History Society honouring four African-Nova Scotian women who led change in education.  The panels created by African Nova Scotia artist\, Letitia Fraser of North Preston\, will form the basis for an installation to be installed in 2024 in the Truro community of “The Marsh”. \nDrop-in. No registration is required.
URL:https://www.lovemylibrary.ca/event/celebrating-african-nova-scotia-educators-2/2024-01-25/
LOCATION:Truro Library\, 754 Prince St\, Truro\, Nova Scotia\, Canada
CATEGORIES:Events For Adults,Events For Seniors,Events For Teens,Location: Truro
ATTACH;FMTTYPE=image/png:https://www.lovemylibrary.ca/wp-content/uploads/2023/12/Untitled-design-1-1.png
END:VEVENT
BEGIN:VEVENT
DTSTART;TZID=America/Halifax:20240125T150000
DTEND;TZID=America/Halifax:20240125T160000
DTSTAMP:20260425T153845
CREATED:20231222T185658Z
LAST-MODIFIED:20231222T185658Z
UID:10006821-1706194800-1706198400@www.lovemylibrary.ca
SUMMARY:Little Lantern Artisans
DESCRIPTION:Kids’ Japanese Lantern Workshop. For ages 8-14 \nPre register in person or by phone 902 – 657-3064 or email: tatamago@cehpubliclibrary.ca
URL:https://www.lovemylibrary.ca/event/little-lantern-artisans/
LOCATION:Tatamagouche Library\, 170 Main Street\, Tatamagouche\, Nova Scotia\, Canada
CATEGORIES:Crafting,Events For Kids,Events For Teens,Location: Tatamagouche
ATTACH;FMTTYPE=image/png:https://www.lovemylibrary.ca/wp-content/uploads/2023/12/Untitled-design-2023-12-22T135446.082.png
END:VEVENT
BEGIN:VEVENT
DTSTART;VALUE=DATE:20240126
DTEND;VALUE=DATE:20240127
DTSTAMP:20260425T153845
CREATED:20240113T185533Z
LAST-MODIFIED:20240113T190616Z
UID:10006919-1706227200-1706313599@www.lovemylibrary.ca
SUMMARY:Celebrating African Nova Scotia Educators
DESCRIPTION:An exciting art exhibit from the Nova Scotia Women’s History Society honouring four African-Nova Scotian women who led change in education.  The panels created by African Nova Scotia artist\, Letitia Fraser of North Preston\, will form the basis for an installation to be installed in 2024 in the Truro community of “The Marsh”. \nDrop-in. No registration is required.
URL:https://www.lovemylibrary.ca/event/celebrating-african-nova-scotia-educators-2/2024-01-26/
LOCATION:Truro Library\, 754 Prince St\, Truro\, Nova Scotia\, Canada
CATEGORIES:Events For Adults,Events For Seniors,Events For Teens,Location: Truro
ATTACH;FMTTYPE=image/png:https://www.lovemylibrary.ca/wp-content/uploads/2023/12/Untitled-design-1-1.png
END:VEVENT
BEGIN:VEVENT
DTSTART;VALUE=DATE:20240127
DTEND;VALUE=DATE:20240128
DTSTAMP:20260425T153845
CREATED:20240113T185533Z
LAST-MODIFIED:20240113T190616Z
UID:10006920-1706313600-1706399999@www.lovemylibrary.ca
SUMMARY:Celebrating African Nova Scotia Educators
DESCRIPTION:An exciting art exhibit from the Nova Scotia Women’s History Society honouring four African-Nova Scotian women who led change in education.  The panels created by African Nova Scotia artist\, Letitia Fraser of North Preston\, will form the basis for an installation to be installed in 2024 in the Truro community of “The Marsh”. \nDrop-in. No registration is required.
URL:https://www.lovemylibrary.ca/event/celebrating-african-nova-scotia-educators-2/2024-01-27/
LOCATION:Truro Library\, 754 Prince St\, Truro\, Nova Scotia\, Canada
CATEGORIES:Events For Adults,Events For Seniors,Events For Teens,Location: Truro
ATTACH;FMTTYPE=image/png:https://www.lovemylibrary.ca/wp-content/uploads/2023/12/Untitled-design-1-1.png
END:VEVENT
END:VCALENDAR