BEGIN:VCALENDAR
VERSION:2.0
PRODID:-//Colchester East Hants Public Library - ECPv6.15.20//NONSGML v1.0//EN
CALSCALE:GREGORIAN
METHOD:PUBLISH
X-WR-CALNAME:Colchester East Hants Public Library
X-ORIGINAL-URL:https://www.lovemylibrary.ca
X-WR-CALDESC:Events for Colchester East Hants Public Library
REFRESH-INTERVAL;VALUE=DURATION:PT1H
X-Robots-Tag:noindex
X-PUBLISHED-TTL:PT1H
BEGIN:VTIMEZONE
TZID:America/Halifax
BEGIN:DAYLIGHT
TZOFFSETFROM:-0400
TZOFFSETTO:-0300
TZNAME:ADT
DTSTART:20230312T060000
END:DAYLIGHT
BEGIN:STANDARD
TZOFFSETFROM:-0300
TZOFFSETTO:-0400
TZNAME:AST
DTSTART:20231105T050000
END:STANDARD
BEGIN:DAYLIGHT
TZOFFSETFROM:-0400
TZOFFSETTO:-0300
TZNAME:ADT
DTSTART:20240310T060000
END:DAYLIGHT
BEGIN:STANDARD
TZOFFSETFROM:-0300
TZOFFSETTO:-0400
TZNAME:AST
DTSTART:20241103T050000
END:STANDARD
BEGIN:DAYLIGHT
TZOFFSETFROM:-0400
TZOFFSETTO:-0300
TZNAME:ADT
DTSTART:20250309T060000
END:DAYLIGHT
BEGIN:STANDARD
TZOFFSETFROM:-0300
TZOFFSETTO:-0400
TZNAME:AST
DTSTART:20251102T050000
END:STANDARD
END:VTIMEZONE
BEGIN:VEVENT
DTSTART;VALUE=DATE:20240212
DTEND;VALUE=DATE:20240213
DTSTAMP:20260425T171100
CREATED:20240113T185533Z
LAST-MODIFIED:20240113T190616Z
UID:10006936-1707696000-1707782399@www.lovemylibrary.ca
SUMMARY:Celebrating African Nova Scotia Educators
DESCRIPTION:An exciting art exhibit from the Nova Scotia Women’s History Society honouring four African-Nova Scotian women who led change in education.  The panels created by African Nova Scotia artist\, Letitia Fraser of North Preston\, will form the basis for an installation to be installed in 2024 in the Truro community of “The Marsh”. \nDrop-in. No registration is required.
URL:https://www.lovemylibrary.ca/event/celebrating-african-nova-scotia-educators-2/2024-02-12/
LOCATION:Truro Library\, 754 Prince St\, Truro\, Nova Scotia\, Canada
CATEGORIES:Events For Adults,Events For Seniors,Events For Teens,Location: Truro
ATTACH;FMTTYPE=image/png:https://www.lovemylibrary.ca/wp-content/uploads/2023/12/Untitled-design-1-1.png
END:VEVENT
BEGIN:VEVENT
DTSTART;VALUE=DATE:20240213
DTEND;VALUE=DATE:20240214
DTSTAMP:20260425T171100
CREATED:20240113T185533Z
LAST-MODIFIED:20240113T190616Z
UID:10006937-1707782400-1707868799@www.lovemylibrary.ca
SUMMARY:Celebrating African Nova Scotia Educators
DESCRIPTION:An exciting art exhibit from the Nova Scotia Women’s History Society honouring four African-Nova Scotian women who led change in education.  The panels created by African Nova Scotia artist\, Letitia Fraser of North Preston\, will form the basis for an installation to be installed in 2024 in the Truro community of “The Marsh”. \nDrop-in. No registration is required.
URL:https://www.lovemylibrary.ca/event/celebrating-african-nova-scotia-educators-2/2024-02-13/
LOCATION:Truro Library\, 754 Prince St\, Truro\, Nova Scotia\, Canada
CATEGORIES:Events For Adults,Events For Seniors,Events For Teens,Location: Truro
ATTACH;FMTTYPE=image/png:https://www.lovemylibrary.ca/wp-content/uploads/2023/12/Untitled-design-1-1.png
END:VEVENT
BEGIN:VEVENT
DTSTART;VALUE=DATE:20240213
DTEND;VALUE=DATE:20240214
DTSTAMP:20260425T171100
CREATED:20240124T234731Z
LAST-MODIFIED:20240124T234857Z
UID:10007082-1707782400-1707868799@www.lovemylibrary.ca
SUMMARY:Black History Month Videos
DESCRIPTION:Use one of our dedicated tablets to watch videos on Black history recommended by the Government of Canada. All ages. \nDrop In: No registration necessary
URL:https://www.lovemylibrary.ca/event/black-history-month-videos/2024-02-13/
LOCATION:Stewiacke Library\, 295 George Street\, Stewiacke\, Nova Scotia\, Canada
CATEGORIES:Events For Adults,Events For Kids,Events For Teens,Location: Stewiacke
ATTACH;FMTTYPE=image/png:https://www.lovemylibrary.ca/wp-content/uploads/2022/01/Untitled-design-39.png
END:VEVENT
BEGIN:VEVENT
DTSTART;TZID=America/Halifax:20240213T130000
DTEND;TZID=America/Halifax:20240213T160000
DTSTAMP:20260425T171100
CREATED:20240123T225753Z
LAST-MODIFIED:20240201T183936Z
UID:10007157-1707829200-1707840000@www.lovemylibrary.ca
SUMMARY:Crochet Creations Club
DESCRIPTION:Crocheting is the perfect hobby for all ages. \n\nHave an afternoon snack and enjoy camaraderie and friendship\nLearn a new skill or perfect your technique.\nAll skill levels welcome\n\n  Drop In: No registration necessary\n 
URL:https://www.lovemylibrary.ca/event/crochet-creations-club/2024-02-13/
LOCATION:Stewiacke Library\, 295 George Street\, Stewiacke\, Nova Scotia\, Canada
CATEGORIES:Crafting,Events For Adults,Events For Kids,Events For Seniors,Events For Teens,Location: Stewiacke
ATTACH;FMTTYPE=image/png:https://www.lovemylibrary.ca/wp-content/uploads/2022/12/Untitled-design-33.png
END:VEVENT
BEGIN:VEVENT
DTSTART;TZID=America/Halifax:20240213T133000
DTEND;TZID=America/Halifax:20240213T150000
DTSTAMP:20260425T171100
CREATED:20231120T203025Z
LAST-MODIFIED:20240326T211358Z
UID:10006995-1707831000-1707836400@www.lovemylibrary.ca
SUMMARY:Homeschoolers Haven
DESCRIPTION:Homeschoolers Haven is a place for Homeschool families to meet and share resources. There will be  activities for the children.   For ages 5+ \nThis is a drop-in program. No registration is required.
URL:https://www.lovemylibrary.ca/event/homeschoolers-haven-2-2-2/2024-02-13/
LOCATION:Truro Library\, 754 Prince St\, Truro\, Nova Scotia\, Canada
CATEGORIES:Events For Kids,Events For Teens,Location: Truro
ATTACH;FMTTYPE=image/png:https://www.lovemylibrary.ca/wp-content/uploads/2022/07/Untitled-design-9.png
END:VEVENT
BEGIN:VEVENT
DTSTART;TZID=America/Halifax:20240213T143000
DTEND;TZID=America/Halifax:20240213T170000
DTSTAMP:20260425T171100
CREATED:20240125T194519Z
LAST-MODIFIED:20240125T194519Z
UID:10007127-1707834600-1707843600@www.lovemylibrary.ca
SUMMARY:Afterschool Chill zone
DESCRIPTION:Relax and have fun after school with computers\, books\, and games in the chill zone. For ages 8-14 \nThis is a drop-in program. Registration is not required.
URL:https://www.lovemylibrary.ca/event/afterschool-chill-zone/2024-02-13/
LOCATION:Tatamagouche Library\, 170 Main Street\, Tatamagouche\, Nova Scotia\, Canada
CATEGORIES:Events For Kids,Events For Teens,Location: Tatamagouche
ATTACH;FMTTYPE=image/png:https://www.lovemylibrary.ca/wp-content/uploads/2024/01/Untitled-design-1-2.png
END:VEVENT
BEGIN:VEVENT
DTSTART;TZID=America/Halifax:20240213T173000
DTEND;TZID=America/Halifax:20240213T190000
DTSTAMP:20260425T171100
CREATED:20240125T201220Z
LAST-MODIFIED:20240125T201338Z
UID:10007141-1707845400-1707850800@www.lovemylibrary.ca
SUMMARY:Waldorf stars workshop
DESCRIPTION:Discover the Beauty of Waldorf Stars and Make Your Own Window Decorations. For all ages. \nPlease register in person or by phone 902-657-3064 or email: tatamago@cehpubliclibrary.ca
URL:https://www.lovemylibrary.ca/event/waldorf-stars-workshop/
LOCATION:Tatamagouche Library\, 170 Main Street\, Tatamagouche\, Nova Scotia\, Canada
CATEGORIES:Events For Adults,Events For Kids,Events For Seniors,Events For Teens,Location: Tatamagouche
ATTACH;FMTTYPE=image/png:https://www.lovemylibrary.ca/wp-content/uploads/2024/01/Untitled-design-2-2.png
END:VEVENT
BEGIN:VEVENT
DTSTART;TZID=America/Halifax:20240213T173000
DTEND;TZID=America/Halifax:20240213T200000
DTSTAMP:20260425T171100
CREATED:20240113T183959Z
LAST-MODIFIED:20240113T184158Z
UID:10006874-1707845400-1707854400@www.lovemylibrary.ca
SUMMARY:Heroes & Adventurers
DESCRIPTION:Role-playing game nights with extraordinary people! We provide the supplies\, you provide the imagination. No experience needed. All welcome! \nRegister to play by emailing: HAATruro@gmail.com Sorry\, no drop-in players at this time.
URL:https://www.lovemylibrary.ca/event/heroes-adventurers-6/2024-02-13/
LOCATION:Truro Library\, 754 Prince St\, Truro\, Nova Scotia\, Canada
CATEGORIES:Events For Adults,Events For Kids,Events For Seniors,Events For Teens,Location: Truro
ATTACH;FMTTYPE=image/png:https://www.lovemylibrary.ca/wp-content/uploads/2022/06/D-and-D.png
END:VEVENT
BEGIN:VEVENT
DTSTART;VALUE=DATE:20240214
DTEND;VALUE=DATE:20240215
DTSTAMP:20260425T171100
CREATED:20240113T185533Z
LAST-MODIFIED:20240113T190616Z
UID:10006938-1707868800-1707955199@www.lovemylibrary.ca
SUMMARY:Celebrating African Nova Scotia Educators
DESCRIPTION:An exciting art exhibit from the Nova Scotia Women’s History Society honouring four African-Nova Scotian women who led change in education.  The panels created by African Nova Scotia artist\, Letitia Fraser of North Preston\, will form the basis for an installation to be installed in 2024 in the Truro community of “The Marsh”. \nDrop-in. No registration is required.
URL:https://www.lovemylibrary.ca/event/celebrating-african-nova-scotia-educators-2/2024-02-14/
LOCATION:Truro Library\, 754 Prince St\, Truro\, Nova Scotia\, Canada
CATEGORIES:Events For Adults,Events For Seniors,Events For Teens,Location: Truro
ATTACH;FMTTYPE=image/png:https://www.lovemylibrary.ca/wp-content/uploads/2023/12/Untitled-design-1-1.png
END:VEVENT
BEGIN:VEVENT
DTSTART;TZID=America/Halifax:20240214T143000
DTEND;TZID=America/Halifax:20240214T190000
DTSTAMP:20260425T171100
CREATED:20210830T161210Z
LAST-MODIFIED:20231213T141030Z
UID:10006166-1707921000-1707937200@www.lovemylibrary.ca
SUMMARY:Satellite Library Visit: Middle Stewiacke Recreation Centre
DESCRIPTION:Meet us at the Middle Stewiacke Recreation Centre where you can browse and borrow materials\, sign up for a Library card\, and use the public WiFi!
URL:https://www.lovemylibrary.ca/event/satellite-library-visit-middle-stewiacke-recreation-centre/2024-02-14/
LOCATION:Middle Stewiacke Recreation Centre\, 2395 Highway 289\, Middle Stewiacke\, Nova Scotia\, Canada
CATEGORIES:Events For Adults,Events For Kids,Events For Seniors,Events For Teens,Location: Middle Stewiacke
ATTACH;FMTTYPE=image/jpeg:https://www.lovemylibrary.ca/wp-content/uploads/2021/08/16.jpg
END:VEVENT
BEGIN:VEVENT
DTSTART;TZID=America/Halifax:20240214T180000
DTEND;TZID=America/Halifax:20240214T190000
DTSTAMP:20260425T171100
CREATED:20240126T194836Z
LAST-MODIFIED:20240126T194836Z
UID:10007151-1707933600-1707937200@www.lovemylibrary.ca
SUMMARY:Anti-Valentine’s Day Party
DESCRIPTION:Sometimes\, love stinks! We’re leaving romance in the dust and celebrating other kinds of love instead. Make an unromantic craft inspired by candy love hearts and put together supplies for the perfect self-care day… we’ll still have chocolate\, though. For ages 13-18 \nThis is a drop in program and does not require registration.
URL:https://www.lovemylibrary.ca/event/anti-valentines-day-party/
LOCATION:Truro Library\, 754 Prince St\, Truro\, Nova Scotia\, Canada
CATEGORIES:Events For Teens,Location: Truro
ATTACH;FMTTYPE=image/png:https://www.lovemylibrary.ca/wp-content/uploads/2024/01/Untitled-design-2024-01-26T154925.332.png
END:VEVENT
BEGIN:VEVENT
DTSTART;VALUE=DATE:20240215
DTEND;VALUE=DATE:20240216
DTSTAMP:20260425T171100
CREATED:20240113T185533Z
LAST-MODIFIED:20240113T190616Z
UID:10006939-1707955200-1708041599@www.lovemylibrary.ca
SUMMARY:Celebrating African Nova Scotia Educators
DESCRIPTION:An exciting art exhibit from the Nova Scotia Women’s History Society honouring four African-Nova Scotian women who led change in education.  The panels created by African Nova Scotia artist\, Letitia Fraser of North Preston\, will form the basis for an installation to be installed in 2024 in the Truro community of “The Marsh”. \nDrop-in. No registration is required.
URL:https://www.lovemylibrary.ca/event/celebrating-african-nova-scotia-educators-2/2024-02-15/
LOCATION:Truro Library\, 754 Prince St\, Truro\, Nova Scotia\, Canada
CATEGORIES:Events For Adults,Events For Seniors,Events For Teens,Location: Truro
ATTACH;FMTTYPE=image/png:https://www.lovemylibrary.ca/wp-content/uploads/2023/12/Untitled-design-1-1.png
END:VEVENT
BEGIN:VEVENT
DTSTART;VALUE=DATE:20240215
DTEND;VALUE=DATE:20240216
DTSTAMP:20260425T171100
CREATED:20240124T234731Z
LAST-MODIFIED:20240124T234857Z
UID:10007083-1707955200-1708041599@www.lovemylibrary.ca
SUMMARY:Black History Month Videos
DESCRIPTION:Use one of our dedicated tablets to watch videos on Black history recommended by the Government of Canada. All ages. \nDrop In: No registration necessary
URL:https://www.lovemylibrary.ca/event/black-history-month-videos/2024-02-15/
LOCATION:Stewiacke Library\, 295 George Street\, Stewiacke\, Nova Scotia\, Canada
CATEGORIES:Events For Adults,Events For Kids,Events For Teens,Location: Stewiacke
ATTACH;FMTTYPE=image/png:https://www.lovemylibrary.ca/wp-content/uploads/2022/01/Untitled-design-39.png
END:VEVENT
BEGIN:VEVENT
DTSTART;TZID=America/Halifax:20240215T143000
DTEND;TZID=America/Halifax:20240215T170000
DTSTAMP:20260425T171100
CREATED:20240125T194519Z
LAST-MODIFIED:20240125T194519Z
UID:10007128-1708007400-1708016400@www.lovemylibrary.ca
SUMMARY:Afterschool Chill zone
DESCRIPTION:Relax and have fun after school with computers\, books\, and games in the chill zone. For ages 8-14 \nThis is a drop-in program. Registration is not required.
URL:https://www.lovemylibrary.ca/event/afterschool-chill-zone/2024-02-15/
LOCATION:Tatamagouche Library\, 170 Main Street\, Tatamagouche\, Nova Scotia\, Canada
CATEGORIES:Events For Kids,Events For Teens,Location: Tatamagouche
ATTACH;FMTTYPE=image/png:https://www.lovemylibrary.ca/wp-content/uploads/2024/01/Untitled-design-1-2.png
END:VEVENT
BEGIN:VEVENT
DTSTART;TZID=America/Halifax:20240215T180000
DTEND;TZID=America/Halifax:20240215T193000
DTSTAMP:20260425T171100
CREATED:20240125T145633Z
LAST-MODIFIED:20240229T145942Z
UID:10007109-1708020000-1708025400@www.lovemylibrary.ca
SUMMARY:Mindfulness Meditation(Cancelled Due to Weather)
DESCRIPTION:We invite you to explore the practice of mindfulness and enjoy a time of meditation.   Learn about how mindfulness can enhance your everyday living. Ages 14+ \nCancelled due to weather\nRegistration is required.  Please call us at 902-883-9838 or email us at elmsdale@cehpubliclibrary.ca for more details.
URL:https://www.lovemylibrary.ca/event/mindfulness-meditation-3/2024-02-15/
LOCATION:Elmsdale Library\, 15 Commerce Ct\, Elmsdale\, Nova Scotia\, Canada
CATEGORIES:Events For Adults,Events For Seniors,Events For Teens,Location: Elmsdale
ATTACH;FMTTYPE=image/png:https://www.lovemylibrary.ca/wp-content/uploads/2023/03/Untitled-design-51.png
END:VEVENT
BEGIN:VEVENT
DTSTART;VALUE=DATE:20240216
DTEND;VALUE=DATE:20240217
DTSTAMP:20260425T171100
CREATED:20240113T185533Z
LAST-MODIFIED:20240113T190616Z
UID:10006940-1708041600-1708127999@www.lovemylibrary.ca
SUMMARY:Celebrating African Nova Scotia Educators
DESCRIPTION:An exciting art exhibit from the Nova Scotia Women’s History Society honouring four African-Nova Scotian women who led change in education.  The panels created by African Nova Scotia artist\, Letitia Fraser of North Preston\, will form the basis for an installation to be installed in 2024 in the Truro community of “The Marsh”. \nDrop-in. No registration is required.
URL:https://www.lovemylibrary.ca/event/celebrating-african-nova-scotia-educators-2/2024-02-16/
LOCATION:Truro Library\, 754 Prince St\, Truro\, Nova Scotia\, Canada
CATEGORIES:Events For Adults,Events For Seniors,Events For Teens,Location: Truro
ATTACH;FMTTYPE=image/png:https://www.lovemylibrary.ca/wp-content/uploads/2023/12/Untitled-design-1-1.png
END:VEVENT
BEGIN:VEVENT
DTSTART;VALUE=DATE:20240216
DTEND;VALUE=DATE:20240217
DTSTAMP:20260425T171100
CREATED:20240124T234731Z
LAST-MODIFIED:20240124T234857Z
UID:10007084-1708041600-1708127999@www.lovemylibrary.ca
SUMMARY:Black History Month Videos
DESCRIPTION:Use one of our dedicated tablets to watch videos on Black history recommended by the Government of Canada. All ages. \nDrop In: No registration necessary
URL:https://www.lovemylibrary.ca/event/black-history-month-videos/2024-02-16/
LOCATION:Stewiacke Library\, 295 George Street\, Stewiacke\, Nova Scotia\, Canada
CATEGORIES:Events For Adults,Events For Kids,Events For Teens,Location: Stewiacke
ATTACH;FMTTYPE=image/png:https://www.lovemylibrary.ca/wp-content/uploads/2022/01/Untitled-design-39.png
END:VEVENT
BEGIN:VEVENT
DTSTART;TZID=America/Halifax:20240216T130000
DTEND;TZID=America/Halifax:20240216T150000
DTSTAMP:20260425T171100
CREATED:20240125T143105Z
LAST-MODIFIED:20240125T143105Z
UID:10007103-1708088400-1708095600@www.lovemylibrary.ca
SUMMARY:Homeschoolers Hangout
DESCRIPTION:Learn and explore at the library!  We want to be part of your education experience. For ages 5-18 \nDrop-in\, no registration required. Please call 902-883-9838 or email at elmsdale@cehpubliclibrary.ca for more details.
URL:https://www.lovemylibrary.ca/event/homeschoolers-hangout-3/2024-02-16/
LOCATION:Elmsdale Library\, 15 Commerce Ct\, Elmsdale\, Nova Scotia\, Canada
CATEGORIES:Events For Kids,Events For Teens,Location: Elmsdale
ATTACH;FMTTYPE=image/png:https://www.lovemylibrary.ca/wp-content/uploads/2022/07/Untitled-design-9.png
END:VEVENT
BEGIN:VEVENT
DTSTART;TZID=America/Halifax:20240216T150000
DTEND;TZID=America/Halifax:20240216T170000
DTSTAMP:20260425T171100
CREATED:20240124T214751Z
LAST-MODIFIED:20240124T214911Z
UID:10007068-1708095600-1708102800@www.lovemylibrary.ca
SUMMARY:Drop In Tech Help
DESCRIPTION:Bring your own device or use one of our computers.This program covers: eReaders/ebooks\, basic computer navigation\, basic app use\, basic cellphone use\, basic tablet use\, general internet instruction\, research and using library electronic resources. Open to all ages. \nDrop In: No registration necessary\n 
URL:https://www.lovemylibrary.ca/event/drop-in-tech-help-2/
LOCATION:Stewiacke Library\, 295 George Street\, Stewiacke\, Nova Scotia\, Canada
CATEGORIES:Events For Adults,Events For Kids,Events For Seniors,Events For Teens,Location: Stewiacke
ATTACH;FMTTYPE=image/png:https://www.lovemylibrary.ca/wp-content/uploads/2022/11/Untitled-design-2022-11-29T112019.106.png
END:VEVENT
BEGIN:VEVENT
DTSTART;VALUE=DATE:20240217
DTEND;VALUE=DATE:20240218
DTSTAMP:20260425T171100
CREATED:20240113T185533Z
LAST-MODIFIED:20240113T190616Z
UID:10006941-1708128000-1708214399@www.lovemylibrary.ca
SUMMARY:Celebrating African Nova Scotia Educators
DESCRIPTION:An exciting art exhibit from the Nova Scotia Women’s History Society honouring four African-Nova Scotian women who led change in education.  The panels created by African Nova Scotia artist\, Letitia Fraser of North Preston\, will form the basis for an installation to be installed in 2024 in the Truro community of “The Marsh”. \nDrop-in. No registration is required.
URL:https://www.lovemylibrary.ca/event/celebrating-african-nova-scotia-educators-2/2024-02-17/
LOCATION:Truro Library\, 754 Prince St\, Truro\, Nova Scotia\, Canada
CATEGORIES:Events For Adults,Events For Seniors,Events For Teens,Location: Truro
ATTACH;FMTTYPE=image/png:https://www.lovemylibrary.ca/wp-content/uploads/2023/12/Untitled-design-1-1.png
END:VEVENT
BEGIN:VEVENT
DTSTART;VALUE=DATE:20240217
DTEND;VALUE=DATE:20240218
DTSTAMP:20260425T171100
CREATED:20240124T234731Z
LAST-MODIFIED:20240124T234857Z
UID:10007085-1708128000-1708214399@www.lovemylibrary.ca
SUMMARY:Black History Month Videos
DESCRIPTION:Use one of our dedicated tablets to watch videos on Black history recommended by the Government of Canada. All ages. \nDrop In: No registration necessary
URL:https://www.lovemylibrary.ca/event/black-history-month-videos/2024-02-17/
LOCATION:Stewiacke Library\, 295 George Street\, Stewiacke\, Nova Scotia\, Canada
CATEGORIES:Events For Adults,Events For Kids,Events For Teens,Location: Stewiacke
ATTACH;FMTTYPE=image/png:https://www.lovemylibrary.ca/wp-content/uploads/2022/01/Untitled-design-39.png
END:VEVENT
BEGIN:VEVENT
DTSTART;TZID=America/Halifax:20240217T110000
DTEND;TZID=America/Halifax:20240217T120000
DTSTAMP:20260425T171100
CREATED:20240125T151151Z
LAST-MODIFIED:20240125T151700Z
UID:10007111-1708167600-1708171200@www.lovemylibrary.ca
SUMMARY:Super Saturday:  3D Art
DESCRIPTION:Come in and make your canvas come alive by using your artistic skills! Add some foam shapes\, small stones\, colour\, and other interesting objects. For kids/teens. \nDrop in – Please call us at 902-883-9838 or email us at elmsdale@cehpubliclibrary.ca for more details.
URL:https://www.lovemylibrary.ca/event/super-saturday-3d-art/
LOCATION:Elmsdale Library\, 15 Commerce Ct\, Elmsdale\, Nova Scotia\, Canada
CATEGORIES:Crafting,Events For Kids,Events For Teens,Location: Elmsdale
ATTACH;FMTTYPE=image/png:https://www.lovemylibrary.ca/wp-content/uploads/2024/01/Untitled-design-4.png
END:VEVENT
END:VCALENDAR