BEGIN:VCALENDAR
VERSION:2.0
PRODID:-//Colchester East Hants Public Library - ECPv6.15.20//NONSGML v1.0//EN
CALSCALE:GREGORIAN
METHOD:PUBLISH
X-WR-CALNAME:Colchester East Hants Public Library
X-ORIGINAL-URL:https://www.lovemylibrary.ca
X-WR-CALDESC:Events for Colchester East Hants Public Library
REFRESH-INTERVAL;VALUE=DURATION:PT1H
X-Robots-Tag:noindex
X-PUBLISHED-TTL:PT1H
BEGIN:VTIMEZONE
TZID:America/Halifax
BEGIN:DAYLIGHT
TZOFFSETFROM:-0400
TZOFFSETTO:-0300
TZNAME:ADT
DTSTART:20230312T060000
END:DAYLIGHT
BEGIN:STANDARD
TZOFFSETFROM:-0300
TZOFFSETTO:-0400
TZNAME:AST
DTSTART:20231105T050000
END:STANDARD
BEGIN:DAYLIGHT
TZOFFSETFROM:-0400
TZOFFSETTO:-0300
TZNAME:ADT
DTSTART:20240310T060000
END:DAYLIGHT
BEGIN:STANDARD
TZOFFSETFROM:-0300
TZOFFSETTO:-0400
TZNAME:AST
DTSTART:20241103T050000
END:STANDARD
BEGIN:DAYLIGHT
TZOFFSETFROM:-0400
TZOFFSETTO:-0300
TZNAME:ADT
DTSTART:20250309T060000
END:DAYLIGHT
BEGIN:STANDARD
TZOFFSETFROM:-0300
TZOFFSETTO:-0400
TZNAME:AST
DTSTART:20251102T050000
END:STANDARD
END:VTIMEZONE
BEGIN:VEVENT
DTSTART;TZID=America/Halifax:20240326T133000
DTEND;TZID=America/Halifax:20240326T150000
DTSTAMP:20260425T101134
CREATED:20231120T203025Z
LAST-MODIFIED:20240326T211358Z
UID:10007250-1711459800-1711465200@www.lovemylibrary.ca
SUMMARY:Homeschoolers Haven
DESCRIPTION:Homeschoolers Haven is a place for Homeschool families to meet and share resources. There will be  activities for the children.   For ages 5+ \nThis is a drop-in program. No registration is required.
URL:https://www.lovemylibrary.ca/event/homeschoolers-haven-2-2-2/2024-03-26/
LOCATION:Truro Library\, 754 Prince St\, Truro\, Nova Scotia\, Canada
CATEGORIES:Events For Kids,Events For Teens,Location: Truro
ATTACH;FMTTYPE=image/png:https://www.lovemylibrary.ca/wp-content/uploads/2022/07/Untitled-design-9.png
END:VEVENT
BEGIN:VEVENT
DTSTART;TZID=America/Halifax:20240326T173000
DTEND;TZID=America/Halifax:20240326T200000
DTSTAMP:20260425T101134
CREATED:20240221T224058Z
LAST-MODIFIED:20240221T224058Z
UID:10007385-1711474200-1711483200@www.lovemylibrary.ca
SUMMARY:Heroes & Adventurers
DESCRIPTION:Role-playing game nights with extraordinary people! We provide the supplies\, you provide the imagination. No experience needed. All welcome! \nRegister to play by emailing: HAATruro@gmail.com Sorry\, no drop-in players at this time.
URL:https://www.lovemylibrary.ca/event/heroes-adventurers-7/2024-03-26/
LOCATION:Truro Library\, 754 Prince St\, Truro\, Nova Scotia\, Canada
CATEGORIES:Events For Adults,Events For Kids,Events For Seniors,Events For Teens,Location: Truro
ATTACH;FMTTYPE=image/png:https://www.lovemylibrary.ca/wp-content/uploads/2022/06/D-and-D.png
END:VEVENT
BEGIN:VEVENT
DTSTART;TZID=America/Halifax:20240327T143000
DTEND;TZID=America/Halifax:20240327T190000
DTSTAMP:20260425T101134
CREATED:20210830T161210Z
LAST-MODIFIED:20231213T141030Z
UID:10006168-1711549800-1711566000@www.lovemylibrary.ca
SUMMARY:Satellite Library Visit: Middle Stewiacke Recreation Centre
DESCRIPTION:Meet us at the Middle Stewiacke Recreation Centre where you can browse and borrow materials\, sign up for a Library card\, and use the public WiFi!
URL:https://www.lovemylibrary.ca/event/satellite-library-visit-middle-stewiacke-recreation-centre/2024-03-27/
LOCATION:Middle Stewiacke Recreation Centre\, 2395 Highway 289\, Middle Stewiacke\, Nova Scotia\, Canada
CATEGORIES:Events For Adults,Events For Kids,Events For Seniors,Events For Teens,Location: Middle Stewiacke
ATTACH;FMTTYPE=image/jpeg:https://www.lovemylibrary.ca/wp-content/uploads/2021/08/16.jpg
END:VEVENT
BEGIN:VEVENT
DTSTART;TZID=America/Halifax:20240328T100000
DTEND;TZID=America/Halifax:20240328T200000
DTSTAMP:20260425T101134
CREATED:20240215T191920Z
LAST-MODIFIED:20240215T191920Z
UID:10007201-1711620000-1711656000@www.lovemylibrary.ca
SUMMARY:Paper Mosaic Easter Egg
DESCRIPTION:Hop your way into the library!  We have all the materials you need to create your paper mosaic Easter egg. All ages. \nDrop in. Please call us at 902-883-9838 or email us at elmsdale@cehpubliclibrary.ca for more details
URL:https://www.lovemylibrary.ca/event/paper-mosaic-easter-egg/
LOCATION:Elmsdale Library\, 15 Commerce Ct\, Elmsdale\, Nova Scotia\, Canada
CATEGORIES:Crafting,Events For Adults,Events For Kids,Events For Teens,Location: Elmsdale
ATTACH;FMTTYPE=image/png:https://www.lovemylibrary.ca/wp-content/uploads/2024/02/Untitled-design-5.png
END:VEVENT
BEGIN:VEVENT
DTSTART;TZID=America/Halifax:20240328T143000
DTEND;TZID=America/Halifax:20240328T150000
DTSTAMP:20260425T101134
CREATED:20240221T201845Z
LAST-MODIFIED:20240221T201845Z
UID:10007350-1711636200-1711638000@www.lovemylibrary.ca
SUMMARY:Easter Fun
DESCRIPTION:We are diamond painting eggs just in time for Easter.  For ages 5-15 \nRegister in branch or by email mtuniack@cehpubliclibrary.ca 
URL:https://www.lovemylibrary.ca/event/easter-fun/
LOCATION:Mount Uniacke Library\, 555\, Highway 1\, Mount Uniacke\, Nova Scotia\, Canada
CATEGORIES:Crafting,Events For Kids,Events For Teens,Location: Mount Uniacke
ATTACH;FMTTYPE=image/png:https://www.lovemylibrary.ca/wp-content/uploads/2024/02/Untitled-design-2024-02-20T194755.366.png
END:VEVENT
BEGIN:VEVENT
DTSTART;TZID=America/Halifax:20240328T180000
DTEND;TZID=America/Halifax:20240328T193000
DTSTAMP:20260425T101134
CREATED:20240215T175723Z
LAST-MODIFIED:20240215T175723Z
UID:10007196-1711648800-1711654200@www.lovemylibrary.ca
SUMMARY:Mindfulness Meditation
DESCRIPTION:We invite you to explore the practice of mindfulness and enjoy a time of meditation.   Learn about how mindfulness can enhance your everyday living. Ages 14+ \nRegistration is required.  Please call us at 902-883-9838 or email us at elmsdale@cehpubliclibrary.ca for more details
URL:https://www.lovemylibrary.ca/event/mindfulness-meditation-4/2024-03-28/
LOCATION:Elmsdale Library\, 15 Commerce Ct\, Elmsdale\, Nova Scotia\, Canada
CATEGORIES:Events For Adults,Events For Seniors,Events For Teens,Location: Elmsdale
ATTACH;FMTTYPE=image/png:https://www.lovemylibrary.ca/wp-content/uploads/2023/03/Untitled-design-51.png
END:VEVENT
BEGIN:VEVENT
DTSTART;TZID=America/Halifax:20240330T110000
DTEND;TZID=America/Halifax:20240330T123000
DTSTAMP:20260425T101134
CREATED:20240221T175130Z
LAST-MODIFIED:20240325T184228Z
UID:10007310-1711796400-1711801800@www.lovemylibrary.ca
SUMMARY:Intro to Fly-tying workshop! (CANCELLED)
DESCRIPTION:Fishing season is right around the corner. Come out and learn about the Nova scotia fish and the best way to catch them.  All ages are welcome. (This program has been cancelled). \nThis is a drop in program. No registration is required.
URL:https://www.lovemylibrary.ca/event/intro-to-fly-tying-workshop/
LOCATION:Tatamagouche Library\, 170 Main Street\, Tatamagouche\, Nova Scotia\, Canada
CATEGORIES:Events For Adults,Events For Kids,Events For Seniors,Events For Teens,Location: Tatamagouche
ATTACH;FMTTYPE=image/png:https://www.lovemylibrary.ca/wp-content/uploads/2024/02/Untitled-design-2024-02-21T135029.219.png
END:VEVENT
END:VCALENDAR