BEGIN:VCALENDAR
VERSION:2.0
PRODID:-//Colchester East Hants Public Library - ECPv6.15.20//NONSGML v1.0//EN
CALSCALE:GREGORIAN
METHOD:PUBLISH
X-WR-CALNAME:Colchester East Hants Public Library
X-ORIGINAL-URL:https://www.lovemylibrary.ca
X-WR-CALDESC:Events for Colchester East Hants Public Library
REFRESH-INTERVAL;VALUE=DURATION:PT1H
X-Robots-Tag:noindex
X-PUBLISHED-TTL:PT1H
BEGIN:VTIMEZONE
TZID:America/Halifax
BEGIN:DAYLIGHT
TZOFFSETFROM:-0400
TZOFFSETTO:-0300
TZNAME:ADT
DTSTART:20230312T060000
END:DAYLIGHT
BEGIN:STANDARD
TZOFFSETFROM:-0300
TZOFFSETTO:-0400
TZNAME:AST
DTSTART:20231105T050000
END:STANDARD
BEGIN:DAYLIGHT
TZOFFSETFROM:-0400
TZOFFSETTO:-0300
TZNAME:ADT
DTSTART:20240310T060000
END:DAYLIGHT
BEGIN:STANDARD
TZOFFSETFROM:-0300
TZOFFSETTO:-0400
TZNAME:AST
DTSTART:20241103T050000
END:STANDARD
BEGIN:DAYLIGHT
TZOFFSETFROM:-0400
TZOFFSETTO:-0300
TZNAME:ADT
DTSTART:20250309T060000
END:DAYLIGHT
BEGIN:STANDARD
TZOFFSETFROM:-0300
TZOFFSETTO:-0400
TZNAME:AST
DTSTART:20251102T050000
END:STANDARD
END:VTIMEZONE
BEGIN:VEVENT
DTSTART;TZID=America/Halifax:20240416T133000
DTEND;TZID=America/Halifax:20240416T150000
DTSTAMP:20260425T090248
CREATED:20231120T203025Z
LAST-MODIFIED:20240326T211358Z
UID:10007569-1713274200-1713279600@www.lovemylibrary.ca
SUMMARY:Homeschoolers Haven
DESCRIPTION:Homeschoolers Haven is a place for Homeschool families to meet and share resources. There will be  activities for the children.   For ages 5+ \nThis is a drop-in program. No registration is required.
URL:https://www.lovemylibrary.ca/event/homeschoolers-haven-2-2-2/2024-04-16/
LOCATION:Truro Library\, 754 Prince St\, Truro\, Nova Scotia\, Canada
CATEGORIES:Events For Kids,Events For Teens,Location: Truro
ATTACH;FMTTYPE=image/png:https://www.lovemylibrary.ca/wp-content/uploads/2022/07/Untitled-design-9.png
END:VEVENT
BEGIN:VEVENT
DTSTART;TZID=America/Halifax:20240416T140000
DTEND;TZID=America/Halifax:20240416T160000
DTSTAMP:20260425T090248
CREATED:20240321T142615Z
LAST-MODIFIED:20240515T210419Z
UID:10007510-1713276000-1713283200@www.lovemylibrary.ca
SUMMARY:Crochet Creations Club
DESCRIPTION:Crocheting is the perfect hobby for all ages. \n\nHave an afternoon snack and enjoy camaraderie and friendship\nLearn a new skill or perfect your technique.\nAll skill levels welcome\n\n  Drop In: No registration necessary\n 
URL:https://www.lovemylibrary.ca/event/crochet-creations-club-2/2024-04-16/
LOCATION:Stewiacke Library\, 295 George Street\, Stewiacke\, Nova Scotia\, Canada
CATEGORIES:Crafting,Events For Adults,Events For Kids,Events For Seniors,Events For Teens,Location: Stewiacke
ATTACH;FMTTYPE=image/png:https://www.lovemylibrary.ca/wp-content/uploads/2022/12/Untitled-design-33.png
END:VEVENT
BEGIN:VEVENT
DTSTART;TZID=America/Halifax:20240416T173000
DTEND;TZID=America/Halifax:20240416T200000
DTSTAMP:20260425T090248
CREATED:20240315T181324Z
LAST-MODIFIED:20240315T181447Z
UID:10007407-1713288600-1713297600@www.lovemylibrary.ca
SUMMARY:Heroes & Adventurers
DESCRIPTION:Role-playing game nights with extraordinary people! We provide the supplies\, you provide the imagination. No experience needed. All welcome! \nRegister to play by emailing: HAATruro@gmail.com Sorry\, no drop-in players at this time.
URL:https://www.lovemylibrary.ca/event/heroes-adventurers-6-2/2024-04-16/
LOCATION:Truro Library\, 754 Prince St\, Truro\, Nova Scotia\, Canada
CATEGORIES:Events For Adults,Events For Kids,Events For Seniors,Events For Teens,Location: Truro
ATTACH;FMTTYPE=image/png:https://www.lovemylibrary.ca/wp-content/uploads/2022/06/D-and-D.png
END:VEVENT
BEGIN:VEVENT
DTSTART;TZID=America/Halifax:20240417T143000
DTEND;TZID=America/Halifax:20240417T190000
DTSTAMP:20260425T090248
CREATED:20210830T161210Z
LAST-MODIFIED:20231213T141030Z
UID:10006169-1713364200-1713380400@www.lovemylibrary.ca
SUMMARY:Satellite Library Visit: Middle Stewiacke Recreation Centre
DESCRIPTION:Meet us at the Middle Stewiacke Recreation Centre where you can browse and borrow materials\, sign up for a Library card\, and use the public WiFi!
URL:https://www.lovemylibrary.ca/event/satellite-library-visit-middle-stewiacke-recreation-centre/2024-04-17/
LOCATION:Middle Stewiacke Recreation Centre\, 2395 Highway 289\, Middle Stewiacke\, Nova Scotia\, Canada
CATEGORIES:Events For Adults,Events For Kids,Events For Seniors,Events For Teens,Location: Middle Stewiacke
ATTACH;FMTTYPE=image/jpeg:https://www.lovemylibrary.ca/wp-content/uploads/2021/08/16.jpg
END:VEVENT
BEGIN:VEVENT
DTSTART;TZID=America/Halifax:20240417T180000
DTEND;TZID=America/Halifax:20240417T190000
DTSTAMP:20260425T090248
CREATED:20240217T192157Z
LAST-MODIFIED:20240326T223007Z
UID:10007282-1713376800-1713380400@www.lovemylibrary.ca
SUMMARY:Teen Night: Recycled Book Crafts
DESCRIPTION:This program is for you if you always wanted to draw in books but were never allowed to! Draw\, cut\, rip pages out of old books to create your very own unique art. For ages 13-18 \nThis is a drop in program. No registration is required.
URL:https://www.lovemylibrary.ca/event/taylor-swift-party-2/
LOCATION:Truro Library\, 754 Prince St\, Truro\, Nova Scotia\, Canada
CATEGORIES:Events For Teens,Location: Truro,March Break
ATTACH;FMTTYPE=image/png:https://www.lovemylibrary.ca/wp-content/uploads/2024/02/Untitled-design-2024-03-26T193139.643.png
END:VEVENT
BEGIN:VEVENT
DTSTART;TZID=America/Halifax:20240418T100000
DTEND;TZID=America/Halifax:20240418T113000
DTSTAMP:20260425T090248
CREATED:20240315T182246Z
LAST-MODIFIED:20240315T182246Z
UID:10007413-1713434400-1713439800@www.lovemylibrary.ca
SUMMARY:Tech Help
DESCRIPTION:Drop by the Maker Lab on Thursday Mornings for one-on-one tech help on a first-come-first-served bases. Happy to help out with your simple tech needs! All ages. \nDrop-in event. No registration is required.
URL:https://www.lovemylibrary.ca/event/tech-help-7/2024-04-18/
LOCATION:Truro Library\, 754 Prince St\, Truro\, Nova Scotia\, Canada
CATEGORIES:Events For Adults,Events For Seniors,Events For Teens,Location: Truro
ATTACH;FMTTYPE=image/png:https://www.lovemylibrary.ca/wp-content/uploads/2022/03/Untitled-design-94.png
END:VEVENT
BEGIN:VEVENT
DTSTART;TZID=America/Halifax:20240418T143000
DTEND;TZID=America/Halifax:20240418T150000
DTSTAMP:20260425T090248
CREATED:20240320T184245Z
LAST-MODIFIED:20240320T184245Z
UID:10007483-1713450600-1713452400@www.lovemylibrary.ca
SUMMARY:Science @ the library
DESCRIPTION:Science is fun! Technology rocks! Engineering makes things great! Math is #1! What does Karri have in store this month? Marker magic is on the agenda for the day. For ages 8-15 \nRegister in branch or by email mtuniack@cehpubliclibrary.ca
URL:https://www.lovemylibrary.ca/event/science-the-library-4/
LOCATION:Mount Uniacke Library\, 555\, Highway 1\, Mount Uniacke\, Nova Scotia\, Canada
CATEGORIES:Events For Kids,Events For Teens,Location: Mount Uniacke,STEAM
ATTACH;FMTTYPE=image/png:https://www.lovemylibrary.ca/wp-content/uploads/2023/08/Untitled-design-2023-08-23T133241.219.png
END:VEVENT
BEGIN:VEVENT
DTSTART;TZID=America/Halifax:20240418T150000
DTEND;TZID=America/Halifax:20240418T160000
DTSTAMP:20260425T090248
CREATED:20240328T194515Z
LAST-MODIFIED:20240328T194515Z
UID:10007668-1713452400-1713456000@www.lovemylibrary.ca
SUMMARY:Teen Bracelet Bash: Express Yourself in Style!
DESCRIPTION:Let’s design together! Join our workshop for a blast of creativity\, where you’ll craft cool bracelets and forge lasting friendships. For ages 13-16 \nRegistration required. Please call 902-657-3064 or email: tatamago@cehpubliclibrary.ca for more details
URL:https://www.lovemylibrary.ca/event/teen-bracelet-bash-express-yourself-in-style/
LOCATION:Tatamagouche Library\, 170 Main Street\, Tatamagouche\, Nova Scotia\, Canada
CATEGORIES:Crafting,Events For Teens,Location: Tatamagouche
ATTACH;FMTTYPE=image/png:https://www.lovemylibrary.ca/wp-content/uploads/2024/03/Untitled-design-2024-03-28T164641.826.png
END:VEVENT
BEGIN:VEVENT
DTSTART;TZID=America/Halifax:20240419T153000
DTEND;TZID=America/Halifax:20240419T163000
DTSTAMP:20260425T090248
CREATED:20240321T162242Z
LAST-MODIFIED:20240321T162335Z
UID:10007515-1713540600-1713544200@www.lovemylibrary.ca
SUMMARY:Earth Day Seed Bombs
DESCRIPTION:Planting seeds is a wonderful way to kick off the spring season. Learn how to make seed bombs and get your garden started. All ages. \nDrop-in. No registration is required
URL:https://www.lovemylibrary.ca/event/earth-day-seed-bombs/
LOCATION:Stewiacke Library\, 295 George Street\, Stewiacke\, Nova Scotia\, Canada
CATEGORIES:Events For Adults,Events For Kids,Events For Seniors,Events For Teens,Location: Stewiacke
ATTACH;FMTTYPE=image/png:https://www.lovemylibrary.ca/wp-content/uploads/2024/03/Untitled-design-3.png
END:VEVENT
END:VCALENDAR