BEGIN:VCALENDAR
VERSION:2.0
PRODID:-//Colchester East Hants Public Library - ECPv6.15.20//NONSGML v1.0//EN
CALSCALE:GREGORIAN
METHOD:PUBLISH
X-ORIGINAL-URL:https://www.lovemylibrary.ca
X-WR-CALDESC:Events for Colchester East Hants Public Library
REFRESH-INTERVAL;VALUE=DURATION:PT1H
X-Robots-Tag:noindex
X-PUBLISHED-TTL:PT1H
BEGIN:VTIMEZONE
TZID:America/Halifax
BEGIN:DAYLIGHT
TZOFFSETFROM:-0400
TZOFFSETTO:-0300
TZNAME:ADT
DTSTART:20230312T060000
END:DAYLIGHT
BEGIN:STANDARD
TZOFFSETFROM:-0300
TZOFFSETTO:-0400
TZNAME:AST
DTSTART:20231105T050000
END:STANDARD
BEGIN:DAYLIGHT
TZOFFSETFROM:-0400
TZOFFSETTO:-0300
TZNAME:ADT
DTSTART:20240310T060000
END:DAYLIGHT
BEGIN:STANDARD
TZOFFSETFROM:-0300
TZOFFSETTO:-0400
TZNAME:AST
DTSTART:20241103T050000
END:STANDARD
BEGIN:DAYLIGHT
TZOFFSETFROM:-0400
TZOFFSETTO:-0300
TZNAME:ADT
DTSTART:20250309T060000
END:DAYLIGHT
BEGIN:STANDARD
TZOFFSETFROM:-0300
TZOFFSETTO:-0400
TZNAME:AST
DTSTART:20251102T050000
END:STANDARD
END:VTIMEZONE
BEGIN:VEVENT
DTSTART;VALUE=DATE:20240513
DTEND;VALUE=DATE:20240514
DTSTAMP:20260425T101306
CREATED:20240423T175925Z
LAST-MODIFIED:20240518T165102Z
UID:10007918-1715558400-1715644799@www.lovemylibrary.ca
SUMMARY:Shelf Care Bingo
DESCRIPTION:Give yourself some shelf care! Pick up your Shelf Care Bingo Sheet at a service desk and combine reading with self-care. All ages. \nComplete the challenge by getting five in a row and be entered into a draw for a $25 Indigo Card!
URL:https://www.lovemylibrary.ca/event/shelf-care-bingo-3/2024-05-13/
LOCATION:Truro Library\, 754 Prince St\, Truro\, Nova Scotia\, Canada
CATEGORIES:Events For Adults,Events For Kids,Events For Seniors,Events For Teens,Location: Truro
ATTACH;FMTTYPE=image/png:https://www.lovemylibrary.ca/wp-content/uploads/2023/04/Untitled-design-32.png
END:VEVENT
BEGIN:VEVENT
DTSTART;VALUE=DATE:20240514
DTEND;VALUE=DATE:20240515
DTSTAMP:20260425T101306
CREATED:20240423T175925Z
LAST-MODIFIED:20240518T165102Z
UID:10007919-1715644800-1715731199@www.lovemylibrary.ca
SUMMARY:Shelf Care Bingo
DESCRIPTION:Give yourself some shelf care! Pick up your Shelf Care Bingo Sheet at a service desk and combine reading with self-care. All ages. \nComplete the challenge by getting five in a row and be entered into a draw for a $25 Indigo Card!
URL:https://www.lovemylibrary.ca/event/shelf-care-bingo-3/2024-05-14/
LOCATION:Truro Library\, 754 Prince St\, Truro\, Nova Scotia\, Canada
CATEGORIES:Events For Adults,Events For Kids,Events For Seniors,Events For Teens,Location: Truro
ATTACH;FMTTYPE=image/png:https://www.lovemylibrary.ca/wp-content/uploads/2023/04/Untitled-design-32.png
END:VEVENT
BEGIN:VEVENT
DTSTART;TZID=America/Halifax:20240514T133000
DTEND;TZID=America/Halifax:20240514T150000
DTSTAMP:20260425T101306
CREATED:20231120T203025Z
LAST-MODIFIED:20240326T211358Z
UID:10007573-1715693400-1715698800@www.lovemylibrary.ca
SUMMARY:Homeschoolers Haven
DESCRIPTION:Homeschoolers Haven is a place for Homeschool families to meet and share resources. There will be  activities for the children.   For ages 5+ \nThis is a drop-in program. No registration is required.
URL:https://www.lovemylibrary.ca/event/homeschoolers-haven-2-2-2/2024-05-14/
LOCATION:Truro Library\, 754 Prince St\, Truro\, Nova Scotia\, Canada
CATEGORIES:Events For Kids,Events For Teens,Location: Truro
ATTACH;FMTTYPE=image/png:https://www.lovemylibrary.ca/wp-content/uploads/2022/07/Untitled-design-9.png
END:VEVENT
BEGIN:VEVENT
DTSTART;TZID=America/Halifax:20240514T140000
DTEND;TZID=America/Halifax:20240514T160000
DTSTAMP:20260425T101306
CREATED:20240321T142615Z
LAST-MODIFIED:20240515T210419Z
UID:10007522-1715695200-1715702400@www.lovemylibrary.ca
SUMMARY:Crochet Creations Club
DESCRIPTION:Crocheting is the perfect hobby for all ages. \n\nHave an afternoon snack and enjoy camaraderie and friendship\nLearn a new skill or perfect your technique.\nAll skill levels welcome\n\n  Drop In: No registration necessary\n 
URL:https://www.lovemylibrary.ca/event/crochet-creations-club-2/2024-05-14/
LOCATION:Stewiacke Library\, 295 George Street\, Stewiacke\, Nova Scotia\, Canada
CATEGORIES:Crafting,Events For Adults,Events For Kids,Events For Seniors,Events For Teens,Location: Stewiacke
ATTACH;FMTTYPE=image/png:https://www.lovemylibrary.ca/wp-content/uploads/2022/12/Untitled-design-33.png
END:VEVENT
BEGIN:VEVENT
DTSTART;TZID=America/Halifax:20240514T173000
DTEND;TZID=America/Halifax:20240514T200000
DTSTAMP:20260425T101306
CREATED:20240416T223426Z
LAST-MODIFIED:20240416T223426Z
UID:10007850-1715707800-1715716800@www.lovemylibrary.ca
SUMMARY:Heroes & Adventurers
DESCRIPTION:Role-playing game nights with extraordinary people! We provide the supplies\, you provide the imagination. No experience needed. All welcome! \nRegister to play by emailing: HAATruro@gmail.com Sorry\, no drop-in players at this time.
URL:https://www.lovemylibrary.ca/event/heroes-adventurers-8/2024-05-14/
LOCATION:Truro Library\, 754 Prince St\, Truro\, Nova Scotia\, Canada
CATEGORIES:Events For Adults,Events For Kids,Events For Seniors,Events For Teens,Location: Truro
ATTACH;FMTTYPE=image/png:https://www.lovemylibrary.ca/wp-content/uploads/2022/06/D-and-D.png
END:VEVENT
BEGIN:VEVENT
DTSTART;VALUE=DATE:20240515
DTEND;VALUE=DATE:20240516
DTSTAMP:20260425T101306
CREATED:20240423T175925Z
LAST-MODIFIED:20240518T165102Z
UID:10007920-1715731200-1715817599@www.lovemylibrary.ca
SUMMARY:Shelf Care Bingo
DESCRIPTION:Give yourself some shelf care! Pick up your Shelf Care Bingo Sheet at a service desk and combine reading with self-care. All ages. \nComplete the challenge by getting five in a row and be entered into a draw for a $25 Indigo Card!
URL:https://www.lovemylibrary.ca/event/shelf-care-bingo-3/2024-05-15/
LOCATION:Truro Library\, 754 Prince St\, Truro\, Nova Scotia\, Canada
CATEGORIES:Events For Adults,Events For Kids,Events For Seniors,Events For Teens,Location: Truro
ATTACH;FMTTYPE=image/png:https://www.lovemylibrary.ca/wp-content/uploads/2023/04/Untitled-design-32.png
END:VEVENT
BEGIN:VEVENT
DTSTART;TZID=America/Halifax:20240515T143000
DTEND;TZID=America/Halifax:20240515T190000
DTSTAMP:20260425T101306
CREATED:20210830T143625Z
LAST-MODIFIED:20231213T140902Z
UID:10006154-1715783400-1715799600@www.lovemylibrary.ca
SUMMARY:Satellite Library Visit: Kennetcook Fire Hall
DESCRIPTION:Meet us at the Kennetcook Fire Hall where you can browse and borrow materials\, sign up for a Library card\, and hear about our upcoming programs! \n 
URL:https://www.lovemylibrary.ca/event/satellite-library-visit-kennetcook-fire-hall/2024-05-15/
LOCATION:Kennetcook Fire Hall\, 32 Martin Walsh Road\, Kennetcook\, Nova Scotia\, Canada
CATEGORIES:Events For Adults,Events For Kids,Events For Seniors,Events For Teens,Location: Kennetcook
ATTACH;FMTTYPE=image/jpeg:https://www.lovemylibrary.ca/wp-content/uploads/2021/08/16.jpg
END:VEVENT
BEGIN:VEVENT
DTSTART;VALUE=DATE:20240516
DTEND;VALUE=DATE:20240517
DTSTAMP:20260425T101306
CREATED:20240423T175925Z
LAST-MODIFIED:20240518T165102Z
UID:10007921-1715817600-1715903999@www.lovemylibrary.ca
SUMMARY:Shelf Care Bingo
DESCRIPTION:Give yourself some shelf care! Pick up your Shelf Care Bingo Sheet at a service desk and combine reading with self-care. All ages. \nComplete the challenge by getting five in a row and be entered into a draw for a $25 Indigo Card!
URL:https://www.lovemylibrary.ca/event/shelf-care-bingo-3/2024-05-16/
LOCATION:Truro Library\, 754 Prince St\, Truro\, Nova Scotia\, Canada
CATEGORIES:Events For Adults,Events For Kids,Events For Seniors,Events For Teens,Location: Truro
ATTACH;FMTTYPE=image/png:https://www.lovemylibrary.ca/wp-content/uploads/2023/04/Untitled-design-32.png
END:VEVENT
BEGIN:VEVENT
DTSTART;TZID=America/Halifax:20240516T100000
DTEND;TZID=America/Halifax:20240516T113000
DTSTAMP:20260425T101306
CREATED:20240423T131119Z
LAST-MODIFIED:20240423T131119Z
UID:10007905-1715853600-1715859000@www.lovemylibrary.ca
SUMMARY:Tech Help
DESCRIPTION:Drop by the Maker Lab on Thursday Mornings for one-on-one tech help on a first-come-first-served bases. Happy to help out with your simple tech needs! All ages. \nDrop-in event. No registration is required.
URL:https://www.lovemylibrary.ca/event/tech-help-8/2024-05-16/
LOCATION:Truro Library\, 754 Prince St\, Truro\, Nova Scotia\, Canada
CATEGORIES:Events For Adults,Events For Seniors,Events For Teens,Location: Truro
ATTACH;FMTTYPE=image/png:https://www.lovemylibrary.ca/wp-content/uploads/2022/03/Untitled-design-94.png
END:VEVENT
BEGIN:VEVENT
DTSTART;VALUE=DATE:20240517
DTEND;VALUE=DATE:20240518
DTSTAMP:20260425T101306
CREATED:20240423T175925Z
LAST-MODIFIED:20240518T165102Z
UID:10007922-1715904000-1715990399@www.lovemylibrary.ca
SUMMARY:Shelf Care Bingo
DESCRIPTION:Give yourself some shelf care! Pick up your Shelf Care Bingo Sheet at a service desk and combine reading with self-care. All ages. \nComplete the challenge by getting five in a row and be entered into a draw for a $25 Indigo Card!
URL:https://www.lovemylibrary.ca/event/shelf-care-bingo-3/2024-05-17/
LOCATION:Truro Library\, 754 Prince St\, Truro\, Nova Scotia\, Canada
CATEGORIES:Events For Adults,Events For Kids,Events For Seniors,Events For Teens,Location: Truro
ATTACH;FMTTYPE=image/png:https://www.lovemylibrary.ca/wp-content/uploads/2023/04/Untitled-design-32.png
END:VEVENT
BEGIN:VEVENT
DTSTART;TZID=America/Halifax:20240517T130000
DTEND;TZID=America/Halifax:20240517T150000
DTSTAMP:20260425T101306
CREATED:20240214T233119Z
LAST-MODIFIED:20240415T181755Z
UID:10007790-1715950800-1715958000@www.lovemylibrary.ca
SUMMARY:Homeschoolers Hangout
DESCRIPTION:Learn and explore at the library!  We want to be part of your education experience. For ages 5-18 \nDrop-in\, no registration required. Please call 902-883-9838 or email at elmsdale@cehpubliclibrary.ca for more details.
URL:https://www.lovemylibrary.ca/event/homeschoolers-hangout-4/2024-05-17/
LOCATION:Elmsdale Library\, 15 Commerce Ct\, Elmsdale\, Nova Scotia\, Canada
CATEGORIES:Events For Kids,Events For Teens,Location: Elmsdale
ATTACH;FMTTYPE=image/png:https://www.lovemylibrary.ca/wp-content/uploads/2022/07/Untitled-design-9.png
END:VEVENT
BEGIN:VEVENT
DTSTART;VALUE=DATE:20240518
DTEND;VALUE=DATE:20240519
DTSTAMP:20260425T101306
CREATED:20240423T175925Z
LAST-MODIFIED:20240518T165102Z
UID:10007923-1715990400-1716076799@www.lovemylibrary.ca
SUMMARY:Shelf Care Bingo
DESCRIPTION:Give yourself some shelf care! Pick up your Shelf Care Bingo Sheet at a service desk and combine reading with self-care. All ages. \nComplete the challenge by getting five in a row and be entered into a draw for a $25 Indigo Card!
URL:https://www.lovemylibrary.ca/event/shelf-care-bingo-3/2024-05-18/
LOCATION:Truro Library\, 754 Prince St\, Truro\, Nova Scotia\, Canada
CATEGORIES:Events For Adults,Events For Kids,Events For Seniors,Events For Teens,Location: Truro
ATTACH;FMTTYPE=image/png:https://www.lovemylibrary.ca/wp-content/uploads/2023/04/Untitled-design-32.png
END:VEVENT
BEGIN:VEVENT
DTSTART;TZID=America/Halifax:20240518T130000
DTEND;TZID=America/Halifax:20240518T140000
DTSTAMP:20260425T101306
CREATED:20240125T152138Z
LAST-MODIFIED:20240415T190126Z
UID:10007112-1716037200-1716040800@www.lovemylibrary.ca
SUMMARY:Video Game Club
DESCRIPTION:Join us once a month to play games like Mario Kart and Super Smash Bros\, sample some indie games\, trade Pokémon\, and catch the latest in gaming news – all at your library! For ages 8-18 \nDrop-in\, no registration required. Please call 902-883-9838 or email at elmsdale@cehpubliclibrary.ca for more details
URL:https://www.lovemylibrary.ca/event/video-game-club-2/
LOCATION:Elmsdale Library\, 15 Commerce Ct\, Elmsdale\, Nova Scotia\, Canada
CATEGORIES:Events For Kids,Events For Teens,Location: Elmsdale
ATTACH;FMTTYPE=image/png:https://www.lovemylibrary.ca/wp-content/uploads/2023/04/Untitled-design-30.png
END:VEVENT
END:VCALENDAR