BEGIN:VCALENDAR
VERSION:2.0
PRODID:-//Colchester East Hants Public Library - ECPv6.15.20//NONSGML v1.0//EN
CALSCALE:GREGORIAN
METHOD:PUBLISH
X-ORIGINAL-URL:https://www.lovemylibrary.ca
X-WR-CALDESC:Events for Colchester East Hants Public Library
REFRESH-INTERVAL;VALUE=DURATION:PT1H
X-Robots-Tag:noindex
X-PUBLISHED-TTL:PT1H
BEGIN:VTIMEZONE
TZID:America/Halifax
BEGIN:DAYLIGHT
TZOFFSETFROM:-0400
TZOFFSETTO:-0300
TZNAME:ADT
DTSTART:20230312T060000
END:DAYLIGHT
BEGIN:STANDARD
TZOFFSETFROM:-0300
TZOFFSETTO:-0400
TZNAME:AST
DTSTART:20231105T050000
END:STANDARD
BEGIN:DAYLIGHT
TZOFFSETFROM:-0400
TZOFFSETTO:-0300
TZNAME:ADT
DTSTART:20240310T060000
END:DAYLIGHT
BEGIN:STANDARD
TZOFFSETFROM:-0300
TZOFFSETTO:-0400
TZNAME:AST
DTSTART:20241103T050000
END:STANDARD
BEGIN:DAYLIGHT
TZOFFSETFROM:-0400
TZOFFSETTO:-0300
TZNAME:ADT
DTSTART:20250309T060000
END:DAYLIGHT
BEGIN:STANDARD
TZOFFSETFROM:-0300
TZOFFSETTO:-0400
TZNAME:AST
DTSTART:20251102T050000
END:STANDARD
END:VTIMEZONE
BEGIN:VEVENT
DTSTART;TZID=America/Halifax:20240611T140000
DTEND;TZID=America/Halifax:20240611T160000
DTSTAMP:20260424T175432
CREATED:20240321T142615Z
LAST-MODIFIED:20240515T210419Z
UID:10007526-1718114400-1718121600@www.lovemylibrary.ca
SUMMARY:Crochet Creations Club
DESCRIPTION:Crocheting is the perfect hobby for all ages. \n\nHave an afternoon snack and enjoy camaraderie and friendship\nLearn a new skill or perfect your technique.\nAll skill levels welcome\n\n  Drop In: No registration necessary\n 
URL:https://www.lovemylibrary.ca/event/crochet-creations-club-2/2024-06-11/
LOCATION:Stewiacke Library\, 295 George Street\, Stewiacke\, Nova Scotia\, Canada
CATEGORIES:Crafting,Events For Adults,Events For Kids,Events For Seniors,Events For Teens,Location: Stewiacke
ATTACH;FMTTYPE=image/png:https://www.lovemylibrary.ca/wp-content/uploads/2022/12/Untitled-design-33.png
END:VEVENT
BEGIN:VEVENT
DTSTART;TZID=America/Halifax:20240611T150000
DTEND;TZID=America/Halifax:20240611T163000
DTSTAMP:20260424T175432
CREATED:20240516T172149Z
LAST-MODIFIED:20240516T172149Z
UID:10008072-1718118000-1718123400@www.lovemylibrary.ca
SUMMARY:Teen Room Cram Cafe
DESCRIPTION:Drop by the Truro Library teen room for a peaceful place to study for your exams. Snacks\, fidgets\, and basic school supplies provided. Ages 13-18 \nDrop in. No registration is required.
URL:https://www.lovemylibrary.ca/event/teen-room-cram-cafe/2024-06-11/
LOCATION:Truro Library\, 754 Prince St\, Truro\, Nova Scotia\, Canada
CATEGORIES:Events For Teens,Location: Truro
ATTACH;FMTTYPE=image/png:https://www.lovemylibrary.ca/wp-content/uploads/2024/05/Untitled-design.png
END:VEVENT
BEGIN:VEVENT
DTSTART;TZID=America/Halifax:20240611T173000
DTEND;TZID=America/Halifax:20240611T200000
DTSTAMP:20260424T175432
CREATED:20240517T182605Z
LAST-MODIFIED:20240517T182605Z
UID:10008268-1718127000-1718136000@www.lovemylibrary.ca
SUMMARY:Heroes & Adventurers
DESCRIPTION:Role-playing game nights with extraordinary people! We provide the supplies\, you provide the imagination. No experience needed. All welcome! \nRegister to play by emailing: HAATruro@gmail.com Sorry\, no drop-in players at this time.
URL:https://www.lovemylibrary.ca/event/heroes-adventurers-9/2024-06-11/
LOCATION:Truro Library\, 754 Prince St\, Truro\, Nova Scotia\, Canada
CATEGORIES:Events For Adults,Events For Kids,Events For Seniors,Events For Teens,Location: Truro
ATTACH;FMTTYPE=image/png:https://www.lovemylibrary.ca/wp-content/uploads/2022/06/D-and-D.png
END:VEVENT
BEGIN:VEVENT
DTSTART;TZID=America/Halifax:20240613T150000
DTEND;TZID=America/Halifax:20240613T163000
DTSTAMP:20260424T175432
CREATED:20240516T172149Z
LAST-MODIFIED:20240516T172149Z
UID:10008073-1718290800-1718296200@www.lovemylibrary.ca
SUMMARY:Teen Room Cram Cafe
DESCRIPTION:Drop by the Truro Library teen room for a peaceful place to study for your exams. Snacks\, fidgets\, and basic school supplies provided. Ages 13-18 \nDrop in. No registration is required.
URL:https://www.lovemylibrary.ca/event/teen-room-cram-cafe/2024-06-13/
LOCATION:Truro Library\, 754 Prince St\, Truro\, Nova Scotia\, Canada
CATEGORIES:Events For Teens,Location: Truro
ATTACH;FMTTYPE=image/png:https://www.lovemylibrary.ca/wp-content/uploads/2024/05/Untitled-design.png
END:VEVENT
BEGIN:VEVENT
DTSTART;TZID=America/Halifax:20240613T180000
DTEND;TZID=America/Halifax:20240613T190000
DTSTAMP:20260424T175432
CREATED:20240516T194605Z
LAST-MODIFIED:20240516T194605Z
UID:10008241-1718301600-1718305200@www.lovemylibrary.ca
SUMMARY:Only Murders in our Library
DESCRIPTION:Introverts and extroverts unite. Extroverts come early to socialize and introverts can join us at 6pm. We are spending an hour listening to a true crime podcast and doing some adult coloring. For ages 15-99 (or older) \nThis is a drop in event\, No registration required\n  \n 
URL:https://www.lovemylibrary.ca/event/only-murders-in-our-library-4/
LOCATION:Mount Uniacke Library\, 555\, Highway 1\, Mount Uniacke\, Nova Scotia\, Canada
CATEGORIES:Events For Adults,Events For Seniors,Events For Teens,Location: Mount Uniacke
ATTACH;FMTTYPE=image/png:https://www.lovemylibrary.ca/wp-content/uploads/2023/08/Untitled-design-2023-08-25T151940.865.png
END:VEVENT
BEGIN:VEVENT
DTSTART;TZID=America/Halifax:20240614T130000
DTEND;TZID=America/Halifax:20240614T150000
DTSTAMP:20260424T175432
CREATED:20240214T233119Z
LAST-MODIFIED:20240415T181755Z
UID:10007792-1718370000-1718377200@www.lovemylibrary.ca
SUMMARY:Homeschoolers Hangout
DESCRIPTION:Learn and explore at the library!  We want to be part of your education experience. For ages 5-18 \nDrop-in\, no registration required. Please call 902-883-9838 or email at elmsdale@cehpubliclibrary.ca for more details.
URL:https://www.lovemylibrary.ca/event/homeschoolers-hangout-4/2024-06-14/
LOCATION:Elmsdale Library\, 15 Commerce Ct\, Elmsdale\, Nova Scotia\, Canada
CATEGORIES:Events For Kids,Events For Teens,Location: Elmsdale
ATTACH;FMTTYPE=image/png:https://www.lovemylibrary.ca/wp-content/uploads/2022/07/Untitled-design-9.png
END:VEVENT
BEGIN:VEVENT
DTSTART;TZID=America/Halifax:20240614T143000
DTEND;TZID=America/Halifax:20240614T150000
DTSTAMP:20260424T175432
CREATED:20240517T173955Z
LAST-MODIFIED:20240527T135153Z
UID:10008242-1718375400-1718377200@www.lovemylibrary.ca
SUMMARY:Science @ the library
DESCRIPTION:Science is fun! Technology rocks! Engineering makes things great! Math is #1! What does Karri have in store this month? We are ending the school year with a BANG!  For ages 5-15 \nRegister in branch or by email mtuniack@cehpubliclibrary.ca
URL:https://www.lovemylibrary.ca/event/science-the-library-6/
LOCATION:Mount Uniacke Library\, 555\, Highway 1\, Mount Uniacke\, Nova Scotia\, Canada
CATEGORIES:Events For Kids,Events For Teens,Location: Mount Uniacke,STEAM
ATTACH;FMTTYPE=image/png:https://www.lovemylibrary.ca/wp-content/uploads/2023/08/Untitled-design-2023-08-23T133241.219.png
END:VEVENT
END:VCALENDAR