BEGIN:VCALENDAR
VERSION:2.0
PRODID:-//Colchester East Hants Public Library - ECPv6.15.20//NONSGML v1.0//EN
CALSCALE:GREGORIAN
METHOD:PUBLISH
X-ORIGINAL-URL:https://www.lovemylibrary.ca
X-WR-CALDESC:Events for Colchester East Hants Public Library
REFRESH-INTERVAL;VALUE=DURATION:PT1H
X-Robots-Tag:noindex
X-PUBLISHED-TTL:PT1H
BEGIN:VTIMEZONE
TZID:America/Halifax
BEGIN:DAYLIGHT
TZOFFSETFROM:-0400
TZOFFSETTO:-0300
TZNAME:ADT
DTSTART:20230312T060000
END:DAYLIGHT
BEGIN:STANDARD
TZOFFSETFROM:-0300
TZOFFSETTO:-0400
TZNAME:AST
DTSTART:20231105T050000
END:STANDARD
BEGIN:DAYLIGHT
TZOFFSETFROM:-0400
TZOFFSETTO:-0300
TZNAME:ADT
DTSTART:20240310T060000
END:DAYLIGHT
BEGIN:STANDARD
TZOFFSETFROM:-0300
TZOFFSETTO:-0400
TZNAME:AST
DTSTART:20241103T050000
END:STANDARD
BEGIN:DAYLIGHT
TZOFFSETFROM:-0400
TZOFFSETTO:-0300
TZNAME:ADT
DTSTART:20250309T060000
END:DAYLIGHT
BEGIN:STANDARD
TZOFFSETFROM:-0300
TZOFFSETTO:-0400
TZNAME:AST
DTSTART:20251102T050000
END:STANDARD
END:VTIMEZONE
BEGIN:VEVENT
DTSTART;TZID=America/Halifax:20240924T133000
DTEND;TZID=America/Halifax:20240924T143000
DTSTAMP:20260423T222011
CREATED:20240822T190930Z
LAST-MODIFIED:20240918T143833Z
UID:10009288-1727184600-1727188200@www.lovemylibrary.ca
SUMMARY:Homeschoolers Haven
DESCRIPTION:Homeschoolers Haven is a place for Homeschool families to meet and share resources. There will be  activities for the children.   For ages 5+ \nThis is a drop-in program. No registration is required.
URL:https://www.lovemylibrary.ca/event/homeschoolers-haven-2-2-2-2/2024-09-24/
LOCATION:Truro Library\, 754 Prince St\, Truro\, Nova Scotia\, Canada
CATEGORIES:Events For Kids,Events For Teens,Location: Truro
ATTACH;FMTTYPE=image/png:https://www.lovemylibrary.ca/wp-content/uploads/2022/07/Untitled-design-9.png
END:VEVENT
BEGIN:VEVENT
DTSTART;TZID=America/Halifax:20240924T140000
DTEND;TZID=America/Halifax:20240924T160000
DTSTAMP:20260423T222011
CREATED:20240815T135130Z
LAST-MODIFIED:20240815T135130Z
UID:10009264-1727186400-1727193600@www.lovemylibrary.ca
SUMMARY:Maggie’s Crochet Club
DESCRIPTION:Crocheting is the perfect hobby for all ages. \n\nHave an afternoon snack and enjoy camaraderie and friendship.\nLearn a new skill or perfect your technique.\n\nAll skill levels welcome. Ages 6 and up. \nDrop in. No registration is required.
URL:https://www.lovemylibrary.ca/event/maggies-crochet-club/
LOCATION:Stewiacke Library\, 295 George Street\, Stewiacke\, Nova Scotia\, Canada
CATEGORIES:Crafting,Events For Adults,Events For Kids,Events For Seniors,Events For Teens,Location: Stewiacke
ATTACH;FMTTYPE=image/png:https://www.lovemylibrary.ca/wp-content/uploads/2022/12/Untitled-design-33.png
END:VEVENT
BEGIN:VEVENT
DTSTART;TZID=America/Halifax:20240924T140000
DTEND;TZID=America/Halifax:20240924T160000
DTSTAMP:20260423T222011
CREATED:20240916T153050Z
LAST-MODIFIED:20241016T171548Z
UID:10009693-1727186400-1727193600@www.lovemylibrary.ca
SUMMARY:Maggie’s Crochet Club
DESCRIPTION:Crocheting is the perfect hobby for all ages. \n\nHave an afternoon snack and enjoy camaraderie and friendship.\nLearn a new skill or perfect your technique.\n\nAll skill levels welcome. Ages 6 and up. \nDrop in. No registration is required.
URL:https://www.lovemylibrary.ca/event/maggies-crochet-club-2/2024-09-24/
LOCATION:Stewiacke Library\, 295 George Street\, Stewiacke\, Nova Scotia\, Canada
CATEGORIES:Crafting,Events For Adults,Events For Kids,Events For Seniors,Events For Teens,Location: Stewiacke
ATTACH;FMTTYPE=image/png:https://www.lovemylibrary.ca/wp-content/uploads/2022/12/Untitled-design-33.png
END:VEVENT
BEGIN:VEVENT
DTSTART;TZID=America/Halifax:20240924T150000
DTEND;TZID=America/Halifax:20240924T163000
DTSTAMP:20260423T222011
CREATED:20240822T192337Z
LAST-MODIFIED:20241105T220050Z
UID:10009293-1727190000-1727195400@www.lovemylibrary.ca
SUMMARY:Teen Room Drop In
DESCRIPTION:Come hang out\, grab a snack\, play Nintendo\, or make some art! \nAges 13-18 \nThis is a drop-in program. No registration is required.
URL:https://www.lovemylibrary.ca/event/teen-room-drop-in-3-2/2024-09-24/
LOCATION:Truro Library\, 754 Prince St\, Truro\, Nova Scotia\, Canada
CATEGORIES:Events For Teens,Location: Truro
ATTACH;FMTTYPE=image/png:https://www.lovemylibrary.ca/wp-content/uploads/2022/10/Untitled-design-53.png
END:VEVENT
BEGIN:VEVENT
DTSTART;TZID=America/Halifax:20240924T150000
DTEND;TZID=America/Halifax:20240924T170000
DTSTAMP:20260423T222011
CREATED:20240814T153858Z
LAST-MODIFIED:20240814T153858Z
UID:10009193-1727190000-1727197200@www.lovemylibrary.ca
SUMMARY:Tech Help by Appointment
DESCRIPTION:Bring your own device or use one of our computers. \nThis program covers: eReaders/ebooks\, basic computer navigation\, basic app use\, basic cellphone use\, basic tablet use\, general internet instruction\, research and using library electronic resources. For all ages. \nTo register\, email stewiacke@cehpubliclibrary.ca\n  \n 
URL:https://www.lovemylibrary.ca/event/tech-help-by-appointment/2024-09-24/
LOCATION:Stewiacke Library\, 295 George Street\, Stewiacke\, Nova Scotia\, Canada
CATEGORIES:Events For Adults,Events For Kids,Events For Seniors,Events For Teens,Location: Stewiacke
ATTACH;FMTTYPE=image/png:https://www.lovemylibrary.ca/wp-content/uploads/2022/11/Untitled-design-2022-11-29T112019.106.png
END:VEVENT
BEGIN:VEVENT
DTSTART;TZID=America/Halifax:20240924T173000
DTEND;TZID=America/Halifax:20240924T200000
DTSTAMP:20260423T222011
CREATED:20240824T134519Z
LAST-MODIFIED:20240824T134519Z
UID:10009473-1727199000-1727208000@www.lovemylibrary.ca
SUMMARY:Heroes & Adventurers
DESCRIPTION:Role-playing game nights with extraordinary people! We provide the supplies\, you provide the imagination. No experience needed. All welcome! \nRegister to play by emailing: HAATruro@gmail.com Sorry\, no drop-in players at this time.
URL:https://www.lovemylibrary.ca/event/heroes-adventurers-12/2024-09-24/
LOCATION:Truro Library\, 754 Prince St\, Truro\, Nova Scotia\, Canada
CATEGORIES:Events For Adults,Events For Kids,Events For Seniors,Events For Teens,Location: Truro
ATTACH;FMTTYPE=image/png:https://www.lovemylibrary.ca/wp-content/uploads/2022/06/D-and-D.png
END:VEVENT
BEGIN:VEVENT
DTSTART;TZID=America/Halifax:20240924T180000
DTEND;TZID=America/Halifax:20240924T200000
DTSTAMP:20260423T222011
CREATED:20240826T193015Z
LAST-MODIFIED:20240826T193349Z
UID:10009564-1727200800-1727208000@www.lovemylibrary.ca
SUMMARY:Maker Lab Fun Time
DESCRIPTION:Come on in and explore. Program robots\, create circuits\, build with magnetic tiles\, and more! All ages \nDrop in. No registration is required.
URL:https://www.lovemylibrary.ca/event/maker-lab-fun-time-5/2024-09-24/
LOCATION:Truro Library\, 754 Prince St\, Truro\, Nova Scotia\, Canada
CATEGORIES:Events For Adults,Events For Kids,Events For Teens,Location: Truro
ATTACH;FMTTYPE=image/png:https://www.lovemylibrary.ca/wp-content/uploads/2023/09/Untitled-design-2023-09-29T143321.527.png
END:VEVENT
BEGIN:VEVENT
DTSTART;TZID=America/Halifax:20240925T150000
DTEND;TZID=America/Halifax:20240925T163000
DTSTAMP:20260423T222011
CREATED:20240822T192337Z
LAST-MODIFIED:20241105T220050Z
UID:10009294-1727276400-1727281800@www.lovemylibrary.ca
SUMMARY:Teen Room Drop In
DESCRIPTION:Come hang out\, grab a snack\, play Nintendo\, or make some art! \nAges 13-18 \nThis is a drop-in program. No registration is required.
URL:https://www.lovemylibrary.ca/event/teen-room-drop-in-3-2/2024-09-25/
LOCATION:Truro Library\, 754 Prince St\, Truro\, Nova Scotia\, Canada
CATEGORIES:Events For Teens,Location: Truro
ATTACH;FMTTYPE=image/png:https://www.lovemylibrary.ca/wp-content/uploads/2022/10/Untitled-design-53.png
END:VEVENT
BEGIN:VEVENT
DTSTART;TZID=America/Halifax:20240925T180000
DTEND;TZID=America/Halifax:20240925T190000
DTSTAMP:20260423T222011
CREATED:20240824T191901Z
LAST-MODIFIED:20240824T191901Z
UID:10009552-1727287200-1727290800@www.lovemylibrary.ca
SUMMARY:Mad Scientists: Vinegar and Baking Soda
DESCRIPTION:We’re moving beyond volcanoes with all kinds of experiments and activities using vinegar and baking soda! Test reactions\, try baking soda invisible ink\, and more! For ages 8-14 \nThis is a drop in program. No registration is required.\n 
URL:https://www.lovemylibrary.ca/event/mad-scientists-vinegar-and-baking-soda/
LOCATION:Truro Library\, 754 Prince St\, Truro\, Nova Scotia\, Canada
CATEGORIES:Events For Kids,Events For Teens,Location: Truro
ATTACH;FMTTYPE=image/png:https://www.lovemylibrary.ca/wp-content/uploads/2024/07/Untitled-design-2024-07-17T150813.743.png
END:VEVENT
BEGIN:VEVENT
DTSTART;TZID=America/Halifax:20240926T150000
DTEND;TZID=America/Halifax:20240926T160000
DTSTAMP:20260423T222011
CREATED:20240824T170546Z
LAST-MODIFIED:20240824T170546Z
UID:10009551-1727362800-1727366400@www.lovemylibrary.ca
SUMMARY:Escape Room
DESCRIPTION:Karri is turning our program room into an escape room. Try solving the puzzles to get out. School age. \nDrop in. No registration is required.
URL:https://www.lovemylibrary.ca/event/escape-room-4/
LOCATION:Mount Uniacke Library\, 555\, Highway 1\, Mount Uniacke\, Nova Scotia\, Canada
CATEGORIES:Events For Kids,Events For Teens,Location: Mount Uniacke
ATTACH;FMTTYPE=image/png:https://www.lovemylibrary.ca/wp-content/uploads/2022/05/Untitled-design-2023-10-25T143452.130.png
END:VEVENT
BEGIN:VEVENT
DTSTART;TZID=America/Halifax:20240926T150000
DTEND;TZID=America/Halifax:20240926T163000
DTSTAMP:20260423T222011
CREATED:20240822T192337Z
LAST-MODIFIED:20241105T220050Z
UID:10009295-1727362800-1727368200@www.lovemylibrary.ca
SUMMARY:Teen Room Drop In
DESCRIPTION:Come hang out\, grab a snack\, play Nintendo\, or make some art! \nAges 13-18 \nThis is a drop-in program. No registration is required.
URL:https://www.lovemylibrary.ca/event/teen-room-drop-in-3-2/2024-09-26/
LOCATION:Truro Library\, 754 Prince St\, Truro\, Nova Scotia\, Canada
CATEGORIES:Events For Teens,Location: Truro
ATTACH;FMTTYPE=image/png:https://www.lovemylibrary.ca/wp-content/uploads/2022/10/Untitled-design-53.png
END:VEVENT
BEGIN:VEVENT
DTSTART;TZID=America/Halifax:20240926T150000
DTEND;TZID=America/Halifax:20240926T170000
DTSTAMP:20260423T222011
CREATED:20240814T153858Z
LAST-MODIFIED:20240814T153858Z
UID:10009194-1727362800-1727370000@www.lovemylibrary.ca
SUMMARY:Tech Help by Appointment
DESCRIPTION:Bring your own device or use one of our computers. \nThis program covers: eReaders/ebooks\, basic computer navigation\, basic app use\, basic cellphone use\, basic tablet use\, general internet instruction\, research and using library electronic resources. For all ages. \nTo register\, email stewiacke@cehpubliclibrary.ca\n  \n 
URL:https://www.lovemylibrary.ca/event/tech-help-by-appointment/2024-09-26/
LOCATION:Stewiacke Library\, 295 George Street\, Stewiacke\, Nova Scotia\, Canada
CATEGORIES:Events For Adults,Events For Kids,Events For Seniors,Events For Teens,Location: Stewiacke
ATTACH;FMTTYPE=image/png:https://www.lovemylibrary.ca/wp-content/uploads/2022/11/Untitled-design-2022-11-29T112019.106.png
END:VEVENT
BEGIN:VEVENT
DTSTART;TZID=America/Halifax:20240927T150000
DTEND;TZID=America/Halifax:20240927T170000
DTSTAMP:20260423T222011
CREATED:20240814T153858Z
LAST-MODIFIED:20240814T153858Z
UID:10009195-1727449200-1727456400@www.lovemylibrary.ca
SUMMARY:Tech Help by Appointment
DESCRIPTION:Bring your own device or use one of our computers. \nThis program covers: eReaders/ebooks\, basic computer navigation\, basic app use\, basic cellphone use\, basic tablet use\, general internet instruction\, research and using library electronic resources. For all ages. \nTo register\, email stewiacke@cehpubliclibrary.ca\n  \n 
URL:https://www.lovemylibrary.ca/event/tech-help-by-appointment/2024-09-27/
LOCATION:Stewiacke Library\, 295 George Street\, Stewiacke\, Nova Scotia\, Canada
CATEGORIES:Events For Adults,Events For Kids,Events For Seniors,Events For Teens,Location: Stewiacke
ATTACH;FMTTYPE=image/png:https://www.lovemylibrary.ca/wp-content/uploads/2022/11/Untitled-design-2022-11-29T112019.106.png
END:VEVENT
BEGIN:VEVENT
DTSTART;TZID=America/Halifax:20240927T150000
DTEND;TZID=America/Halifax:20240927T170000
DTSTAMP:20260423T222011
CREATED:20240826T193015Z
LAST-MODIFIED:20240826T193349Z
UID:10009560-1727449200-1727456400@www.lovemylibrary.ca
SUMMARY:Maker Lab Fun Time
DESCRIPTION:Come on in and explore. Program robots\, create circuits\, build with magnetic tiles\, and more! All ages \nDrop in. No registration is required.
URL:https://www.lovemylibrary.ca/event/maker-lab-fun-time-5/2024-09-27/
LOCATION:Truro Library\, 754 Prince St\, Truro\, Nova Scotia\, Canada
CATEGORIES:Events For Adults,Events For Kids,Events For Teens,Location: Truro
ATTACH;FMTTYPE=image/png:https://www.lovemylibrary.ca/wp-content/uploads/2023/09/Untitled-design-2023-09-29T143321.527.png
END:VEVENT
BEGIN:VEVENT
DTSTART;TZID=America/Halifax:20240928T100000
DTEND;TZID=America/Halifax:20240928T120000
DTSTAMP:20260423T222011
CREATED:20240826T193015Z
LAST-MODIFIED:20240826T193349Z
UID:10009561-1727517600-1727524800@www.lovemylibrary.ca
SUMMARY:Maker Lab Fun Time
DESCRIPTION:Come on in and explore. Program robots\, create circuits\, build with magnetic tiles\, and more! All ages \nDrop in. No registration is required.
URL:https://www.lovemylibrary.ca/event/maker-lab-fun-time-5/2024-09-28/
LOCATION:Truro Library\, 754 Prince St\, Truro\, Nova Scotia\, Canada
CATEGORIES:Events For Adults,Events For Kids,Events For Teens,Location: Truro
ATTACH;FMTTYPE=image/png:https://www.lovemylibrary.ca/wp-content/uploads/2023/09/Untitled-design-2023-09-29T143321.527.png
END:VEVENT
BEGIN:VEVENT
DTSTART;TZID=America/Halifax:20240928T150000
DTEND;TZID=America/Halifax:20240928T170000
DTSTAMP:20260423T222011
CREATED:20240814T153858Z
LAST-MODIFIED:20240814T153858Z
UID:10009196-1727535600-1727542800@www.lovemylibrary.ca
SUMMARY:Tech Help by Appointment
DESCRIPTION:Bring your own device or use one of our computers. \nThis program covers: eReaders/ebooks\, basic computer navigation\, basic app use\, basic cellphone use\, basic tablet use\, general internet instruction\, research and using library electronic resources. For all ages. \nTo register\, email stewiacke@cehpubliclibrary.ca\n  \n 
URL:https://www.lovemylibrary.ca/event/tech-help-by-appointment/2024-09-28/
LOCATION:Stewiacke Library\, 295 George Street\, Stewiacke\, Nova Scotia\, Canada
CATEGORIES:Events For Adults,Events For Kids,Events For Seniors,Events For Teens,Location: Stewiacke
ATTACH;FMTTYPE=image/png:https://www.lovemylibrary.ca/wp-content/uploads/2022/11/Untitled-design-2022-11-29T112019.106.png
END:VEVENT
END:VCALENDAR