BEGIN:VCALENDAR
VERSION:2.0
PRODID:-//Colchester East Hants Public Library - ECPv6.15.20//NONSGML v1.0//EN
CALSCALE:GREGORIAN
METHOD:PUBLISH
X-WR-CALNAME:Colchester East Hants Public Library
X-ORIGINAL-URL:https://www.lovemylibrary.ca
X-WR-CALDESC:Events for Colchester East Hants Public Library
REFRESH-INTERVAL;VALUE=DURATION:PT1H
X-Robots-Tag:noindex
X-PUBLISHED-TTL:PT1H
BEGIN:VTIMEZONE
TZID:America/Halifax
BEGIN:DAYLIGHT
TZOFFSETFROM:-0400
TZOFFSETTO:-0300
TZNAME:ADT
DTSTART:20230312T060000
END:DAYLIGHT
BEGIN:STANDARD
TZOFFSETFROM:-0300
TZOFFSETTO:-0400
TZNAME:AST
DTSTART:20231105T050000
END:STANDARD
BEGIN:DAYLIGHT
TZOFFSETFROM:-0400
TZOFFSETTO:-0300
TZNAME:ADT
DTSTART:20240310T060000
END:DAYLIGHT
BEGIN:STANDARD
TZOFFSETFROM:-0300
TZOFFSETTO:-0400
TZNAME:AST
DTSTART:20241103T050000
END:STANDARD
BEGIN:DAYLIGHT
TZOFFSETFROM:-0400
TZOFFSETTO:-0300
TZNAME:ADT
DTSTART:20250309T060000
END:DAYLIGHT
BEGIN:STANDARD
TZOFFSETFROM:-0300
TZOFFSETTO:-0400
TZNAME:AST
DTSTART:20251102T050000
END:STANDARD
END:VTIMEZONE
BEGIN:VEVENT
DTSTART;TZID=America/Halifax:20241119T133000
DTEND;TZID=America/Halifax:20241119T143000
DTSTAMP:20260423T103027
CREATED:20240822T190930Z
LAST-MODIFIED:20240918T143833Z
UID:10009749-1732023000-1732026600@www.lovemylibrary.ca
SUMMARY:Homeschoolers Haven
DESCRIPTION:Homeschoolers Haven is a place for Homeschool families to meet and share resources. There will be  activities for the children.   For ages 5+ \nThis is a drop-in program. No registration is required.
URL:https://www.lovemylibrary.ca/event/homeschoolers-haven-2-2-2-2/2024-11-19/
LOCATION:Truro Library\, 754 Prince St\, Truro\, Nova Scotia\, Canada
CATEGORIES:Events For Kids,Events For Teens,Location: Truro
ATTACH;FMTTYPE=image/png:https://www.lovemylibrary.ca/wp-content/uploads/2022/07/Untitled-design-9.png
END:VEVENT
BEGIN:VEVENT
DTSTART;TZID=America/Halifax:20241119T150000
DTEND;TZID=America/Halifax:20241119T163000
DTSTAMP:20260423T103027
CREATED:20240822T192337Z
LAST-MODIFIED:20241105T220050Z
UID:10009317-1732028400-1732033800@www.lovemylibrary.ca
SUMMARY:Teen Room Drop In
DESCRIPTION:Come hang out\, grab a snack\, play Nintendo\, or make some art! \nAges 13-18 \nThis is a drop-in program. No registration is required.
URL:https://www.lovemylibrary.ca/event/teen-room-drop-in-3-2/2024-11-19/
LOCATION:Truro Library\, 754 Prince St\, Truro\, Nova Scotia\, Canada
CATEGORIES:Events For Teens,Location: Truro
ATTACH;FMTTYPE=image/png:https://www.lovemylibrary.ca/wp-content/uploads/2022/10/Untitled-design-53.png
END:VEVENT
BEGIN:VEVENT
DTSTART;TZID=America/Halifax:20241119T173000
DTEND;TZID=America/Halifax:20241119T200000
DTSTAMP:20260423T103027
CREATED:20241018T164903Z
LAST-MODIFIED:20241209T173118Z
UID:10010098-1732037400-1732046400@www.lovemylibrary.ca
SUMMARY:Heroes & Adventurers
DESCRIPTION:Role-playing game nights with extraordinary people! We provide the supplies\, you provide the imagination. No experience needed. All welcome! \nRegister to play by emailing: HAATruro@gmail.com Sorry\, no drop-in players at this time.
URL:https://www.lovemylibrary.ca/event/heroes-adventurers-14/2024-11-19/
LOCATION:Truro Library\, 754 Prince St\, Truro\, Nova Scotia\, Canada
CATEGORIES:Events For Adults,Events For Kids,Events For Seniors,Events For Teens,Location: Truro
ATTACH;FMTTYPE=image/png:https://www.lovemylibrary.ca/wp-content/uploads/2022/06/D-and-D.png
END:VEVENT
BEGIN:VEVENT
DTSTART;TZID=America/Halifax:20241119T183000
DTEND;TZID=America/Halifax:20241119T193000
DTSTAMP:20260423T103027
CREATED:20241016T174104Z
LAST-MODIFIED:20241017T191429Z
UID:10010050-1732041000-1732044600@www.lovemylibrary.ca
SUMMARY:Unsolved Case Files
DESCRIPTION:Put yourself in the shoes of a cold case detective given the job of solving a murder that happened decades ago. For ages 13-18 \nTo participate register: stewiacke@cehpubliclibrary.ca
URL:https://www.lovemylibrary.ca/event/unsolved-case-files/
LOCATION:Stewiacke Library\, 295 George Street\, Stewiacke\, Nova Scotia\, Canada
CATEGORIES:Events For Teens,Location: Stewiacke
ATTACH;FMTTYPE=image/png:https://www.lovemylibrary.ca/wp-content/uploads/2024/10/Untitled-design-2024-10-16T144042.971.png
END:VEVENT
BEGIN:VEVENT
DTSTART;TZID=America/Halifax:20241120T150000
DTEND;TZID=America/Halifax:20241120T163000
DTSTAMP:20260423T103027
CREATED:20240822T192337Z
LAST-MODIFIED:20241105T220050Z
UID:10009318-1732114800-1732120200@www.lovemylibrary.ca
SUMMARY:Teen Room Drop In
DESCRIPTION:Come hang out\, grab a snack\, play Nintendo\, or make some art! \nAges 13-18 \nThis is a drop-in program. No registration is required.
URL:https://www.lovemylibrary.ca/event/teen-room-drop-in-3-2/2024-11-20/
LOCATION:Truro Library\, 754 Prince St\, Truro\, Nova Scotia\, Canada
CATEGORIES:Events For Teens,Location: Truro
ATTACH;FMTTYPE=image/png:https://www.lovemylibrary.ca/wp-content/uploads/2022/10/Untitled-design-53.png
END:VEVENT
BEGIN:VEVENT
DTSTART;TZID=America/Halifax:20241120T180000
DTEND;TZID=America/Halifax:20241120T190000
DTSTAMP:20260423T103027
CREATED:20230223T201224Z
LAST-MODIFIED:20241029T205736Z
UID:10003851-1732125600-1732129200@www.lovemylibrary.ca
SUMMARY:Pasta Cars
DESCRIPTION:An engineering challenge… with a twist! See if you can design the fastest\, strongest car with nothing but noodles (and glue). There will be snacks for all and pasta prizes for the winning car. For ages 8-14 \nThis is a drop in program. No registration is required.\n 
URL:https://www.lovemylibrary.ca/event/pasta-cars/
LOCATION:Truro Library\, 754 Prince St\, Truro\, Nova Scotia\, Canada
CATEGORIES:Events For Kids,Events For Teens,Location: Truro,STEAM Programs
ATTACH;FMTTYPE=image/png:https://www.lovemylibrary.ca/wp-content/uploads/2023/02/Untitled-design-80.png
END:VEVENT
BEGIN:VEVENT
DTSTART;TZID=America/Halifax:20241121T150000
DTEND;TZID=America/Halifax:20241121T163000
DTSTAMP:20260423T103027
CREATED:20240822T192337Z
LAST-MODIFIED:20241105T220050Z
UID:10009319-1732201200-1732206600@www.lovemylibrary.ca
SUMMARY:Teen Room Drop In
DESCRIPTION:Come hang out\, grab a snack\, play Nintendo\, or make some art! \nAges 13-18 \nThis is a drop-in program. No registration is required.
URL:https://www.lovemylibrary.ca/event/teen-room-drop-in-3-2/2024-11-21/
LOCATION:Truro Library\, 754 Prince St\, Truro\, Nova Scotia\, Canada
CATEGORIES:Events For Teens,Location: Truro
ATTACH;FMTTYPE=image/png:https://www.lovemylibrary.ca/wp-content/uploads/2022/10/Untitled-design-53.png
END:VEVENT
BEGIN:VEVENT
DTSTART;TZID=America/Halifax:20241121T173000
DTEND;TZID=America/Halifax:20241121T190000
DTSTAMP:20260423T103027
CREATED:20241016T171108Z
LAST-MODIFIED:20241105T232537Z
UID:10001204-1732210200-1732215600@www.lovemylibrary.ca
SUMMARY:Dungeons and Dragons
DESCRIPTION:Join the action and adventure as we explore fantastic worlds. We are beginner friendly.  A safe and inclusive environment. For ages 9-13 \nTo register\, email stewiacke@cehpubliclibrary.ca
URL:https://www.lovemylibrary.ca/event/dungeons-and-dragons-4-2/
LOCATION:Stewiacke Library\, 295 George Street\, Stewiacke\, Nova Scotia\, Canada
CATEGORIES:Events For Teens,Location: Stewiacke
ATTACH;FMTTYPE=image/png:https://www.lovemylibrary.ca/wp-content/uploads/2022/06/D-and-D.png
END:VEVENT
BEGIN:VEVENT
DTSTART;TZID=America/Halifax:20241122T143000
DTEND;TZID=America/Halifax:20241122T150000
DTSTAMP:20260423T103027
CREATED:20230222T191242Z
LAST-MODIFIED:20241015T205044Z
UID:10010023-1732285800-1732287600@www.lovemylibrary.ca
SUMMARY:Lego Masters
DESCRIPTION:There’s no school\, so we are pulling out the legos. Plan on coming in for some Lego fun. Ages 5-15 \nThis is a drop-in program. No registration is required.
URL:https://www.lovemylibrary.ca/event/march-break-lego-masters/2024-11-22/
LOCATION:Mount Uniacke Library\, 555\, Highway 1\, Mount Uniacke\, Nova Scotia\, Canada
CATEGORIES:Events For Kids,Events For Teens,Location: Mount Uniacke
ATTACH;FMTTYPE=image/png:https://www.lovemylibrary.ca/wp-content/uploads/2022/06/Untitled-design-20.png
END:VEVENT
END:VCALENDAR