BEGIN:VCALENDAR
VERSION:2.0
PRODID:-//Colchester East Hants Public Library - ECPv6.15.20//NONSGML v1.0//EN
CALSCALE:GREGORIAN
METHOD:PUBLISH
X-WR-CALNAME:Colchester East Hants Public Library
X-ORIGINAL-URL:https://www.lovemylibrary.ca
X-WR-CALDESC:Events for Colchester East Hants Public Library
REFRESH-INTERVAL;VALUE=DURATION:PT1H
X-Robots-Tag:noindex
X-PUBLISHED-TTL:PT1H
BEGIN:VTIMEZONE
TZID:America/Halifax
BEGIN:DAYLIGHT
TZOFFSETFROM:-0400
TZOFFSETTO:-0300
TZNAME:ADT
DTSTART:20240310T060000
END:DAYLIGHT
BEGIN:STANDARD
TZOFFSETFROM:-0300
TZOFFSETTO:-0400
TZNAME:AST
DTSTART:20241103T050000
END:STANDARD
BEGIN:DAYLIGHT
TZOFFSETFROM:-0400
TZOFFSETTO:-0300
TZNAME:ADT
DTSTART:20250309T060000
END:DAYLIGHT
BEGIN:STANDARD
TZOFFSETFROM:-0300
TZOFFSETTO:-0400
TZNAME:AST
DTSTART:20251102T050000
END:STANDARD
BEGIN:DAYLIGHT
TZOFFSETFROM:-0400
TZOFFSETTO:-0300
TZNAME:ADT
DTSTART:20260308T060000
END:DAYLIGHT
BEGIN:STANDARD
TZOFFSETFROM:-0300
TZOFFSETTO:-0400
TZNAME:AST
DTSTART:20261101T050000
END:STANDARD
END:VTIMEZONE
BEGIN:VEVENT
DTSTART;TZID=America/Halifax:20250506T133000
DTEND;TZID=America/Halifax:20250506T143000
DTSTAMP:20260422T085051
CREATED:20241211T183924Z
LAST-MODIFIED:20250509T184430Z
UID:10011604-1746538200-1746541800@www.lovemylibrary.ca
SUMMARY:Homeschoolers Haven
DESCRIPTION:Homeschoolers Haven is a place for Homeschool families to meet and share resources. There will be  activities for the children.   For ages 5+ \nThis is a drop-in program. No registration is required.
URL:https://www.lovemylibrary.ca/event/homeschoolers-haven-2-2-2-2-2/2025-05-06/
LOCATION:Truro Library\, 754 Prince St\, Truro\, Nova Scotia\, Canada
CATEGORIES:Events For Kids,Events For Teens,Location: Truro
ATTACH;FMTTYPE=image/png:https://www.lovemylibrary.ca/wp-content/uploads/2022/07/Untitled-design-9.png
END:VEVENT
BEGIN:VEVENT
DTSTART;TZID=America/Halifax:20250506T150000
DTEND;TZID=America/Halifax:20250506T163000
DTSTAMP:20260422T085051
CREATED:20241213T191147Z
LAST-MODIFIED:20250509T192439Z
UID:10011367-1746543600-1746549000@www.lovemylibrary.ca
SUMMARY:Teen Room Drop In
DESCRIPTION:Come hang out! Grab a snack\, play our Nintendo Switch\, challenge your friends to a board game\, build with Lego\, or make art!  Ages 13-18 \nThis is a drop-in program. No registration is required.
URL:https://www.lovemylibrary.ca/event/teen-room-drop-in-5/2025-05-06/
LOCATION:Truro Library\, 754 Prince St\, Truro\, Nova Scotia\, Canada
CATEGORIES:Events For Teens,Location: Truro
ATTACH;FMTTYPE=image/png:https://www.lovemylibrary.ca/wp-content/uploads/2022/10/Untitled-design-53.png
END:VEVENT
BEGIN:VEVENT
DTSTART;TZID=America/Halifax:20250506T150000
DTEND;TZID=America/Halifax:20250506T170000
DTSTAMP:20260422T085051
CREATED:20250419T163700Z
LAST-MODIFIED:20250929T191526Z
UID:10011842-1746543600-1746550800@www.lovemylibrary.ca
SUMMARY:Dungeons and Dragons
DESCRIPTION:“Join us for an epic Dungeons & Dragons game night! Roll dice\, slay monsters\, and embark on thrilling adventures with friends. Whether you’re a seasoned hero or a curious newbie\, there’s a spot for you at the table!” For ages 13-24 \n\nPre-Register in person or by phone: (902) 657-3064\, or email: tatamago@cehpubliclibrary.ca
URL:https://www.lovemylibrary.ca/event/dd-2/2025-05-06/
LOCATION:Tatamagouche Library\, 170 Main Street\, Tatamagouche\, Nova Scotia\, Canada
CATEGORIES:Events For Adults,Events For Teens,Location: Tatamagouche
ATTACH;FMTTYPE=image/png:https://www.lovemylibrary.ca/wp-content/uploads/2024/11/Untitled-design-1.png
END:VEVENT
BEGIN:VEVENT
DTSTART;TZID=America/Halifax:20250506T173000
DTEND;TZID=America/Halifax:20250506T200000
DTSTAMP:20260422T085051
CREATED:20250324T180428Z
LAST-MODIFIED:20250801T174610Z
UID:10011886-1746552600-1746561600@www.lovemylibrary.ca
SUMMARY:Heroes & Adventurers
DESCRIPTION:Role-playing game nights with extraordinary people! We provide the supplies\, you provide the imagination. No experience needed. All welcome! \nRegister to play by emailing: HAATruro@gmail.com Sorry\, no drop-in players at this time.
URL:https://www.lovemylibrary.ca/event/heroes-adventurers-14-2/2025-05-06/
LOCATION:Truro Library\, 754 Prince St\, Truro\, Nova Scotia\, Canada
CATEGORIES:Events For Adults,Events For Kids,Events For Seniors,Events For Teens,Location: Truro
ATTACH;FMTTYPE=image/png:https://www.lovemylibrary.ca/wp-content/uploads/2022/06/D-and-D.png
END:VEVENT
BEGIN:VEVENT
DTSTART;TZID=America/Halifax:20250507T150000
DTEND;TZID=America/Halifax:20250507T163000
DTSTAMP:20260422T085051
CREATED:20241213T191147Z
LAST-MODIFIED:20250509T192439Z
UID:10011368-1746630000-1746635400@www.lovemylibrary.ca
SUMMARY:Teen Room Drop In
DESCRIPTION:Come hang out! Grab a snack\, play our Nintendo Switch\, challenge your friends to a board game\, build with Lego\, or make art!  Ages 13-18 \nThis is a drop-in program. No registration is required.
URL:https://www.lovemylibrary.ca/event/teen-room-drop-in-5/2025-05-07/
LOCATION:Truro Library\, 754 Prince St\, Truro\, Nova Scotia\, Canada
CATEGORIES:Events For Teens,Location: Truro
ATTACH;FMTTYPE=image/png:https://www.lovemylibrary.ca/wp-content/uploads/2022/10/Untitled-design-53.png
END:VEVENT
BEGIN:VEVENT
DTSTART;TZID=America/Halifax:20250508T143000
DTEND;TZID=America/Halifax:20250508T150000
DTSTAMP:20260422T085051
CREATED:20231122T221236Z
LAST-MODIFIED:20250416T193830Z
UID:10005947-1746714600-1746716400@www.lovemylibrary.ca
SUMMARY:Game Day
DESCRIPTION:We are pulling out the life size Candy Land game for Game Day this month. Come on in and try a blast from the past. \nRegister in branch or by email mtuniack@cehpubliclibrary.ca
URL:https://www.lovemylibrary.ca/event/game-day-3/
LOCATION:Mount Uniacke Library\, 555\, Highway 1\, Mount Uniacke\, Nova Scotia\, Canada
CATEGORIES:Events For Kids,Events For Teens,Location: Mount Uniacke
ATTACH;FMTTYPE=image/png:https://www.lovemylibrary.ca/wp-content/uploads/2023/08/Untitled-design-97.png
END:VEVENT
BEGIN:VEVENT
DTSTART;TZID=America/Halifax:20250508T150000
DTEND;TZID=America/Halifax:20250508T163000
DTSTAMP:20260422T085051
CREATED:20241213T191147Z
LAST-MODIFIED:20250509T192439Z
UID:10011369-1746716400-1746721800@www.lovemylibrary.ca
SUMMARY:Teen Room Drop In
DESCRIPTION:Come hang out! Grab a snack\, play our Nintendo Switch\, challenge your friends to a board game\, build with Lego\, or make art!  Ages 13-18 \nThis is a drop-in program. No registration is required.
URL:https://www.lovemylibrary.ca/event/teen-room-drop-in-5/2025-05-08/
LOCATION:Truro Library\, 754 Prince St\, Truro\, Nova Scotia\, Canada
CATEGORIES:Events For Teens,Location: Truro
ATTACH;FMTTYPE=image/png:https://www.lovemylibrary.ca/wp-content/uploads/2022/10/Untitled-design-53.png
END:VEVENT
BEGIN:VEVENT
DTSTART;TZID=America/Halifax:20250508T173000
DTEND;TZID=America/Halifax:20250508T190000
DTSTAMP:20260422T085051
CREATED:20241121T160922Z
LAST-MODIFIED:20250419T174854Z
UID:10011865-1746725400-1746730800@www.lovemylibrary.ca
SUMMARY:Dungeons and Dragons
DESCRIPTION:Join the action and adventure as we explore fantastic worlds. We are beginner friendly.  A safe and inclusive environment. For ages 9-13 \nTo register\, email stewiacke@cehpubliclibrary.ca
URL:https://www.lovemylibrary.ca/event/dungeons-and-dragons-8/2025-05-08/
LOCATION:Stewiacke Library\, 295 George Street\, Stewiacke\, Nova Scotia\, Canada
CATEGORIES:Events For Teens,Location: Stewiacke
ATTACH;FMTTYPE=image/png:https://www.lovemylibrary.ca/wp-content/uploads/2022/06/D-and-D.png
END:VEVENT
BEGIN:VEVENT
DTSTART;TZID=America/Halifax:20250510T110000
DTEND;TZID=America/Halifax:20250510T233000
DTSTAMP:20260422T085051
CREATED:20250417T175848Z
LAST-MODIFIED:20250417T175848Z
UID:10011663-1746874800-1746919800@www.lovemylibrary.ca
SUMMARY:Storytime with Mom
DESCRIPTION:Let’s Celebrate Mother’s Day with Storytime at the library! What a perfect way to spend time with Mom. \nAll ages. In person-drop in.
URL:https://www.lovemylibrary.ca/event/storytime-with-mom/
LOCATION:Elmsdale Library\, 15 Commerce Ct\, Elmsdale\, Nova Scotia\, Canada
CATEGORIES:Events For Adults,Events For Kids,Events For Seniors,Events For Teens,Location: Elmsdale
ATTACH;FMTTYPE=image/png:https://www.lovemylibrary.ca/wp-content/uploads/2025/04/Untitled-design-17.png
END:VEVENT
END:VCALENDAR