BEGIN:VCALENDAR
VERSION:2.0
PRODID:-//Colchester East Hants Public Library - ECPv6.15.20//NONSGML v1.0//EN
CALSCALE:GREGORIAN
METHOD:PUBLISH
X-WR-CALNAME:Colchester East Hants Public Library
X-ORIGINAL-URL:https://www.lovemylibrary.ca
X-WR-CALDESC:Events for Colchester East Hants Public Library
REFRESH-INTERVAL;VALUE=DURATION:PT1H
X-Robots-Tag:noindex
X-PUBLISHED-TTL:PT1H
BEGIN:VTIMEZONE
TZID:America/Halifax
BEGIN:DAYLIGHT
TZOFFSETFROM:-0400
TZOFFSETTO:-0300
TZNAME:ADT
DTSTART:20240310T060000
END:DAYLIGHT
BEGIN:STANDARD
TZOFFSETFROM:-0300
TZOFFSETTO:-0400
TZNAME:AST
DTSTART:20241103T050000
END:STANDARD
BEGIN:DAYLIGHT
TZOFFSETFROM:-0400
TZOFFSETTO:-0300
TZNAME:ADT
DTSTART:20250309T060000
END:DAYLIGHT
BEGIN:STANDARD
TZOFFSETFROM:-0300
TZOFFSETTO:-0400
TZNAME:AST
DTSTART:20251102T050000
END:STANDARD
BEGIN:DAYLIGHT
TZOFFSETFROM:-0400
TZOFFSETTO:-0300
TZNAME:ADT
DTSTART:20260308T060000
END:DAYLIGHT
BEGIN:STANDARD
TZOFFSETFROM:-0300
TZOFFSETTO:-0400
TZNAME:AST
DTSTART:20261101T050000
END:STANDARD
END:VTIMEZONE
BEGIN:VEVENT
DTSTART;TZID=America/Halifax:20250909T150000
DTEND;TZID=America/Halifax:20250909T170000
DTSTAMP:20260420T114504
CREATED:20250419T163700Z
LAST-MODIFIED:20250929T191526Z
UID:10012817-1757430000-1757437200@www.lovemylibrary.ca
SUMMARY:Dungeons and Dragons
DESCRIPTION:“Join us for an epic Dungeons & Dragons game night! Roll dice\, slay monsters\, and embark on thrilling adventures with friends. Whether you’re a seasoned hero or a curious newbie\, there’s a spot for you at the table!” For ages 13-24 \n\nPre-Register in person or by phone: (902) 657-3064\, or email: tatamago@cehpubliclibrary.ca
URL:https://www.lovemylibrary.ca/event/dd-2/2025-09-09/
LOCATION:Tatamagouche Library\, 170 Main Street\, Tatamagouche\, Nova Scotia\, Canada
CATEGORIES:Events For Adults,Events For Teens,Location: Tatamagouche
ATTACH;FMTTYPE=image/png:https://www.lovemylibrary.ca/wp-content/uploads/2024/11/Untitled-design-1.png
END:VEVENT
BEGIN:VEVENT
DTSTART;TZID=America/Halifax:20250910T130000
DTEND;TZID=America/Halifax:20250910T150000
DTSTAMP:20260420T114504
CREATED:20250818T190859Z
LAST-MODIFIED:20260217T180921Z
UID:10011900-1757509200-1757516400@www.lovemylibrary.ca
SUMMARY:Homeschoolers Hangout
DESCRIPTION:Learn and explore at the library! We want to be part of your education experience. \nIn person\, drop in. Please call (902) 883-9838 or email elmsdale@cehpubliclibrary.ca for more details
URL:https://www.lovemylibrary.ca/event/homeschoolers-hangout-2-2-2/2025-09-10/
LOCATION:Elmsdale Library\, 15 Commerce Ct\, Elmsdale\, Nova Scotia\, Canada
CATEGORIES:Events For Kids,Events For Teens,Location: Elmsdale
ATTACH;FMTTYPE=image/png:https://www.lovemylibrary.ca/wp-content/uploads/2022/07/Untitled-design-9.png
END:VEVENT
BEGIN:VEVENT
DTSTART;VALUE=DATE:20250912
DTEND;VALUE=DATE:20251031
DTSTAMP:20260420T114504
CREATED:20250829T193543Z
LAST-MODIFIED:20250905T184655Z
UID:10012888-1757635200-1761868799@www.lovemylibrary.ca
SUMMARY:Msit No'kmaq\, All My Relations: Art Exhibit by Lorne Julien
DESCRIPTION:Lorne Julien is a proud Mi’kmaw artist and member of Millbrook First Nation\, We’kopekitk\, Nova Scotia. He specializes in contemporary Indigenous acrylic paintings and murals. He believes that incorporating Indigenous art in public spaces is a simple act of reconciliation and moving forward in a spirit of mutual respect and understanding. His intention is to inspire hope and balance within the universe. This series of paintings features animals of significance to Mi’kmaw people and highlights connection to the natural world. it is made possible through funding by Arts Nova Scotia’s Mi’kmaq Arts Grant. \nDrop-in
URL:https://www.lovemylibrary.ca/event/msit-nokmaq-all-my-relations-art-exhibit-by-lorne-julien/
LOCATION:Truro Library\, 754 Prince St\, Truro\, Nova Scotia\, Canada
CATEGORIES:Events For Adults,Events For Kids,Events For Seniors,Events For Teens,Location: Truro
ATTACH;FMTTYPE=image/png:https://www.lovemylibrary.ca/wp-content/uploads/2025/08/Untitled-design-40.png
END:VEVENT
END:VCALENDAR