BEGIN:VCALENDAR
VERSION:2.0
PRODID:-//Colchester East Hants Public Library - ECPv6.15.20//NONSGML v1.0//EN
CALSCALE:GREGORIAN
METHOD:PUBLISH
X-WR-CALNAME:Colchester East Hants Public Library
X-ORIGINAL-URL:https://www.lovemylibrary.ca
X-WR-CALDESC:Events for Colchester East Hants Public Library
REFRESH-INTERVAL;VALUE=DURATION:PT1H
X-Robots-Tag:noindex
X-PUBLISHED-TTL:PT1H
BEGIN:VTIMEZONE
TZID:America/Halifax
BEGIN:DAYLIGHT
TZOFFSETFROM:-0400
TZOFFSETTO:-0300
TZNAME:ADT
DTSTART:20240310T060000
END:DAYLIGHT
BEGIN:STANDARD
TZOFFSETFROM:-0300
TZOFFSETTO:-0400
TZNAME:AST
DTSTART:20241103T050000
END:STANDARD
BEGIN:DAYLIGHT
TZOFFSETFROM:-0400
TZOFFSETTO:-0300
TZNAME:ADT
DTSTART:20250309T060000
END:DAYLIGHT
BEGIN:STANDARD
TZOFFSETFROM:-0300
TZOFFSETTO:-0400
TZNAME:AST
DTSTART:20251102T050000
END:STANDARD
BEGIN:DAYLIGHT
TZOFFSETFROM:-0400
TZOFFSETTO:-0300
TZNAME:ADT
DTSTART:20260308T060000
END:DAYLIGHT
BEGIN:STANDARD
TZOFFSETFROM:-0300
TZOFFSETTO:-0400
TZNAME:AST
DTSTART:20261101T050000
END:STANDARD
END:VTIMEZONE
BEGIN:VEVENT
DTSTART;TZID=America/Halifax:20251118T133000
DTEND;TZID=America/Halifax:20251118T143000
DTSTAMP:20260419T200710
CREATED:20250820T134622Z
LAST-MODIFIED:20251101T181544Z
UID:10013316-1763472600-1763476200@www.lovemylibrary.ca
SUMMARY:Homeschoolers Haven
DESCRIPTION:Homeschoolers Haven is a place for Homeschool families to meet and share resources. There will be  activities for the children.  For ages 5+ \nThis is a drop-in program. No registration is required.
URL:https://www.lovemylibrary.ca/event/homeschoolers-haven-2-2-2-2-2-2/2025-11-18/
LOCATION:Truro Library\, 754 Prince St\, Truro\, Nova Scotia\, Canada
CATEGORIES:Events For Kids,Events For Teens,Location: Truro
ATTACH;FMTTYPE=image/png:https://www.lovemylibrary.ca/wp-content/uploads/2022/07/Untitled-design-9.png
END:VEVENT
BEGIN:VEVENT
DTSTART;TZID=America/Halifax:20251118T150000
DTEND;TZID=America/Halifax:20251118T163000
DTSTAMP:20260419T200710
CREATED:20250820T135426Z
LAST-MODIFIED:20260203T193209Z
UID:10013329-1763478000-1763483400@www.lovemylibrary.ca
SUMMARY:Teen Room Drop In
DESCRIPTION:Come hang out! Grab a snack\, play our Nintendo Switch\, challenge your friends to a board game\, build with Lego\, or make art!  Ages 13-18 \nThis is a drop-in program. No registration is required.
URL:https://www.lovemylibrary.ca/event/teen-room-drop-in-5-2/2025-11-18/
LOCATION:Truro Library\, 754 Prince St\, Truro\, Nova Scotia\, Canada
CATEGORIES:Events For Teens,Location: Truro
ATTACH;FMTTYPE=image/png:https://www.lovemylibrary.ca/wp-content/uploads/2022/10/Untitled-design-53.png
END:VEVENT
BEGIN:VEVENT
DTSTART;TZID=America/Halifax:20251118T150000
DTEND;TZID=America/Halifax:20251118T163000
DTSTAMP:20260419T200710
CREATED:20260323T191525Z
LAST-MODIFIED:20260414T171217Z
UID:10014577-1763478000-1763483400@www.lovemylibrary.ca
SUMMARY:Teen Room Drop In
DESCRIPTION:Come hang out after school! Grab a snack\, play our Nintendo Switch\, challenge your friends to a board game\, build with Lego\, or make art. Ages 13-18 \nThis is a drop-in program. No registration is required.
URL:https://www.lovemylibrary.ca/event/teen-room-drop-in-6/2025-11-18/
LOCATION:Truro Library\, 754 Prince St\, Truro\, Nova Scotia\, Canada
CATEGORIES:Events For Teens,Location: Truro
ATTACH;FMTTYPE=image/png:https://www.lovemylibrary.ca/wp-content/uploads/2022/10/Untitled-design-53.png
END:VEVENT
BEGIN:VEVENT
DTSTART;TZID=America/Halifax:20251118T183000
DTEND;TZID=America/Halifax:20251118T193000
DTSTAMP:20260419T200710
CREATED:20250419T181137Z
LAST-MODIFIED:20251028T153332Z
UID:10011873-1763490600-1763494200@www.lovemylibrary.ca
SUMMARY:Teen Hangout- Bingo Edition
DESCRIPTION:A night full of fun\, laughter and awesome prizes! Bring your friends\, grab a card and see who can shout BINGO first. Snacks\, music and good vibes guaranteed. For ages 13-18 \nRegister:stewiacke@cehpubliclibrary.ca\n 
URL:https://www.lovemylibrary.ca/event/teen-hangout/
LOCATION:Stewiacke Library\, 295 George Street\, Stewiacke\, Nova Scotia\, Canada
CATEGORIES:Events For Teens,Location: Stewiacke
ATTACH;FMTTYPE=image/png:https://www.lovemylibrary.ca/wp-content/uploads/2025/04/Untitled-design-2025-04-19T151313.277.png
END:VEVENT
BEGIN:VEVENT
DTSTART;TZID=America/Halifax:20251119T130000
DTEND;TZID=America/Halifax:20251119T150000
DTSTAMP:20260419T200710
CREATED:20250818T190859Z
LAST-MODIFIED:20260217T180921Z
UID:10013397-1763557200-1763564400@www.lovemylibrary.ca
SUMMARY:Homeschoolers Hangout
DESCRIPTION:Learn and explore at the library! We want to be part of your education experience. \nIn person\, drop in. Please call (902) 883-9838 or email elmsdale@cehpubliclibrary.ca for more details
URL:https://www.lovemylibrary.ca/event/homeschoolers-hangout-2-2-2/2025-11-19/
LOCATION:Elmsdale Library\, 15 Commerce Ct\, Elmsdale\, Nova Scotia\, Canada
CATEGORIES:Events For Kids,Events For Teens,Location: Elmsdale
ATTACH;FMTTYPE=image/png:https://www.lovemylibrary.ca/wp-content/uploads/2022/07/Untitled-design-9.png
END:VEVENT
BEGIN:VEVENT
DTSTART;TZID=America/Halifax:20251119T150000
DTEND;TZID=America/Halifax:20251119T163000
DTSTAMP:20260419T200710
CREATED:20250820T135426Z
LAST-MODIFIED:20260203T193209Z
UID:10013330-1763564400-1763569800@www.lovemylibrary.ca
SUMMARY:Teen Room Drop In
DESCRIPTION:Come hang out! Grab a snack\, play our Nintendo Switch\, challenge your friends to a board game\, build with Lego\, or make art!  Ages 13-18 \nThis is a drop-in program. No registration is required.
URL:https://www.lovemylibrary.ca/event/teen-room-drop-in-5-2/2025-11-19/
LOCATION:Truro Library\, 754 Prince St\, Truro\, Nova Scotia\, Canada
CATEGORIES:Events For Teens,Location: Truro
ATTACH;FMTTYPE=image/png:https://www.lovemylibrary.ca/wp-content/uploads/2022/10/Untitled-design-53.png
END:VEVENT
BEGIN:VEVENT
DTSTART;TZID=America/Halifax:20251119T150000
DTEND;TZID=America/Halifax:20251119T163000
DTSTAMP:20260419T200710
CREATED:20260323T191525Z
LAST-MODIFIED:20260414T171217Z
UID:10014578-1763564400-1763569800@www.lovemylibrary.ca
SUMMARY:Teen Room Drop In
DESCRIPTION:Come hang out after school! Grab a snack\, play our Nintendo Switch\, challenge your friends to a board game\, build with Lego\, or make art. Ages 13-18 \nThis is a drop-in program. No registration is required.
URL:https://www.lovemylibrary.ca/event/teen-room-drop-in-6/2025-11-19/
LOCATION:Truro Library\, 754 Prince St\, Truro\, Nova Scotia\, Canada
CATEGORIES:Events For Teens,Location: Truro
ATTACH;FMTTYPE=image/png:https://www.lovemylibrary.ca/wp-content/uploads/2022/10/Untitled-design-53.png
END:VEVENT
BEGIN:VEVENT
DTSTART;TZID=America/Halifax:20251120T150000
DTEND;TZID=America/Halifax:20251120T163000
DTSTAMP:20260419T200710
CREATED:20250820T135426Z
LAST-MODIFIED:20260203T193209Z
UID:10013331-1763650800-1763656200@www.lovemylibrary.ca
SUMMARY:Teen Room Drop In
DESCRIPTION:Come hang out! Grab a snack\, play our Nintendo Switch\, challenge your friends to a board game\, build with Lego\, or make art!  Ages 13-18 \nThis is a drop-in program. No registration is required.
URL:https://www.lovemylibrary.ca/event/teen-room-drop-in-5-2/2025-11-20/
LOCATION:Truro Library\, 754 Prince St\, Truro\, Nova Scotia\, Canada
CATEGORIES:Events For Teens,Location: Truro
ATTACH;FMTTYPE=image/png:https://www.lovemylibrary.ca/wp-content/uploads/2022/10/Untitled-design-53.png
END:VEVENT
END:VCALENDAR