BEGIN:VCALENDAR
VERSION:2.0
PRODID:-//Colchester East Hants Public Library - ECPv6.15.20//NONSGML v1.0//EN
CALSCALE:GREGORIAN
METHOD:PUBLISH
X-WR-CALNAME:Colchester East Hants Public Library
X-ORIGINAL-URL:https://www.lovemylibrary.ca
X-WR-CALDESC:Events for Colchester East Hants Public Library
REFRESH-INTERVAL;VALUE=DURATION:PT1H
X-Robots-Tag:noindex
X-PUBLISHED-TTL:PT1H
BEGIN:VTIMEZONE
TZID:America/Halifax
BEGIN:DAYLIGHT
TZOFFSETFROM:-0400
TZOFFSETTO:-0300
TZNAME:ADT
DTSTART:20240310T060000
END:DAYLIGHT
BEGIN:STANDARD
TZOFFSETFROM:-0300
TZOFFSETTO:-0400
TZNAME:AST
DTSTART:20241103T050000
END:STANDARD
BEGIN:DAYLIGHT
TZOFFSETFROM:-0400
TZOFFSETTO:-0300
TZNAME:ADT
DTSTART:20250309T060000
END:DAYLIGHT
BEGIN:STANDARD
TZOFFSETFROM:-0300
TZOFFSETTO:-0400
TZNAME:AST
DTSTART:20251102T050000
END:STANDARD
BEGIN:DAYLIGHT
TZOFFSETFROM:-0400
TZOFFSETTO:-0300
TZNAME:ADT
DTSTART:20260308T060000
END:DAYLIGHT
BEGIN:STANDARD
TZOFFSETFROM:-0300
TZOFFSETTO:-0400
TZNAME:AST
DTSTART:20261101T050000
END:STANDARD
END:VTIMEZONE
BEGIN:VEVENT
DTSTART;TZID=America/Halifax:20250610T103000
DTEND;TZID=America/Halifax:20250610T110000
DTSTAMP:20260423T213127
CREATED:20250509T190602Z
LAST-MODIFIED:20250509T190602Z
UID:10011950-1749551400-1749553200@www.lovemylibrary.ca
SUMMARY:Summer Reading Club Virtual Info Session
DESCRIPTION:Our 2025 Summer Reading Club theme is PASSPORT TO READING and we can’t wait to tell you all about it. If you are an educator\, caregiver\, or parent of children ages 3-12\, we invite you and your kids to join us on Zoom for a fun-filled information session about how SRC works… including all the fabulous prizes and programs we have to offer! All ages are welcome. \nTo register\, email info@cehpubliclibrary.ca
URL:https://www.lovemylibrary.ca/event/summer-reading-club-virtual-info-session/2025-06-10/
LOCATION:Virtual
CATEGORIES:Events For Kids,Location: Virtual
ATTACH;FMTTYPE=image/png:https://www.lovemylibrary.ca/wp-content/uploads/2025/05/Untitled-design-2025-05-09T160805.059.png
END:VEVENT
BEGIN:VEVENT
DTSTART;TZID=America/Halifax:20250612T103000
DTEND;TZID=America/Halifax:20250612T110000
DTSTAMP:20260423T213127
CREATED:20250509T190602Z
LAST-MODIFIED:20250509T190602Z
UID:10011951-1749724200-1749726000@www.lovemylibrary.ca
SUMMARY:Summer Reading Club Virtual Info Session
DESCRIPTION:Our 2025 Summer Reading Club theme is PASSPORT TO READING and we can’t wait to tell you all about it. If you are an educator\, caregiver\, or parent of children ages 3-12\, we invite you and your kids to join us on Zoom for a fun-filled information session about how SRC works… including all the fabulous prizes and programs we have to offer! All ages are welcome. \nTo register\, email info@cehpubliclibrary.ca
URL:https://www.lovemylibrary.ca/event/summer-reading-club-virtual-info-session/2025-06-12/
LOCATION:Virtual
CATEGORIES:Events For Kids,Location: Virtual
ATTACH;FMTTYPE=image/png:https://www.lovemylibrary.ca/wp-content/uploads/2025/05/Untitled-design-2025-05-09T160805.059.png
END:VEVENT
END:VCALENDAR