BEGIN:VCALENDAR
VERSION:2.0
PRODID:-//Colchester East Hants Public Library - ECPv6.15.20//NONSGML v1.0//EN
CALSCALE:GREGORIAN
METHOD:PUBLISH
X-ORIGINAL-URL:https://www.lovemylibrary.ca
X-WR-CALDESC:Events for Colchester East Hants Public Library
REFRESH-INTERVAL;VALUE=DURATION:PT1H
X-Robots-Tag:noindex
X-PUBLISHED-TTL:PT1H
BEGIN:VTIMEZONE
TZID:America/Halifax
BEGIN:DAYLIGHT
TZOFFSETFROM:-0400
TZOFFSETTO:-0300
TZNAME:ADT
DTSTART:20250309T060000
END:DAYLIGHT
BEGIN:STANDARD
TZOFFSETFROM:-0300
TZOFFSETTO:-0400
TZNAME:AST
DTSTART:20251102T050000
END:STANDARD
BEGIN:DAYLIGHT
TZOFFSETFROM:-0400
TZOFFSETTO:-0300
TZNAME:ADT
DTSTART:20260308T060000
END:DAYLIGHT
BEGIN:STANDARD
TZOFFSETFROM:-0300
TZOFFSETTO:-0400
TZNAME:AST
DTSTART:20261101T050000
END:STANDARD
BEGIN:DAYLIGHT
TZOFFSETFROM:-0400
TZOFFSETTO:-0300
TZNAME:ADT
DTSTART:20270314T060000
END:DAYLIGHT
BEGIN:STANDARD
TZOFFSETFROM:-0300
TZOFFSETTO:-0400
TZNAME:AST
DTSTART:20271107T050000
END:STANDARD
END:VTIMEZONE
BEGIN:VEVENT
DTSTART;TZID=America/Halifax:20260219T100000
DTEND;TZID=America/Halifax:20260219T110000
DTSTAMP:20260421T171754
CREATED:20260108T173736Z
LAST-MODIFIED:20260108T173736Z
UID:10014004-1771495200-1771498800@www.lovemylibrary.ca
SUMMARY:Virtual Author Visit – Illustrator Hatem Aly
DESCRIPTION:Hatem Aly is an Egyptian-born illustrator who has illustrated many beloved and bestselling books for young people\, including The Proudest Blue with Ibtihaj Muhammad and S. K. Ali\, The Inquisitor’s Tale with Adam Gidwitz\, and the Yasmin series with Saadia Faruqi. Hatem will join us on Zoom from New Brunswick! For ages 5-10 \nRegister by emailing info@cehpubliclibrary.ca
URL:https://www.lovemylibrary.ca/event/virtual-author-visit-illustrator-hatem-aly/
LOCATION:Virtual
CATEGORIES:Events For Kids,Location: Virtual
ATTACH;FMTTYPE=image/png:https://www.lovemylibrary.ca/wp-content/uploads/2026/01/Untitled-design-2026-01-08T133646.576.png
END:VEVENT
END:VCALENDAR