BEGIN:VCALENDAR
VERSION:2.0
PRODID:-//Colchester East Hants Public Library - ECPv6.15.20//NONSGML v1.0//EN
CALSCALE:GREGORIAN
METHOD:PUBLISH
X-ORIGINAL-URL:https://www.lovemylibrary.ca
X-WR-CALDESC:Events for Colchester East Hants Public Library
REFRESH-INTERVAL;VALUE=DURATION:PT1H
X-Robots-Tag:noindex
X-PUBLISHED-TTL:PT1H
BEGIN:VTIMEZONE
TZID:America/Halifax
BEGIN:DAYLIGHT
TZOFFSETFROM:-0400
TZOFFSETTO:-0300
TZNAME:ADT
DTSTART:20250309T060000
END:DAYLIGHT
BEGIN:STANDARD
TZOFFSETFROM:-0300
TZOFFSETTO:-0400
TZNAME:AST
DTSTART:20251102T050000
END:STANDARD
BEGIN:DAYLIGHT
TZOFFSETFROM:-0400
TZOFFSETTO:-0300
TZNAME:ADT
DTSTART:20260308T060000
END:DAYLIGHT
BEGIN:STANDARD
TZOFFSETFROM:-0300
TZOFFSETTO:-0400
TZNAME:AST
DTSTART:20261101T050000
END:STANDARD
BEGIN:DAYLIGHT
TZOFFSETFROM:-0400
TZOFFSETTO:-0300
TZNAME:ADT
DTSTART:20270314T060000
END:DAYLIGHT
BEGIN:STANDARD
TZOFFSETFROM:-0300
TZOFFSETTO:-0400
TZNAME:AST
DTSTART:20271107T050000
END:STANDARD
END:VTIMEZONE
BEGIN:VEVENT
DTSTART;TZID=America/Halifax:20260521T153000
DTEND;TZID=America/Halifax:20260521T163000
DTSTAMP:20260421T165853
CREATED:20260417T173934Z
LAST-MODIFIED:20260417T173934Z
UID:10014848-1779377400-1779381000@www.lovemylibrary.ca
SUMMARY:Tween Trivia-Disney Theme Parks
DESCRIPTION:Tweens can show off their knowledge of the Disney Theme Parks\, or learn something new. Hidden Mickeys\, Underground Tunnels\, Defunct Rides! Show us what you know! Ages 8-12 \n In-person or virtual. To participate\, register: stewiacke@cehpubliclibrary.ca
URL:https://www.lovemylibrary.ca/event/tween-trivia-disney-theme-parks/
LOCATION:Virtual
CATEGORIES:Events For Kids,Location: Stewiacke,Location: Virtual
ATTACH;FMTTYPE=image/png:https://www.lovemylibrary.ca/wp-content/uploads/2022/08/Untitled-design-29.png
END:VEVENT
END:VCALENDAR