BEGIN:VCALENDAR
VERSION:2.0
PRODID:-//Colchester East Hants Public Library - ECPv6.15.20//NONSGML v1.0//EN
CALSCALE:GREGORIAN
METHOD:PUBLISH
X-ORIGINAL-URL:https://www.lovemylibrary.ca
X-WR-CALDESC:Events for Colchester East Hants Public Library
REFRESH-INTERVAL;VALUE=DURATION:PT1H
X-Robots-Tag:noindex
X-PUBLISHED-TTL:PT1H
BEGIN:VTIMEZONE
TZID:America/Halifax
BEGIN:DAYLIGHT
TZOFFSETFROM:-0400
TZOFFSETTO:-0300
TZNAME:ADT
DTSTART:20250309T060000
END:DAYLIGHT
BEGIN:STANDARD
TZOFFSETFROM:-0300
TZOFFSETTO:-0400
TZNAME:AST
DTSTART:20251102T050000
END:STANDARD
BEGIN:DAYLIGHT
TZOFFSETFROM:-0400
TZOFFSETTO:-0300
TZNAME:ADT
DTSTART:20260308T060000
END:DAYLIGHT
BEGIN:STANDARD
TZOFFSETFROM:-0300
TZOFFSETTO:-0400
TZNAME:AST
DTSTART:20261101T050000
END:STANDARD
BEGIN:DAYLIGHT
TZOFFSETFROM:-0400
TZOFFSETTO:-0300
TZNAME:ADT
DTSTART:20270314T060000
END:DAYLIGHT
BEGIN:STANDARD
TZOFFSETFROM:-0300
TZOFFSETTO:-0400
TZNAME:AST
DTSTART:20271107T050000
END:STANDARD
END:VTIMEZONE
BEGIN:VEVENT
DTSTART;TZID=America/Halifax:20260523T103000
DTEND;TZID=America/Halifax:20260523T110000
DTSTAMP:20260419T113506
CREATED:20251219T193920Z
LAST-MODIFIED:20260415T141101Z
UID:10014716-1779532200-1779534000@www.lovemylibrary.ca
SUMMARY:Storytime
DESCRIPTION:Enjoy a picture book read by Karri or Bernie and then participate in an activity.  Please note there will be no Storytime on January 24\,28\,and 31. For pre-schoolers and home schoolers. \nThis is a drop-in program. No registration is required.
URL:https://www.lovemylibrary.ca/event/storytime-12/2026-05-23/
LOCATION:Mount Uniacke Library\, 555\, Highway 1\, Mount Uniacke\, Nova Scotia\, Canada
CATEGORIES:Events For Kids,Location: Mount Uniacke
ATTACH;FMTTYPE=image/png:https://www.lovemylibrary.ca/wp-content/uploads/2022/05/Untitled-design-2.png
END:VEVENT
BEGIN:VEVENT
DTSTART;TZID=America/Halifax:20260523T103000
DTEND;TZID=America/Halifax:20260523T113000
DTSTAMP:20260419T113506
CREATED:20251028T161419Z
LAST-MODIFIED:20260417T183313Z
UID:10013474-1779532200-1779535800@www.lovemylibrary.ca
SUMMARY:Water colour painting with Lise
DESCRIPTION:Explore the basics of watercolour painting in a relaxed\, creative setting. Learn simple techniques to create soft\, beautiful artwork to take home. This is an adult program\n\nPre register in person or by phone  902–657-3064 or email: tatamago@cehpubliclibrary.ca\n 
URL:https://www.lovemylibrary.ca/event/painting-with-lise-bureau/
LOCATION:Tatamagouche Library\, 170 Main Street\, Tatamagouche\, Nova Scotia\, Canada
CATEGORIES:Events For Adults,Location: Tatamagouche
ATTACH;FMTTYPE=image/png:https://www.lovemylibrary.ca/wp-content/uploads/2025/10/Untitled-design-2025-10-28T131339.436.png
END:VEVENT
BEGIN:VEVENT
DTSTART;TZID=America/Halifax:20260523T110000
DTEND;TZID=America/Halifax:20260523T120000
DTSTAMP:20260419T113506
CREATED:20241105T230757Z
LAST-MODIFIED:20260414T184107Z
UID:10010168-1779534000-1779537600@www.lovemylibrary.ca
SUMMARY:Puppet Show and Craft- The Gruffalo
DESCRIPTION:What has knobby knees and turned-out toes\, and a poisonous wart at the end of his nose? The Gruffalo! Join us for a puppet show version of this classic picture book\, followed by a themed craft. \nThis is a drop in program. No registration required.
URL:https://www.lovemylibrary.ca/event/holiday-puppet-show-2/
LOCATION:Truro Library\, 754 Prince St\, Truro\, Nova Scotia\, Canada
CATEGORIES:Events For Kids,Location: Truro
ATTACH;FMTTYPE=image/png:https://www.lovemylibrary.ca/wp-content/uploads/2024/11/Untitled-design-2024-11-05T190634.742.png
END:VEVENT
BEGIN:VEVENT
DTSTART;TZID=America/Halifax:20260523T113000
DTEND;TZID=America/Halifax:20260523T123000
DTSTAMP:20260419T113506
CREATED:20260415T171423Z
LAST-MODIFIED:20260415T171423Z
UID:10014811-1779535800-1779539400@www.lovemylibrary.ca
SUMMARY:The 745.5 Club (adult crafters)
DESCRIPTION:Bernie and Kim have a fun craft to offer this month. April brought us showers so we are making flowers. This is an adult program. \nRegister in branch or by email mtuniack@cehpubliclibrary.ca
URL:https://www.lovemylibrary.ca/event/the-745-5-club-adult-crafters-3/2026-05-23/
LOCATION:Mount Uniacke Library\, 555\, Highway 1\, Mount Uniacke\, Nova Scotia\, Canada
CATEGORIES:Crafting,Location: Mount Uniacke
ATTACH;FMTTYPE=image/png:https://www.lovemylibrary.ca/wp-content/uploads/2022/03/Untitled-design-85.png
END:VEVENT
BEGIN:VEVENT
DTSTART;TZID=America/Halifax:20260523T123000
DTEND;TZID=America/Halifax:20260523T133000
DTSTAMP:20260419T113506
CREATED:20240420T190541Z
LAST-MODIFIED:20260417T183433Z
UID:10007897-1779539400-1779543000@www.lovemylibrary.ca
SUMMARY:Seedling swap!
DESCRIPTION:Bring your extra seedlings and exchange them with others in the community. A great way to share\, discover new plants\, and connect with fellow gardeners. All ages are welcome \nThis is a drop in program. No registration is required.
URL:https://www.lovemylibrary.ca/event/seedling-swap-2/
LOCATION:Tatamagouche Library\, 170 Main Street\, Tatamagouche\, Nova Scotia\, Canada
CATEGORIES:Events For Adults,Location: Tatamagouche
ATTACH;FMTTYPE=image/png:https://www.lovemylibrary.ca/wp-content/uploads/2024/04/Untitled-design-2024-04-20T160730.853.png
END:VEVENT
BEGIN:VEVENT
DTSTART;TZID=America/Halifax:20260523T130000
DTEND;TZID=America/Halifax:20260523T160000
DTSTAMP:20260419T113506
CREATED:20260417T174334Z
LAST-MODIFIED:20260417T174334Z
UID:10014849-1779541200-1779552000@www.lovemylibrary.ca
SUMMARY:Connecting Communities
DESCRIPTION:Join us for a special Connecting Communities event where creativity meets connection. Together\, we’ll collaborate to create a large string art heart. Note: This will be taking place at the Stewiacke Community Centre. All ages are encouraged to participate. \nThis is a drop in program. No registration is required.
URL:https://www.lovemylibrary.ca/event/connecting-communities/
LOCATION:Stewiacke Community Centre\, Canada
CATEGORIES:Location: Stewiacke
ATTACH;FMTTYPE=image/png:https://www.lovemylibrary.ca/wp-content/uploads/2026/04/Untitled-design-2026-04-17T144446.636.png
END:VEVENT
BEGIN:VEVENT
DTSTART;TZID=America/Halifax:20260523T140000
DTEND;TZID=America/Halifax:20260523T150000
DTSTAMP:20260419T113506
CREATED:20260119T180754Z
LAST-MODIFIED:20260417T170646Z
UID:10014842-1779544800-1779548400@www.lovemylibrary.ca
SUMMARY:Lego Club
DESCRIPTION:Build\, create\, and explore! Lego Club is the perfect place to let your imagination run wild—one brick at a time. For ages 5-99 \nThis is a drop-in program. No registration is required.
URL:https://www.lovemylibrary.ca/event/lego-club-5-2-2-2-2/2026-05-23/
LOCATION:Stewiacke Library\, 295 George Street\, Stewiacke\, Nova Scotia\, Canada
CATEGORIES:Events For Kids,Location: Stewiacke
ATTACH;FMTTYPE=image/png:https://www.lovemylibrary.ca/wp-content/uploads/2022/06/Untitled-design-20.png
END:VEVENT
BEGIN:VEVENT
DTSTART;TZID=America/Halifax:20260523T143000
DTEND;TZID=America/Halifax:20260523T153000
DTSTAMP:20260419T113506
CREATED:20260316T133704Z
LAST-MODIFIED:20260417T184004Z
UID:10014865-1779546600-1779550200@www.lovemylibrary.ca
SUMMARY:Crochet Club
DESCRIPTION:Looking for a cozy place to stitch\, chat\, and create? Join our Crochet Club! Whether you’re a seasoned crocheter or just learning your first stitches\, everyone is welcome. Bring your current project\, share tips and patterns\, and enjoy a relaxed time connecting with fellow yarn lovers. Tatianna Grosvenor from Rising Tides Art Society will be with us!! \n8 and up. In Person. Drop In: No registration necessary
URL:https://www.lovemylibrary.ca/event/crochet-club/2026-05-23/
LOCATION:Stewiacke Library\, 295 George Street\, Stewiacke\, Nova Scotia\, Canada
CATEGORIES:Events For Adults,Events For Kids,Events For Seniors,Events For Teens,Location: Stewiacke
ATTACH;FMTTYPE=image/png:https://www.lovemylibrary.ca/wp-content/uploads/2026/03/Info-Calendar-Images-14.png
END:VEVENT
BEGIN:VEVENT
DTSTART;TZID=America/Halifax:20260525T180000
DTEND;TZID=America/Halifax:20260525T193000
DTSTAMP:20260419T113506
CREATED:20250616T155519Z
LAST-MODIFIED:20260417T183821Z
UID:10014864-1779732000-1779737400@www.lovemylibrary.ca
SUMMARY:After Hours Family Fort Night
DESCRIPTION:Stories are so much better in a blanket fort. We provide the building supplies and snacks. You provide the pillow\, blanket or stuffed animal. \nColchester-East Hants Public Library recognizes the support of the Province of Nova Scotia. We are pleased to work in partnership with the Department of Communities\, Culture\, Tourism and Heritage to develop and promote our cultural resources for all Nova Scotians. \nTo register: email tatamago@cehpubliclibrary.ca.\n 
URL:https://www.lovemylibrary.ca/event/after-hours-family-fort-night/2026-05-25/
LOCATION:Tatamagouche Library\, 170 Main Street\, Tatamagouche\, Nova Scotia\, Canada
CATEGORIES:Events For Kids,Location: Tatamagouche
ATTACH;FMTTYPE=image/png:https://www.lovemylibrary.ca/wp-content/uploads/2023/04/Untitled-design-44.png
END:VEVENT
BEGIN:VEVENT
DTSTART;TZID=America/Halifax:20260526T100000
DTEND;TZID=America/Halifax:20260526T110000
DTSTAMP:20260419T113506
CREATED:20260414T165114Z
LAST-MODIFIED:20260414T165115Z
UID:10014543-1779789600-1779793200@www.lovemylibrary.ca
SUMMARY:Baby\, Me\, & Mother Goose
DESCRIPTION:All babies 3-18 months are welcome to come for rhymes\, songs\, and stories! In partnership with Maggie’s Place. Call Maggie’s Place at 902-895-0200 to register. \nCall Maggie’s Place at 902-895-0200 to register.
URL:https://www.lovemylibrary.ca/event/baby-me-mother-goose-2-2-2-2-2-2-2-2-2-2-2/2026-05-26/
LOCATION:Townsview Estates Long Term Care Home\, 310 Abenaki Rd\, Truro\, Nova Scotia\, B2N 6Y7\, Canada
CATEGORIES:Events For Kids,Location: Truro
ATTACH;FMTTYPE=image/png:https://www.lovemylibrary.ca/wp-content/uploads/2022/03/Untitled-design-75.png
END:VEVENT
BEGIN:VEVENT
DTSTART;TZID=America/Halifax:20260526T133000
DTEND;TZID=America/Halifax:20260526T153000
DTSTAMP:20260419T113506
CREATED:20260317T160855Z
LAST-MODIFIED:20260317T160855Z
UID:10014465-1779802200-1779809400@www.lovemylibrary.ca
SUMMARY:Caregiver Education Series
DESCRIPTION:A series for family members and care partners of people recently diagnosed with dementia. Participants learn about symptoms of dementia\, coping strategies\, future planning and community resources. \nPlease call 1-800-611-6345 to register
URL:https://www.lovemylibrary.ca/event/caregiver-education-series/2026-05-26/
LOCATION:Elmsdale Library\, 15 Commerce Ct\, Elmsdale\, Nova Scotia\, Canada
CATEGORIES:Events For Adults,Location: Elmsdale
ATTACH;FMTTYPE=image/png:https://www.lovemylibrary.ca/wp-content/uploads/2026/03/Untitled-design-2026-03-17T130950.868.png
END:VEVENT
BEGIN:VEVENT
DTSTART;TZID=America/Halifax:20260526T140000
DTEND;TZID=America/Halifax:20260526T170000
DTSTAMP:20260419T113506
CREATED:20260415T141856Z
LAST-MODIFIED:20260415T141919Z
UID:10014788-1779804000-1779814800@www.lovemylibrary.ca
SUMMARY:Afterschool Survival
DESCRIPTION:Time to unwind\, get your homework done\, play on the computer\, or just hang out with your friends. For ages 8-15 \nThis is a drop in program. No registration is required.
URL:https://www.lovemylibrary.ca/event/afterschool-survival-2/2026-05-26/
LOCATION:Mount Uniacke Library\, 555\, Highway 1\, Mount Uniacke\, Nova Scotia\, Canada
CATEGORIES:Events For Kids,Events For Teens,Location: Mount Uniacke
ATTACH;FMTTYPE=image/png:https://www.lovemylibrary.ca/wp-content/uploads/2023/08/Untitled-design-99.png
END:VEVENT
BEGIN:VEVENT
DTSTART;TZID=America/Halifax:20260526T150000
DTEND;TZID=America/Halifax:20260526T153000
DTSTAMP:20260419T113506
CREATED:20250419T145025Z
LAST-MODIFIED:20260415T171538Z
UID:10011830-1779807600-1779809400@www.lovemylibrary.ca
SUMMARY:Let’s Play Cards
DESCRIPTION:Do you want to play cards? Want to learn a new game of cards? Bernie is our card master and wants to show you a fun new game.. For school aged children. \nThis is a drop in program. No registration is required.
URL:https://www.lovemylibrary.ca/event/lets-play-cards/
LOCATION:Mount Uniacke Library\, 555\, Highway 1\, Mount Uniacke\, Nova Scotia\, Canada
CATEGORIES:Events For Kids,Location: Mount Uniacke
ATTACH;FMTTYPE=image/png:https://www.lovemylibrary.ca/wp-content/uploads/2025/04/Untitled-design-2025-04-19T115213.950.png
END:VEVENT
BEGIN:VEVENT
DTSTART;TZID=America/Halifax:20260526T150000
DTEND;TZID=America/Halifax:20260526T163000
DTSTAMP:20260419T113506
CREATED:20260323T191525Z
LAST-MODIFIED:20260414T171217Z
UID:10014699-1779807600-1779813000@www.lovemylibrary.ca
SUMMARY:Teen Room Drop In
DESCRIPTION:Come hang out after school! Grab a snack\, play our Nintendo Switch\, challenge your friends to a board game\, build with Lego\, or make art. Ages 13-18 \nThis is a drop-in program. No registration is required.
URL:https://www.lovemylibrary.ca/event/teen-room-drop-in-6/2026-05-26/
LOCATION:Truro Library\, 754 Prince St\, Truro\, Nova Scotia\, Canada
CATEGORIES:Events For Teens,Location: Truro
ATTACH;FMTTYPE=image/png:https://www.lovemylibrary.ca/wp-content/uploads/2022/10/Untitled-design-53.png
END:VEVENT
BEGIN:VEVENT
DTSTART;TZID=America/Halifax:20260526T150000
DTEND;TZID=America/Halifax:20260526T170000
DTSTAMP:20260419T113506
CREATED:20260303T215049Z
LAST-MODIFIED:20260417T181656Z
UID:10014858-1779807600-1779814800@www.lovemylibrary.ca
SUMMARY:Dungeons and Dragons
DESCRIPTION:“Join us for an epic Dungeons & Dragons game night! Roll dice\, slay monsters\, and embark on thrilling adventures with friends. Whether you’re a seasoned hero or a curious newbie\, there’s a spot for you at the table!” For ages 13-24 \nRegister by phone 902-657-3064 or email: tatamago@cehpubliclibrary.ca
URL:https://www.lovemylibrary.ca/event/dungeons-and-dragons-9/2026-05-26/
LOCATION:Tatamagouche Library\, 170 Main Street\, Tatamagouche\, Nova Scotia\, Canada
CATEGORIES:Location: Tatamagouche
ATTACH;FMTTYPE=image/png:https://www.lovemylibrary.ca/wp-content/uploads/2022/06/D-and-D.png
END:VEVENT
BEGIN:VEVENT
DTSTART;TZID=America/Halifax:20260526T153000
DTEND;TZID=America/Halifax:20260526T163000
DTSTAMP:20260419T113506
CREATED:20260414T185308Z
LAST-MODIFIED:20260414T185308Z
UID:10014708-1779809400-1779813000@www.lovemylibrary.ca
SUMMARY:Learn The Library
DESCRIPTION:New to the Colchester-East Hants Public Library\, or looking for a refresher before Summer Reading Club kicks off? Come learn how to use your local library. Get a tour\, learn how to search for materials and place holds\, and have some fun finding materials! Age 5-12\, email to register. For ages 5-12 \nTo register email: info@cehpubliclibrary.ca
URL:https://www.lovemylibrary.ca/event/learn-the-library/
LOCATION:Truro Library\, 754 Prince St\, Truro\, Nova Scotia\, Canada
CATEGORIES:Events For Kids,Location: Truro
ATTACH;FMTTYPE=image/png:https://www.lovemylibrary.ca/wp-content/uploads/2026/04/Untitled-design-2026-04-14T155347.224.png
END:VEVENT
BEGIN:VEVENT
DTSTART;TZID=America/Halifax:20260526T163000
DTEND;TZID=America/Halifax:20260526T193000
DTSTAMP:20260419T113506
CREATED:20260415T174437Z
LAST-MODIFIED:20260415T174437Z
UID:10014826-1779813000-1779823800@www.lovemylibrary.ca
SUMMARY:Collage Club
DESCRIPTION:Explore your creative side at the Elmsdale Library with the Collage Club! We’re busting out the scissors and glue and cutting up magazines and picture books to assemble a cool piece of art. You can also make postcards\, vision boards\, zines – whatever you want! Whether you’re a seasoned collage pro or just looking to try a new creative outlet\, come get creative! Ages 10+ \nIn Person\, drop in. Please call (902) 883-9383 or email us at elmsdale@cehpubliclibrary.ca for more details.
URL:https://www.lovemylibrary.ca/event/collage-club-3-2-2/2026-05-26/
LOCATION:Elmsdale Library\, 15 Commerce Ct\, Elmsdale\, Nova Scotia\, Canada
CATEGORIES:Events For Kids,Location: Elmsdale
ATTACH;FMTTYPE=image/png:https://www.lovemylibrary.ca/wp-content/uploads/2024/12/Untitled-design-1.png
END:VEVENT
BEGIN:VEVENT
DTSTART;TZID=America/Halifax:20260526T183000
DTEND;TZID=America/Halifax:20260526T193000
DTSTAMP:20260419T113506
CREATED:20241016T173236Z
LAST-MODIFIED:20260417T175333Z
UID:10010049-1779820200-1779823800@www.lovemylibrary.ca
SUMMARY:Crafty Crew – -Kinusaiga Art Edition
DESCRIPTION:Join us for an introduction to Kinusaiga\, a beautiful Japanese art form that uses fabric to make a beautiful no-sew “quilted” art piece. All materials are provided. For adults. \nRegister: stewiacke@cehpubliclibrary.ca or 902-639-2481\n 
URL:https://www.lovemylibrary.ca/event/adult-crafty-crew-cinnamon-stick-edition/
LOCATION:Stewiacke Library\, 295 George Street\, Stewiacke\, Nova Scotia\, Canada
CATEGORIES:Crafting,Events For Adults,Location: Stewiacke
ATTACH;FMTTYPE=image/png:https://www.lovemylibrary.ca/wp-content/uploads/2022/03/Untitled-design-85.png
END:VEVENT
BEGIN:VEVENT
DTSTART;TZID=America/Halifax:20260526T183000
DTEND;TZID=America/Halifax:20260526T200000
DTSTAMP:20260419T113506
CREATED:20240919T175158Z
LAST-MODIFIED:20260415T142046Z
UID:10014794-1779820200-1779825600@www.lovemylibrary.ca
SUMMARY:Ewe-niacke Yarn Club
DESCRIPTION:Fiber art for all ages and abilities. Learn to knit or crochet\, bring a project you are working on\, or just come hang out with the club for some social time. All ages welcome. \nDrop in\, no registration required.
URL:https://www.lovemylibrary.ca/event/ewe-niacke-yarn-club-3-2-2-2/2026-05-26/
LOCATION:Mount Uniacke Library\, 555\, Highway 1\, Mount Uniacke\, Nova Scotia\, Canada
CATEGORIES:Crafting,Events For Adults,Events For Kids,Events For Seniors,Location: Mount Uniacke
ATTACH;FMTTYPE=image/png:https://www.lovemylibrary.ca/wp-content/uploads/2022/03/Untitled-design-89.png
END:VEVENT
BEGIN:VEVENT
DTSTART;TZID=America/Halifax:20260527T103000
DTEND;TZID=America/Halifax:20260527T110000
DTSTAMP:20260419T113506
CREATED:20251219T193920Z
LAST-MODIFIED:20260415T141101Z
UID:10014717-1779877800-1779879600@www.lovemylibrary.ca
SUMMARY:Storytime
DESCRIPTION:Enjoy a picture book read by Karri or Bernie and then participate in an activity.  Please note there will be no Storytime on January 24\,28\,and 31. For pre-schoolers and home schoolers. \nThis is a drop-in program. No registration is required.
URL:https://www.lovemylibrary.ca/event/storytime-12/2026-05-27/
LOCATION:Mount Uniacke Library\, 555\, Highway 1\, Mount Uniacke\, Nova Scotia\, Canada
CATEGORIES:Events For Kids,Location: Mount Uniacke
ATTACH;FMTTYPE=image/png:https://www.lovemylibrary.ca/wp-content/uploads/2022/05/Untitled-design-2.png
END:VEVENT
BEGIN:VEVENT
DTSTART;TZID=America/Halifax:20260527T103000
DTEND;TZID=America/Halifax:20260527T113000
DTSTAMP:20260419T113506
CREATED:20251218T143944Z
LAST-MODIFIED:20260417T181400Z
UID:10014852-1779877800-1779881400@www.lovemylibrary.ca
SUMMARY:Parents and Tots Story Time and Crafts
DESCRIPTION:Come along and enjoy an hour of fun filled story time and craft.  For ages 0+ \nDrop-in\, no registration required.
URL:https://www.lovemylibrary.ca/event/tots-and-moms-social-time-3-2-2-2-2-2-2/2026-05-27/
LOCATION:Tatamagouche Library\, 170 Main Street\, Tatamagouche\, Nova Scotia\, Canada
CATEGORIES:Events For Kids,Location: Tatamagouche,March Break
ATTACH;FMTTYPE=image/png:https://www.lovemylibrary.ca/wp-content/uploads/2022/03/Untitled-design-75.png
END:VEVENT
BEGIN:VEVENT
DTSTART;TZID=America/Halifax:20260527T140000
DTEND;TZID=America/Halifax:20260527T160000
DTSTAMP:20260419T113506
CREATED:20250417T181643Z
LAST-MODIFIED:20260415T173925Z
UID:10014450-1779890400-1779897600@www.lovemylibrary.ca
SUMMARY:Social Café
DESCRIPTION:Are you retired\, new to the area\, or just looking to connect with some new people? We would love to see you and welcome you to the library! Light refreshments available. \nIn person\, drop in. For more details call us at (902) 883-9838 or email us at elmsdale@cehpubliclibrary.ca
URL:https://www.lovemylibrary.ca/event/social-cafe-5/2026-05-27/
LOCATION:Elmsdale Library\, 15 Commerce Ct\, Elmsdale\, Nova Scotia\, Canada
CATEGORIES:Events For Adults,Events For Seniors,Location: Elmsdale
ATTACH;FMTTYPE=image/png:https://www.lovemylibrary.ca/wp-content/uploads/2025/04/Untitled-design-2023-06-19T111314.785.png
END:VEVENT
BEGIN:VEVENT
DTSTART;TZID=America/Halifax:20260527T150000
DTEND;TZID=America/Halifax:20260527T163000
DTSTAMP:20260419T113506
CREATED:20260323T191525Z
LAST-MODIFIED:20260414T171217Z
UID:10014700-1779894000-1779899400@www.lovemylibrary.ca
SUMMARY:Teen Room Drop In
DESCRIPTION:Come hang out after school! Grab a snack\, play our Nintendo Switch\, challenge your friends to a board game\, build with Lego\, or make art. Ages 13-18 \nThis is a drop-in program. No registration is required.
URL:https://www.lovemylibrary.ca/event/teen-room-drop-in-6/2026-05-27/
LOCATION:Truro Library\, 754 Prince St\, Truro\, Nova Scotia\, Canada
CATEGORIES:Events For Teens,Location: Truro
ATTACH;FMTTYPE=image/png:https://www.lovemylibrary.ca/wp-content/uploads/2022/10/Untitled-design-53.png
END:VEVENT
BEGIN:VEVENT
DTSTART;TZID=America/Halifax:20260527T163000
DTEND;TZID=America/Halifax:20260527T173000
DTSTAMP:20260419T113506
CREATED:20260414T183205Z
LAST-MODIFIED:20260414T183205Z
UID:10014705-1779899400-1779903000@www.lovemylibrary.ca
SUMMARY:Teen: After School Snacks with Nova Scotia Health
DESCRIPTION:Join us in the Teen Room to make and eat a delicious\, nutritious after-school snack with Nova Scotia Health\, and learn more about ways to promote wellness in your everyday life! For ages 13-18 \nThis is a drop in program. No registration is required.
URL:https://www.lovemylibrary.ca/event/teen-after-school-snacks-with-nova-scotia-health/
LOCATION:Truro Library\, 754 Prince St\, Truro\, Nova Scotia\, Canada
CATEGORIES:Events For Teens,Location: Truro
ATTACH;FMTTYPE=image/png:https://www.lovemylibrary.ca/wp-content/uploads/2026/04/Untitled-design-2026-04-14T153332.280.png
END:VEVENT
BEGIN:VEVENT
DTSTART;TZID=America/Halifax:20260528T110000
DTEND;TZID=America/Halifax:20260528T112000
DTSTAMP:20260419T113506
CREATED:20250820T135034Z
LAST-MODIFIED:20260414T165957Z
UID:10014692-1779966000-1779967200@www.lovemylibrary.ca
SUMMARY:Tales for Tots
DESCRIPTION:Join us Thursday mornings in the Big Brothers Big Sisters Room for stories\, songs\, and activities that are just right for terrific toddlers! \n18 months-4 years with a parent/caregiver. \nDrop-in\, no registration required.
URL:https://www.lovemylibrary.ca/event/tales-for-tots-2-2-2-2-2/2026-05-28/
LOCATION:Truro Library\, 754 Prince St\, Truro\, Nova Scotia\, Canada
CATEGORIES:Events For Kids,Location: Truro
ATTACH;FMTTYPE=image/png:https://www.lovemylibrary.ca/wp-content/uploads/2022/03/Untitled-design-81.png
END:VEVENT
BEGIN:VEVENT
DTSTART;TZID=America/Halifax:20260528T113000
DTEND;TZID=America/Halifax:20260528T130000
DTSTAMP:20260419T113506
CREATED:20260415T174633Z
LAST-MODIFIED:20260415T174817Z
UID:10013310-1779967800-1779973200@www.lovemylibrary.ca
SUMMARY:Aging in Place Workshop Series
DESCRIPTION:This is an educational 4-part series provided by Remember When Health Care on how to make your home safe\, accessible\, and sustainable for the long term. \nTo register\, please visit the RW Health Care website http://www.rwhc.ca/workshops
URL:https://www.lovemylibrary.ca/event/aging-in-place-workshop-series-2/
LOCATION:Truro Library\, 754 Prince St\, Truro\, Nova Scotia\, Canada
CATEGORIES:Events For Adults,Events For Seniors,Location: Elmsdale
ATTACH;FMTTYPE=image/png:https://www.lovemylibrary.ca/wp-content/uploads/2025/09/Untitled-design-46.png
END:VEVENT
BEGIN:VEVENT
DTSTART;TZID=America/Halifax:20260528T140000
DTEND;TZID=America/Halifax:20260528T170000
DTSTAMP:20260419T113506
CREATED:20260415T141856Z
LAST-MODIFIED:20260415T141919Z
UID:10014789-1779976800-1779987600@www.lovemylibrary.ca
SUMMARY:Afterschool Survival
DESCRIPTION:Time to unwind\, get your homework done\, play on the computer\, or just hang out with your friends. For ages 8-15 \nThis is a drop in program. No registration is required.
URL:https://www.lovemylibrary.ca/event/afterschool-survival-2/2026-05-28/
LOCATION:Mount Uniacke Library\, 555\, Highway 1\, Mount Uniacke\, Nova Scotia\, Canada
CATEGORIES:Events For Kids,Events For Teens,Location: Mount Uniacke
ATTACH;FMTTYPE=image/png:https://www.lovemylibrary.ca/wp-content/uploads/2023/08/Untitled-design-99.png
END:VEVENT
BEGIN:VEVENT
DTSTART;TZID=America/Halifax:20260528T150000
DTEND;TZID=America/Halifax:20260528T153000
DTSTAMP:20260419T113506
CREATED:20260415T172603Z
LAST-MODIFIED:20260415T172604Z
UID:10014047-1779980400-1779982200@www.lovemylibrary.ca
SUMMARY:Food Science
DESCRIPTION:Karri is cooking up some fun things with food. Bring your empty bellies and inquisitive minds to play with food. Karri plans to try making edible stained glass with your help. For school aged children. \nRegister in branch or by email mtuniack@cehpubliclibrary.ca
URL:https://www.lovemylibrary.ca/event/food-science-3/
LOCATION:Mount Uniacke Library\, 555\, Highway 1\, Mount Uniacke\, Nova Scotia\, Canada
CATEGORIES:Events For Kids,Location: Mount Uniacke
ATTACH;FMTTYPE=image/png:https://www.lovemylibrary.ca/wp-content/uploads/2025/08/Untitled-design-2025-08-30T105441.709.png
END:VEVENT
BEGIN:VEVENT
DTSTART;TZID=America/Halifax:20260528T150000
DTEND;TZID=America/Halifax:20260528T163000
DTSTAMP:20260419T113506
CREATED:20260323T193338Z
LAST-MODIFIED:20260414T182055Z
UID:10014703-1779980400-1779985800@www.lovemylibrary.ca
SUMMARY:Inclusive Tween Drop-In with Schools Plus
DESCRIPTION:Stop by the Teen Room every Thursday afternoon starting April 9 to play games\, eat snacks\, and hang out. This inclusive drop-in is in partnership with Schools Plus. Parent Navigator Marcia Gamble will be on hand to support parents as needed\, as well as Schools Plus outreach workers. For ages 10-14 \n 
URL:https://www.lovemylibrary.ca/event/inclusive-tween-drop-in-with-schools-plus/2026-05-28/
LOCATION:Truro Library\, 754 Prince St\, Truro\, Nova Scotia\, Canada
CATEGORIES:Location: Truro
ATTACH;FMTTYPE=image/png:https://www.lovemylibrary.ca/wp-content/uploads/2026/03/Untitled-design-2026-03-23T162924.667.png
END:VEVENT
BEGIN:VEVENT
DTSTART;TZID=America/Halifax:20260528T153000
DTEND;TZID=America/Halifax:20260528T163000
DTSTAMP:20260419T113506
CREATED:20260414T165723Z
LAST-MODIFIED:20260414T165802Z
UID:10014686-1779982200-1779985800@www.lovemylibrary.ca
SUMMARY:Snack Attack
DESCRIPTION:Join us after school to create and eat some delicious\, healthy snacks! \nAges 8 – 14. In person. Email info@cehpubliclibrary.ca
URL:https://www.lovemylibrary.ca/event/snack-attack-2/2026-05-28/
LOCATION:Truro Library\, 754 Prince St\, Truro\, Nova Scotia\, Canada
CATEGORIES:Events For Kids,Events For Teens,Location: Truro
ATTACH;FMTTYPE=image/png:https://www.lovemylibrary.ca/wp-content/uploads/2026/01/Untitled-design-2026-04-14T135842.177.png
END:VEVENT
END:VCALENDAR