BEGIN:VCALENDAR
VERSION:2.0
PRODID:-//Colchester East Hants Public Library - ECPv6.15.20//NONSGML v1.0//EN
CALSCALE:GREGORIAN
METHOD:PUBLISH
X-WR-CALNAME:Colchester East Hants Public Library
X-ORIGINAL-URL:https://www.lovemylibrary.ca
X-WR-CALDESC:Events for Colchester East Hants Public Library
REFRESH-INTERVAL;VALUE=DURATION:PT1H
X-Robots-Tag:noindex
X-PUBLISHED-TTL:PT1H
BEGIN:VTIMEZONE
TZID:America/Halifax
BEGIN:DAYLIGHT
TZOFFSETFROM:-0400
TZOFFSETTO:-0300
TZNAME:ADT
DTSTART:20220313T060000
END:DAYLIGHT
BEGIN:STANDARD
TZOFFSETFROM:-0300
TZOFFSETTO:-0400
TZNAME:AST
DTSTART:20221106T050000
END:STANDARD
BEGIN:DAYLIGHT
TZOFFSETFROM:-0400
TZOFFSETTO:-0300
TZNAME:ADT
DTSTART:20230312T060000
END:DAYLIGHT
BEGIN:STANDARD
TZOFFSETFROM:-0300
TZOFFSETTO:-0400
TZNAME:AST
DTSTART:20231105T050000
END:STANDARD
BEGIN:DAYLIGHT
TZOFFSETFROM:-0400
TZOFFSETTO:-0300
TZNAME:ADT
DTSTART:20240310T060000
END:DAYLIGHT
BEGIN:STANDARD
TZOFFSETFROM:-0300
TZOFFSETTO:-0400
TZNAME:AST
DTSTART:20241103T050000
END:STANDARD
END:VTIMEZONE
BEGIN:VEVENT
DTSTART;VALUE=DATE:20230202
DTEND;VALUE=DATE:20230430
DTSTAMP:20260423T111940
CREATED:20221018T154842Z
LAST-MODIFIED:20230324T181958Z
UID:10001718-1675296000-1682812799@www.lovemylibrary.ca
SUMMARY:Take Home Craft Kits
DESCRIPTION:Kits change on a weekly basis and contain all supplies needed to complete the craft. Suitable For Preschool and early elementary children. \nThis is a drop-in program. No registration is required.
URL:https://www.lovemylibrary.ca/event/take-home-craft-kits-4/
LOCATION:Stewiacke Library\, 295 George Street\, Stewiacke\, Nova Scotia\, Canada
CATEGORIES:Crafting,Events For Kids,Location: Stewiacke
ATTACH;FMTTYPE=image/png:https://www.lovemylibrary.ca/wp-content/uploads/2022/03/Untitled-design-57.png
END:VEVENT
BEGIN:VEVENT
DTSTART;VALUE=DATE:20230301
DTEND;VALUE=DATE:20230601
DTSTAMP:20260423T111940
CREATED:20221222T145501Z
LAST-MODIFIED:20230426T173012Z
UID:10002662-1677628800-1685577599@www.lovemylibrary.ca
SUMMARY:Creatures Big and Small Scavenger Hunt
DESCRIPTION:Enjoy a scavenger hunt with the library.  All ages are welcome to participate. \nThis is a drop-in program. No registration is required.
URL:https://www.lovemylibrary.ca/event/winter-scavenger-hunt/
LOCATION:Tatamagouche Library\, 170 Main Street\, Tatamagouche\, Nova Scotia\, Canada
CATEGORIES:Events For Kids,Location: Tatamagouche
ATTACH;FMTTYPE=image/png:https://www.lovemylibrary.ca/wp-content/uploads/2022/06/scavenger-hunt-1.png
END:VEVENT
BEGIN:VEVENT
DTSTART;VALUE=DATE:20230302
DTEND;VALUE=DATE:20230428
DTSTAMP:20260423T111940
CREATED:20230218T181721Z
LAST-MODIFIED:20230218T203502Z
UID:10003727-1677715200-1682639999@www.lovemylibrary.ca
SUMMARY:Every Child Matters – Finding a Way Forward Project\, an art exhibit at the Truro Library
DESCRIPTION:The Rug Hooking Guild of Nova Scotia commissioned five Indigenous artists from New Brunswick\, Prince Edward Island and Nova Scotia to produce rug hooking designs that honour the Indigenous children who suffered and died in Residential Schools and to honour the survivors who were taken from their families and culture. These mats have been offered by the artists and the guild with love and respect\, in hopes to raise awareness for this issue as a path moving forward towards reconciliation and healing. The Opening Ceremony for the exhibit will be held on Saturday\, March 4 from 2-4pm. Opening words will be given by Elder Debbie Eisan and members of the Rug Hooking Guild of Nova Scotia will be present to answer questions. A guestbook is available at the second floor information desk\, where comments of solidarity may be left. All ages are welcome. The exhibit will be housed on the second floor of the library.
URL:https://www.lovemylibrary.ca/event/every-child-matters-finding-a-way-forward-project-an-art-exhibit-at-the-truro-library/
LOCATION:Truro Library\, 754 Prince St\, Truro\, Nova Scotia\, Canada
CATEGORIES:Events For Adults,Events For Kids,Events For Seniors,Events For Teens,Location: Truro
ATTACH;FMTTYPE=image/png:https://www.lovemylibrary.ca/wp-content/uploads/2023/02/Copy-of-Full-Colour-Every-Child-Matters-Art-Exhibit-.pdf-Instagram-Post-Square-1.png
END:VEVENT
BEGIN:VEVENT
DTSTART;VALUE=DATE:20230302
DTEND;VALUE=DATE:20230430
DTSTAMP:20260423T111940
CREATED:20230218T180033Z
LAST-MODIFIED:20230324T182233Z
UID:10003725-1677715200-1682805599@www.lovemylibrary.ca
SUMMARY:April Flowers Scavenger Hunt
DESCRIPTION:Find the 12 flower pictures hidden around the library. How many can you name? All ages are welcome to participate. \nThis is a drop-in program. No registration is required.
URL:https://www.lovemylibrary.ca/event/green-scavenger-hunt/2023-03-02/1/
LOCATION:Stewiacke Library\, 295 George Street\, Stewiacke\, Nova Scotia\, Canada
CATEGORIES:Events For Kids,Location: Stewiacke
ATTACH;FMTTYPE=image/png:https://www.lovemylibrary.ca/wp-content/uploads/2021/08/Untitled-design-23.png
END:VEVENT
BEGIN:VEVENT
DTSTART;VALUE=DATE:20230401
DTEND;VALUE=DATE:20230501
DTSTAMP:20260423T111940
CREATED:20230216T174818Z
LAST-MODIFIED:20230325T183059Z
UID:10003669-1680307200-1682899199@www.lovemylibrary.ca
SUMMARY:Outer Space Scavenger Hunt
DESCRIPTION:Curious about space and our solar system? Explore at the library with a scavenger hunt. All ages are welcome to participate. \nDrop in – call 902-883-9838 or email elmsdale@cehpubliclibrary.ca
URL:https://www.lovemylibrary.ca/event/jump-into-spring-scavenger-hunt/
LOCATION:Elmsdale Library\, 15 Commerce Ct\, Elmsdale\, Nova Scotia\, Canada
CATEGORIES:Events For Kids,Location: Elmsdale
ATTACH;FMTTYPE=image/png:https://www.lovemylibrary.ca/wp-content/uploads/2022/05/Untitled-design-23.png
END:VEVENT
BEGIN:VEVENT
DTSTART;VALUE=DATE:20230401
DTEND;VALUE=DATE:20230701
DTSTAMP:20260423T111940
CREATED:20230222T190032Z
LAST-MODIFIED:20230525T172021Z
UID:10003806-1680307200-1688169599@www.lovemylibrary.ca
SUMMARY:June Take and Makes (preschool)
DESCRIPTION:Drop by for a craft to do at home with your little. All supplies are provided to make a fun project. (while supplies last) For ages 2-5 \nThis is a drop-in program. No registration is required.
URL:https://www.lovemylibrary.ca/event/march-take-and-makes-preschool/
LOCATION:Mount Uniacke Library\, 555\, Highway 1\, Mount Uniacke\, Nova Scotia\, Canada
CATEGORIES:Crafting,Events For Kids,Location: Mount Uniacke
ATTACH;FMTTYPE=image/png:https://www.lovemylibrary.ca/wp-content/uploads/2022/03/Untitled-design-57.png
END:VEVENT
BEGIN:VEVENT
DTSTART;VALUE=DATE:20230401
DTEND;VALUE=DATE:20230701
DTSTAMP:20260423T111940
CREATED:20230222T190308Z
LAST-MODIFIED:20230525T172129Z
UID:10003807-1680307200-1688169599@www.lovemylibrary.ca
SUMMARY:June Take and Makes (school age)
DESCRIPTION:Monthly take and make for school age kids. Pick up in June and take home for something to do when you are bored. (while supplies last) For ages 6-12 \nThis is a drop in program. No registration is required.
URL:https://www.lovemylibrary.ca/event/march-take-and-makes-school-age/
LOCATION:Mount Uniacke Library\, 555\, Highway 1\, Mount Uniacke\, Nova Scotia\, Canada
CATEGORIES:Crafting,Events For Kids,Location: Mount Uniacke
ATTACH;FMTTYPE=image/png:https://www.lovemylibrary.ca/wp-content/uploads/2022/03/Untitled-design-57.png
END:VEVENT
BEGIN:VEVENT
DTSTART;TZID=America/Halifax:20230401T103000
DTEND;TZID=America/Halifax:20230401T110000
DTSTAMP:20260423T111940
CREATED:20221220T230021Z
LAST-MODIFIED:20230525T163111Z
UID:10003909-1680345000-1680346800@www.lovemylibrary.ca
SUMMARY:Storytime
DESCRIPTION:Enjoy a picture book read by Karri or Bernie and then participate in an activity. For pre schoolers and home schoolers. \nThis is a drop-in program. No registration is required.
URL:https://www.lovemylibrary.ca/event/storytime-4-2/2023-04-01/
LOCATION:Mount Uniacke Library\, 555\, Highway 1\, Mount Uniacke\, Nova Scotia\, Canada
CATEGORIES:Events For Kids,Location: Mount Uniacke
ATTACH;FMTTYPE=image/png:https://www.lovemylibrary.ca/wp-content/uploads/2022/05/Untitled-design-2.png
END:VEVENT
BEGIN:VEVENT
DTSTART;TZID=America/Halifax:20230401T140000
DTEND;TZID=America/Halifax:20230401T150000
DTSTAMP:20260423T111940
CREATED:20221018T153340Z
LAST-MODIFIED:20231222T154016Z
UID:10003873-1680357600-1680361200@www.lovemylibrary.ca
SUMMARY:Lego Club
DESCRIPTION:Activate your creativity and imagination! We will proudly display what you build in our children’s area. For ages 5-100 \nThis is a drop-in program. No registration is required.
URL:https://www.lovemylibrary.ca/event/lego-club-5/2023-04-01/
LOCATION:Stewiacke Library\, 295 George Street\, Stewiacke\, Nova Scotia\, Canada
CATEGORIES:Events For Kids,Location: Stewiacke
ATTACH;FMTTYPE=image/png:https://www.lovemylibrary.ca/wp-content/uploads/2022/06/Untitled-design-20.png
END:VEVENT
BEGIN:VEVENT
DTSTART;TZID=America/Halifax:20230403T133000
DTEND;TZID=America/Halifax:20230403T163000
DTSTAMP:20260423T111941
CREATED:20221026T175545Z
LAST-MODIFIED:20230919T182903Z
UID:10004040-1680528600-1680539400@www.lovemylibrary.ca
SUMMARY:Scrabble Group
DESCRIPTION:What spells F-U-N? Playing Scrabble with friends! \nThis is a drop-in program.  No registration is required.
URL:https://www.lovemylibrary.ca/event/scrabble-group-3-2/2023-04-03/
LOCATION:Truro Library\, 754 Prince St\, Truro\, Nova Scotia\, Canada
CATEGORIES:Events For Adults,Events For Seniors,Location: Truro
ATTACH;FMTTYPE=image/png:https://www.lovemylibrary.ca/wp-content/uploads/2022/05/Add-a-subheading-700-×-500-px-3.png
END:VEVENT
BEGIN:VEVENT
DTSTART;TZID=America/Halifax:20230404T133000
DTEND;TZID=America/Halifax:20230404T143000
DTSTAMP:20260423T111941
CREATED:20221025T222519Z
LAST-MODIFIED:20230529T180520Z
UID:10004048-1680615000-1680618600@www.lovemylibrary.ca
SUMMARY:Homeschoolers Haven
DESCRIPTION:Homeschoolers Haven is a place for Homeschool families to meet and share resources. There will be  activities for the children. We will be taking a summer break during the months of July and August.  For ages 5+ \nThis is a drop-in program. No registration is required.
URL:https://www.lovemylibrary.ca/event/homeschoolers-haven-2/2023-04-04/
LOCATION:Truro Library\, 754 Prince St\, Truro\, Nova Scotia\, Canada
CATEGORIES:Events For Kids,Events For Teens,Location: Truro
ATTACH;FMTTYPE=image/png:https://www.lovemylibrary.ca/wp-content/uploads/2022/07/Untitled-design-9.png
END:VEVENT
BEGIN:VEVENT
DTSTART;TZID=America/Halifax:20230404T140000
DTEND;TZID=America/Halifax:20230404T150000
DTSTAMP:20260423T111941
CREATED:20221220T231218Z
LAST-MODIFIED:20230525T163330Z
UID:10003918-1680616800-1680620400@www.lovemylibrary.ca
SUMMARY:Homework Hangout
DESCRIPTION:Time to unwind\, get your homework done\, and hangout with your friends.  For ages 8-15. \nThis is a drop-in program. No registration is required.
URL:https://www.lovemylibrary.ca/event/homework-hangout-2/2023-04-04/
LOCATION:Mount Uniacke Library\, 555\, Highway 1\, Mount Uniacke\, Nova Scotia\, Canada
CATEGORIES:Events For Kids,Events For Teens,Location: Mount Uniacke
ATTACH;FMTTYPE=image/png:https://www.lovemylibrary.ca/wp-content/uploads/2022/03/Untitled-design-91.png
END:VEVENT
BEGIN:VEVENT
DTSTART;TZID=America/Halifax:20230404T143000
DTEND;TZID=America/Halifax:20230404T153000
DTSTAMP:20260423T111941
CREATED:20230328T205938Z
LAST-MODIFIED:20230328T205939Z
UID:10003785-1680618600-1680622200@www.lovemylibrary.ca
SUMMARY:Tuesday Crafternoon
DESCRIPTION:The Easter holiday is coming and we are celebrating by making our own Easter bunny. Come in for some crafting fun with Bernie. For ages 8-15 \nRegister in branch or by email mtuniack@cehpubliclibrary.ca
URL:https://www.lovemylibrary.ca/event/tuesday-crafternoon-2-2/
LOCATION:Mount Uniacke Library\, 555\, Highway 1\, Mount Uniacke\, Nova Scotia\, Canada
CATEGORIES:Crafting,Events For Kids,Location: Mount Uniacke
ATTACH;FMTTYPE=image/png:https://www.lovemylibrary.ca/wp-content/uploads/2022/06/Untitled-700-×-500-px-1.png
END:VEVENT
BEGIN:VEVENT
DTSTART;TZID=America/Halifax:20230404T170000
DTEND;TZID=America/Halifax:20230404T180000
DTSTAMP:20260423T111941
CREATED:20230329T191019Z
LAST-MODIFIED:20230329T191019Z
UID:10004018-1680627600-1680631200@www.lovemylibrary.ca
SUMMARY:Easter Egg colouring workshop
DESCRIPTION:Learn how to colour Easter eggs the natural way. All ages are welcome. \nRegistration by phone 902-657-3064 or email: tatamago@cehpubliclibrary.ca
URL:https://www.lovemylibrary.ca/event/easter-egg-colouring-workshop/
LOCATION:Tatamagouche Library\, 170 Main Street\, Tatamagouche\, Nova Scotia\, Canada
CATEGORIES:Crafting,Location: Tatamagouche
ATTACH;FMTTYPE=image/png:https://www.lovemylibrary.ca/wp-content/uploads/2023/03/Untitled-design-55.png
END:VEVENT
BEGIN:VEVENT
DTSTART;TZID=America/Halifax:20230404T173000
DTEND;TZID=America/Halifax:20230404T200000
DTSTAMP:20260423T111941
CREATED:20221116T204822Z
LAST-MODIFIED:20230919T183845Z
UID:10004043-1680629400-1680638400@www.lovemylibrary.ca
SUMMARY:Heroes & Adventurers
DESCRIPTION:Role-playing game nights with extraordinary people! We provide the supplies\, you provide the imagination. No experience needed. All ages welcome! \nRegister to play by emailing: HAATruro@gmail.com Sorry\, no drop-in players at this time.
URL:https://www.lovemylibrary.ca/event/heroes-adventurers-3/2023-04-04/
LOCATION:Truro Library\, 754 Prince St\, Truro\, Nova Scotia\, Canada
CATEGORIES:Location: Truro
ATTACH;FMTTYPE=image/png:https://www.lovemylibrary.ca/wp-content/uploads/2022/06/D-and-D.png
END:VEVENT
BEGIN:VEVENT
DTSTART;TZID=America/Halifax:20230404T183000
DTEND;TZID=America/Halifax:20230404T193000
DTSTAMP:20260423T111941
CREATED:20221214T150320Z
LAST-MODIFIED:20230323T194656Z
UID:10003877-1680633000-1680636600@www.lovemylibrary.ca
SUMMARY:Intergenerational Book Buddies
DESCRIPTION:One on one time with seniors helps children improve their reading\, grow in confidence and create a sense of community connection and purpose.For ages 5 and up. \nTo register email:  stewiacke@cehpubliclibrary.ca or call 902 639-2481\n 
URL:https://www.lovemylibrary.ca/event/intergenerational-book-buddies-2/2023-04-04/
LOCATION:Stewiacke Library\, 295 George Street\, Stewiacke\, Nova Scotia\, Canada
CATEGORIES:Events For Adults,Events For Kids,Events For Seniors,Location: Stewiacke
ATTACH;FMTTYPE=image/png:https://www.lovemylibrary.ca/wp-content/uploads/2022/11/Untitled-design-2022-11-29T111628.045.png
END:VEVENT
BEGIN:VEVENT
DTSTART;TZID=America/Halifax:20230404T183000
DTEND;TZID=America/Halifax:20230404T193000
DTSTAMP:20260423T111941
CREATED:20221214T171917Z
LAST-MODIFIED:20230419T183623Z
UID:10003880-1680633000-1680636600@www.lovemylibrary.ca
SUMMARY:Crochet Class
DESCRIPTION:Looking to perfect your technique? Need a new project? Learn how to read a pattern. This is the class for you! Ages 8-adult \nThis is a drop-in program. No registration is required.
URL:https://www.lovemylibrary.ca/event/crochet-class/2023-04-04/
LOCATION:Stewiacke Library\, 295 George Street\, Stewiacke\, Nova Scotia\, Canada
CATEGORIES:Events For Adults,Events For Seniors,Location: Stewiacke
ATTACH;FMTTYPE=image/png:https://www.lovemylibrary.ca/wp-content/uploads/2022/12/Untitled-design-33.png
END:VEVENT
BEGIN:VEVENT
DTSTART;TZID=America/Halifax:20230404T183000
DTEND;TZID=America/Halifax:20230404T193000
DTSTAMP:20260423T111941
CREATED:20230330T191051Z
LAST-MODIFIED:20230330T191051Z
UID:10004031-1680633000-1680636600@www.lovemylibrary.ca
SUMMARY:Board Games Café
DESCRIPTION:Break out the board games and relax the evening away! Lots of fun\, conversation\, and good-natured competition. Hot chocolate will be provided. For adults \nDrop-in\, no registration required.
URL:https://www.lovemylibrary.ca/event/board-games-cafe/
LOCATION:Truro Library\, 754 Prince St\, Truro\, Nova Scotia\, Canada
CATEGORIES:Events For Adults,Location: Truro
ATTACH;FMTTYPE=image/png:https://www.lovemylibrary.ca/wp-content/uploads/2023/03/Untitled-design-82.png
END:VEVENT
BEGIN:VEVENT
DTSTART;TZID=America/Halifax:20230404T183000
DTEND;TZID=America/Halifax:20230404T200000
DTSTAMP:20260423T111941
CREATED:20221020T193052Z
LAST-MODIFIED:20230926T211554Z
UID:10003989-1680633000-1680638400@www.lovemylibrary.ca
SUMMARY:Ewe-niacke Yarn Club
DESCRIPTION:Fiber art for all ages and abilities. Learn to knit or crochet\, bring a project you are working on\, or just come hang out with the club for some social time. All ages welcome. \nDrop in\, no registration required.
URL:https://www.lovemylibrary.ca/event/ewe-niacke-yarn-club-3/2023-04-04/
LOCATION:Mount Uniacke Library\, 555\, Highway 1\, Mount Uniacke\, Nova Scotia\, Canada
CATEGORIES:Crafting,Events For Adults,Events For Kids,Events For Seniors,Location: Mount Uniacke
ATTACH;FMTTYPE=image/png:https://www.lovemylibrary.ca/wp-content/uploads/2022/03/Untitled-design-89.png
END:VEVENT
BEGIN:VEVENT
DTSTART;TZID=America/Halifax:20230405T103000
DTEND;TZID=America/Halifax:20230405T110000
DTSTAMP:20260423T111941
CREATED:20221220T230021Z
LAST-MODIFIED:20230525T163111Z
UID:10003910-1680690600-1680692400@www.lovemylibrary.ca
SUMMARY:Storytime
DESCRIPTION:Enjoy a picture book read by Karri or Bernie and then participate in an activity. For pre schoolers and home schoolers. \nThis is a drop-in program. No registration is required.
URL:https://www.lovemylibrary.ca/event/storytime-4-2/2023-04-05/
LOCATION:Mount Uniacke Library\, 555\, Highway 1\, Mount Uniacke\, Nova Scotia\, Canada
CATEGORIES:Events For Kids,Location: Mount Uniacke
ATTACH;FMTTYPE=image/png:https://www.lovemylibrary.ca/wp-content/uploads/2022/05/Untitled-design-2.png
END:VEVENT
BEGIN:VEVENT
DTSTART;TZID=America/Halifax:20230405T103000
DTEND;TZID=America/Halifax:20230405T113000
DTSTAMP:20260423T111941
CREATED:20221216T204301Z
LAST-MODIFIED:20230330T192453Z
UID:10004034-1680690600-1680694200@www.lovemylibrary.ca
SUMMARY:Francophone Seniors Social Time
DESCRIPTION:Don’t let winter weather keep you at home. Our bi-weekly seniors craft and social time will warm you inside and out. \nThis is a drop-in program. No registration is required.
URL:https://www.lovemylibrary.ca/event/francophone-seniors-social-time/2023-04-05/
LOCATION:Truro Library\, 754 Prince St\, Truro\, Nova Scotia\, Canada
CATEGORIES:Events For Seniors,Location: Truro
ATTACH;FMTTYPE=image/png:https://www.lovemylibrary.ca/wp-content/uploads/2022/08/Untitled-design-6.png
END:VEVENT
BEGIN:VEVENT
DTSTART;TZID=America/Halifax:20230405T103000
DTEND;TZID=America/Halifax:20230405T113000
DTSTAMP:20260423T111941
CREATED:20230329T182726Z
LAST-MODIFIED:20230426T165459Z
UID:10004023-1680690600-1680694200@www.lovemylibrary.ca
SUMMARY:Parents and Tots Social Time
DESCRIPTION:Join us for story time\, songs and social time. For ages 0-3. \nDrop-in\, no registration required.
URL:https://www.lovemylibrary.ca/event/tots-and-moms-social-time-3/2023-04-05/
LOCATION:Tatamagouche Library\, 170 Main Street\, Tatamagouche\, Nova Scotia\, Canada
CATEGORIES:Events For Kids,Location: Tatamagouche
ATTACH;FMTTYPE=image/png:https://www.lovemylibrary.ca/wp-content/uploads/2022/03/Untitled-design-75.png
END:VEVENT
BEGIN:VEVENT
DTSTART;TZID=America/Halifax:20230405T111500
DTEND;TZID=America/Halifax:20230405T121500
DTSTAMP:20260423T111941
CREATED:20230328T215926Z
LAST-MODIFIED:20230628T142802Z
UID:10003994-1680693300-1680696900@www.lovemylibrary.ca
SUMMARY:Baby Time
DESCRIPTION:Want to spend some time with new parents? Have your baby interact with other babies? Get support from other new parents in a laid back\, casual space. \nThis is a drop-in program.
URL:https://www.lovemylibrary.ca/event/baby-time/2023-04-05/
LOCATION:Mount Uniacke Library\, 555\, Highway 1\, Mount Uniacke\, Nova Scotia\, Canada
CATEGORIES:Events For Adults,Events For Kids,Location: Mount Uniacke
ATTACH;FMTTYPE=image/png:https://www.lovemylibrary.ca/wp-content/uploads/2023/03/Untitled-design-53.png
END:VEVENT
BEGIN:VEVENT
DTSTART;TZID=America/Halifax:20230405T130000
DTEND;TZID=America/Halifax:20230405T150000
DTSTAMP:20260423T111941
CREATED:20230218T202830Z
LAST-MODIFIED:20230919T161657Z
UID:10004036-1680699600-1680706800@www.lovemylibrary.ca
SUMMARY:Makers in the Maker Lab
DESCRIPTION:Calling all Makers! Drop by for a relaxing afternoon to hang out with fellow crafters. Bring along your ongoing projects like knitting\, crochet\, needlework\, painting or other hands on crafts. For adults \nThis is a drop in program. No registration is required.\n 
URL:https://www.lovemylibrary.ca/event/makers-in-the-maker-lab-2/2023-04-05/
LOCATION:Truro Library\, 754 Prince St\, Truro\, Nova Scotia\, Canada
CATEGORIES:Crafting,Events For Adults,Location: Truro
ATTACH;FMTTYPE=image/png:https://www.lovemylibrary.ca/wp-content/uploads/2023/01/Untitled-design-2023-01-24T155257.327.png
END:VEVENT
BEGIN:VEVENT
DTSTART;TZID=America/Halifax:20230405T143000
DTEND;TZID=America/Halifax:20230405T190000
DTSTAMP:20260423T111941
CREATED:20210830T161210Z
LAST-MODIFIED:20231213T141030Z
UID:10002698-1680705000-1680721200@www.lovemylibrary.ca
SUMMARY:Satellite Library Visit: Middle Stewiacke Recreation Centre
DESCRIPTION:Meet us at the Middle Stewiacke Recreation Centre where you can browse and borrow materials\, sign up for a Library card\, and use the public WiFi!
URL:https://www.lovemylibrary.ca/event/satellite-library-visit-middle-stewiacke-recreation-centre/2023-04-05/
LOCATION:Middle Stewiacke Recreation Centre\, 2395 Highway 289\, Middle Stewiacke\, Nova Scotia\, Canada
CATEGORIES:Events For Adults,Events For Kids,Events For Seniors,Events For Teens,Location: Middle Stewiacke
ATTACH;FMTTYPE=image/jpeg:https://www.lovemylibrary.ca/wp-content/uploads/2021/08/16.jpg
END:VEVENT
BEGIN:VEVENT
DTSTART;TZID=America/Halifax:20230405T183000
DTEND;TZID=America/Halifax:20230405T193000
DTSTAMP:20260423T111941
CREATED:20230331T180955Z
LAST-MODIFIED:20230331T180955Z
UID:10004052-1680719400-1680723000@www.lovemylibrary.ca
SUMMARY:Teen Craft Night: Felt Cactus
DESCRIPTION:Make a houseplant that never needs watering! All it takes is a few craft supplies and a little bit of time\, and you’ll have a super cute felt cactus to take home. For ages 13-18 \nThis is a drop in program. No registration is required.
URL:https://www.lovemylibrary.ca/event/teen-craft-night-felt-cactus/
LOCATION:Truro Library\, 754 Prince St\, Truro\, Nova Scotia\, Canada
CATEGORIES:Crafting,Events For Teens,Location: Truro
ATTACH;FMTTYPE=image/png:https://www.lovemylibrary.ca/wp-content/uploads/2023/03/Untitled-design-31.png
END:VEVENT
BEGIN:VEVENT
DTSTART;TZID=America/Halifax:20230406T103000
DTEND;TZID=America/Halifax:20230406T110000
DTSTAMP:20260423T111941
CREATED:20221018T160406Z
LAST-MODIFIED:20230524T172811Z
UID:10003859-1680777000-1680778800@www.lovemylibrary.ca
SUMMARY:Baby Rhyme Time
DESCRIPTION:Discover the joy of songs\, finger plays \, bouncing rhymes and simple books. Suitable for Infant-2 years old with a caregiver \nThis is an in-person program. No registration is required.
URL:https://www.lovemylibrary.ca/event/baby-rhyme-time-6/2023-04-06/
LOCATION:Stewiacke Library\, 295 George Street\, Stewiacke\, Nova Scotia\, Canada
CATEGORIES:Events For Kids,Location: Stewiacke
ATTACH;FMTTYPE=image/png:https://www.lovemylibrary.ca/wp-content/uploads/2022/03/Untitled-design-75.png
END:VEVENT
BEGIN:VEVENT
DTSTART;TZID=America/Halifax:20230406T103000
DTEND;TZID=America/Halifax:20230406T113000
DTSTAMP:20260423T111941
CREATED:20230329T182726Z
LAST-MODIFIED:20230426T165459Z
UID:10004004-1680777000-1680780600@www.lovemylibrary.ca
SUMMARY:Parents and Tots Social Time
DESCRIPTION:Join us for story time\, songs and social time. For ages 0-3. \nDrop-in\, no registration required.
URL:https://www.lovemylibrary.ca/event/tots-and-moms-social-time-3/2023-04-06/
LOCATION:Tatamagouche Library\, 170 Main Street\, Tatamagouche\, Nova Scotia\, Canada
CATEGORIES:Events For Kids,Location: Tatamagouche
ATTACH;FMTTYPE=image/png:https://www.lovemylibrary.ca/wp-content/uploads/2022/03/Untitled-design-75.png
END:VEVENT
BEGIN:VEVENT
DTSTART;TZID=America/Halifax:20230406T110000
DTEND;TZID=America/Halifax:20230406T112000
DTSTAMP:20260423T111941
CREATED:20221025T221411Z
LAST-MODIFIED:20230428T164111Z
UID:10004053-1680778800-1680780000@www.lovemylibrary.ca
SUMMARY:Tales for Tots
DESCRIPTION:Join us Thursday mornings for stories\, songs\, and activities that are just right for terrific toddlers! \n18 months-4 years with a parent/caregiver. \nDrop-in\, no registration required.
URL:https://www.lovemylibrary.ca/event/tales-for-tots/2023-04-06/
LOCATION:Truro Library\, 754 Prince St\, Truro\, Nova Scotia\, Canada
CATEGORIES:Events For Kids,Location: Truro
ATTACH;FMTTYPE=image/png:https://www.lovemylibrary.ca/wp-content/uploads/2022/03/Untitled-design-81.png
END:VEVENT
BEGIN:VEVENT
DTSTART;TZID=America/Halifax:20230406T130000
DTEND;TZID=America/Halifax:20230406T140000
DTSTAMP:20260423T111941
CREATED:20221222T143102Z
LAST-MODIFIED:20230525T182927Z
UID:10004020-1680786000-1680789600@www.lovemylibrary.ca
SUMMARY:Story time and craft
DESCRIPTION:Explore new books and craft ideas. For pre-primary age. \nRegistration by phone 902-657-3064 or email: tatamago@cehpubliclibrary.ca
URL:https://www.lovemylibrary.ca/event/story-time-and-craft/2023-04-06/
LOCATION:Tatamagouche Library\, 170 Main Street\, Tatamagouche\, Nova Scotia\, Canada
CATEGORIES:Events For Kids,Location: Tatamagouche
ATTACH;FMTTYPE=image/png:https://www.lovemylibrary.ca/wp-content/uploads/2022/04/Untitled-design-98.png
END:VEVENT
END:VCALENDAR