BEGIN:VCALENDAR
VERSION:2.0
PRODID:-//Colchester East Hants Public Library - ECPv6.15.20//NONSGML v1.0//EN
CALSCALE:GREGORIAN
METHOD:PUBLISH
X-WR-CALNAME:Colchester East Hants Public Library
X-ORIGINAL-URL:https://www.lovemylibrary.ca
X-WR-CALDESC:Events for Colchester East Hants Public Library
REFRESH-INTERVAL;VALUE=DURATION:PT1H
X-Robots-Tag:noindex
X-PUBLISHED-TTL:PT1H
BEGIN:VTIMEZONE
TZID:America/Halifax
BEGIN:DAYLIGHT
TZOFFSETFROM:-0400
TZOFFSETTO:-0300
TZNAME:ADT
DTSTART:20230312T060000
END:DAYLIGHT
BEGIN:STANDARD
TZOFFSETFROM:-0300
TZOFFSETTO:-0400
TZNAME:AST
DTSTART:20231105T050000
END:STANDARD
BEGIN:DAYLIGHT
TZOFFSETFROM:-0400
TZOFFSETTO:-0300
TZNAME:ADT
DTSTART:20240310T060000
END:DAYLIGHT
BEGIN:STANDARD
TZOFFSETFROM:-0300
TZOFFSETTO:-0400
TZNAME:AST
DTSTART:20241103T050000
END:STANDARD
BEGIN:DAYLIGHT
TZOFFSETFROM:-0400
TZOFFSETTO:-0300
TZNAME:ADT
DTSTART:20250309T060000
END:DAYLIGHT
BEGIN:STANDARD
TZOFFSETFROM:-0300
TZOFFSETTO:-0400
TZNAME:AST
DTSTART:20251102T050000
END:STANDARD
END:VTIMEZONE
BEGIN:VEVENT
DTSTART;TZID=America/Halifax:20240206T170000
DTEND;TZID=America/Halifax:20240305T180000
DTSTAMP:20260421T185013
CREATED:20230911T181215Z
LAST-MODIFIED:20241213T193251Z
UID:10010634-1707238800-1709661600@www.lovemylibrary.ca
SUMMARY:Paws to Read ®
DESCRIPTION:The Paws to Read program offers kids a safe environment to practice reading aloud to an attentive and adorable audience. Children build confidence and reading skills in one-on-one sessions with therapy dogs. Participants attend 5 weekly half-hour sessions with a trained therapy dog volunteer and a certified handler. For children in grades 1-5 \nIn-Person. Registration is required. For details\, please call us at (902) 883-9838 or email us at elmsdale@cehpubliclibrary.ca
URL:https://www.lovemylibrary.ca/event/paws-to-read/2024-02-06/
LOCATION:Elmsdale Library\, 15 Commerce Ct\, Elmsdale\, Nova Scotia\, Canada
CATEGORIES:Events For Kids,Location: Elmsdale
ATTACH;FMTTYPE=image/png:https://www.lovemylibrary.ca/wp-content/uploads/2023/09/Untitled-design-2023-09-11T151119.554.png
END:VEVENT
BEGIN:VEVENT
DTSTART;TZID=America/Halifax:20240213T170000
DTEND;TZID=America/Halifax:20240312T180000
DTSTAMP:20260421T185013
CREATED:20230911T181215Z
LAST-MODIFIED:20241213T193251Z
UID:10010635-1707843600-1710266400@www.lovemylibrary.ca
SUMMARY:Paws to Read ®
DESCRIPTION:The Paws to Read program offers kids a safe environment to practice reading aloud to an attentive and adorable audience. Children build confidence and reading skills in one-on-one sessions with therapy dogs. Participants attend 5 weekly half-hour sessions with a trained therapy dog volunteer and a certified handler. For children in grades 1-5 \nIn-Person. Registration is required. For details\, please call us at (902) 883-9838 or email us at elmsdale@cehpubliclibrary.ca
URL:https://www.lovemylibrary.ca/event/paws-to-read/2024-02-13/
LOCATION:Elmsdale Library\, 15 Commerce Ct\, Elmsdale\, Nova Scotia\, Canada
CATEGORIES:Events For Kids,Location: Elmsdale
ATTACH;FMTTYPE=image/png:https://www.lovemylibrary.ca/wp-content/uploads/2023/09/Untitled-design-2023-09-11T151119.554.png
END:VEVENT
BEGIN:VEVENT
DTSTART;TZID=America/Halifax:20240220T170000
DTEND;TZID=America/Halifax:20240319T180000
DTSTAMP:20260421T185013
CREATED:20230911T181215Z
LAST-MODIFIED:20241213T193251Z
UID:10010636-1708448400-1710871200@www.lovemylibrary.ca
SUMMARY:Paws to Read ®
DESCRIPTION:The Paws to Read program offers kids a safe environment to practice reading aloud to an attentive and adorable audience. Children build confidence and reading skills in one-on-one sessions with therapy dogs. Participants attend 5 weekly half-hour sessions with a trained therapy dog volunteer and a certified handler. For children in grades 1-5 \nIn-Person. Registration is required. For details\, please call us at (902) 883-9838 or email us at elmsdale@cehpubliclibrary.ca
URL:https://www.lovemylibrary.ca/event/paws-to-read/2024-02-20/
LOCATION:Elmsdale Library\, 15 Commerce Ct\, Elmsdale\, Nova Scotia\, Canada
CATEGORIES:Events For Kids,Location: Elmsdale
ATTACH;FMTTYPE=image/png:https://www.lovemylibrary.ca/wp-content/uploads/2023/09/Untitled-design-2023-09-11T151119.554.png
END:VEVENT
BEGIN:VEVENT
DTSTART;TZID=America/Halifax:20240227T170000
DTEND;TZID=America/Halifax:20240326T180000
DTSTAMP:20260421T185013
CREATED:20230911T181215Z
LAST-MODIFIED:20241213T193251Z
UID:10010637-1709053200-1711476000@www.lovemylibrary.ca
SUMMARY:Paws to Read ®
DESCRIPTION:The Paws to Read program offers kids a safe environment to practice reading aloud to an attentive and adorable audience. Children build confidence and reading skills in one-on-one sessions with therapy dogs. Participants attend 5 weekly half-hour sessions with a trained therapy dog volunteer and a certified handler. For children in grades 1-5 \nIn-Person. Registration is required. For details\, please call us at (902) 883-9838 or email us at elmsdale@cehpubliclibrary.ca
URL:https://www.lovemylibrary.ca/event/paws-to-read/2024-02-27/
LOCATION:Elmsdale Library\, 15 Commerce Ct\, Elmsdale\, Nova Scotia\, Canada
CATEGORIES:Events For Kids,Location: Elmsdale
ATTACH;FMTTYPE=image/png:https://www.lovemylibrary.ca/wp-content/uploads/2023/09/Untitled-design-2023-09-11T151119.554.png
END:VEVENT
BEGIN:VEVENT
DTSTART;VALUE=DATE:20240301
DTEND;VALUE=DATE:20240302
DTSTAMP:20260421T185013
CREATED:20240221T183224Z
LAST-MODIFIED:20250523T194552Z
UID:10010978-1709251200-1709337599@www.lovemylibrary.ca
SUMMARY:Tech Help
DESCRIPTION:Need  help with a computer\, tablet or phone?  We can help. This is an adult program. \nPre register in person or by phone 902- 657-3064 or email: tatamago@cehpubliclibrary.ca
URL:https://www.lovemylibrary.ca/event/tech-help-6/2024-03-01/
LOCATION:Tatamagouche Library\, 170 Main Street\, Tatamagouche\, Nova Scotia\, Canada
CATEGORIES:Location: Tatamagouche
ATTACH;FMTTYPE=image/png:https://www.lovemylibrary.ca/wp-content/uploads/2022/03/Untitled-design-80.png
END:VEVENT
BEGIN:VEVENT
DTSTART;TZID=America/Halifax:20240301T100000
DTEND;TZID=America/Halifax:20240301T120000
DTSTAMP:20260421T185013
CREATED:20240214T221027Z
LAST-MODIFIED:20240214T221027Z
UID:10007168-1709287200-1709294400@www.lovemylibrary.ca
SUMMARY:One on One Tech Help
DESCRIPTION:Issues with your phone? Laptop?  Social Media? Meet in-person with our digital literacy trainer to get your tech questions answered. \nPlease call 902-883-9838 or email at elmsdale@cehpubliclibrary.ca to book an appointment.
URL:https://www.lovemylibrary.ca/event/one-on-one-tech-help-10/2024-03-01/
LOCATION:Elmsdale Library\, 15 Commerce Ct\, Elmsdale\, Nova Scotia\, Canada
CATEGORIES:Events For Adults,Location: Elmsdale
ATTACH;FMTTYPE=image/png:https://www.lovemylibrary.ca/wp-content/uploads/2023/04/Untitled-design-65.png
END:VEVENT
BEGIN:VEVENT
DTSTART;TZID=America/Halifax:20240301T103000
DTEND;TZID=America/Halifax:20240301T110000
DTSTAMP:20260421T185013
CREATED:20240215T203953Z
LAST-MODIFIED:20240215T204043Z
UID:10006735-1709289000-1709290800@www.lovemylibrary.ca
SUMMARY:Picture Book Junction
DESCRIPTION:Fun and Interactive! Share the magic of stories\, songs and crafts. 3-5 years old with a caregiver. \nDrop In: No registration necessary
URL:https://www.lovemylibrary.ca/event/picture-book-junction-7-2-2/2024-03-01/
LOCATION:Stewiacke Library\, 295 George Street\, Stewiacke\, Nova Scotia\, Canada
CATEGORIES:Events For Kids,Location: Stewiacke
ATTACH;FMTTYPE=image/png:https://www.lovemylibrary.ca/wp-content/uploads/2022/03/Untitled-design-81.png
END:VEVENT
BEGIN:VEVENT
DTSTART;TZID=America/Halifax:20240301T130000
DTEND;TZID=America/Halifax:20240301T143000
DTSTAMP:20260421T185013
CREATED:20240215T204215Z
LAST-MODIFIED:20240215T204300Z
UID:10006738-1709298000-1709303400@www.lovemylibrary.ca
SUMMARY:Scrabble Squad
DESCRIPTION:What spells F-U-N? Playing Scrabble with friends. All adults welcome. \nThis is a drop-in program. No registration is required.
URL:https://www.lovemylibrary.ca/event/scrabble-squad-2-2-2/2024-03-01/
LOCATION:Stewiacke Library\, 295 George Street\, Stewiacke\, Nova Scotia\, Canada
CATEGORIES:Events For Adults,Events For Seniors,Location: Stewiacke
ATTACH;FMTTYPE=image/png:https://www.lovemylibrary.ca/wp-content/uploads/2022/05/Add-a-subheading-700-×-500-px-3.png
END:VEVENT
BEGIN:VEVENT
DTSTART;TZID=America/Halifax:20240301T150000
DTEND;TZID=America/Halifax:20240301T170000
DTSTAMP:20260421T185013
CREATED:20231117T191601Z
LAST-MODIFIED:20240326T211917Z
UID:10007264-1709305200-1709312400@www.lovemylibrary.ca
SUMMARY:Maker Lab Fun Time
DESCRIPTION:Curious about the Maker Lab? Come on in and explore. Program robots\, create circuits\, build with magnetic tiles\, and more! All ages are welcome. \nThis is a drop in program. No registration is required.
URL:https://www.lovemylibrary.ca/event/maker-lab-fun-time-3/2024-03-01/
LOCATION:Truro Library\, 754 Prince St\, Truro\, Nova Scotia\, Canada
CATEGORIES:Events For Kids,Location: Truro,STEAM Programs
ATTACH;FMTTYPE=image/png:https://www.lovemylibrary.ca/wp-content/uploads/2023/09/Untitled-design-2023-09-29T143321.527.png
END:VEVENT
BEGIN:VEVENT
DTSTART;TZID=America/Halifax:20240302T100000
DTEND;TZID=America/Halifax:20240302T120000
DTSTAMP:20260421T185013
CREATED:20231221T204503Z
LAST-MODIFIED:20240326T212035Z
UID:10007257-1709373600-1709380800@www.lovemylibrary.ca
SUMMARY:Maker Lab Fun Time
DESCRIPTION:Curious about the Maker Lab? Come on in and explore. Program robots\, create circuits\, build with magnetic tiles\, and more! All ages are welcome. \nThis is a drop-in and no registration is required.
URL:https://www.lovemylibrary.ca/event/maker-lab-fun-time/2024-03-02/
LOCATION:Truro Library\, 754 Prince St\, Truro\, Nova Scotia\, Canada
CATEGORIES:Events For Kids,Location: Truro,STEAM
ATTACH;FMTTYPE=image/png:https://www.lovemylibrary.ca/wp-content/uploads/2023/09/Untitled-design-2023-09-29T143321.527.png
END:VEVENT
BEGIN:VEVENT
DTSTART;TZID=America/Halifax:20240302T103000
DTEND;TZID=America/Halifax:20240302T110000
DTSTAMP:20260421T185013
CREATED:20231229T135634Z
LAST-MODIFIED:20240416T203006Z
UID:10007322-1709375400-1709377200@www.lovemylibrary.ca
SUMMARY:Storytime
DESCRIPTION:Enjoy a picture book read by Karri or Bernie and then participate in an activity. For pre schoolers and home schoolers. \nThis is a drop-in program. No registration is required.
URL:https://www.lovemylibrary.ca/event/storytime-4-2-2-2/2024-03-02/
LOCATION:Mount Uniacke Library\, 555\, Highway 1\, Mount Uniacke\, Nova Scotia\, Canada
CATEGORIES:Events For Kids,Location: Mount Uniacke
ATTACH;FMTTYPE=image/png:https://www.lovemylibrary.ca/wp-content/uploads/2022/05/Untitled-design-2.png
END:VEVENT
BEGIN:VEVENT
DTSTART;TZID=America/Halifax:20240302T103000
DTEND;TZID=America/Halifax:20240302T110000
DTSTAMP:20260421T185013
CREATED:20240214T222940Z
LAST-MODIFIED:20240214T224255Z
UID:10007176-1709375400-1709377200@www.lovemylibrary.ca
SUMMARY:Toddler Time
DESCRIPTION:Come and enjoy story time at the library.  A great way for your little one to make new friends. Ages 0-2 \nDrop in. Please call 902-883-9838 or email us at elmsdale@cehpubliclibrary.ca for more details
URL:https://www.lovemylibrary.ca/event/toddler-time-4/2024-03-02/
LOCATION:Elmsdale Library\, 15 Commerce Ct\, Elmsdale\, Nova Scotia\, Canada
CATEGORIES:Events For Kids,Location: Elmsdale
ATTACH;FMTTYPE=image/png:https://www.lovemylibrary.ca/wp-content/uploads/2022/03/Untitled-design-75.png
END:VEVENT
BEGIN:VEVENT
DTSTART;TZID=America/Halifax:20240302T140000
DTEND;TZID=America/Halifax:20240302T150000
DTSTAMP:20260421T185013
CREATED:20240215T204753Z
LAST-MODIFIED:20240215T204844Z
UID:10006745-1709388000-1709391600@www.lovemylibrary.ca
SUMMARY:Lego Club
DESCRIPTION:Activate your creativity and imagination! We will proudly display what you build in our children’s area. For ages 5-100 \nThis is a drop-in program. No registration is required.
URL:https://www.lovemylibrary.ca/event/lego-club-5-2/2024-03-02/
LOCATION:Stewiacke Library\, 295 George Street\, Stewiacke\, Nova Scotia\, Canada
CATEGORIES:Events For Kids,Location: Stewiacke
ATTACH;FMTTYPE=image/png:https://www.lovemylibrary.ca/wp-content/uploads/2022/06/Untitled-design-20.png
END:VEVENT
BEGIN:VEVENT
DTSTART;TZID=America/Halifax:20240304T133000
DTEND;TZID=America/Halifax:20240304T163000
DTSTAMP:20260421T185013
CREATED:20240221T223919Z
LAST-MODIFIED:20240221T223919Z
UID:10007374-1709559000-1709569800@www.lovemylibrary.ca
SUMMARY:Scrabble Group
DESCRIPTION:What spells F-U-N? Playing Scrabble with friends! \nThis is a drop-in event. No registration is required.
URL:https://www.lovemylibrary.ca/event/scrabble-group-5/2024-03-04/
LOCATION:Truro Library\, 754 Prince St\, Truro\, Nova Scotia\, Canada
CATEGORIES:Events For Adults,Events For Seniors,Location: Truro
ATTACH;FMTTYPE=image/png:https://www.lovemylibrary.ca/wp-content/uploads/2022/05/Add-a-subheading-700-×-500-px-3.png
END:VEVENT
BEGIN:VEVENT
DTSTART;TZID=America/Halifax:20240305T080000
DTEND;TZID=America/Halifax:20240305T170000
DTSTAMP:20260421T185013
CREATED:20240221T182238Z
LAST-MODIFIED:20240521T210710Z
UID:10008315-1709625600-1709658000@www.lovemylibrary.ca
SUMMARY:Afterschool Chill Zone
DESCRIPTION:Relax and have fun after school with computers\, books\, and games in the chill zone. For ages 8-14 \nThis is a drop-in program. No registration is required.
URL:https://www.lovemylibrary.ca/event/after-school-chill-zone-with-games-and-craft-2/2024-03-05/1/
LOCATION:Tatamagouche Library\, 170 Main Street\, Tatamagouche\, Nova Scotia\, Canada
CATEGORIES:Events For Kids,Location: Tatamagouche
ATTACH;FMTTYPE=image/jpeg:https://www.lovemylibrary.ca/wp-content/uploads/2023/02/pexels-artem-podrez-8087869-scaled.jpg
END:VEVENT
BEGIN:VEVENT
DTSTART;TZID=America/Halifax:20240305T110000
DTEND;TZID=America/Halifax:20240305T120000
DTSTAMP:20260421T185013
CREATED:20240221T221535Z
LAST-MODIFIED:20240221T221535Z
UID:10007359-1709636400-1709640000@www.lovemylibrary.ca
SUMMARY:Conversational English
DESCRIPTION:Is English your 2nd language? Or maybe your 4th? Our Conversational English program is for those who would like to practice their English in a fun and friendly environment. In partnership with YREACH. \nThis is a drop-in event. No registration is required.
URL:https://www.lovemylibrary.ca/event/conversational-english-5/2024-03-05/
LOCATION:Truro Library\, 754 Prince St\, Truro\, Nova Scotia\, Canada
CATEGORIES:Events For Adults,Location: Truro
ATTACH;FMTTYPE=image/jpeg:https://www.lovemylibrary.ca/wp-content/uploads/2021/08/13.jpg
END:VEVENT
BEGIN:VEVENT
DTSTART;TZID=America/Halifax:20240305T130000
DTEND;TZID=America/Halifax:20240305T160000
DTSTAMP:20260421T185013
CREATED:20240215T205546Z
LAST-MODIFIED:20240305T232808Z
UID:10007238-1709643600-1709654400@www.lovemylibrary.ca
SUMMARY:Crochet Creations- (Cancelled March 12th)
DESCRIPTION:Crocheting is the perfect hobby for all ages. · Have an afternoon snack and enjoy camaraderie and friendship. · Learn a new skill or perfect your technique. · All skill levels welcome. For ages 8 and up. \nThis is a drop in program. No registration is required.
URL:https://www.lovemylibrary.ca/event/crochet-creations/2024-03-05/
LOCATION:Stewiacke Library\, 295 George Street\, Stewiacke\, Nova Scotia\, Canada
CATEGORIES:Crafting,Events For Adults,Events For Kids,Location: Stewiacke
ATTACH;FMTTYPE=image/png:https://www.lovemylibrary.ca/wp-content/uploads/2023/12/Untitled-design-2023-12-01T141205.610.png
END:VEVENT
BEGIN:VEVENT
DTSTART;TZID=America/Halifax:20240305T133000
DTEND;TZID=America/Halifax:20240305T150000
DTSTAMP:20260421T185013
CREATED:20231120T203025Z
LAST-MODIFIED:20240326T211358Z
UID:10007248-1709645400-1709650800@www.lovemylibrary.ca
SUMMARY:Homeschoolers Haven
DESCRIPTION:Homeschoolers Haven is a place for Homeschool families to meet and share resources. There will be  activities for the children.   For ages 5+ \nThis is a drop-in program. No registration is required.
URL:https://www.lovemylibrary.ca/event/homeschoolers-haven-2-2-2/2024-03-05/
LOCATION:Truro Library\, 754 Prince St\, Truro\, Nova Scotia\, Canada
CATEGORIES:Events For Kids,Events For Teens,Location: Truro
ATTACH;FMTTYPE=image/png:https://www.lovemylibrary.ca/wp-content/uploads/2022/07/Untitled-design-9.png
END:VEVENT
BEGIN:VEVENT
DTSTART;TZID=America/Halifax:20240305T140000
DTEND;TZID=America/Halifax:20240305T160000
DTSTAMP:20260421T185013
CREATED:20240125T144346Z
LAST-MODIFIED:20240214T233642Z
UID:10007105-1709647200-1709654400@www.lovemylibrary.ca
SUMMARY:Game Day for Adults
DESCRIPTION:Get your game on! Come on out for an afternoon of board games and social time.   This is your chance to play some old favourites or learn a new one.  Feel free to bring along your own board game. \nDrop in – Please call 902-883-9838 or email us at elmsdale@cehpubliclibrary.ca for more details.
URL:https://www.lovemylibrary.ca/event/game-day-for-adults/
LOCATION:Elmsdale Library\, 15 Commerce Ct\, Elmsdale\, Nova Scotia\, Canada
CATEGORIES:Events For Adults,Events For Seniors,Location: Elmsdale
ATTACH;FMTTYPE=image/png:https://www.lovemylibrary.ca/wp-content/uploads/2023/06/Untitled-design-2023-06-30T114818.275.png
END:VEVENT
BEGIN:VEVENT
DTSTART;TZID=America/Halifax:20240305T143000
DTEND;TZID=America/Halifax:20240305T153000
DTSTAMP:20260421T185013
CREATED:20240221T200525Z
LAST-MODIFIED:20240221T200525Z
UID:10007347-1709649000-1709652600@www.lovemylibrary.ca
SUMMARY:Seasonal Crafternoon
DESCRIPTION:We are making picture holders for March. It’s amazing what you can do with wine corks\, a clothes pin\, and a rubber band.  All ages are welcome. \nThis is a drop in program. No registration is required.
URL:https://www.lovemylibrary.ca/event/seasonal-crafternoon/
LOCATION:Mount Uniacke Library\, 555\, Highway 1\, Mount Uniacke\, Nova Scotia\, Canada
CATEGORIES:Crafting,Events For Adults,Location: Mount Uniacke
ATTACH;FMTTYPE=image/png:https://www.lovemylibrary.ca/wp-content/uploads/2024/02/Untitled-design-2024-02-21T160658.342.png
END:VEVENT
BEGIN:VEVENT
DTSTART;TZID=America/Halifax:20240305T143000
DTEND;TZID=America/Halifax:20240305T170000
DTSTAMP:20260421T185013
CREATED:20240221T182238Z
LAST-MODIFIED:20240521T210710Z
UID:10007312-1709649000-1709658000@www.lovemylibrary.ca
SUMMARY:Afterschool Chill Zone
DESCRIPTION:Relax and have fun after school with computers\, books\, and games in the chill zone. For ages 8-14 \nThis is a drop-in program. No registration is required.
URL:https://www.lovemylibrary.ca/event/after-school-chill-zone-with-games-and-craft-2/2024-03-05/2/
LOCATION:Tatamagouche Library\, 170 Main Street\, Tatamagouche\, Nova Scotia\, Canada
CATEGORIES:Events For Kids,Location: Tatamagouche
ATTACH;FMTTYPE=image/jpeg:https://www.lovemylibrary.ca/wp-content/uploads/2023/02/pexels-artem-podrez-8087869-scaled.jpg
END:VEVENT
BEGIN:VEVENT
DTSTART;TZID=America/Halifax:20240305T150000
DTEND;TZID=America/Halifax:20240305T163000
DTSTAMP:20260421T185013
CREATED:20230918T182106Z
LAST-MODIFIED:20240326T211453Z
UID:10007251-1709650800-1709656200@www.lovemylibrary.ca
SUMMARY:Teen Room Drop In
DESCRIPTION:Come hang out\, grab a snack\, play some Mario Kart on our new Nintendo Switch\, or make art. \nAges 13-18 \nThis is a drop-in program. No registration is required.
URL:https://www.lovemylibrary.ca/event/teen-room-drop-in-3/2024-03-05/
LOCATION:Truro Library\, 754 Prince St\, Truro\, Nova Scotia\, Canada
ATTACH;FMTTYPE=image/png:https://www.lovemylibrary.ca/wp-content/uploads/2022/10/Untitled-design-53.png
END:VEVENT
BEGIN:VEVENT
DTSTART;TZID=America/Halifax:20240305T150000
DTEND;TZID=America/Halifax:20240305T170000
DTSTAMP:20260421T185013
CREATED:20231117T191601Z
LAST-MODIFIED:20240326T211917Z
UID:10007265-1709650800-1709658000@www.lovemylibrary.ca
SUMMARY:Maker Lab Fun Time
DESCRIPTION:Curious about the Maker Lab? Come on in and explore. Program robots\, create circuits\, build with magnetic tiles\, and more! All ages are welcome. \nThis is a drop in program. No registration is required.
URL:https://www.lovemylibrary.ca/event/maker-lab-fun-time-3/2024-03-05/
LOCATION:Truro Library\, 754 Prince St\, Truro\, Nova Scotia\, Canada
CATEGORIES:Events For Kids,Location: Truro,STEAM Programs
ATTACH;FMTTYPE=image/png:https://www.lovemylibrary.ca/wp-content/uploads/2023/09/Untitled-design-2023-09-29T143321.527.png
END:VEVENT
BEGIN:VEVENT
DTSTART;TZID=America/Halifax:20240305T170000
DTEND;TZID=America/Halifax:20240402T180000
DTSTAMP:20260421T185013
CREATED:20230911T181215Z
LAST-MODIFIED:20241213T193251Z
UID:10010638-1709658000-1712080800@www.lovemylibrary.ca
SUMMARY:Paws to Read ®
DESCRIPTION:The Paws to Read program offers kids a safe environment to practice reading aloud to an attentive and adorable audience. Children build confidence and reading skills in one-on-one sessions with therapy dogs. Participants attend 5 weekly half-hour sessions with a trained therapy dog volunteer and a certified handler. For children in grades 1-5 \nIn-Person. Registration is required. For details\, please call us at (902) 883-9838 or email us at elmsdale@cehpubliclibrary.ca
URL:https://www.lovemylibrary.ca/event/paws-to-read/2024-03-05/
LOCATION:Elmsdale Library\, 15 Commerce Ct\, Elmsdale\, Nova Scotia\, Canada
CATEGORIES:Events For Kids,Location: Elmsdale
ATTACH;FMTTYPE=image/png:https://www.lovemylibrary.ca/wp-content/uploads/2023/09/Untitled-design-2023-09-11T151119.554.png
END:VEVENT
BEGIN:VEVENT
DTSTART;TZID=America/Halifax:20240305T173000
DTEND;TZID=America/Halifax:20240305T183000
DTSTAMP:20260421T185013
CREATED:20240215T204537Z
LAST-MODIFIED:20240321T173613Z
UID:10006739-1709659800-1709663400@www.lovemylibrary.ca
SUMMARY:Photography Club
DESCRIPTION:Learn some tips and tricks with local photographers\, including Al Eastman. All adults are welcome. \nThis is a drop-in program. No registration is required
URL:https://www.lovemylibrary.ca/event/photography-club-2-2-2-2/2024-03-05/
LOCATION:Stewiacke Library\, 295 George Street\, Stewiacke\, Nova Scotia\, Canada
CATEGORIES:Events For Adults,Location: Stewiacke
ATTACH;FMTTYPE=image/png:https://www.lovemylibrary.ca/wp-content/uploads/2022/11/Untitled-design-2022-11-29T111821.809.png
END:VEVENT
BEGIN:VEVENT
DTSTART;TZID=America/Halifax:20240305T173000
DTEND;TZID=America/Halifax:20240305T183000
DTSTAMP:20260421T185013
CREATED:20240220T224001Z
LAST-MODIFIED:20240220T224001Z
UID:10007294-1709659800-1709663400@www.lovemylibrary.ca
SUMMARY:Learn the Art of Felting  Workshop
DESCRIPTION:Explore the magic of felting and make your own woolen art in this hands-on workshop. This is an adult program. \nThis is a drop in program. No registration is required.
URL:https://www.lovemylibrary.ca/event/learn-the-art-of-felting-workshop/
LOCATION:Tatamagouche Library\, 170 Main Street\, Tatamagouche\, Nova Scotia\, Canada
CATEGORIES:Crafting,Events For Adults,Location: Tatamagouche
ATTACH;FMTTYPE=image/png:https://www.lovemylibrary.ca/wp-content/uploads/2024/01/Untitled-design-5.png
END:VEVENT
BEGIN:VEVENT
DTSTART;TZID=America/Halifax:20240305T173000
DTEND;TZID=America/Halifax:20240305T200000
DTSTAMP:20260421T185013
CREATED:20240221T224058Z
LAST-MODIFIED:20240221T224058Z
UID:10007382-1709659800-1709668800@www.lovemylibrary.ca
SUMMARY:Heroes & Adventurers
DESCRIPTION:Role-playing game nights with extraordinary people! We provide the supplies\, you provide the imagination. No experience needed. All welcome! \nRegister to play by emailing: HAATruro@gmail.com Sorry\, no drop-in players at this time.
URL:https://www.lovemylibrary.ca/event/heroes-adventurers-7/2024-03-05/
LOCATION:Truro Library\, 754 Prince St\, Truro\, Nova Scotia\, Canada
CATEGORIES:Events For Adults,Events For Kids,Events For Seniors,Events For Teens,Location: Truro
ATTACH;FMTTYPE=image/png:https://www.lovemylibrary.ca/wp-content/uploads/2022/06/D-and-D.png
END:VEVENT
BEGIN:VEVENT
DTSTART;TZID=America/Halifax:20240305T183000
DTEND;TZID=America/Halifax:20240305T200000
DTSTAMP:20260421T185013
CREATED:20231229T142155Z
LAST-MODIFIED:20240320T180444Z
UID:10007342-1709663400-1709668800@www.lovemylibrary.ca
SUMMARY:Ewe-niacke Yarn Club
DESCRIPTION:Fiber art for all ages and abilities. Learn to knit or crochet\, bring a project you are working on\, or just come hang out with the club for some social time. All ages welcome. \nDrop in\, no registration required.
URL:https://www.lovemylibrary.ca/event/ewe-niacke-yarn-club-3-2/2024-03-05/
LOCATION:Mount Uniacke Library\, 555\, Highway 1\, Mount Uniacke\, Nova Scotia\, Canada
CATEGORIES:Crafting,Events For Adults,Events For Kids,Events For Seniors,Location: Mount Uniacke
ATTACH;FMTTYPE=image/png:https://www.lovemylibrary.ca/wp-content/uploads/2022/03/Untitled-design-89.png
END:VEVENT
BEGIN:VEVENT
DTSTART;TZID=America/Halifax:20240306T103000
DTEND;TZID=America/Halifax:20240306T110000
DTSTAMP:20260421T185013
CREATED:20231229T135634Z
LAST-MODIFIED:20240416T203006Z
UID:10007323-1709721000-1709722800@www.lovemylibrary.ca
SUMMARY:Storytime
DESCRIPTION:Enjoy a picture book read by Karri or Bernie and then participate in an activity. For pre schoolers and home schoolers. \nThis is a drop-in program. No registration is required.
URL:https://www.lovemylibrary.ca/event/storytime-4-2-2-2/2024-03-06/
LOCATION:Mount Uniacke Library\, 555\, Highway 1\, Mount Uniacke\, Nova Scotia\, Canada
CATEGORIES:Events For Kids,Location: Mount Uniacke
ATTACH;FMTTYPE=image/png:https://www.lovemylibrary.ca/wp-content/uploads/2022/05/Untitled-design-2.png
END:VEVENT
BEGIN:VEVENT
DTSTART;TZID=America/Halifax:20240306T103000
DTEND;TZID=America/Halifax:20240306T113000
DTSTAMP:20260421T185013
CREATED:20230629T195837Z
LAST-MODIFIED:20241017T152808Z
UID:10007291-1709721000-1709724600@www.lovemylibrary.ca
SUMMARY:Seniors Social Café!
DESCRIPTION:Come in for a coffee or tea and share a story or two with your friends. Light refreshments available. \nThis is a drop-in program. No registration is required.
URL:https://www.lovemylibrary.ca/event/seniors-social-cafe-2/2024-03-06/
LOCATION:Tatamagouche Library\, 170 Main Street\, Tatamagouche\, Nova Scotia\, Canada
CATEGORIES:Events For Seniors,Location: Tatamagouche
ATTACH;FMTTYPE=image/png:https://www.lovemylibrary.ca/wp-content/uploads/2022/08/Untitled-design-6.png
END:VEVENT
END:VCALENDAR