BEGIN:VCALENDAR
VERSION:2.0
PRODID:-//Colchester East Hants Public Library - ECPv6.15.20//NONSGML v1.0//EN
CALSCALE:GREGORIAN
METHOD:PUBLISH
X-WR-CALNAME:Colchester East Hants Public Library
X-ORIGINAL-URL:https://www.lovemylibrary.ca
X-WR-CALDESC:Events for Colchester East Hants Public Library
REFRESH-INTERVAL;VALUE=DURATION:PT1H
X-Robots-Tag:noindex
X-PUBLISHED-TTL:PT1H
BEGIN:VTIMEZONE
TZID:America/Halifax
BEGIN:DAYLIGHT
TZOFFSETFROM:-0400
TZOFFSETTO:-0300
TZNAME:ADT
DTSTART:20230312T060000
END:DAYLIGHT
BEGIN:STANDARD
TZOFFSETFROM:-0300
TZOFFSETTO:-0400
TZNAME:AST
DTSTART:20231105T050000
END:STANDARD
BEGIN:DAYLIGHT
TZOFFSETFROM:-0400
TZOFFSETTO:-0300
TZNAME:ADT
DTSTART:20240310T060000
END:DAYLIGHT
BEGIN:STANDARD
TZOFFSETFROM:-0300
TZOFFSETTO:-0400
TZNAME:AST
DTSTART:20241103T050000
END:STANDARD
BEGIN:DAYLIGHT
TZOFFSETFROM:-0400
TZOFFSETTO:-0300
TZNAME:ADT
DTSTART:20250309T060000
END:DAYLIGHT
BEGIN:STANDARD
TZOFFSETFROM:-0300
TZOFFSETTO:-0400
TZNAME:AST
DTSTART:20251102T050000
END:STANDARD
END:VTIMEZONE
BEGIN:VEVENT
DTSTART;TZID=America/Halifax:20240628T100000
DTEND;TZID=America/Halifax:20240802T120000
DTSTAMP:20260424T210017
CREATED:20240513T152733Z
LAST-MODIFIED:20250417T173941Z
UID:10007947-1719568800-1722600000@www.lovemylibrary.ca
SUMMARY:One on One Tech Help
DESCRIPTION:Issues with your phone? Laptop? Social Media? Meet in-person with our digital literacy trainer to get your tech questions answered. \nDrop in – please call (902) 883-9838 or email us at elmsdale@cehpubliclibrary.ca for more details.
URL:https://www.lovemylibrary.ca/event/one-on-one-tech-help-7-2-2-2/2024-06-28/
LOCATION:Elmsdale Library\, 15 Commerce Ct\, Elmsdale\, Nova Scotia\, Canada
CATEGORIES:Events For Adults,Location: Elmsdale
ATTACH;FMTTYPE=image/png:https://www.lovemylibrary.ca/wp-content/uploads/2022/03/Untitled-design-80.png
END:VEVENT
BEGIN:VEVENT
DTSTART;TZID=America/Halifax:20240705T100000
DTEND;TZID=America/Halifax:20240809T120000
DTSTAMP:20260424T210017
CREATED:20240513T152733Z
LAST-MODIFIED:20250417T173941Z
UID:10008386-1720173600-1723204800@www.lovemylibrary.ca
SUMMARY:One on One Tech Help
DESCRIPTION:Issues with your phone? Laptop? Social Media? Meet in-person with our digital literacy trainer to get your tech questions answered. \nDrop in – please call (902) 883-9838 or email us at elmsdale@cehpubliclibrary.ca for more details.
URL:https://www.lovemylibrary.ca/event/one-on-one-tech-help-7-2-2-2/2024-07-05/
LOCATION:Elmsdale Library\, 15 Commerce Ct\, Elmsdale\, Nova Scotia\, Canada
CATEGORIES:Events For Adults,Location: Elmsdale
ATTACH;FMTTYPE=image/png:https://www.lovemylibrary.ca/wp-content/uploads/2022/03/Untitled-design-80.png
END:VEVENT
BEGIN:VEVENT
DTSTART;TZID=America/Halifax:20240709T170000
DTEND;TZID=America/Halifax:20240806T180000
DTSTAMP:20260424T210017
CREATED:20230911T181215Z
LAST-MODIFIED:20241213T193251Z
UID:10010656-1720544400-1722967200@www.lovemylibrary.ca
SUMMARY:Paws to Read ®
DESCRIPTION:The Paws to Read program offers kids a safe environment to practice reading aloud to an attentive and adorable audience. Children build confidence and reading skills in one-on-one sessions with therapy dogs. Participants attend 5 weekly half-hour sessions with a trained therapy dog volunteer and a certified handler. For children in grades 1-5 \nIn-Person. Registration is required. For details\, please call us at (902) 883-9838 or email us at elmsdale@cehpubliclibrary.ca
URL:https://www.lovemylibrary.ca/event/paws-to-read/2024-07-09/
LOCATION:Elmsdale Library\, 15 Commerce Ct\, Elmsdale\, Nova Scotia\, Canada
CATEGORIES:Events For Kids,Location: Elmsdale
ATTACH;FMTTYPE=image/png:https://www.lovemylibrary.ca/wp-content/uploads/2023/09/Untitled-design-2023-09-11T151119.554.png
END:VEVENT
BEGIN:VEVENT
DTSTART;TZID=America/Halifax:20240712T100000
DTEND;TZID=America/Halifax:20240816T120000
DTSTAMP:20260424T210017
CREATED:20240513T152733Z
LAST-MODIFIED:20250417T173941Z
UID:10008387-1720778400-1723809600@www.lovemylibrary.ca
SUMMARY:One on One Tech Help
DESCRIPTION:Issues with your phone? Laptop? Social Media? Meet in-person with our digital literacy trainer to get your tech questions answered. \nDrop in – please call (902) 883-9838 or email us at elmsdale@cehpubliclibrary.ca for more details.
URL:https://www.lovemylibrary.ca/event/one-on-one-tech-help-7-2-2-2/2024-07-12/
LOCATION:Elmsdale Library\, 15 Commerce Ct\, Elmsdale\, Nova Scotia\, Canada
CATEGORIES:Events For Adults,Location: Elmsdale
ATTACH;FMTTYPE=image/png:https://www.lovemylibrary.ca/wp-content/uploads/2022/03/Untitled-design-80.png
END:VEVENT
BEGIN:VEVENT
DTSTART;TZID=America/Halifax:20240716T170000
DTEND;TZID=America/Halifax:20240813T180000
DTSTAMP:20260424T210017
CREATED:20230911T181215Z
LAST-MODIFIED:20241213T193251Z
UID:10010657-1721149200-1723572000@www.lovemylibrary.ca
SUMMARY:Paws to Read ®
DESCRIPTION:The Paws to Read program offers kids a safe environment to practice reading aloud to an attentive and adorable audience. Children build confidence and reading skills in one-on-one sessions with therapy dogs. Participants attend 5 weekly half-hour sessions with a trained therapy dog volunteer and a certified handler. For children in grades 1-5 \nIn-Person. Registration is required. For details\, please call us at (902) 883-9838 or email us at elmsdale@cehpubliclibrary.ca
URL:https://www.lovemylibrary.ca/event/paws-to-read/2024-07-16/
LOCATION:Elmsdale Library\, 15 Commerce Ct\, Elmsdale\, Nova Scotia\, Canada
CATEGORIES:Events For Kids,Location: Elmsdale
ATTACH;FMTTYPE=image/png:https://www.lovemylibrary.ca/wp-content/uploads/2023/09/Untitled-design-2023-09-11T151119.554.png
END:VEVENT
BEGIN:VEVENT
DTSTART;TZID=America/Halifax:20240719T100000
DTEND;TZID=America/Halifax:20240823T120000
DTSTAMP:20260424T210017
CREATED:20240513T152733Z
LAST-MODIFIED:20250417T173941Z
UID:10008388-1721383200-1724414400@www.lovemylibrary.ca
SUMMARY:One on One Tech Help
DESCRIPTION:Issues with your phone? Laptop? Social Media? Meet in-person with our digital literacy trainer to get your tech questions answered. \nDrop in – please call (902) 883-9838 or email us at elmsdale@cehpubliclibrary.ca for more details.
URL:https://www.lovemylibrary.ca/event/one-on-one-tech-help-7-2-2-2/2024-07-19/
LOCATION:Elmsdale Library\, 15 Commerce Ct\, Elmsdale\, Nova Scotia\, Canada
CATEGORIES:Events For Adults,Location: Elmsdale
ATTACH;FMTTYPE=image/png:https://www.lovemylibrary.ca/wp-content/uploads/2022/03/Untitled-design-80.png
END:VEVENT
BEGIN:VEVENT
DTSTART;TZID=America/Halifax:20240723T170000
DTEND;TZID=America/Halifax:20240820T180000
DTSTAMP:20260424T210017
CREATED:20230911T181215Z
LAST-MODIFIED:20241213T193251Z
UID:10010658-1721754000-1724176800@www.lovemylibrary.ca
SUMMARY:Paws to Read ®
DESCRIPTION:The Paws to Read program offers kids a safe environment to practice reading aloud to an attentive and adorable audience. Children build confidence and reading skills in one-on-one sessions with therapy dogs. Participants attend 5 weekly half-hour sessions with a trained therapy dog volunteer and a certified handler. For children in grades 1-5 \nIn-Person. Registration is required. For details\, please call us at (902) 883-9838 or email us at elmsdale@cehpubliclibrary.ca
URL:https://www.lovemylibrary.ca/event/paws-to-read/2024-07-23/
LOCATION:Elmsdale Library\, 15 Commerce Ct\, Elmsdale\, Nova Scotia\, Canada
CATEGORIES:Events For Kids,Location: Elmsdale
ATTACH;FMTTYPE=image/png:https://www.lovemylibrary.ca/wp-content/uploads/2023/09/Untitled-design-2023-09-11T151119.554.png
END:VEVENT
BEGIN:VEVENT
DTSTART;TZID=America/Halifax:20240726T100000
DTEND;TZID=America/Halifax:20240830T120000
DTSTAMP:20260424T210017
CREATED:20240513T152733Z
LAST-MODIFIED:20250417T173941Z
UID:10008389-1721988000-1725019200@www.lovemylibrary.ca
SUMMARY:One on One Tech Help
DESCRIPTION:Issues with your phone? Laptop? Social Media? Meet in-person with our digital literacy trainer to get your tech questions answered. \nDrop in – please call (902) 883-9838 or email us at elmsdale@cehpubliclibrary.ca for more details.
URL:https://www.lovemylibrary.ca/event/one-on-one-tech-help-7-2-2-2/2024-07-26/
LOCATION:Elmsdale Library\, 15 Commerce Ct\, Elmsdale\, Nova Scotia\, Canada
CATEGORIES:Events For Adults,Location: Elmsdale
ATTACH;FMTTYPE=image/png:https://www.lovemylibrary.ca/wp-content/uploads/2022/03/Untitled-design-80.png
END:VEVENT
BEGIN:VEVENT
DTSTART;VALUE=DATE:20240730
DTEND;VALUE=DATE:20240816
DTSTAMP:20260424T210017
CREATED:20240719T184615Z
LAST-MODIFIED:20240719T184615Z
UID:10009102-1722297600-1723766399@www.lovemylibrary.ca
SUMMARY:Outer Space Lego Contest
DESCRIPTION:Can you imagine how extraterrestrial life\, spacecraft\, space itself and bases on planets will look in years to come? Bring your Lego creations to the library for display for a chance to win a prize. Judging will be on Saturday\, August 17.
URL:https://www.lovemylibrary.ca/event/outer-space-lego-contest/
LOCATION:Stewiacke Library\, 295 George Street\, Stewiacke\, Nova Scotia\, Canada
CATEGORIES:Events For Kids,Location: Stewiacke
ATTACH;FMTTYPE=image/png:https://www.lovemylibrary.ca/wp-content/uploads/2024/07/Untitled-design-2024-07-19T154911.804.png
END:VEVENT
BEGIN:VEVENT
DTSTART;TZID=America/Halifax:20240730T170000
DTEND;TZID=America/Halifax:20240827T180000
DTSTAMP:20260424T210017
CREATED:20230911T181215Z
LAST-MODIFIED:20241213T193251Z
UID:10010659-1722358800-1724781600@www.lovemylibrary.ca
SUMMARY:Paws to Read ®
DESCRIPTION:The Paws to Read program offers kids a safe environment to practice reading aloud to an attentive and adorable audience. Children build confidence and reading skills in one-on-one sessions with therapy dogs. Participants attend 5 weekly half-hour sessions with a trained therapy dog volunteer and a certified handler. For children in grades 1-5 \nIn-Person. Registration is required. For details\, please call us at (902) 883-9838 or email us at elmsdale@cehpubliclibrary.ca
URL:https://www.lovemylibrary.ca/event/paws-to-read/2024-07-30/
LOCATION:Elmsdale Library\, 15 Commerce Ct\, Elmsdale\, Nova Scotia\, Canada
CATEGORIES:Events For Kids,Location: Elmsdale
ATTACH;FMTTYPE=image/png:https://www.lovemylibrary.ca/wp-content/uploads/2023/09/Untitled-design-2023-09-11T151119.554.png
END:VEVENT
BEGIN:VEVENT
DTSTART;VALUE=DATE:20240801
DTEND;VALUE=DATE:20240802
DTSTAMP:20260424T210017
CREATED:20240625T174938Z
LAST-MODIFIED:20240806T133936Z
UID:10008603-1722470400-1722556799@www.lovemylibrary.ca
SUMMARY:A Glimpse of Today’s Rug Hooking: Art Exhibit by the Friday Friends
DESCRIPTION:July 4th – August 29th \nGrandma’s rug hooking has changed. It has grown\, expanded\, moved from a utilitarian craft to a creative outlet\, and it has thrown out all the rules! The pieces on display have been created by the group Friday Friends and show a wide range of techniques. They hope you enjoy the exhibit as much as they enjoyed putting it together for you.  \nDrop in\, no registration required.\n 
URL:https://www.lovemylibrary.ca/event/a-glimpse-of-todays-rug-hooking-art-exhibit-by-the-friday-friends/2024-08-01/
LOCATION:Truro Library\, 754 Prince St\, Truro\, Nova Scotia\, Canada
CATEGORIES:Events For Adults,Location: Truro
ATTACH;FMTTYPE=image/png:https://www.lovemylibrary.ca/wp-content/uploads/2024/06/Untitled-design-6.png
END:VEVENT
BEGIN:VEVENT
DTSTART;TZID=America/Halifax:20240801T100000
DTEND;TZID=America/Halifax:20240801T120000
DTSTAMP:20260424T210017
CREATED:20240711T135546Z
LAST-MODIFIED:20240711T140314Z
UID:10009025-1722506400-1722513600@www.lovemylibrary.ca
SUMMARY:Tech Help Drop-In
DESCRIPTION:Do you have any questions about accessing digital library materials and services? Experiencing troubles with your phone\, tablet\, or computer? Meet in person with our Digital Literacy Trainer to get your answers. \nDrop in. No registration is required.
URL:https://www.lovemylibrary.ca/event/tech-help-drop-in/2024-08-01/1/
LOCATION:Truro Library\, 754 Prince St\, Truro\, Nova Scotia\, Canada
CATEGORIES:Events For Adults,Events For Seniors,Location: Truro
ATTACH;FMTTYPE=image/png:https://www.lovemylibrary.ca/wp-content/uploads/2022/11/Untitled-design-2022-11-29T112019.106.png
END:VEVENT
BEGIN:VEVENT
DTSTART;TZID=America/Halifax:20240801T100000
DTEND;TZID=America/Halifax:20240801T120000
DTSTAMP:20260424T210017
CREATED:20240711T140438Z
LAST-MODIFIED:20240711T141315Z
UID:10009050-1722506400-1722513600@www.lovemylibrary.ca
SUMMARY:Tech Help Drop-In
DESCRIPTION:Do you have any questions about accessing digital library materials and services? Experiencing troubles with your phone\, tablet\, or computer? Meet in person with our Digital Literacy Trainer to get your answers. \nDrop in. No registration is required.
URL:https://www.lovemylibrary.ca/event/tech-help-drop-in-2/2024-08-01/
LOCATION:Truro Library\, 754 Prince St\, Truro\, Nova Scotia\, Canada
CATEGORIES:Events For Adults,Events For Seniors,Location: Truro
ATTACH;FMTTYPE=image/png:https://www.lovemylibrary.ca/wp-content/uploads/2022/11/Untitled-design-2022-11-29T112019.106.png
END:VEVENT
BEGIN:VEVENT
DTSTART;TZID=America/Halifax:20240801T130000
DTEND;TZID=America/Halifax:20240801T150000
DTSTAMP:20260424T210017
CREATED:20240716T223736Z
LAST-MODIFIED:20240716T223736Z
UID:10009061-1722517200-1722524400@www.lovemylibrary.ca
SUMMARY:Library Melody
DESCRIPTION:Want to test-drive some musical instruments? Looking for a local jam? We’ve got you covered! Provided instruments: acoustic guitar\, classical guitar\, violin/fiddle\, ukulele (C tuning)\, ukulele (D tuning)\, dulcimer\, wooden spoons\, and egg shakers. All ages are welcome to participate. \nThis is a drop in program. No registration is required. Please call us at 902-883-9838 or email us at elmsdale@cehpubliclibrary.ca for more details
URL:https://www.lovemylibrary.ca/event/library-melody/
LOCATION:Elmsdale Library\, 15 Commerce Ct\, Elmsdale\, Nova Scotia\, Canada
CATEGORIES:Events For Adults,Events For Kids,Location: Elmsdale
ATTACH;FMTTYPE=image/png:https://www.lovemylibrary.ca/wp-content/uploads/2024/07/Untitled-design-2024-07-16T194034.743.png
END:VEVENT
BEGIN:VEVENT
DTSTART;TZID=America/Halifax:20240801T140000
DTEND;TZID=America/Halifax:20240801T160000
DTSTAMP:20260424T210017
CREATED:20240711T132244Z
LAST-MODIFIED:20240711T133837Z
UID:10009008-1722520800-1722528000@www.lovemylibrary.ca
SUMMARY:One-on-One Tech Help
DESCRIPTION:Are you having tech troubles with your phone\, tablet\, or computer? Meet in person with our Digital Literacy Trainer to get your questions answered. \nTo book an appointment\, please call 902-895-4183\, email digital.literacytrainers@gmail.com or visit us at our front desk.
URL:https://www.lovemylibrary.ca/event/one-on-one-tech-help-11/2024-08-01/
LOCATION:Truro Library\, 754 Prince St\, Truro\, Nova Scotia\, Canada
CATEGORIES:Events For Adults,Events For Seniors,Location: Truro
ATTACH;FMTTYPE=image/jpeg:https://www.lovemylibrary.ca/wp-content/uploads/2021/08/7.jpg
END:VEVENT
BEGIN:VEVENT
DTSTART;TZID=America/Halifax:20240801T140000
DTEND;TZID=America/Halifax:20240801T160000
DTSTAMP:20260424T210017
CREATED:20240711T135546Z
LAST-MODIFIED:20240711T140314Z
UID:10009038-1722520800-1722528000@www.lovemylibrary.ca
SUMMARY:Tech Help Drop-In
DESCRIPTION:Do you have any questions about accessing digital library materials and services? Experiencing troubles with your phone\, tablet\, or computer? Meet in person with our Digital Literacy Trainer to get your answers. \nDrop in. No registration is required.
URL:https://www.lovemylibrary.ca/event/tech-help-drop-in/2024-08-01/2/
LOCATION:Truro Library\, 754 Prince St\, Truro\, Nova Scotia\, Canada
CATEGORIES:Events For Adults,Events For Seniors,Location: Truro
ATTACH;FMTTYPE=image/png:https://www.lovemylibrary.ca/wp-content/uploads/2022/11/Untitled-design-2022-11-29T112019.106.png
END:VEVENT
BEGIN:VEVENT
DTSTART;TZID=America/Halifax:20240801T150000
DTEND;TZID=America/Halifax:20240801T160000
DTSTAMP:20260424T210017
CREATED:20231229T143942Z
LAST-MODIFIED:20240618T224430Z
UID:10006851-1722524400-1722528000@www.lovemylibrary.ca
SUMMARY:Space Race Escape Room
DESCRIPTION:NASA has just announced they are hosting their first Galactic Space Race! The rocket ship that can visit all of the planets\, moons\, and stars in the Milky Way in the fastest possible time will be awarded their very own spacecraft to continue travel in space. Do you have what it takes to figure out how to start and navigate the rocket ship in the Milky Way? We’re in a race against time! For ages 8-12 \nTo register\, phone 902-866-0124\,  by email mtuniack@cehpubliclibrary.ca
URL:https://www.lovemylibrary.ca/event/escape-room-2/
LOCATION:Mount Uniacke Library\, 555\, Highway 1\, Mount Uniacke\, Nova Scotia\, Canada
CATEGORIES:Events For Kids,Location: Mount Uniacke
ATTACH;FMTTYPE=image/png:https://www.lovemylibrary.ca/wp-content/uploads/2022/05/Untitled-design-2023-10-25T143452.130.png
END:VEVENT
BEGIN:VEVENT
DTSTART;VALUE=DATE:20240802
DTEND;VALUE=DATE:20240803
DTSTAMP:20260424T210017
CREATED:20240221T183224Z
LAST-MODIFIED:20250523T194552Z
UID:10010999-1722556800-1722643199@www.lovemylibrary.ca
SUMMARY:Tech Help
DESCRIPTION:Need  help with a computer\, tablet or phone?  We can help. This is an adult program. \nPre register in person or by phone 902- 657-3064 or email: tatamago@cehpubliclibrary.ca
URL:https://www.lovemylibrary.ca/event/tech-help-6/2024-08-02/
LOCATION:Tatamagouche Library\, 170 Main Street\, Tatamagouche\, Nova Scotia\, Canada
CATEGORIES:Location: Tatamagouche
ATTACH;FMTTYPE=image/png:https://www.lovemylibrary.ca/wp-content/uploads/2022/03/Untitled-design-80.png
END:VEVENT
BEGIN:VEVENT
DTSTART;VALUE=DATE:20240802
DTEND;VALUE=DATE:20240803
DTSTAMP:20260424T210017
CREATED:20240625T174938Z
LAST-MODIFIED:20240806T133936Z
UID:10008604-1722556800-1722643199@www.lovemylibrary.ca
SUMMARY:A Glimpse of Today’s Rug Hooking: Art Exhibit by the Friday Friends
DESCRIPTION:July 4th – August 29th \nGrandma’s rug hooking has changed. It has grown\, expanded\, moved from a utilitarian craft to a creative outlet\, and it has thrown out all the rules! The pieces on display have been created by the group Friday Friends and show a wide range of techniques. They hope you enjoy the exhibit as much as they enjoyed putting it together for you.  \nDrop in\, no registration required.\n 
URL:https://www.lovemylibrary.ca/event/a-glimpse-of-todays-rug-hooking-art-exhibit-by-the-friday-friends/2024-08-02/
LOCATION:Truro Library\, 754 Prince St\, Truro\, Nova Scotia\, Canada
CATEGORIES:Events For Adults,Location: Truro
ATTACH;FMTTYPE=image/png:https://www.lovemylibrary.ca/wp-content/uploads/2024/06/Untitled-design-6.png
END:VEVENT
BEGIN:VEVENT
DTSTART;TZID=America/Halifax:20240802T100000
DTEND;TZID=America/Halifax:20240906T120000
DTSTAMP:20260424T210017
CREATED:20240513T152733Z
LAST-MODIFIED:20250417T173941Z
UID:10009062-1722592800-1725624000@www.lovemylibrary.ca
SUMMARY:One on One Tech Help
DESCRIPTION:Issues with your phone? Laptop? Social Media? Meet in-person with our digital literacy trainer to get your tech questions answered. \nDrop in – please call (902) 883-9838 or email us at elmsdale@cehpubliclibrary.ca for more details.
URL:https://www.lovemylibrary.ca/event/one-on-one-tech-help-7-2-2-2/2024-08-02/
LOCATION:Elmsdale Library\, 15 Commerce Ct\, Elmsdale\, Nova Scotia\, Canada
CATEGORIES:Events For Adults,Location: Elmsdale
ATTACH;FMTTYPE=image/png:https://www.lovemylibrary.ca/wp-content/uploads/2022/03/Untitled-design-80.png
END:VEVENT
BEGIN:VEVENT
DTSTART;TZID=America/Halifax:20240802T103000
DTEND;TZID=America/Halifax:20240802T120000
DTSTAMP:20260424T210017
CREATED:20240711T132244Z
LAST-MODIFIED:20240711T133837Z
UID:10009009-1722594600-1722600000@www.lovemylibrary.ca
SUMMARY:One-on-One Tech Help
DESCRIPTION:Are you having tech troubles with your phone\, tablet\, or computer? Meet in person with our Digital Literacy Trainer to get your questions answered. \nTo book an appointment\, please call 902-895-4183\, email digital.literacytrainers@gmail.com or visit us at our front desk.
URL:https://www.lovemylibrary.ca/event/one-on-one-tech-help-11/2024-08-02/
LOCATION:Truro Library\, 754 Prince St\, Truro\, Nova Scotia\, Canada
CATEGORIES:Events For Adults,Events For Seniors,Location: Truro
ATTACH;FMTTYPE=image/jpeg:https://www.lovemylibrary.ca/wp-content/uploads/2021/08/7.jpg
END:VEVENT
BEGIN:VEVENT
DTSTART;TZID=America/Halifax:20240802T103000
DTEND;TZID=America/Halifax:20240802T120000
DTSTAMP:20260424T210017
CREATED:20240726T161306Z
LAST-MODIFIED:20240726T161428Z
UID:10009162-1722594600-1722600000@www.lovemylibrary.ca
SUMMARY:Pass the Painting
DESCRIPTION:Start a work of art then pass it to the person next to you! Join old and new friends to make the strangest\, silliest\, and prettiest collaborative art together. Ages 8-14 \nRegistration opens Friday\, July 26. To register\, email info@cehpubliclibrary.ca\n 
URL:https://www.lovemylibrary.ca/event/pass-the-painting/
LOCATION:Truro Library\, 754 Prince St\, Truro\, Nova Scotia\, Canada
CATEGORIES:Events For Kids,Events For Teens,Location: Truro
ATTACH;FMTTYPE=image/png:https://www.lovemylibrary.ca/wp-content/uploads/2023/09/Untitled-design-2023-09-26T191155.762.png
END:VEVENT
BEGIN:VEVENT
DTSTART;TZID=America/Halifax:20240802T103000
DTEND;TZID=America/Halifax:20240802T163000
DTSTAMP:20260424T210017
CREATED:20240719T184858Z
LAST-MODIFIED:20240719T191846Z
UID:10009103-1722594600-1722616200@www.lovemylibrary.ca
SUMMARY:Get Your Game On
DESCRIPTION:Giant size fun will be happening at the library. Each week we will feature a different giant size game that will be fun for the whole family. Suitable for ages 5+
URL:https://www.lovemylibrary.ca/event/get-your-game-on-2/2024-08-02/
LOCATION:Stewiacke Library\, 295 George Street\, Stewiacke\, Nova Scotia\, Canada
CATEGORIES:Events For Kids,Location: Stewiacke
ATTACH;FMTTYPE=image/png:https://www.lovemylibrary.ca/wp-content/uploads/2024/04/CEH-WhatsHappening-WEB-28.png
END:VEVENT
BEGIN:VEVENT
DTSTART;TZID=America/Halifax:20240802T130000
DTEND;TZID=America/Halifax:20240802T143000
DTSTAMP:20260424T210017
CREATED:20240615T133158Z
LAST-MODIFIED:20240719T185533Z
UID:10009105-1722603600-1722609000@www.lovemylibrary.ca
SUMMARY:Scrabble Squad
DESCRIPTION:What spells F-U-N? Playing Scrabble with friends. All adults welcome. \nThis is a drop-in program. No registration is required.
URL:https://www.lovemylibrary.ca/event/scrabble-squad-2-2-2-2/2024-08-02/
LOCATION:Stewiacke Library\, 295 George Street\, Stewiacke\, Nova Scotia\, Canada
CATEGORIES:Events For Adults,Events For Seniors,Location: Stewiacke
ATTACH;FMTTYPE=image/png:https://www.lovemylibrary.ca/wp-content/uploads/2022/05/Add-a-subheading-700-×-500-px-3.png
END:VEVENT
BEGIN:VEVENT
DTSTART;TZID=America/Halifax:20240802T140000
DTEND;TZID=America/Halifax:20240802T160000
DTSTAMP:20260424T210017
CREATED:20240711T135546Z
LAST-MODIFIED:20240711T140314Z
UID:10009026-1722607200-1722614400@www.lovemylibrary.ca
SUMMARY:Tech Help Drop-In
DESCRIPTION:Do you have any questions about accessing digital library materials and services? Experiencing troubles with your phone\, tablet\, or computer? Meet in person with our Digital Literacy Trainer to get your answers. \nDrop in. No registration is required.
URL:https://www.lovemylibrary.ca/event/tech-help-drop-in/2024-08-02/
LOCATION:Truro Library\, 754 Prince St\, Truro\, Nova Scotia\, Canada
CATEGORIES:Events For Adults,Events For Seniors,Location: Truro
ATTACH;FMTTYPE=image/png:https://www.lovemylibrary.ca/wp-content/uploads/2022/11/Untitled-design-2022-11-29T112019.106.png
END:VEVENT
BEGIN:VEVENT
DTSTART;TZID=America/Halifax:20240802T140000
DTEND;TZID=America/Halifax:20240802T160000
DTSTAMP:20260424T210017
CREATED:20240711T140438Z
LAST-MODIFIED:20240711T141315Z
UID:10009051-1722607200-1722614400@www.lovemylibrary.ca
SUMMARY:Tech Help Drop-In
DESCRIPTION:Do you have any questions about accessing digital library materials and services? Experiencing troubles with your phone\, tablet\, or computer? Meet in person with our Digital Literacy Trainer to get your answers. \nDrop in. No registration is required.
URL:https://www.lovemylibrary.ca/event/tech-help-drop-in-2/2024-08-02/
LOCATION:Truro Library\, 754 Prince St\, Truro\, Nova Scotia\, Canada
CATEGORIES:Events For Adults,Events For Seniors,Location: Truro
ATTACH;FMTTYPE=image/png:https://www.lovemylibrary.ca/wp-content/uploads/2022/11/Untitled-design-2022-11-29T112019.106.png
END:VEVENT
BEGIN:VEVENT
DTSTART;VALUE=DATE:20240803
DTEND;VALUE=DATE:20240804
DTSTAMP:20260424T210017
CREATED:20240625T174938Z
LAST-MODIFIED:20240806T133936Z
UID:10008605-1722643200-1722729599@www.lovemylibrary.ca
SUMMARY:A Glimpse of Today’s Rug Hooking: Art Exhibit by the Friday Friends
DESCRIPTION:July 4th – August 29th \nGrandma’s rug hooking has changed. It has grown\, expanded\, moved from a utilitarian craft to a creative outlet\, and it has thrown out all the rules! The pieces on display have been created by the group Friday Friends and show a wide range of techniques. They hope you enjoy the exhibit as much as they enjoyed putting it together for you.  \nDrop in\, no registration required.\n 
URL:https://www.lovemylibrary.ca/event/a-glimpse-of-todays-rug-hooking-art-exhibit-by-the-friday-friends/2024-08-03/
LOCATION:Truro Library\, 754 Prince St\, Truro\, Nova Scotia\, Canada
CATEGORIES:Events For Adults,Location: Truro
ATTACH;FMTTYPE=image/png:https://www.lovemylibrary.ca/wp-content/uploads/2024/06/Untitled-design-6.png
END:VEVENT
BEGIN:VEVENT
DTSTART;TZID=America/Halifax:20240803T100000
DTEND;TZID=America/Halifax:20240803T120000
DTSTAMP:20260424T210017
CREATED:20240718T143217Z
LAST-MODIFIED:20240726T162416Z
UID:10009090-1722679200-1722686400@www.lovemylibrary.ca
SUMMARY:Super Saturdays
DESCRIPTION:Saturdays are made for fun\, and the library. Each week we will offer a different activity. We hope to see you at all of them. \nAugust 3\, 10am-12pm: Night Sky (ages 4+) \nAugust 10\, 11am-12pm: Storytime & Craft (all ages) \nAugust 17\, 10am-12pm: Friendship Bracelets (ages 4+) \nDrop in. No registration is required.
URL:https://www.lovemylibrary.ca/event/super-saturdays/2024-08-03/
LOCATION:Truro Library\, 754 Prince St\, Truro\, Nova Scotia\, Canada
CATEGORIES:Events For Kids,Location: Truro
ATTACH;FMTTYPE=image/png:https://www.lovemylibrary.ca/wp-content/uploads/2023/06/Untitled-design-2023-06-14T104904.285.png
END:VEVENT
BEGIN:VEVENT
DTSTART;TZID=America/Halifax:20240803T103000
DTEND;TZID=America/Halifax:20240803T110000
DTSTAMP:20260424T210017
CREATED:20240415T185743Z
LAST-MODIFIED:20241213T183742Z
UID:10010558-1722681000-1722682800@www.lovemylibrary.ca
SUMMARY:Toddler Time
DESCRIPTION:Come and enjoy story time at the library.  A great way for your little one to make new friends. Ages 0-2 \nDrop in. Please call 902-883-9838 or email us at elmsdale@cehpubliclibrary.ca for more details
URL:https://www.lovemylibrary.ca/event/toddler-time-4-2/2024-08-03/
LOCATION:Elmsdale Library\, 15 Commerce Ct\, Elmsdale\, Nova Scotia\, Canada
CATEGORIES:Events For Kids,Location: Elmsdale
ATTACH;FMTTYPE=image/png:https://www.lovemylibrary.ca/wp-content/uploads/2022/03/Untitled-design-75.png
END:VEVENT
BEGIN:VEVENT
DTSTART;TZID=America/Halifax:20240803T140000
DTEND;TZID=America/Halifax:20240803T150000
DTSTAMP:20260424T210017
CREATED:20240615T134152Z
LAST-MODIFIED:20240726T170256Z
UID:10009110-1722693600-1722697200@www.lovemylibrary.ca
SUMMARY:Lego Club
DESCRIPTION:Activate your creativity and imagination! We will proudly display what you build in our children’s area. For ages 5-100 \nThis is a drop-in program. No registration is required.
URL:https://www.lovemylibrary.ca/event/lego-club-5-2-2/2024-08-03/
LOCATION:Stewiacke Library\, 295 George Street\, Stewiacke\, Nova Scotia\, Canada
CATEGORIES:Events For Kids,Location: Stewiacke
ATTACH;FMTTYPE=image/png:https://www.lovemylibrary.ca/wp-content/uploads/2022/06/Untitled-design-20.png
END:VEVENT
END:VCALENDAR