BEGIN:VCALENDAR
VERSION:2.0
PRODID:-//Colchester East Hants Public Library - ECPv6.15.20//NONSGML v1.0//EN
CALSCALE:GREGORIAN
METHOD:PUBLISH
X-WR-CALNAME:Colchester East Hants Public Library
X-ORIGINAL-URL:https://www.lovemylibrary.ca
X-WR-CALDESC:Events for Colchester East Hants Public Library
REFRESH-INTERVAL;VALUE=DURATION:PT1H
X-Robots-Tag:noindex
X-PUBLISHED-TTL:PT1H
BEGIN:VTIMEZONE
TZID:America/Halifax
BEGIN:DAYLIGHT
TZOFFSETFROM:-0400
TZOFFSETTO:-0300
TZNAME:ADT
DTSTART:20250309T060000
END:DAYLIGHT
BEGIN:STANDARD
TZOFFSETFROM:-0300
TZOFFSETTO:-0400
TZNAME:AST
DTSTART:20251102T050000
END:STANDARD
BEGIN:DAYLIGHT
TZOFFSETFROM:-0400
TZOFFSETTO:-0300
TZNAME:ADT
DTSTART:20260308T060000
END:DAYLIGHT
BEGIN:STANDARD
TZOFFSETFROM:-0300
TZOFFSETTO:-0400
TZNAME:AST
DTSTART:20261101T050000
END:STANDARD
BEGIN:DAYLIGHT
TZOFFSETFROM:-0400
TZOFFSETTO:-0300
TZNAME:ADT
DTSTART:20270314T060000
END:DAYLIGHT
BEGIN:STANDARD
TZOFFSETFROM:-0300
TZOFFSETTO:-0400
TZNAME:AST
DTSTART:20271107T050000
END:STANDARD
END:VTIMEZONE
BEGIN:VEVENT
DTSTART;TZID=America/Halifax:20260421T180000
DTEND;TZID=America/Halifax:20260421T190000
DTSTAMP:20260420T125557
CREATED:20241121T160547Z
LAST-MODIFIED:20260417T173700Z
UID:10014413-1776794400-1776798000@www.lovemylibrary.ca
SUMMARY:Photography Club
DESCRIPTION:Capture the moment and explore your creativity at our Photography Club! Whether you’re using a DSLR\, a point-and-shoot\, or just your phone\, all skill levels are welcome. Share your photos\, learn new techniques\, and get inspired by fellow photography enthusiasts \nAdults. This is a drop-in program. No registration is required
URL:https://www.lovemylibrary.ca/event/photography-club-2-2-2-2-2-2/2026-04-21/
LOCATION:Stewiacke Library\, 295 George Street\, Stewiacke\, Nova Scotia\, Canada
CATEGORIES:Events For Adults,Location: Stewiacke
ATTACH;FMTTYPE=image/png:https://www.lovemylibrary.ca/wp-content/uploads/2022/11/Untitled-design-2022-11-29T111821.809.png
END:VEVENT
BEGIN:VEVENT
DTSTART;TZID=America/Halifax:20260519T180000
DTEND;TZID=America/Halifax:20260519T190000
DTSTAMP:20260420T125557
CREATED:20241121T160547Z
LAST-MODIFIED:20260417T173700Z
UID:10014847-1779213600-1779217200@www.lovemylibrary.ca
SUMMARY:Photography Club
DESCRIPTION:Capture the moment and explore your creativity at our Photography Club! Whether you’re using a DSLR\, a point-and-shoot\, or just your phone\, all skill levels are welcome. Share your photos\, learn new techniques\, and get inspired by fellow photography enthusiasts \nAdults. This is a drop-in program. No registration is required
URL:https://www.lovemylibrary.ca/event/photography-club-2-2-2-2-2-2/2026-05-19/
LOCATION:Stewiacke Library\, 295 George Street\, Stewiacke\, Nova Scotia\, Canada
CATEGORIES:Events For Adults,Location: Stewiacke
ATTACH;FMTTYPE=image/png:https://www.lovemylibrary.ca/wp-content/uploads/2022/11/Untitled-design-2022-11-29T111821.809.png
END:VEVENT
END:VCALENDAR