BEGIN:VCALENDAR
VERSION:2.0
PRODID:-//Colchester East Hants Public Library - ECPv6.15.20//NONSGML v1.0//EN
CALSCALE:GREGORIAN
METHOD:PUBLISH
X-WR-CALNAME:Colchester East Hants Public Library
X-ORIGINAL-URL:https://www.lovemylibrary.ca
X-WR-CALDESC:Events for Colchester East Hants Public Library
REFRESH-INTERVAL;VALUE=DURATION:PT1H
X-Robots-Tag:noindex
X-PUBLISHED-TTL:PT1H
BEGIN:VTIMEZONE
TZID:America/Halifax
BEGIN:DAYLIGHT
TZOFFSETFROM:-0400
TZOFFSETTO:-0300
TZNAME:ADT
DTSTART:20210314T060000
END:DAYLIGHT
BEGIN:STANDARD
TZOFFSETFROM:-0300
TZOFFSETTO:-0400
TZNAME:AST
DTSTART:20211107T050000
END:STANDARD
BEGIN:DAYLIGHT
TZOFFSETFROM:-0400
TZOFFSETTO:-0300
TZNAME:ADT
DTSTART:20220313T060000
END:DAYLIGHT
BEGIN:STANDARD
TZOFFSETFROM:-0300
TZOFFSETTO:-0400
TZNAME:AST
DTSTART:20221106T050000
END:STANDARD
BEGIN:DAYLIGHT
TZOFFSETFROM:-0400
TZOFFSETTO:-0300
TZNAME:ADT
DTSTART:20230312T060000
END:DAYLIGHT
BEGIN:STANDARD
TZOFFSETFROM:-0300
TZOFFSETTO:-0400
TZNAME:AST
DTSTART:20231105T050000
END:STANDARD
END:VTIMEZONE
BEGIN:VEVENT
DTSTART;VALUE=DATE:20220901
DTEND;VALUE=DATE:20220930
DTSTAMP:20260426T012908
CREATED:20220815T181604Z
LAST-MODIFIED:20220815T181604Z
UID:10001262-1661990400-1664495999@www.lovemylibrary.ca
SUMMARY:The Day the Crayons Quit Scavenger Hunt
DESCRIPTION:The Crayons have quit and are hiding in the Library! Can you help us find them? \nDrop into the library from September 1 – 29 during open hours. No registration required. Ages 3+
URL:https://www.lovemylibrary.ca/event/the-day-the-crayons-quit-scavenger-hunt/
LOCATION:Truro Library\, 754 Prince St\, Truro\, Nova Scotia\, Canada
CATEGORIES:Events For Kids,Location: Truro
ATTACH;FMTTYPE=image/png:https://www.lovemylibrary.ca/wp-content/uploads/2022/06/scavenger-hunt-1.png
END:VEVENT
BEGIN:VEVENT
DTSTART;VALUE=DATE:20220901
DTEND;VALUE=DATE:20221001
DTSTAMP:20260426T012908
CREATED:20220823T205540Z
LAST-MODIFIED:20220823T205540Z
UID:10001302-1661990400-1664582399@www.lovemylibrary.ca
SUMMARY:Take Home Craft Kits
DESCRIPTION:Kits change on a weekly basis and contain all supplies needed to complete the craft. For preschool and early elementary children. \nNo registration is required.  Just drop by.
URL:https://www.lovemylibrary.ca/event/take-home-craft-kits/
LOCATION:Stewiacke Library\, 295 George Street\, Stewiacke\, Nova Scotia\, Canada
CATEGORIES:Crafting,Events For Kids,Location: Stewiacke
ATTACH;FMTTYPE=image/png:https://www.lovemylibrary.ca/wp-content/uploads/2022/03/Untitled-design-57.png
END:VEVENT
BEGIN:VEVENT
DTSTART;VALUE=DATE:20220901
DTEND;VALUE=DATE:20221029
DTSTAMP:20260426T012908
CREATED:20220825T142641Z
LAST-MODIFIED:20220825T142641Z
UID:10001321-1661990400-1667001599@www.lovemylibrary.ca
SUMMARY:“The Other Side of Me: Photography & Drawings by Sandra (Sam) Dill” Art Exhibit
DESCRIPTION:Sandra (Sam) Dill has been an avid supporter of community health and well-being through her various roles in nursing and community organizations. Yet unbeknownst to some\, her passion and skill for art are the other side of her\, that also inspire and better her community. Get to know her in a different light through her art exhibit at the Truro Library! \nThis is a drop-in program. No registration is required.  The exhibit may be found on the second floor of the library.\n 
URL:https://www.lovemylibrary.ca/event/the-other-side-of-me-photography-drawings-by-sandra-sam-dill-art-exhibit/
LOCATION:Truro Library\, 754 Prince St\, Truro\, Nova Scotia\, Canada
CATEGORIES:Events For Adults,Events For Kids,Events For Seniors,Events For Teens,Location: Truro
ATTACH;FMTTYPE=image/png:https://www.lovemylibrary.ca/wp-content/uploads/2022/08/Untitled-design-32.png
END:VEVENT
BEGIN:VEVENT
DTSTART;TZID=America/Halifax:20220926T133000
DTEND;TZID=America/Halifax:20220926T163000
DTSTAMP:20260426T012908
CREATED:20220825T181804Z
LAST-MODIFIED:20220923T171632Z
UID:10001337-1664199000-1664209800@www.lovemylibrary.ca
SUMMARY:Scrabble Group
DESCRIPTION:What spells F-U-N? Playing Scrabble with friends! \nThis is a drop-in program.  No registration is required.
URL:https://www.lovemylibrary.ca/event/scrabble-group-3/2022-09-26/
LOCATION:Truro Library\, 754 Prince St\, Truro\, Nova Scotia\, Canada
CATEGORIES:Events For Adults,Events For Seniors,Location: Truro
ATTACH;FMTTYPE=image/png:https://www.lovemylibrary.ca/wp-content/uploads/2022/05/Add-a-subheading-700-×-500-px-3.png
END:VEVENT
BEGIN:VEVENT
DTSTART;TZID=America/Halifax:20220927T110000
DTEND;TZID=America/Halifax:20220927T120000
DTSTAMP:20260426T012908
CREATED:20220825T152953Z
LAST-MODIFIED:20220923T171541Z
UID:10001328-1664276400-1664280000@www.lovemylibrary.ca
SUMMARY:Conversational English
DESCRIPTION:Is English your 2nd language? Or maybe your 4th? Our Conversational English program is for those who would like to practice their English in a fun and friendly environment. In partnership with YREACH. \nThis is a drop-in program.  No registration is required.
URL:https://www.lovemylibrary.ca/event/conversational-english-2/2022-09-27/
LOCATION:Truro Library\, 754 Prince St\, Truro\, Nova Scotia\, Canada
CATEGORIES:Events For Adults,Events For Seniors,Location: Truro
ATTACH;FMTTYPE=image/jpeg:https://www.lovemylibrary.ca/wp-content/uploads/2021/08/13.jpg
END:VEVENT
BEGIN:VEVENT
DTSTART;TZID=America/Halifax:20220927T140000
DTEND;TZID=America/Halifax:20220927T150000
DTSTAMP:20260426T012908
CREATED:20220330T133247Z
LAST-MODIFIED:20221129T141954Z
UID:10000954-1664287200-1664290800@www.lovemylibrary.ca
SUMMARY:Homework Hangout
DESCRIPTION:Time to unwind\, get your homework done\, and hangout with your friends. For ages 8-12.
URL:https://www.lovemylibrary.ca/event/homework-hangout/2022-09-27/
LOCATION:Mount Uniacke Library\, 555\, Highway 1\, Mount Uniacke\, Nova Scotia\, Canada
CATEGORIES:Events For Kids,Location: Mount Uniacke
ATTACH;FMTTYPE=image/png:https://www.lovemylibrary.ca/wp-content/uploads/2022/03/Untitled-design-91.png
END:VEVENT
BEGIN:VEVENT
DTSTART;TZID=America/Halifax:20220927T150000
DTEND;TZID=America/Halifax:20220927T160000
DTSTAMP:20260426T012908
CREATED:20220824T140410Z
LAST-MODIFIED:20220923T172719Z
UID:10001311-1664290800-1664294400@www.lovemylibrary.ca
SUMMARY:I Survived!
DESCRIPTION:Join us for fun activities based on the popular book series “I Survived” by Lauren Tarshis. For ages 5-12. \nHow to Participate\nRegister by calling (902) 866-0124 or emailing mtuniacke@cehpubliclibrary.ca.
URL:https://www.lovemylibrary.ca/event/i-survived/
LOCATION:Mount Uniacke Library\, 555\, Highway 1\, Mount Uniacke\, Nova Scotia\, Canada
CATEGORIES:Events For Kids,Location: Mount Uniacke
ATTACH;FMTTYPE=image/png:https://www.lovemylibrary.ca/wp-content/uploads/2022/08/Michelle-Wambodlt-2.png
END:VEVENT
BEGIN:VEVENT
DTSTART;TZID=America/Halifax:20220927T170000
DTEND;TZID=America/Halifax:20220927T200000
DTSTAMP:20260426T012908
CREATED:20220826T181832Z
LAST-MODIFIED:20220923T172130Z
UID:10001346-1664298000-1664308800@www.lovemylibrary.ca
SUMMARY:Heroes & Adventurers
DESCRIPTION:Role-playing game nights with extraordinary people! We provide the supplies\, you provide the imagination. No experience needed. All welcome! \nHow to Participate\nRegister to play by emailing: HAATruro@gmail.com. Sorry\, no drop-in players at this time.
URL:https://www.lovemylibrary.ca/event/heroes-adventurers/2022-09-27/
LOCATION:Truro Library\, 754 Prince St\, Truro\, Nova Scotia\, Canada
CATEGORIES:Events For Kids,Events For Teens,Location: Truro
ATTACH;FMTTYPE=image/png:https://www.lovemylibrary.ca/wp-content/uploads/2022/06/D-and-D.png
END:VEVENT
BEGIN:VEVENT
DTSTART;TZID=America/Halifax:20220927T183000
DTEND;TZID=America/Halifax:20220927T200000
DTSTAMP:20260426T012908
CREATED:20220429T201421Z
LAST-MODIFIED:20221005T121332Z
UID:10001008-1664303400-1664308800@www.lovemylibrary.ca
SUMMARY:Seniors Learn to Knit with Ewe-niacke Yarn Club
DESCRIPTION:Want to learn to knit or crochet? Already know how\, but need a refresher? Not sure what supplies you need? We have everything you need for your first project. Hants Count Senior Safety Association is providing the supplies necessary to start your project. Bring friends or make new friends! \nDrop-in\, no registration required.
URL:https://www.lovemylibrary.ca/event/seniors-learn-to-knit-with-ewe-niacke-yarn-club/2022-09-27/
LOCATION:Mount Uniacke Library\, 555\, Highway 1\, Mount Uniacke\, Nova Scotia\, Canada
CATEGORIES:Events For Adults,Events For Seniors,Location: Mount Uniacke,STEAM
ATTACH;FMTTYPE=image/png:https://www.lovemylibrary.ca/wp-content/uploads/2022/04/Untitled-design-2022-04-29T171348.604.png
END:VEVENT
BEGIN:VEVENT
DTSTART;TZID=America/Halifax:20220927T183000
DTEND;TZID=America/Halifax:20220927T200000
DTSTAMP:20260426T012908
CREATED:20220727T185012Z
LAST-MODIFIED:20221005T121318Z
UID:10001253-1664303400-1664308800@www.lovemylibrary.ca
SUMMARY:Ewe-niacke Yarn Club
DESCRIPTION:Fiber art for all ages and abilities. Learn to knit or crochet\, bring a project you are working on\, or just come hang out with the club for some social time. \nThis is a drop-in program.  No registration is required
URL:https://www.lovemylibrary.ca/event/ewe-niacke-yarn-club-2/2022-09-27/
LOCATION:Mount Uniacke Library\, 555\, Highway 1\, Mount Uniacke\, Nova Scotia\, Canada
CATEGORIES:Crafting,Events For Adults,STEAM
ATTACH;FMTTYPE=image/png:https://www.lovemylibrary.ca/wp-content/uploads/2022/03/Untitled-design-89.png
END:VEVENT
BEGIN:VEVENT
DTSTART;TZID=America/Halifax:20220928T103000
DTEND;TZID=America/Halifax:20220928T110000
DTSTAMP:20260426T012908
CREATED:20220331T145218Z
LAST-MODIFIED:20221005T121424Z
UID:10000963-1664361000-1664362800@www.lovemylibrary.ca
SUMMARY:Preschool Storytime
DESCRIPTION:Join us each week for a story and activity. For ages 3-5. Drop-in\, no registration required.
URL:https://www.lovemylibrary.ca/event/preschool-storytime/2022-09-28/
LOCATION:Mount Uniacke Library\, 555\, Highway 1\, Mount Uniacke\, Nova Scotia\, Canada
CATEGORIES:Events For Kids,Location: Mount Uniacke
ATTACH;FMTTYPE=image/png:https://www.lovemylibrary.ca/wp-content/uploads/2022/03/Untitled-design-95.png
END:VEVENT
BEGIN:VEVENT
DTSTART;TZID=America/Halifax:20220928T143000
DTEND;TZID=America/Halifax:20220928T190000
DTSTAMP:20260426T012908
CREATED:20210830T161210Z
LAST-MODIFIED:20231213T141030Z
UID:10000764-1664375400-1664391600@www.lovemylibrary.ca
SUMMARY:Satellite Library Visit: Middle Stewiacke Recreation Centre
DESCRIPTION:Meet us at the Middle Stewiacke Recreation Centre where you can browse and borrow materials\, sign up for a Library card\, and use the public WiFi!
URL:https://www.lovemylibrary.ca/event/satellite-library-visit-middle-stewiacke-recreation-centre/2022-09-28/
LOCATION:Middle Stewiacke Recreation Centre\, 2395 Highway 289\, Middle Stewiacke\, Nova Scotia\, Canada
CATEGORIES:Events For Adults,Events For Kids,Events For Seniors,Events For Teens,Location: Middle Stewiacke
ATTACH;FMTTYPE=image/jpeg:https://www.lovemylibrary.ca/wp-content/uploads/2021/08/16.jpg
END:VEVENT
BEGIN:VEVENT
DTSTART;VALUE=DATE:20220929
DTEND;VALUE=DATE:20220930
DTSTAMP:20260426T012908
CREATED:20220817T140217Z
LAST-MODIFIED:20220916T131141Z
UID:10001277-1664409600-1664495999@www.lovemylibrary.ca
SUMMARY:Take and Make Crafts
DESCRIPTION:Weekly take-and-make craft kits are available for pick up in-branch. Suitable for all ages. \nDrop-in\, no registration required.
URL:https://www.lovemylibrary.ca/event/take-and-make-crafts-4/2022-09-29/
LOCATION:Elmsdale Library\, 15 Commerce Ct\, Elmsdale\, Nova Scotia\, Canada
CATEGORIES:Events For Adults,Events For Kids,Location: Elmsdale,STEAM,STEAM Programs
ATTACH;FMTTYPE=image/png:https://www.lovemylibrary.ca/wp-content/uploads/2022/03/Untitled-design-57.png
END:VEVENT
BEGIN:VEVENT
DTSTART;TZID=America/Halifax:20220929T103000
DTEND;TZID=America/Halifax:20220929T110000
DTSTAMP:20260426T012908
CREATED:20220823T211150Z
LAST-MODIFIED:20220823T211150Z
UID:10001305-1664447400-1664449200@www.lovemylibrary.ca
SUMMARY:Baby Rhyme Time
DESCRIPTION:Bring a smile to your baby’s face as we read\, sing and rhyme. Infant-2 years old with a caregiver \nThis is a drop-in program. No registration is required.
URL:https://www.lovemylibrary.ca/event/baby-rhyme-time-4/2022-09-29/
LOCATION:Stewiacke Library\, 295 George Street\, Stewiacke\, Nova Scotia\, Canada
CATEGORIES:Events For Kids,Location: Stewiacke
ATTACH;FMTTYPE=image/png:https://www.lovemylibrary.ca/wp-content/uploads/2022/03/Untitled-design-75.png
END:VEVENT
BEGIN:VEVENT
DTSTART;TZID=America/Halifax:20220929T110000
DTEND;TZID=America/Halifax:20220929T112000
DTSTAMP:20260426T012908
CREATED:20220815T183621Z
LAST-MODIFIED:20220831T125919Z
UID:10001266-1664449200-1664450400@www.lovemylibrary.ca
SUMMARY:Tales for Twos
DESCRIPTION:Join us Thursday mornings for stories\, songs\, and activities that are just right for terrific toddlers! For ages 18 mos-3 yrs. with a caregiver/parent. \nRegistration is required.  To register\, email info@cehpubliclibrary.ca
URL:https://www.lovemylibrary.ca/event/tales-for-twos-3/2022-09-29/
LOCATION:Truro Library\, 754 Prince St\, Truro\, Nova Scotia\, Canada
CATEGORIES:Events For Kids,Location: Truro
ATTACH;FMTTYPE=image/png:https://www.lovemylibrary.ca/wp-content/uploads/2022/03/Untitled-design-81.png
END:VEVENT
BEGIN:VEVENT
DTSTART;TZID=America/Halifax:20220929T130000
DTEND;TZID=America/Halifax:20220929T140000
DTSTAMP:20260426T012908
CREATED:20220817T140656Z
LAST-MODIFIED:20220817T140656Z
UID:10001280-1664456400-1664460000@www.lovemylibrary.ca
SUMMARY:Story & Craft Time
DESCRIPTION:Come along and enjoy an hour of fun filled story and craft time. For children ages 3-5 \nTo register call 902-883-9838 or email elmsdale@cehpubliclibrary.ca
URL:https://www.lovemylibrary.ca/event/story-craft-time/2022-09-29/
LOCATION:Elmsdale Library\, 15 Commerce Ct\, Elmsdale\, Nova Scotia\, Canada
CATEGORIES:Crafting,Events For Kids,Location: Elmsdale
ATTACH;FMTTYPE=image/png:https://www.lovemylibrary.ca/wp-content/uploads/2022/05/Untitled-design-2.png
END:VEVENT
BEGIN:VEVENT
DTSTART;TZID=America/Halifax:20220929T140000
DTEND;TZID=America/Halifax:20220929T150000
DTSTAMP:20260426T012908
CREATED:20220330T133247Z
LAST-MODIFIED:20221129T141954Z
UID:10000955-1664460000-1664463600@www.lovemylibrary.ca
SUMMARY:Homework Hangout
DESCRIPTION:Time to unwind\, get your homework done\, and hangout with your friends. For ages 8-12.
URL:https://www.lovemylibrary.ca/event/homework-hangout/2022-09-29/
LOCATION:Mount Uniacke Library\, 555\, Highway 1\, Mount Uniacke\, Nova Scotia\, Canada
CATEGORIES:Events For Kids,Location: Mount Uniacke
ATTACH;FMTTYPE=image/png:https://www.lovemylibrary.ca/wp-content/uploads/2022/03/Untitled-design-91.png
END:VEVENT
BEGIN:VEVENT
DTSTART;TZID=America/Halifax:20220929T150000
DTEND;TZID=America/Halifax:20220929T163000
DTSTAMP:20260426T012908
CREATED:20220815T193550Z
LAST-MODIFIED:20220815T193550Z
UID:10001272-1664463600-1664469000@www.lovemylibrary.ca
SUMMARY:Mighty Makers
DESCRIPTION:Crazy about construction? Bonkers about building? Come to the library to create with LEGO\, wooden blocks\, and more!  For ages 3 and up. \nThis is a drop-in program.  No registration is required.
URL:https://www.lovemylibrary.ca/event/mighty-makers/
LOCATION:Truro Library\, 754 Prince St\, Truro\, Nova Scotia\, Canada
CATEGORIES:Events For Kids,Location: Truro
ATTACH;FMTTYPE=image/png:https://www.lovemylibrary.ca/wp-content/uploads/2022/06/Untitled-design-20.png
END:VEVENT
BEGIN:VEVENT
DTSTART;TZID=America/Halifax:20220929T173000
DTEND;TZID=America/Halifax:20220929T193000
DTSTAMP:20260426T012908
CREATED:20220817T142040Z
LAST-MODIFIED:20220817T143131Z
UID:10001289-1664472600-1664479800@www.lovemylibrary.ca
SUMMARY:Adult Board Games Night
DESCRIPTION:Get your game on! Join us for an evening of board games. This is your chance to play some old favourites or learn a new one. For teens and adults. \nThis is a drop-in\, no registration required
URL:https://www.lovemylibrary.ca/event/adult-board-games-night-3/2022-09-29/
LOCATION:Elmsdale Library\, 15 Commerce Ct\, Elmsdale\, Nova Scotia\, Canada
CATEGORIES:Events For Adults,Events For Teens,Location: Elmsdale
ATTACH;FMTTYPE=image/png:https://www.lovemylibrary.ca/wp-content/uploads/2022/06/adult-board-games-2.png
END:VEVENT
BEGIN:VEVENT
DTSTART;TZID=America/Halifax:20220929T173000
DTEND;TZID=America/Halifax:20220929T193000
DTSTAMP:20260426T012908
CREATED:20220830T193123Z
LAST-MODIFIED:20220927T184257Z
UID:10001352-1664472600-1664479800@www.lovemylibrary.ca
SUMMARY:*Postponed - New Date TBD* Harvest Wreath Making
DESCRIPTION:Welcome fall to your home with a charming harvest wreath. All supplies are provided. \nTo Participate\nTo register\, email tatamago@cehpubliclibrary.ca or call (902) 657-3064.
URL:https://www.lovemylibrary.ca/event/harvest-wreath-making/
LOCATION:Tatamagouche Library\, 170 Main Street\, Tatamagouche\, Nova Scotia\, Canada
CATEGORIES:Events For Adults,Events For Seniors,Location: Tatamagouche
ATTACH;FMTTYPE=image/png:https://www.lovemylibrary.ca/wp-content/uploads/2022/08/Untitled-design-2022-08-30T163302.494.png
END:VEVENT
BEGIN:VEVENT
DTSTART;VALUE=DATE:20220930
DTEND;VALUE=DATE:20221001
DTSTAMP:20260426T012908
CREATED:20220721T185411Z
LAST-MODIFIED:20220831T130149Z
UID:10001236-1664496000-1664582399@www.lovemylibrary.ca
SUMMARY:Find-it Fridays
DESCRIPTION:We’ll be offering up a fresh scavenger hunt each Friday! Do your worst\, Kids of Tatamagouche!
URL:https://www.lovemylibrary.ca/event/find-it-fridays-2/2022-09-30/
LOCATION:Tatamagouche Library\, 170 Main Street\, Tatamagouche\, Nova Scotia\, Canada
CATEGORIES:Events For Kids,Location: Tatamagouche
ATTACH;FMTTYPE=image/png:https://www.lovemylibrary.ca/wp-content/uploads/2022/06/scavenger-hunt-1.png
END:VEVENT
BEGIN:VEVENT
DTSTART;TZID=America/Halifax:20220930T100000
DTEND;TZID=America/Halifax:20220930T120000
DTSTAMP:20260426T012908
CREATED:20220817T141136Z
LAST-MODIFIED:20220817T141136Z
UID:10001285-1664532000-1664539200@www.lovemylibrary.ca
SUMMARY:One on One Tech Help
DESCRIPTION:Issues with your phone? Laptop? Social Media? Meet in-person with our digital literacy trainer to get your tech questions answered. \nPlease call 902-883-9838 or email at elmsdale@cehpubliclibrary.ca to book an appointment
URL:https://www.lovemylibrary.ca/event/one-on-one-tech-help-5/2022-09-30/
LOCATION:Elmsdale Library\, 15 Commerce Ct\, Elmsdale\, Nova Scotia\, Canada
CATEGORIES:Events For Adults,Location: Elmsdale
ATTACH;FMTTYPE=image/png:https://www.lovemylibrary.ca/wp-content/uploads/2022/03/Untitled-design-80.png
END:VEVENT
BEGIN:VEVENT
DTSTART;TZID=America/Halifax:20220930T103000
DTEND;TZID=America/Halifax:20220930T110000
DTSTAMP:20260426T012908
CREATED:20220823T214828Z
LAST-MODIFIED:20220823T214828Z
UID:10001307-1664533800-1664535600@www.lovemylibrary.ca
SUMMARY:Picture Book Junction
DESCRIPTION:Meet new people and share the magic of stories\, songs and crafts. Suitable For 3-5 year olds with a care giver. \nThis is a drop-in program.  No registration is required.
URL:https://www.lovemylibrary.ca/event/picture-book-junction-3/2022-09-30/
LOCATION:Stewiacke Library\, 295 George Street\, Stewiacke\, Nova Scotia\, Canada
CATEGORIES:Events For Kids,Location: Stewiacke
ATTACH;FMTTYPE=image/png:https://www.lovemylibrary.ca/wp-content/uploads/2022/03/Untitled-design-81.png
END:VEVENT
BEGIN:VEVENT
DTSTART;TZID=America/Halifax:20220930T103000
DTEND;TZID=America/Halifax:20220930T113000
DTSTAMP:20260426T012908
CREATED:20220817T145441Z
LAST-MODIFIED:20220817T145441Z
UID:10001294-1664533800-1664537400@www.lovemylibrary.ca
SUMMARY:Tots Story time
DESCRIPTION:Join us with your little one for stories and social time. For children ages 0-2yrs. \nCall to register at 902-883-9838 or email elmsdale@cehpubliclibrary.ca
URL:https://www.lovemylibrary.ca/event/tots-story-time/2022-09-30/
LOCATION:Elmsdale Library\, 15 Commerce Ct\, Elmsdale\, Nova Scotia\, Canada
CATEGORIES:Events For Kids,Location: Elmsdale
ATTACH;FMTTYPE=image/png:https://www.lovemylibrary.ca/wp-content/uploads/2022/03/Untitled-design-82.png
END:VEVENT
BEGIN:VEVENT
DTSTART;TZID=America/Halifax:20220930T103000
DTEND;TZID=America/Halifax:20220930T113000
DTSTAMP:20260426T012908
CREATED:20220823T205007Z
LAST-MODIFIED:20220823T205007Z
UID:10001301-1664533800-1664537400@www.lovemylibrary.ca
SUMMARY:Walking Club
DESCRIPTION:Walking is a popular\, accessible and low risk physical activity. Meet new people or bring some old friends to the library as we walk around the town of Stewiacke. \nThis is a drop-in program. No registration is required.
URL:https://www.lovemylibrary.ca/event/walking-club-3/2022-09-30/
LOCATION:Stewiacke Library\, 295 George Street\, Stewiacke\, Nova Scotia\, Canada
CATEGORIES:Events For Adults,Location: Stewiacke
ATTACH;FMTTYPE=image/png:https://www.lovemylibrary.ca/wp-content/uploads/2022/05/Untitled-design-2022-05-02T165147.740.png
END:VEVENT
BEGIN:VEVENT
DTSTART;TZID=America/Halifax:20220930T140000
DTEND;TZID=America/Halifax:20220930T150000
DTSTAMP:20260426T012908
CREATED:20220330T133247Z
LAST-MODIFIED:20221129T141954Z
UID:10000956-1664546400-1664550000@www.lovemylibrary.ca
SUMMARY:Homework Hangout
DESCRIPTION:Time to unwind\, get your homework done\, and hangout with your friends. For ages 8-12.
URL:https://www.lovemylibrary.ca/event/homework-hangout/2022-09-30/
LOCATION:Mount Uniacke Library\, 555\, Highway 1\, Mount Uniacke\, Nova Scotia\, Canada
CATEGORIES:Events For Kids,Location: Mount Uniacke
ATTACH;FMTTYPE=image/png:https://www.lovemylibrary.ca/wp-content/uploads/2022/03/Untitled-design-91.png
END:VEVENT
BEGIN:VEVENT
DTSTART;VALUE=DATE:20221001
DTEND;VALUE=DATE:20221101
DTSTAMP:20260426T012908
CREATED:20220921T190059Z
LAST-MODIFIED:20220921T190059Z
UID:10001380-1664582400-1667260799@www.lovemylibrary.ca
SUMMARY:Take Home Craft Kits
DESCRIPTION:Kits change on a weekly basis and contain all supplies needed to complete the craft. Suitable for preschool and early elementary aged children. \nNo registration is required.
URL:https://www.lovemylibrary.ca/event/take-home-craft-kits-2/
LOCATION:Stewiacke Library\, 295 George Street\, Stewiacke\, Nova Scotia\, Canada
CATEGORIES:Crafting,Events For Kids,Location: Stewiacke
ATTACH;FMTTYPE=image/png:https://www.lovemylibrary.ca/wp-content/uploads/2022/02/Untitled-design-42.png
END:VEVENT
BEGIN:VEVENT
DTSTART;VALUE=DATE:20221001
DTEND;VALUE=DATE:20221101
DTSTAMP:20260426T012908
CREATED:20220922T151847Z
LAST-MODIFIED:20220922T151847Z
UID:10001390-1664582400-1667260799@www.lovemylibrary.ca
SUMMARY:Mi’kmaq History Month Scavenger Hunt
DESCRIPTION:Find images and learn about Mi’kmaq history and culture at the same time. For all ages \nThis is a drop-in program. No registration is required.
URL:https://www.lovemylibrary.ca/event/mikmaq-history-month-scavenger-hunt/
LOCATION:Stewiacke Library\, 295 George Street\, Stewiacke\, Nova Scotia\, Canada
CATEGORIES:Events For Kids,Location: Stewiacke
ATTACH;FMTTYPE=image/png:https://www.lovemylibrary.ca/wp-content/uploads/2022/06/scavenger-hunt-1.png
END:VEVENT
BEGIN:VEVENT
DTSTART;VALUE=DATE:20221001
DTEND;VALUE=DATE:20221101
DTSTAMP:20260426T012908
CREATED:20220922T153821Z
LAST-MODIFIED:20220922T153821Z
UID:10001393-1664582400-1667260799@www.lovemylibrary.ca
SUMMARY:Take and Make Crafts
DESCRIPTION:Weekly take-and-make craft kits are available for pick up in-branch9while supplies last).  Suitable for cildren and adults. \nDrop-in\, no registration required.
URL:https://www.lovemylibrary.ca/event/take-and-make-crafts-5/
LOCATION:Elmsdale Library\, 15 Commerce Ct\, Elmsdale\, Nova Scotia\, Canada
CATEGORIES:Crafting,Events For Adults,Events For Kids,Location: Elmsdale
ATTACH;FMTTYPE=image/png:https://www.lovemylibrary.ca/wp-content/uploads/2022/02/Untitled-design-42.png
END:VEVENT
BEGIN:VEVENT
DTSTART;VALUE=DATE:20221001
DTEND;VALUE=DATE:20221101
DTSTAMP:20260426T012908
CREATED:20220922T192324Z
LAST-MODIFIED:20221214T174832Z
UID:10001419-1664582400-1667260799@www.lovemylibrary.ca
SUMMARY:Take Home Craft Kits
DESCRIPTION:Kits change on a weekly basis and contain all supplies needed to complete the craft. For preschool and early elementary students. \nTo participate\, drop by and pick up your kit.
URL:https://www.lovemylibrary.ca/event/take-home-craft-kits-3/
LOCATION:Stewiacke Library\, 295 George Street\, Stewiacke\, Nova Scotia\, Canada
CATEGORIES:Crafting,Events For Kids,Location: Stewiacke,Location: Tatamagouche
ATTACH;FMTTYPE=image/png:https://www.lovemylibrary.ca/wp-content/uploads/2022/02/Untitled-design-42.png
END:VEVENT
END:VCALENDAR