BEGIN:VCALENDAR
VERSION:2.0
PRODID:-//Colchester East Hants Public Library - ECPv6.15.20//NONSGML v1.0//EN
CALSCALE:GREGORIAN
METHOD:PUBLISH
X-ORIGINAL-URL:https://www.lovemylibrary.ca
X-WR-CALDESC:Events for Colchester East Hants Public Library
REFRESH-INTERVAL;VALUE=DURATION:PT1H
X-Robots-Tag:noindex
X-PUBLISHED-TTL:PT1H
BEGIN:VTIMEZONE
TZID:America/Halifax
BEGIN:DAYLIGHT
TZOFFSETFROM:-0400
TZOFFSETTO:-0300
TZNAME:ADT
DTSTART:20210314T060000
END:DAYLIGHT
BEGIN:STANDARD
TZOFFSETFROM:-0300
TZOFFSETTO:-0400
TZNAME:AST
DTSTART:20211107T050000
END:STANDARD
BEGIN:DAYLIGHT
TZOFFSETFROM:-0400
TZOFFSETTO:-0300
TZNAME:ADT
DTSTART:20220313T060000
END:DAYLIGHT
BEGIN:STANDARD
TZOFFSETFROM:-0300
TZOFFSETTO:-0400
TZNAME:AST
DTSTART:20221106T050000
END:STANDARD
BEGIN:DAYLIGHT
TZOFFSETFROM:-0400
TZOFFSETTO:-0300
TZNAME:ADT
DTSTART:20230312T060000
END:DAYLIGHT
BEGIN:STANDARD
TZOFFSETFROM:-0300
TZOFFSETTO:-0400
TZNAME:AST
DTSTART:20231105T050000
END:STANDARD
END:VTIMEZONE
BEGIN:VEVENT
DTSTART;VALUE=DATE:20220901
DTEND;VALUE=DATE:20221029
DTSTAMP:20260425T202948
CREATED:20220825T142641Z
LAST-MODIFIED:20220825T142641Z
UID:10001321-1661990400-1667001599@www.lovemylibrary.ca
SUMMARY:“The Other Side of Me: Photography & Drawings by Sandra (Sam) Dill” Art Exhibit
DESCRIPTION:Sandra (Sam) Dill has been an avid supporter of community health and well-being through her various roles in nursing and community organizations. Yet unbeknownst to some\, her passion and skill for art are the other side of her\, that also inspire and better her community. Get to know her in a different light through her art exhibit at the Truro Library! \nThis is a drop-in program. No registration is required.  The exhibit may be found on the second floor of the library.\n 
URL:https://www.lovemylibrary.ca/event/the-other-side-of-me-photography-drawings-by-sandra-sam-dill-art-exhibit/
LOCATION:Truro Library\, 754 Prince St\, Truro\, Nova Scotia\, Canada
CATEGORIES:Events For Adults,Events For Kids,Events For Seniors,Events For Teens,Location: Truro
ATTACH;FMTTYPE=image/png:https://www.lovemylibrary.ca/wp-content/uploads/2022/08/Untitled-design-32.png
END:VEVENT
BEGIN:VEVENT
DTSTART;VALUE=DATE:20221001
DTEND;VALUE=DATE:20221101
DTSTAMP:20260425T202948
CREATED:20220921T190059Z
LAST-MODIFIED:20220921T190059Z
UID:10001380-1664582400-1667260799@www.lovemylibrary.ca
SUMMARY:Take Home Craft Kits
DESCRIPTION:Kits change on a weekly basis and contain all supplies needed to complete the craft. Suitable for preschool and early elementary aged children. \nNo registration is required.
URL:https://www.lovemylibrary.ca/event/take-home-craft-kits-2/
LOCATION:Stewiacke Library\, 295 George Street\, Stewiacke\, Nova Scotia\, Canada
CATEGORIES:Crafting,Events For Kids,Location: Stewiacke
ATTACH;FMTTYPE=image/png:https://www.lovemylibrary.ca/wp-content/uploads/2022/02/Untitled-design-42.png
END:VEVENT
BEGIN:VEVENT
DTSTART;VALUE=DATE:20221001
DTEND;VALUE=DATE:20221101
DTSTAMP:20260425T202948
CREATED:20220922T151847Z
LAST-MODIFIED:20220922T151847Z
UID:10001390-1664582400-1667260799@www.lovemylibrary.ca
SUMMARY:Mi’kmaq History Month Scavenger Hunt
DESCRIPTION:Find images and learn about Mi’kmaq history and culture at the same time. For all ages \nThis is a drop-in program. No registration is required.
URL:https://www.lovemylibrary.ca/event/mikmaq-history-month-scavenger-hunt/
LOCATION:Stewiacke Library\, 295 George Street\, Stewiacke\, Nova Scotia\, Canada
CATEGORIES:Events For Kids,Location: Stewiacke
ATTACH;FMTTYPE=image/png:https://www.lovemylibrary.ca/wp-content/uploads/2022/06/scavenger-hunt-1.png
END:VEVENT
BEGIN:VEVENT
DTSTART;VALUE=DATE:20221001
DTEND;VALUE=DATE:20221101
DTSTAMP:20260425T202948
CREATED:20220922T153821Z
LAST-MODIFIED:20220922T153821Z
UID:10001393-1664582400-1667260799@www.lovemylibrary.ca
SUMMARY:Take and Make Crafts
DESCRIPTION:Weekly take-and-make craft kits are available for pick up in-branch9while supplies last).  Suitable for cildren and adults. \nDrop-in\, no registration required.
URL:https://www.lovemylibrary.ca/event/take-and-make-crafts-5/
LOCATION:Elmsdale Library\, 15 Commerce Ct\, Elmsdale\, Nova Scotia\, Canada
CATEGORIES:Crafting,Events For Adults,Events For Kids,Location: Elmsdale
ATTACH;FMTTYPE=image/png:https://www.lovemylibrary.ca/wp-content/uploads/2022/02/Untitled-design-42.png
END:VEVENT
BEGIN:VEVENT
DTSTART;VALUE=DATE:20221001
DTEND;VALUE=DATE:20221101
DTSTAMP:20260425T202948
CREATED:20220922T192324Z
LAST-MODIFIED:20221214T174832Z
UID:10001419-1664582400-1667260799@www.lovemylibrary.ca
SUMMARY:Take Home Craft Kits
DESCRIPTION:Kits change on a weekly basis and contain all supplies needed to complete the craft. For preschool and early elementary students. \nTo participate\, drop by and pick up your kit.
URL:https://www.lovemylibrary.ca/event/take-home-craft-kits-3/
LOCATION:Stewiacke Library\, 295 George Street\, Stewiacke\, Nova Scotia\, Canada
CATEGORIES:Crafting,Events For Kids,Location: Stewiacke,Location: Tatamagouche
ATTACH;FMTTYPE=image/png:https://www.lovemylibrary.ca/wp-content/uploads/2022/02/Untitled-design-42.png
END:VEVENT
BEGIN:VEVENT
DTSTART;VALUE=DATE:20221001
DTEND;VALUE=DATE:20221101
DTSTAMP:20260425T202948
CREATED:20220929T190842Z
LAST-MODIFIED:20221007T191314Z
UID:10001429-1664582400-1667260799@www.lovemylibrary.ca
SUMMARY:Mi’kmaq History Month Scavenger Hunt
DESCRIPTION:Find images and learn about Mi’kmaq history and culture at the same time. All ages are welcome to participate. \nThis is a drop-in program. No registration is required.
URL:https://www.lovemylibrary.ca/event/mikmaq-history-month-scavenger-hunt-2/
LOCATION:Stewiacke Library\, 295 George Street\, Stewiacke\, Nova Scotia\, Canada
CATEGORIES:Events For Kids,Location: Stewiacke
ATTACH;FMTTYPE=image/png:https://www.lovemylibrary.ca/wp-content/uploads/2022/06/scavenger-hunt-1.png
END:VEVENT
BEGIN:VEVENT
DTSTART;VALUE=DATE:20221001
DTEND;VALUE=DATE:20221101
DTSTAMP:20260425T202948
CREATED:20220929T191401Z
LAST-MODIFIED:20220929T191401Z
UID:10001430-1664582400-1667260799@www.lovemylibrary.ca
SUMMARY:Mi’kmaq History Month Scavenger Hunt
DESCRIPTION:Find images and learn about Mi’kmaq history and culture at the same time.All ages are welcome to participate. \nThis is a drop-in program. No registration is required.
URL:https://www.lovemylibrary.ca/event/mikmaq-history-month-scavenger-hunt-3/
LOCATION:Tatamagouche Library\, 170 Main Street\, Tatamagouche\, Nova Scotia\, Canada
CATEGORIES:Events For Kids,Location: Tatamagouche
ATTACH;FMTTYPE=image/png:https://www.lovemylibrary.ca/wp-content/uploads/2022/06/scavenger-hunt-1.png
END:VEVENT
BEGIN:VEVENT
DTSTART;VALUE=DATE:20221025
DTEND;VALUE=DATE:20221030
DTSTAMP:20260425T202948
CREATED:20220922T181236Z
LAST-MODIFIED:20220922T181317Z
UID:10001414-1666656000-1667087999@www.lovemylibrary.ca
SUMMARY:Halloween Scavenger Hunt
DESCRIPTION:Join us at the library in the hunt for spooky treasures. Come dressed in your favourite Halloween costume! \nThis is a drop-in program. No registration is required.
URL:https://www.lovemylibrary.ca/event/halloween-scavenger-hunt/
LOCATION:Elmsdale Library\, 15 Commerce Ct\, Elmsdale\, Nova Scotia\, Canada
CATEGORIES:Events For Kids,Location: Elmsdale
ATTACH;FMTTYPE=image/png:https://www.lovemylibrary.ca/wp-content/uploads/2022/06/scavenger-hunt-1.png
END:VEVENT
BEGIN:VEVENT
DTSTART;TZID=America/Halifax:20221025T123000
DTEND;TZID=America/Halifax:20221025T130000
DTSTAMP:20260425T202948
CREATED:20220406T163620Z
LAST-MODIFIED:20221121T133446Z
UID:10001579-1666701000-1666702800@www.lovemylibrary.ca
SUMMARY:Preschool Storytime
DESCRIPTION:Looking to connect your preschooler with other little ones? Join the gang while we entertain with themed songs\, storybooks and craft time. Drop-ins are always welcome! Ages 3-5.
URL:https://www.lovemylibrary.ca/event/preschool-storytime-2/2022-10-25/
LOCATION:Tatamagouche Library\, 170 Main Street\, Tatamagouche\, Nova Scotia\, Canada
CATEGORIES:Events For Kids,Location: Tatamagouche
ATTACH;FMTTYPE=image/png:https://www.lovemylibrary.ca/wp-content/uploads/2022/04/Untitled-design-98.png
END:VEVENT
BEGIN:VEVENT
DTSTART;TZID=America/Halifax:20221025T140000
DTEND;TZID=America/Halifax:20221025T150000
DTSTAMP:20260425T202948
CREATED:20220330T133247Z
LAST-MODIFIED:20221129T141954Z
UID:10001510-1666706400-1666710000@www.lovemylibrary.ca
SUMMARY:Homework Hangout
DESCRIPTION:Time to unwind\, get your homework done\, and hangout with your friends. For ages 8-12.
URL:https://www.lovemylibrary.ca/event/homework-hangout/2022-10-25/
LOCATION:Mount Uniacke Library\, 555\, Highway 1\, Mount Uniacke\, Nova Scotia\, Canada
CATEGORIES:Events For Kids,Location: Mount Uniacke
ATTACH;FMTTYPE=image/png:https://www.lovemylibrary.ca/wp-content/uploads/2022/03/Untitled-design-91.png
END:VEVENT
BEGIN:VEVENT
DTSTART;TZID=America/Halifax:20221025T173000
DTEND;TZID=America/Halifax:20221025T183000
DTSTAMP:20260425T202948
CREATED:20220922T183615Z
LAST-MODIFIED:20220923T173134Z
UID:10001417-1666719000-1666722600@www.lovemylibrary.ca
SUMMARY:Pumpkin Painting
DESCRIPTION:Save the mess at home. Stop by the library to create your Halloween pumpkin. For ages 5-12 \nTo register\, call 902-657-3064 or email: tatamago@cehpubliclibrary.ca
URL:https://www.lovemylibrary.ca/event/pumpkin-painting/
LOCATION:Tatamagouche Library\, 170 Main Street\, Tatamagouche\, Nova Scotia\, Canada
CATEGORIES:Events For Kids,Location: Tatamagouche
ATTACH;FMTTYPE=application/pdf:https://www.lovemylibrary.ca/wp-content/uploads/2022/09/Untitled-design-8.pdf
END:VEVENT
BEGIN:VEVENT
DTSTART;TZID=America/Halifax:20221025T183000
DTEND;TZID=America/Halifax:20221025T193000
DTSTAMP:20260425T202948
CREATED:20221005T170139Z
LAST-MODIFIED:20221005T170139Z
UID:10001633-1666722600-1666726200@www.lovemylibrary.ca
SUMMARY:Living Two Spirit: Kinuwa’taqnn wukjuit nestatimk (Teachings for understanding)
DESCRIPTION:Presenter Michael Denny will share about living Two Spirit: sharing our stories to continue our traditions\, reconnecting and revitalizing our identity. \nDrop-in\, no registration required. 
URL:https://www.lovemylibrary.ca/event/living-two-spirit-kinuwataqnn-wukjuit-nestatimk-teachings-for-understanding/
LOCATION:Truro Library\, 754 Prince St\, Truro\, Nova Scotia\, Canada
CATEGORIES:Events For Adults,Events For Teens,Location: Truro
ATTACH;FMTTYPE=image/png:https://www.lovemylibrary.ca/wp-content/uploads/2022/10/Michelle-Wambodlt-3.png
END:VEVENT
BEGIN:VEVENT
DTSTART;TZID=America/Halifax:20221025T183000
DTEND;TZID=America/Halifax:20221025T200000
DTSTAMP:20260425T202948
CREATED:20220429T201421Z
LAST-MODIFIED:20221005T121332Z
UID:10001496-1666722600-1666728000@www.lovemylibrary.ca
SUMMARY:Seniors Learn to Knit with Ewe-niacke Yarn Club
DESCRIPTION:Want to learn to knit or crochet? Already know how\, but need a refresher? Not sure what supplies you need? We have everything you need for your first project. Hants Count Senior Safety Association is providing the supplies necessary to start your project. Bring friends or make new friends! \nDrop-in\, no registration required.
URL:https://www.lovemylibrary.ca/event/seniors-learn-to-knit-with-ewe-niacke-yarn-club/2022-10-25/
LOCATION:Mount Uniacke Library\, 555\, Highway 1\, Mount Uniacke\, Nova Scotia\, Canada
CATEGORIES:Events For Adults,Events For Seniors,Location: Mount Uniacke,STEAM
ATTACH;FMTTYPE=image/png:https://www.lovemylibrary.ca/wp-content/uploads/2022/04/Untitled-design-2022-04-29T171348.604.png
END:VEVENT
BEGIN:VEVENT
DTSTART;TZID=America/Halifax:20221025T183000
DTEND;TZID=America/Halifax:20221025T200000
DTSTAMP:20260425T202948
CREATED:20220727T185012Z
LAST-MODIFIED:20221005T121318Z
UID:10001492-1666722600-1666728000@www.lovemylibrary.ca
SUMMARY:Ewe-niacke Yarn Club
DESCRIPTION:Fiber art for all ages and abilities. Learn to knit or crochet\, bring a project you are working on\, or just come hang out with the club for some social time. \nThis is a drop-in program.  No registration is required
URL:https://www.lovemylibrary.ca/event/ewe-niacke-yarn-club-2/2022-10-25/
LOCATION:Mount Uniacke Library\, 555\, Highway 1\, Mount Uniacke\, Nova Scotia\, Canada
CATEGORIES:Crafting,Events For Adults,STEAM
ATTACH;FMTTYPE=image/png:https://www.lovemylibrary.ca/wp-content/uploads/2022/03/Untitled-design-89.png
END:VEVENT
BEGIN:VEVENT
DTSTART;TZID=America/Halifax:20221026T103000
DTEND;TZID=America/Halifax:20221026T110000
DTSTAMP:20260425T202948
CREATED:20220331T145218Z
LAST-MODIFIED:20221005T121424Z
UID:10001500-1666780200-1666782000@www.lovemylibrary.ca
SUMMARY:Preschool Storytime
DESCRIPTION:Join us each week for a story and activity. For ages 3-5. Drop-in\, no registration required.
URL:https://www.lovemylibrary.ca/event/preschool-storytime/2022-10-26/
LOCATION:Mount Uniacke Library\, 555\, Highway 1\, Mount Uniacke\, Nova Scotia\, Canada
CATEGORIES:Events For Kids,Location: Mount Uniacke
ATTACH;FMTTYPE=image/png:https://www.lovemylibrary.ca/wp-content/uploads/2022/03/Untitled-design-95.png
END:VEVENT
BEGIN:VEVENT
DTSTART;TZID=America/Halifax:20221026T143000
DTEND;TZID=America/Halifax:20221026T190000
DTSTAMP:20260425T202948
CREATED:20210830T143625Z
LAST-MODIFIED:20231213T140902Z
UID:10000741-1666794600-1666810800@www.lovemylibrary.ca
SUMMARY:Satellite Library Visit: Kennetcook Fire Hall
DESCRIPTION:Meet us at the Kennetcook Fire Hall where you can browse and borrow materials\, sign up for a Library card\, and hear about our upcoming programs! \n 
URL:https://www.lovemylibrary.ca/event/satellite-library-visit-kennetcook-fire-hall/2022-10-26/
LOCATION:Kennetcook Fire Hall\, 32 Martin Walsh Road\, Kennetcook\, Nova Scotia\, Canada
CATEGORIES:Events For Adults,Events For Kids,Events For Seniors,Events For Teens,Location: Kennetcook
ATTACH;FMTTYPE=image/jpeg:https://www.lovemylibrary.ca/wp-content/uploads/2021/08/16.jpg
END:VEVENT
BEGIN:VEVENT
DTSTART;TZID=America/Halifax:20221026T183000
DTEND;TZID=America/Halifax:20221026T193000
DTSTAMP:20260425T202948
CREATED:20220920T183812Z
LAST-MODIFIED:20220920T183812Z
UID:10001365-1666809000-1666812600@www.lovemylibrary.ca
SUMMARY:Stranger Things Teen Night
DESCRIPTION:Come celebrate Stranger Things\, the ’80s\, Hawkins\, Indiana\, and all things paranormal and supernatural with crafts and games. Share your favorite moments on the show and even wear a costume of your favorite character! For ages 13-18 \nThis is a drop-in program. No registration is required.
URL:https://www.lovemylibrary.ca/event/stranger-things-teen-night/
LOCATION:Truro Library\, 754 Prince St\, Truro\, Nova Scotia\, Canada
CATEGORIES:Events For Teens,Location: Truro
ATTACH;FMTTYPE=image/png:https://www.lovemylibrary.ca/wp-content/uploads/2022/09/Untitled-design-40.png
END:VEVENT
BEGIN:VEVENT
DTSTART;TZID=America/Halifax:20221026T183000
DTEND;TZID=America/Halifax:20221026T193000
DTSTAMP:20260425T202948
CREATED:20220922T152244Z
LAST-MODIFIED:20220922T152244Z
UID:10001391-1666809000-1666812600@www.lovemylibrary.ca
SUMMARY:Crafty Crew - Book Page Pumpkins
DESCRIPTION:If you can’t bear to rip an old book then this is not the craft for you. Join us as we use decoupage to create a unique piece of art. For adults. \nTo register\, email stewiacke@cehpubliclibrary.ca
URL:https://www.lovemylibrary.ca/event/crafty-crew-book-page-pumpkins/
LOCATION:Stewiacke Library\, 295 George Street\, Stewiacke\, Nova Scotia\, Canada
CATEGORIES:Crafting,Events For Adults,Location: Stewiacke
ATTACH;FMTTYPE=image/png:https://www.lovemylibrary.ca/wp-content/uploads/2022/03/Untitled-design-85.png
END:VEVENT
BEGIN:VEVENT
DTSTART;TZID=America/Halifax:20221027T100000
DTEND;TZID=America/Halifax:20221027T110000
DTSTAMP:20260425T202948
CREATED:20220921T175510Z
LAST-MODIFIED:20220921T175510Z
UID:10001370-1666864800-1666868400@www.lovemylibrary.ca
SUMMARY:Author reading with Charis Cotter
DESCRIPTION:Join author Charis Cotter for a creepy tour of the most haunted island in the world.  She will show how traditional ghost stories reflect the landscape\, culture and history of Newfoundland. It will be a spine-chilling good time. \nTo register\, please call 902-895-4183 or email info@cehpubliclibrary.ca  \nRegister 1 spot per household/device. You will be emailed an invitation link to Zoom and instructions at time of registration.
URL:https://www.lovemylibrary.ca/event/author-reading-with-charis-cotter/
LOCATION:Virtual
CATEGORIES:Events For Kids,Location: Virtual
ATTACH;FMTTYPE=image/jpeg:https://www.lovemylibrary.ca/wp-content/uploads/2022/09/chariscotterprofile2-scaled.jpg
END:VEVENT
BEGIN:VEVENT
DTSTART;TZID=America/Halifax:20221027T103000
DTEND;TZID=America/Halifax:20221027T110000
DTSTAMP:20260425T202948
CREATED:20220921T192251Z
LAST-MODIFIED:20221003T145413Z
UID:10001385-1666866600-1666868400@www.lovemylibrary.ca
SUMMARY:Baby Rhyme Time
DESCRIPTION:Discover the joy of songs\, finger plays\, bouncing rhymes and simple books. Infant-2 years old with a caregiver. \nThis is a drop-in program. No registration is required.
URL:https://www.lovemylibrary.ca/event/baby-rhyme-time-5/2022-10-27/
LOCATION:Stewiacke Library\, 295 George Street\, Stewiacke\, Nova Scotia\, Canada
CATEGORIES:Events For Kids,Location: Stewiacke
ATTACH;FMTTYPE=image/png:https://www.lovemylibrary.ca/wp-content/uploads/2022/03/Untitled-design-75.png
END:VEVENT
BEGIN:VEVENT
DTSTART;TZID=America/Halifax:20221027T140000
DTEND;TZID=America/Halifax:20221027T150000
DTSTAMP:20260425T202948
CREATED:20220330T133247Z
LAST-MODIFIED:20221129T141954Z
UID:10001511-1666879200-1666882800@www.lovemylibrary.ca
SUMMARY:Homework Hangout
DESCRIPTION:Time to unwind\, get your homework done\, and hangout with your friends. For ages 8-12.
URL:https://www.lovemylibrary.ca/event/homework-hangout/2022-10-27/
LOCATION:Mount Uniacke Library\, 555\, Highway 1\, Mount Uniacke\, Nova Scotia\, Canada
CATEGORIES:Events For Kids,Location: Mount Uniacke
ATTACH;FMTTYPE=image/png:https://www.lovemylibrary.ca/wp-content/uploads/2022/03/Untitled-design-91.png
END:VEVENT
BEGIN:VEVENT
DTSTART;TZID=America/Halifax:20221027T140000
DTEND;TZID=America/Halifax:20221027T150000
DTSTAMP:20260425T202948
CREATED:20220922T154419Z
LAST-MODIFIED:20220922T154452Z
UID:10001397-1666879200-1666882800@www.lovemylibrary.ca
SUMMARY:Crafty Story Time
DESCRIPTION:Come along and enjoy an hour of fun filled story and craft time. For children ages 3-5 \nTo register call 902-883-9838 or email elmsdale@cehpubliclibrary.ca
URL:https://www.lovemylibrary.ca/event/crafty-story-time/2022-10-27/
LOCATION:Elmsdale Library\, 15 Commerce Ct\, Elmsdale\, Nova Scotia\, Canada
CATEGORIES:Events For Kids,Location: Elmsdale
ATTACH;FMTTYPE=image/png:https://www.lovemylibrary.ca/wp-content/uploads/2022/09/Untitled-design-43.png
END:VEVENT
BEGIN:VEVENT
DTSTART;TZID=America/Halifax:20221027T143000
DTEND;TZID=America/Halifax:20221027T163000
DTSTAMP:20260425T202948
CREATED:20221005T123817Z
LAST-MODIFIED:20221005T123837Z
UID:10001520-1666881000-1666888200@www.lovemylibrary.ca
SUMMARY:Escape the Zombies!
DESCRIPTION:Do you like puzzles? Solving mysteries? Try and solve the puzzles before the zombies take over. \nRegistration by phone (902) 866-0124 or email: mtuniacke@cehpubliclibrary.ca
URL:https://www.lovemylibrary.ca/event/escape-the-zombies/
LOCATION:Mount Uniacke Library\, 555\, Highway 1\, Mount Uniacke\, Nova Scotia\, Canada
CATEGORIES:Events For Kids,Location: Mount Uniacke
ATTACH;FMTTYPE=image/png:https://www.lovemylibrary.ca/wp-content/uploads/2022/09/Untitled-design-37.png
END:VEVENT
BEGIN:VEVENT
DTSTART;TZID=America/Halifax:20221027T153000
DTEND;TZID=America/Halifax:20221027T163000
DTSTAMP:20260425T202948
CREATED:20220920T181421Z
LAST-MODIFIED:20220920T181421Z
UID:10001363-1666884600-1666888200@www.lovemylibrary.ca
SUMMARY:Books Out Loud
DESCRIPTION:Do you enjoy listening to stories? Then this book club is just for you.  Come in\, curl up\, get comfy and listen as we read aloud chapters from a book and then discuss what we have read. For ages 8-12 \nThis is a drop-in program.  No registration is required.
URL:https://www.lovemylibrary.ca/event/books-out-loud/2022-10-27/
LOCATION:Truro Library\, 754 Prince St\, Truro\, Nova Scotia\, Canada
CATEGORIES:Events For Kids,Location: Truro
ATTACH;FMTTYPE=image/png:https://www.lovemylibrary.ca/wp-content/uploads/2022/09/Untitled-design-38.png
END:VEVENT
BEGIN:VEVENT
DTSTART;TZID=America/Halifax:20221027T163000
DTEND;TZID=America/Halifax:20221027T173000
DTSTAMP:20260425T202948
CREATED:20220922T182219Z
LAST-MODIFIED:20221011T121958Z
UID:10001416-1666888200-1666891800@www.lovemylibrary.ca
SUMMARY:Teen Time: Zombie Barbies! (Tatamagouche)
DESCRIPTION:Make your own Zombie Barbie! Inspired by “The Walking Dead” by Robert Kirkman.  For ages 13-18 \nRegistration by phone 902-657-3064 or email: tatamago@cehpubliclibrary.ca
URL:https://www.lovemylibrary.ca/event/teen-time-3/
LOCATION:Tatamagouche Library\, 170 Main Street\, Tatamagouche\, Nova Scotia\, Canada
CATEGORIES:Events For Teens,Location: Tatamagouche
ATTACH;FMTTYPE=image/png:https://www.lovemylibrary.ca/wp-content/uploads/2022/09/Untitled-design-37.png
END:VEVENT
BEGIN:VEVENT
DTSTART;TZID=America/Halifax:20221027T173000
DTEND;TZID=America/Halifax:20221027T193000
DTSTAMP:20260425T202948
CREATED:20220922T155630Z
LAST-MODIFIED:20220922T155630Z
UID:10001404-1666891800-1666899000@www.lovemylibrary.ca
SUMMARY:Adult Board Games Night
DESCRIPTION:Get your game on! Join us for an evening of board games. This is your chance to play some old favourites or learn a new one. For teens and adults. \n 
URL:https://www.lovemylibrary.ca/event/adult-board-games-night-4/2022-10-27/
LOCATION:Nova Scotia
CATEGORIES:Events For Adults,Events For Teens,Location: Elmsdale
ATTACH;FMTTYPE=image/png:https://www.lovemylibrary.ca/wp-content/uploads/2022/06/Untitled-700-×-500-px.png
END:VEVENT
BEGIN:VEVENT
DTSTART;TZID=America/Halifax:20221027T180000
DTEND;TZID=America/Halifax:20221027T193000
DTSTAMP:20260425T202948
CREATED:20220922T194433Z
LAST-MODIFIED:20221011T122118Z
UID:10001422-1666893600-1666899000@www.lovemylibrary.ca
SUMMARY:Intro to Ukulele
DESCRIPTION:Would like to learn to play or advance your skills? Join us at the library for a ukulele night with Lyn. All adults welcome. \nRegistration by phone 902-657-3064 or email: tatamago@cehpubliclibrary.ca
URL:https://www.lovemylibrary.ca/event/intro-to-ukulele/
LOCATION:Tatamagouche Library\, 170 Main Street\, Tatamagouche\, Nova Scotia\, Canada
CATEGORIES:Events For Adults,Events For Seniors,Location: Tatamagouche
ATTACH;FMTTYPE=image/png:https://www.lovemylibrary.ca/wp-content/uploads/2022/09/Untitled-design-47.png
END:VEVENT
BEGIN:VEVENT
DTSTART;TZID=America/Halifax:20221027T183000
DTEND;TZID=America/Halifax:20221027T193000
DTSTAMP:20260425T202948
CREATED:20220921T182510Z
LAST-MODIFIED:20220923T173234Z
UID:10001373-1666895400-1666899000@www.lovemylibrary.ca
SUMMARY:Teen Time: Zombie Barbies! (Stewiacke)
DESCRIPTION:Make your own Zombie Barbie! Inspired by “The Walking Dead” by Robert Kirkman. For ages 13-18 \nThis is a drop-in program. No registration is required.
URL:https://www.lovemylibrary.ca/event/teen-time-2/
LOCATION:Stewiacke Library\, 295 George Street\, Stewiacke\, Nova Scotia\, Canada
CATEGORIES:Events For Teens,Location: Stewiacke
ATTACH;FMTTYPE=image/png:https://www.lovemylibrary.ca/wp-content/uploads/2022/09/Untitled-design-37.png
END:VEVENT
BEGIN:VEVENT
DTSTART;TZID=America/Halifax:20221028T100000
DTEND;TZID=America/Halifax:20221028T110000
DTSTAMP:20260425T202948
CREATED:20220921T184423Z
LAST-MODIFIED:20220921T184423Z
UID:10001379-1666951200-1666954800@www.lovemylibrary.ca
SUMMARY:Walking Club
DESCRIPTION:Mind your distance! Meet at the library at 10 and enjoy a walk around town. \nThis is a drop-in program. No registration is required.
URL:https://www.lovemylibrary.ca/event/walking-club-4/2022-10-28/
LOCATION:Stewiacke Library\, 295 George Street\, Stewiacke\, Nova Scotia\, Canada
CATEGORIES:Events For Adults,Location: Stewiacke
ATTACH;FMTTYPE=image/png:https://www.lovemylibrary.ca/wp-content/uploads/2022/05/Untitled-design-2022-05-02T165147.740.png
END:VEVENT
BEGIN:VEVENT
DTSTART;TZID=America/Halifax:20221028T100000
DTEND;TZID=America/Halifax:20221028T120000
DTSTAMP:20260425T202948
CREATED:20220922T155003Z
LAST-MODIFIED:20220922T155003Z
UID:10001401-1666951200-1666958400@www.lovemylibrary.ca
SUMMARY:One on One Tech Help
DESCRIPTION:Issues with your phone? Laptop? Social Media? Meet in-person with our digital literacy trainer to get your tech questions answered. For adults. \nPlease call 902-883-9838 or email at elmsdale@cehpubliclibrary.ca to book an appointment
URL:https://www.lovemylibrary.ca/event/one-on-one-tech-help-6/2022-10-28/
LOCATION:Elmsdale Library\, 15 Commerce Ct\, Elmsdale\, Nova Scotia\, Canada
CATEGORIES:Events For Adults,Events For Seniors,Location: Elmsdale
ATTACH;FMTTYPE=image/png:https://www.lovemylibrary.ca/wp-content/uploads/2022/03/Untitled-design-80.png
END:VEVENT
END:VCALENDAR