BEGIN:VCALENDAR
VERSION:2.0
PRODID:-//Colchester East Hants Public Library - ECPv6.15.20//NONSGML v1.0//EN
CALSCALE:GREGORIAN
METHOD:PUBLISH
X-ORIGINAL-URL:https://www.lovemylibrary.ca
X-WR-CALDESC:Events for Colchester East Hants Public Library
REFRESH-INTERVAL;VALUE=DURATION:PT1H
X-Robots-Tag:noindex
X-PUBLISHED-TTL:PT1H
BEGIN:VTIMEZONE
TZID:America/Halifax
BEGIN:DAYLIGHT
TZOFFSETFROM:-0400
TZOFFSETTO:-0300
TZNAME:ADT
DTSTART:20210314T060000
END:DAYLIGHT
BEGIN:STANDARD
TZOFFSETFROM:-0300
TZOFFSETTO:-0400
TZNAME:AST
DTSTART:20211107T050000
END:STANDARD
BEGIN:DAYLIGHT
TZOFFSETFROM:-0400
TZOFFSETTO:-0300
TZNAME:ADT
DTSTART:20220313T060000
END:DAYLIGHT
BEGIN:STANDARD
TZOFFSETFROM:-0300
TZOFFSETTO:-0400
TZNAME:AST
DTSTART:20221106T050000
END:STANDARD
BEGIN:DAYLIGHT
TZOFFSETFROM:-0400
TZOFFSETTO:-0300
TZNAME:ADT
DTSTART:20230312T060000
END:DAYLIGHT
BEGIN:STANDARD
TZOFFSETFROM:-0300
TZOFFSETTO:-0400
TZNAME:AST
DTSTART:20231105T050000
END:STANDARD
END:VTIMEZONE
BEGIN:VEVENT
DTSTART;VALUE=DATE:20221101
DTEND;VALUE=DATE:20221201
DTSTAMP:20260425T090132
CREATED:20221020T174354Z
LAST-MODIFIED:20221020T174354Z
UID:10002060-1667260800-1669852799@www.lovemylibrary.ca
SUMMARY:Celebrate Picture Book Month!
DESCRIPTION:We have bundles of picture books for you to select from and enjoy! Happy Reading! \nThis is a drop-in program. No registration is required.
URL:https://www.lovemylibrary.ca/event/celebrate-picture-book-month/
LOCATION:Elmsdale Library\, 15 Commerce Ct\, Elmsdale\, Nova Scotia\, Canada
CATEGORIES:Events For Kids,Location: Elmsdale
ATTACH;FMTTYPE=image/png:https://www.lovemylibrary.ca/wp-content/uploads/2022/10/Untitled-design-50.png
END:VEVENT
BEGIN:VEVENT
DTSTART;VALUE=DATE:20221101
DTEND;VALUE=DATE:20221201
DTSTAMP:20260425T090132
CREATED:20221021T184840Z
LAST-MODIFIED:20221021T184840Z
UID:10002267-1667260800-1669852799@www.lovemylibrary.ca
SUMMARY:Monthly Scavenger Hunt
DESCRIPTION:How observant are you? Come in and find images and objects around the Library! \nAll ages are welcome to participate. \nDrop in\, no registration is required.
URL:https://www.lovemylibrary.ca/event/monthly-scavenger-hunt/
LOCATION:Tatamagouche Library\, 170 Main Street\, Tatamagouche\, Nova Scotia\, Canada
ATTACH;FMTTYPE=image/png:https://www.lovemylibrary.ca/wp-content/uploads/2022/06/scavenger-hunt-1.png
END:VEVENT
BEGIN:VEVENT
DTSTART;VALUE=DATE:20221101
DTEND;VALUE=DATE:20221230
DTSTAMP:20260425T090132
CREATED:20221026T173741Z
LAST-MODIFIED:20221026T173741Z
UID:10002293-1667260800-1672358399@www.lovemylibrary.ca
SUMMARY:Joy Laking & Susan Paterson Art Exhibit
DESCRIPTION:Nova Scotia artists Joy Laking and Susan Paterson are the creators behind the art exhibit running through November and December at the Truro Library! Come and see their artwork on the second floor of the library. They will be on site to talk with you about their art and the inspiration behind the exhibit on Saturday\, November 12 @2-4pm. \nThis is a drop-in program. No registration is required.
URL:https://www.lovemylibrary.ca/event/joy-laking-susan-paterson-art-exhibit/
LOCATION:Truro Library\, 754 Prince St\, Truro\, Nova Scotia\, Canada
CATEGORIES:Events For Adults,Events For Kids,Events For Seniors,Events For Teens,Location: Truro
ATTACH;FMTTYPE=image/png:https://www.lovemylibrary.ca/wp-content/uploads/2022/10/Untitled-design-23.png
END:VEVENT
BEGIN:VEVENT
DTSTART;TZID=America/Halifax:20221128T133000
DTEND;TZID=America/Halifax:20221128T163000
DTSTAMP:20260425T090132
CREATED:20221026T175545Z
LAST-MODIFIED:20230919T182903Z
UID:10002353-1669642200-1669653000@www.lovemylibrary.ca
SUMMARY:Scrabble Group
DESCRIPTION:What spells F-U-N? Playing Scrabble with friends! \nThis is a drop-in program.  No registration is required.
URL:https://www.lovemylibrary.ca/event/scrabble-group-3-2/2022-11-28/
LOCATION:Truro Library\, 754 Prince St\, Truro\, Nova Scotia\, Canada
CATEGORIES:Events For Adults,Events For Seniors,Location: Truro
ATTACH;FMTTYPE=image/png:https://www.lovemylibrary.ca/wp-content/uploads/2022/05/Add-a-subheading-700-×-500-px-3.png
END:VEVENT
BEGIN:VEVENT
DTSTART;TZID=America/Halifax:20221129T080000
DTEND;TZID=America/Halifax:20221129T170000
DTSTAMP:20260425T090132
CREATED:20221129T151524Z
LAST-MODIFIED:20221129T151524Z
UID:10002544-1669708800-1669741200@www.lovemylibrary.ca
SUMMARY:Photography Club
DESCRIPTION:Learn some tips and tricks with local photographers\, including Al Eastman. Ages 18+ \nThis is a drop-in program. Registration is not required.
URL:https://www.lovemylibrary.ca/event/photography-club/
LOCATION:Stewiacke Library\, 295 George Street\, Stewiacke\, Nova Scotia\, Canada
CATEGORIES:Events For Adults,Events For Seniors,Location: Stewiacke
ATTACH;FMTTYPE=image/png:https://www.lovemylibrary.ca/wp-content/uploads/2022/11/Untitled-design-2022-11-29T111821.809.png
END:VEVENT
BEGIN:VEVENT
DTSTART;TZID=America/Halifax:20221129T123000
DTEND;TZID=America/Halifax:20221129T130000
DTSTAMP:20260425T090132
CREATED:20220406T163620Z
LAST-MODIFIED:20221121T133446Z
UID:10001584-1669725000-1669726800@www.lovemylibrary.ca
SUMMARY:Preschool Storytime
DESCRIPTION:Looking to connect your preschooler with other little ones? Join the gang while we entertain with themed songs\, storybooks and craft time. Drop-ins are always welcome! Ages 3-5.
URL:https://www.lovemylibrary.ca/event/preschool-storytime-2/2022-11-29/
LOCATION:Tatamagouche Library\, 170 Main Street\, Tatamagouche\, Nova Scotia\, Canada
CATEGORIES:Events For Kids,Location: Tatamagouche
ATTACH;FMTTYPE=image/png:https://www.lovemylibrary.ca/wp-content/uploads/2022/04/Untitled-design-98.png
END:VEVENT
BEGIN:VEVENT
DTSTART;TZID=America/Halifax:20221129T140000
DTEND;TZID=America/Halifax:20221129T150000
DTSTAMP:20260425T090132
CREATED:20220330T133247Z
LAST-MODIFIED:20221129T141954Z
UID:10002517-1669730400-1669734000@www.lovemylibrary.ca
SUMMARY:Homework Hangout
DESCRIPTION:Time to unwind\, get your homework done\, and hangout with your friends. For ages 8-12.
URL:https://www.lovemylibrary.ca/event/homework-hangout/2022-11-29/
LOCATION:Mount Uniacke Library\, 555\, Highway 1\, Mount Uniacke\, Nova Scotia\, Canada
CATEGORIES:Events For Kids,Location: Mount Uniacke
ATTACH;FMTTYPE=image/png:https://www.lovemylibrary.ca/wp-content/uploads/2022/03/Untitled-design-91.png
END:VEVENT
BEGIN:VEVENT
DTSTART;TZID=America/Halifax:20221129T183000
DTEND;TZID=America/Halifax:20221129T200000
DTSTAMP:20260425T090132
CREATED:20221020T193052Z
LAST-MODIFIED:20230926T211554Z
UID:10002196-1669746600-1669752000@www.lovemylibrary.ca
SUMMARY:Ewe-niacke Yarn Club
DESCRIPTION:Fiber art for all ages and abilities. Learn to knit or crochet\, bring a project you are working on\, or just come hang out with the club for some social time. All ages welcome. \nDrop in\, no registration required.
URL:https://www.lovemylibrary.ca/event/ewe-niacke-yarn-club-3/2022-11-29/
LOCATION:Mount Uniacke Library\, 555\, Highway 1\, Mount Uniacke\, Nova Scotia\, Canada
CATEGORIES:Crafting,Events For Adults,Events For Kids,Events For Seniors,Location: Mount Uniacke
ATTACH;FMTTYPE=image/png:https://www.lovemylibrary.ca/wp-content/uploads/2022/03/Untitled-design-89.png
END:VEVENT
BEGIN:VEVENT
DTSTART;TZID=America/Halifax:20221129T183000
DTEND;TZID=America/Halifax:20221129T200000
DTSTAMP:20260425T090132
CREATED:20221020T195846Z
LAST-MODIFIED:20230222T184014Z
UID:10002201-1669746600-1669752000@www.lovemylibrary.ca
SUMMARY:Seniors Learn to Knit with Ewe-niacke Yarn Club
DESCRIPTION:Want to learn to knit or crochet? Already know how\, but need a refresher? Not sure what supplies you need? We have everything you need for your first project. Hants Count Senior Safety Association is providing the supplies necessary to start your project. \nDrop in\, no registration required.
URL:https://www.lovemylibrary.ca/event/seniors-learn-to-knit-with-ewe-niacke-yarn-club-2/2022-11-29/
LOCATION:Mount Uniacke Library\, 555\, Highway 1\, Mount Uniacke\, Nova Scotia\, Canada
CATEGORIES:Events For Seniors,Location: Mount Uniacke
ATTACH;FMTTYPE=image/png:https://www.lovemylibrary.ca/wp-content/uploads/2022/04/Untitled-design-2022-04-29T171348.604.png
END:VEVENT
BEGIN:VEVENT
DTSTART;TZID=America/Halifax:20221130T103000
DTEND;TZID=America/Halifax:20221130T110000
DTSTAMP:20260425T090132
CREATED:20221020T175929Z
LAST-MODIFIED:20221129T141902Z
UID:10002125-1669804200-1669806000@www.lovemylibrary.ca
SUMMARY:Storytime
DESCRIPTION:Join Karri or Bernie for a story and activity.For pre schoolers and home schoolers. \nThis is a drop-in program. No registration is required.
URL:https://www.lovemylibrary.ca/event/storytime-4/2022-11-30/
LOCATION:Mount Uniacke Library\, 555\, Highway 1\, Mount Uniacke\, Nova Scotia\, Canada
CATEGORIES:Events For Kids,Location: Mount Uniacke
ATTACH;FMTTYPE=image/png:https://www.lovemylibrary.ca/wp-content/uploads/2022/05/Untitled-design-2.png
END:VEVENT
BEGIN:VEVENT
DTSTART;TZID=America/Halifax:20221130T143000
DTEND;TZID=America/Halifax:20221130T190000
DTSTAMP:20260425T090132
CREATED:20210830T161210Z
LAST-MODIFIED:20231213T141030Z
UID:10000767-1669818600-1669834800@www.lovemylibrary.ca
SUMMARY:Satellite Library Visit: Middle Stewiacke Recreation Centre
DESCRIPTION:Meet us at the Middle Stewiacke Recreation Centre where you can browse and borrow materials\, sign up for a Library card\, and use the public WiFi!
URL:https://www.lovemylibrary.ca/event/satellite-library-visit-middle-stewiacke-recreation-centre/2022-11-30/
LOCATION:Middle Stewiacke Recreation Centre\, 2395 Highway 289\, Middle Stewiacke\, Nova Scotia\, Canada
CATEGORIES:Events For Adults,Events For Kids,Events For Seniors,Events For Teens,Location: Middle Stewiacke
ATTACH;FMTTYPE=image/jpeg:https://www.lovemylibrary.ca/wp-content/uploads/2021/08/16.jpg
END:VEVENT
BEGIN:VEVENT
DTSTART;VALUE=DATE:20221201
DTEND;VALUE=DATE:20230101
DTSTAMP:20260425T090132
CREATED:20221025T220846Z
LAST-MODIFIED:20221125T193944Z
UID:10002278-1669852800-1672531199@www.lovemylibrary.ca
SUMMARY:Holiday Scavenger Hunt
DESCRIPTION:Test your detective skills and help us find hidden holiday items in the library!  All ages are welcome to participate. \nThis is a drop-in program. No registration is required.
URL:https://www.lovemylibrary.ca/event/picture-book-month-scavenger-hunt/
LOCATION:Truro Library\, 754 Prince St\, Truro\, Nova Scotia\, Canada
CATEGORIES:Events For Kids,Location: Truro
ATTACH;FMTTYPE=image/png:https://www.lovemylibrary.ca/wp-content/uploads/2022/06/scavenger-hunt-1.png
END:VEVENT
BEGIN:VEVENT
DTSTART;VALUE=DATE:20221201
DTEND;VALUE=DATE:20230101
DTSTAMP:20260425T090132
CREATED:20221129T135632Z
LAST-MODIFIED:20221130T180106Z
UID:10002497-1669852800-1672531199@www.lovemylibrary.ca
SUMMARY:Elf on the Shelf Scavenger Hunt
DESCRIPTION:Test your detective skills with our Elf on the Shelf scavenger hunt. All ages are welcome to participate. \nThis is a drop-in program. No registration is required.
URL:https://www.lovemylibrary.ca/event/elf-on-the-shelf-scavenger-hunt/
LOCATION:Tatamagouche Library\, 170 Main Street\, Tatamagouche\, Nova Scotia\, Canada
CATEGORIES:Events For Kids,Location: Tatamagouche
ATTACH;FMTTYPE=image/png:https://www.lovemylibrary.ca/wp-content/uploads/2022/11/Untitled-design-2022-11-29T095918.902.png
END:VEVENT
BEGIN:VEVENT
DTSTART;TZID=America/Halifax:20221201T140000
DTEND;TZID=America/Halifax:20221201T150000
DTSTAMP:20260425T090132
CREATED:20220330T133247Z
LAST-MODIFIED:20221129T141954Z
UID:10002518-1669903200-1669906800@www.lovemylibrary.ca
SUMMARY:Homework Hangout
DESCRIPTION:Time to unwind\, get your homework done\, and hangout with your friends. For ages 8-12.
URL:https://www.lovemylibrary.ca/event/homework-hangout/2022-12-01/
LOCATION:Mount Uniacke Library\, 555\, Highway 1\, Mount Uniacke\, Nova Scotia\, Canada
CATEGORIES:Events For Kids,Location: Mount Uniacke
ATTACH;FMTTYPE=image/png:https://www.lovemylibrary.ca/wp-content/uploads/2022/03/Untitled-design-91.png
END:VEVENT
BEGIN:VEVENT
DTSTART;TZID=America/Halifax:20221201T144500
DTEND;TZID=America/Halifax:20221201T170000
DTSTAMP:20260425T090132
CREATED:20221021T180121Z
LAST-MODIFIED:20230525T180406Z
UID:10004204-1669905900-1669914000@www.lovemylibrary.ca
SUMMARY:Dungeons and Dragons
DESCRIPTION:The campaign is going to be an adventure of a group of fighters\, trying to complete 20 challenges\, each harder than the next. Ages 12-16. \nRegistration by phone 902-657-3064 or email: tatamago@cehpubliclibrary.ca
URL:https://www.lovemylibrary.ca/event/d-d-group/2022-12-01/
LOCATION:Tatamagouche Library\, 170 Main Street\, Tatamagouche\, Nova Scotia\, Canada
CATEGORIES:Events For Kids,Events For Teens,Location: Tatamagouche
ATTACH;FMTTYPE=image/png:https://www.lovemylibrary.ca/wp-content/uploads/2022/06/D-and-D.png
END:VEVENT
BEGIN:VEVENT
DTSTART;TZID=America/Halifax:20221201T150000
DTEND;TZID=America/Halifax:20221201T163000
DTSTAMP:20260425T090132
CREATED:20221125T195407Z
LAST-MODIFIED:20221125T195407Z
UID:10002427-1669906800-1669912200@www.lovemylibrary.ca
SUMMARY:Santa’s Helpers
DESCRIPTION:Have you ever wanted to be an Elf? Join us on December 1st from 3:00 – 4:30 to help us do some holiday wrapping. For ages 14+ \nThis is a drop in program. No registration is required.
URL:https://www.lovemylibrary.ca/event/santas-helpers/
LOCATION:Truro Library\, 754 Prince St\, Truro\, Nova Scotia\, Canada
CATEGORIES:Events For Adults,Events For Seniors,Events For Teens,Location: Truro
ATTACH;FMTTYPE=image/png:https://www.lovemylibrary.ca/wp-content/uploads/2022/11/Untitled-design-31.png
END:VEVENT
BEGIN:VEVENT
DTSTART;TZID=America/Halifax:20221202T100000
DTEND;TZID=America/Halifax:20221202T120000
DTSTAMP:20260425T090132
CREATED:20221019T195514Z
LAST-MODIFIED:20230118T200434Z
UID:10001897-1669975200-1669982400@www.lovemylibrary.ca
SUMMARY:One on One Tech Help
DESCRIPTION:Issues with your phone? Laptop? Social Media? Meet in-person with our digital literacy trainer to get your tech questions answered. \nPlease call 902-883-9838 or email at elmsdale@cehpubliclibrary.ca to book an appointment
URL:https://www.lovemylibrary.ca/event/one-on-one-tech-help-7/2022-12-02/
LOCATION:Elmsdale Library\, 15 Commerce Ct\, Elmsdale\, Nova Scotia\, Canada
CATEGORIES:Events For Adults,Location: Elmsdale
ATTACH;FMTTYPE=image/png:https://www.lovemylibrary.ca/wp-content/uploads/2022/03/Untitled-design-80.png
END:VEVENT
BEGIN:VEVENT
DTSTART;TZID=America/Halifax:20221202T100000
DTEND;TZID=America/Halifax:20221202T163000
DTSTAMP:20260425T090132
CREATED:20221118T205519Z
LAST-MODIFIED:20230524T173127Z
UID:10002417-1669975200-1669998600@www.lovemylibrary.ca
SUMMARY:Employment Services
DESCRIPTION:Need help getting hired or promoted? Learn to communicate your value and skills. Valerie Manuel\, Career Practitoner with Nova Scotia Works and YMCA of Greater Halifax/Dartmouth will be available to assist you. For ages 16+ \nDrop In or register at valerie.manuel@halifax.ymca.ca
URL:https://www.lovemylibrary.ca/event/employment-services/2022-12-02/
LOCATION:Stewiacke Library\, 295 George Street\, Stewiacke\, Nova Scotia\, Canada
CATEGORIES:Events For Adults,Events For Teens,Location: Stewiacke
ATTACH;FMTTYPE=image/png:https://www.lovemylibrary.ca/wp-content/uploads/2022/10/Untitled-design-49.png
END:VEVENT
BEGIN:VEVENT
DTSTART;TZID=America/Halifax:20221202T103000
DTEND;TZID=America/Halifax:20221202T110000
DTSTAMP:20260425T090132
CREATED:20221018T160756Z
LAST-MODIFIED:20221118T203945Z
UID:10001780-1669977000-1669978800@www.lovemylibrary.ca
SUMMARY:Picture Book Junction
DESCRIPTION:Fun and Interactive! Share the magic of stories\, songs and crafts. Suitable For 3-5 year olds with a caregiver \nThis is a drop-in program. No registration is required.
URL:https://www.lovemylibrary.ca/event/picture-book-junction-5/2022-12-02/
LOCATION:Stewiacke Library\, 295 George Street\, Stewiacke\, Nova Scotia\, Canada
CATEGORIES:Events For Kids,Location: Stewiacke
ATTACH;FMTTYPE=image/png:https://www.lovemylibrary.ca/wp-content/uploads/2022/03/Untitled-design-81.png
END:VEVENT
BEGIN:VEVENT
DTSTART;TZID=America/Halifax:20221202T140000
DTEND;TZID=America/Halifax:20221202T150000
DTSTAMP:20260425T090132
CREATED:20220330T133247Z
LAST-MODIFIED:20221129T141954Z
UID:10002519-1669989600-1669993200@www.lovemylibrary.ca
SUMMARY:Homework Hangout
DESCRIPTION:Time to unwind\, get your homework done\, and hangout with your friends. For ages 8-12.
URL:https://www.lovemylibrary.ca/event/homework-hangout/2022-12-02/
LOCATION:Mount Uniacke Library\, 555\, Highway 1\, Mount Uniacke\, Nova Scotia\, Canada
CATEGORIES:Events For Kids,Location: Mount Uniacke
ATTACH;FMTTYPE=image/png:https://www.lovemylibrary.ca/wp-content/uploads/2022/03/Untitled-design-91.png
END:VEVENT
BEGIN:VEVENT
DTSTART;TZID=America/Halifax:20221202T140000
DTEND;TZID=America/Halifax:20221202T150000
DTSTAMP:20260425T090132
CREATED:20221018T154438Z
LAST-MODIFIED:20230524T173018Z
UID:10001666-1669989600-1669993200@www.lovemylibrary.ca
SUMMARY:Walking Club
DESCRIPTION:Mind your distance! Strava will map our walk\, record distance and provide a satellite image.Meet at the library at 2 and enjoy a walk around town. All adults welcome. \nThis is a drop-in program. No registration is required.
URL:https://www.lovemylibrary.ca/event/walking-club-5/2022-12-02/
LOCATION:Stewiacke Library\, 295 George Street\, Stewiacke\, Nova Scotia\, Canada
CATEGORIES:Events For Adults,Events For Seniors,Location: Stewiacke
ATTACH;FMTTYPE=image/png:https://www.lovemylibrary.ca/wp-content/uploads/2022/05/Untitled-design-2022-05-02T165147.740.png
END:VEVENT
BEGIN:VEVENT
DTSTART;TZID=America/Halifax:20221203T100000
DTEND;TZID=America/Halifax:20221203T113000
DTSTAMP:20260425T090132
CREATED:20221115T235230Z
LAST-MODIFIED:20221115T235230Z
UID:10002355-1670061600-1670067000@www.lovemylibrary.ca
SUMMARY:Winter Swag
DESCRIPTION:Learn how to make winter swags using fresh brush collected locally and sustainably. This is an adult program \nHow to Participate:  Register by calling 902-895-4183 or info@cehpubliclibrary.ca
URL:https://www.lovemylibrary.ca/event/winter-swag/
LOCATION:Truro Library\, 754 Prince St\, Truro\, Nova Scotia\, Canada
CATEGORIES:Crafting,Events For Adults,Events For Seniors,Location: Truro
ATTACH;FMTTYPE=image/png:https://www.lovemylibrary.ca/wp-content/uploads/2022/11/Untitled-design-26.png
END:VEVENT
END:VCALENDAR