BEGIN:VCALENDAR
VERSION:2.0
PRODID:-//Colchester East Hants Public Library - ECPv6.15.20//NONSGML v1.0//EN
CALSCALE:GREGORIAN
METHOD:PUBLISH
X-WR-CALNAME:Colchester East Hants Public Library
X-ORIGINAL-URL:https://www.lovemylibrary.ca
X-WR-CALDESC:Events for Colchester East Hants Public Library
REFRESH-INTERVAL;VALUE=DURATION:PT1H
X-Robots-Tag:noindex
X-PUBLISHED-TTL:PT1H
BEGIN:VTIMEZONE
TZID:America/Halifax
BEGIN:DAYLIGHT
TZOFFSETFROM:-0400
TZOFFSETTO:-0300
TZNAME:ADT
DTSTART:20210314T060000
END:DAYLIGHT
BEGIN:STANDARD
TZOFFSETFROM:-0300
TZOFFSETTO:-0400
TZNAME:AST
DTSTART:20211107T050000
END:STANDARD
BEGIN:DAYLIGHT
TZOFFSETFROM:-0400
TZOFFSETTO:-0300
TZNAME:ADT
DTSTART:20220313T060000
END:DAYLIGHT
BEGIN:STANDARD
TZOFFSETFROM:-0300
TZOFFSETTO:-0400
TZNAME:AST
DTSTART:20221106T050000
END:STANDARD
BEGIN:DAYLIGHT
TZOFFSETFROM:-0400
TZOFFSETTO:-0300
TZNAME:ADT
DTSTART:20230312T060000
END:DAYLIGHT
BEGIN:STANDARD
TZOFFSETFROM:-0300
TZOFFSETTO:-0400
TZNAME:AST
DTSTART:20231105T050000
END:STANDARD
END:VTIMEZONE
BEGIN:VEVENT
DTSTART;VALUE=DATE:20221101
DTEND;VALUE=DATE:20221230
DTSTAMP:20260425T072632
CREATED:20221026T173741Z
LAST-MODIFIED:20221026T173741Z
UID:10002293-1667260800-1672358399@www.lovemylibrary.ca
SUMMARY:Joy Laking & Susan Paterson Art Exhibit
DESCRIPTION:Nova Scotia artists Joy Laking and Susan Paterson are the creators behind the art exhibit running through November and December at the Truro Library! Come and see their artwork on the second floor of the library. They will be on site to talk with you about their art and the inspiration behind the exhibit on Saturday\, November 12 @2-4pm. \nThis is a drop-in program. No registration is required.
URL:https://www.lovemylibrary.ca/event/joy-laking-susan-paterson-art-exhibit/
LOCATION:Truro Library\, 754 Prince St\, Truro\, Nova Scotia\, Canada
CATEGORIES:Events For Adults,Events For Kids,Events For Seniors,Events For Teens,Location: Truro
ATTACH;FMTTYPE=image/png:https://www.lovemylibrary.ca/wp-content/uploads/2022/10/Untitled-design-23.png
END:VEVENT
BEGIN:VEVENT
DTSTART;VALUE=DATE:20221201
DTEND;VALUE=DATE:20230101
DTSTAMP:20260425T072632
CREATED:20221025T220846Z
LAST-MODIFIED:20221125T193944Z
UID:10002278-1669852800-1672531199@www.lovemylibrary.ca
SUMMARY:Holiday Scavenger Hunt
DESCRIPTION:Test your detective skills and help us find hidden holiday items in the library!  All ages are welcome to participate. \nThis is a drop-in program. No registration is required.
URL:https://www.lovemylibrary.ca/event/picture-book-month-scavenger-hunt/
LOCATION:Truro Library\, 754 Prince St\, Truro\, Nova Scotia\, Canada
CATEGORIES:Events For Kids,Location: Truro
ATTACH;FMTTYPE=image/png:https://www.lovemylibrary.ca/wp-content/uploads/2022/06/scavenger-hunt-1.png
END:VEVENT
BEGIN:VEVENT
DTSTART;VALUE=DATE:20221201
DTEND;VALUE=DATE:20230101
DTSTAMP:20260425T072632
CREATED:20221129T135632Z
LAST-MODIFIED:20221130T180106Z
UID:10002497-1669852800-1672531199@www.lovemylibrary.ca
SUMMARY:Elf on the Shelf Scavenger Hunt
DESCRIPTION:Test your detective skills with our Elf on the Shelf scavenger hunt. All ages are welcome to participate. \nThis is a drop-in program. No registration is required.
URL:https://www.lovemylibrary.ca/event/elf-on-the-shelf-scavenger-hunt/
LOCATION:Tatamagouche Library\, 170 Main Street\, Tatamagouche\, Nova Scotia\, Canada
CATEGORIES:Events For Kids,Location: Tatamagouche
ATTACH;FMTTYPE=image/png:https://www.lovemylibrary.ca/wp-content/uploads/2022/11/Untitled-design-2022-11-29T095918.902.png
END:VEVENT
BEGIN:VEVENT
DTSTART;TZID=America/Halifax:20221212T133000
DTEND;TZID=America/Halifax:20221212T163000
DTSTAMP:20260425T072632
CREATED:20221026T175545Z
LAST-MODIFIED:20230919T182903Z
UID:10002359-1670851800-1670862600@www.lovemylibrary.ca
SUMMARY:Scrabble Group
DESCRIPTION:What spells F-U-N? Playing Scrabble with friends! \nThis is a drop-in program.  No registration is required.
URL:https://www.lovemylibrary.ca/event/scrabble-group-3-2/2022-12-12/
LOCATION:Truro Library\, 754 Prince St\, Truro\, Nova Scotia\, Canada
CATEGORIES:Events For Adults,Events For Seniors,Location: Truro
ATTACH;FMTTYPE=image/png:https://www.lovemylibrary.ca/wp-content/uploads/2022/05/Add-a-subheading-700-×-500-px-3.png
END:VEVENT
BEGIN:VEVENT
DTSTART;TZID=America/Halifax:20221212T173000
DTEND;TZID=America/Halifax:20221212T193000
DTSTAMP:20260425T072632
CREATED:20221020T172838Z
LAST-MODIFIED:20230215T202420Z
UID:10003595-1670866200-1670873400@www.lovemylibrary.ca
SUMMARY:Adult Board Games Night
DESCRIPTION:Get your game on! Come on out for an evening of board games. This is your chance to play some old favourites or learn a new one. For teens and adults. \nThis is a drop-in program. No registration is required.
URL:https://www.lovemylibrary.ca/event/adult-board-games-night-6/2022-12-12/
LOCATION:Elmsdale Library\, 15 Commerce Ct\, Elmsdale\, Nova Scotia\, Canada
CATEGORIES:Events For Adults,Events For Seniors,Events For Teens,Location: Elmsdale
ATTACH;FMTTYPE=image/png:https://www.lovemylibrary.ca/wp-content/uploads/2022/06/Untitled-700-×-500-px.png
END:VEVENT
BEGIN:VEVENT
DTSTART;TZID=America/Halifax:20221213T123000
DTEND;TZID=America/Halifax:20221213T130000
DTSTAMP:20260425T072632
CREATED:20220406T163620Z
LAST-MODIFIED:20221121T133446Z
UID:10001586-1670934600-1670936400@www.lovemylibrary.ca
SUMMARY:Preschool Storytime
DESCRIPTION:Looking to connect your preschooler with other little ones? Join the gang while we entertain with themed songs\, storybooks and craft time. Drop-ins are always welcome! Ages 3-5.
URL:https://www.lovemylibrary.ca/event/preschool-storytime-2/2022-12-13/
LOCATION:Tatamagouche Library\, 170 Main Street\, Tatamagouche\, Nova Scotia\, Canada
CATEGORIES:Events For Kids,Location: Tatamagouche
ATTACH;FMTTYPE=image/png:https://www.lovemylibrary.ca/wp-content/uploads/2022/04/Untitled-design-98.png
END:VEVENT
BEGIN:VEVENT
DTSTART;TZID=America/Halifax:20221213T140000
DTEND;TZID=America/Halifax:20221213T150000
DTSTAMP:20260425T072632
CREATED:20220330T133247Z
LAST-MODIFIED:20221129T141954Z
UID:10002523-1670940000-1670943600@www.lovemylibrary.ca
SUMMARY:Homework Hangout
DESCRIPTION:Time to unwind\, get your homework done\, and hangout with your friends. For ages 8-12.
URL:https://www.lovemylibrary.ca/event/homework-hangout/2022-12-13/
LOCATION:Mount Uniacke Library\, 555\, Highway 1\, Mount Uniacke\, Nova Scotia\, Canada
CATEGORIES:Events For Kids,Location: Mount Uniacke
ATTACH;FMTTYPE=image/png:https://www.lovemylibrary.ca/wp-content/uploads/2022/03/Untitled-design-91.png
END:VEVENT
BEGIN:VEVENT
DTSTART;TZID=America/Halifax:20221213T170000
DTEND;TZID=America/Halifax:20221213T183000
DTSTAMP:20260425T072632
CREATED:20221129T135223Z
LAST-MODIFIED:20221205T172850Z
UID:10002495-1670950800-1670956200@www.lovemylibrary.ca
SUMMARY:Craft Evening: Winter Gnomes
DESCRIPTION:Lets celebrate this festive season with a fun craft and little socializing! Ages 18+ \nTo register\, please call 902-657-3065 or email tatamago@cehpubliclibrary.ca
URL:https://www.lovemylibrary.ca/event/craft-evening-winter-gnomes/
LOCATION:Tatamagouche Library\, 170 Main Street\, Tatamagouche\, Nova Scotia\, Canada
CATEGORIES:Events For Adults,Location: Tatamagouche
ATTACH;FMTTYPE=image/png:https://www.lovemylibrary.ca/wp-content/uploads/2022/11/Untitled-design-2022-11-29T095512.987.png
END:VEVENT
BEGIN:VEVENT
DTSTART;TZID=America/Halifax:20221213T173000
DTEND;TZID=America/Halifax:20221213T193000
DTSTAMP:20260425T072632
CREATED:20221020T172838Z
LAST-MODIFIED:20230215T202420Z
UID:10003596-1670952600-1670959800@www.lovemylibrary.ca
SUMMARY:Adult Board Games Night
DESCRIPTION:Get your game on! Come on out for an evening of board games. This is your chance to play some old favourites or learn a new one. For teens and adults. \nThis is a drop-in program. No registration is required.
URL:https://www.lovemylibrary.ca/event/adult-board-games-night-6/2022-12-13/
LOCATION:Elmsdale Library\, 15 Commerce Ct\, Elmsdale\, Nova Scotia\, Canada
CATEGORIES:Events For Adults,Events For Seniors,Events For Teens,Location: Elmsdale
ATTACH;FMTTYPE=image/png:https://www.lovemylibrary.ca/wp-content/uploads/2022/06/Untitled-700-×-500-px.png
END:VEVENT
BEGIN:VEVENT
DTSTART;TZID=America/Halifax:20221213T173000
DTEND;TZID=America/Halifax:20221213T200000
DTSTAMP:20260425T072632
CREATED:20221116T204822Z
LAST-MODIFIED:20230919T183845Z
UID:10002362-1670952600-1670961600@www.lovemylibrary.ca
SUMMARY:Heroes & Adventurers
DESCRIPTION:Role-playing game nights with extraordinary people! We provide the supplies\, you provide the imagination. No experience needed. All ages welcome! \nRegister to play by emailing: HAATruro@gmail.com Sorry\, no drop-in players at this time.
URL:https://www.lovemylibrary.ca/event/heroes-adventurers-3/2022-12-13/
LOCATION:Truro Library\, 754 Prince St\, Truro\, Nova Scotia\, Canada
CATEGORIES:Location: Truro
ATTACH;FMTTYPE=image/png:https://www.lovemylibrary.ca/wp-content/uploads/2022/06/D-and-D.png
END:VEVENT
BEGIN:VEVENT
DTSTART;TZID=America/Halifax:20221213T180000
DTEND;TZID=America/Halifax:20221213T193000
DTSTAMP:20260425T072632
CREATED:20221116T204138Z
LAST-MODIFIED:20221116T204138Z
UID:10002357-1670954400-1670959800@www.lovemylibrary.ca
SUMMARY:Maker Lab Open House
DESCRIPTION:Stop by the Maker Lab to check out the OzoBot\, Dash and Dot\, Cubelets\, 3D Printer\, and more! Learn how to use the reservable equipment in the lab\, like a sewing machine and Cricut Maker! All ages are welcome \nDrop in\, no registration required
URL:https://www.lovemylibrary.ca/event/maker-lab-open-house-3/
LOCATION:Truro Library\, 754 Prince St\, Truro\, Nova Scotia\, Canada
ATTACH;FMTTYPE=image/png:https://www.lovemylibrary.ca/wp-content/uploads/2022/08/Untitled-700-×-500-px-5.png
END:VEVENT
BEGIN:VEVENT
DTSTART;TZID=America/Halifax:20221213T183000
DTEND;TZID=America/Halifax:20221213T193000
DTSTAMP:20260425T072632
CREATED:20221129T151719Z
LAST-MODIFIED:20221129T151719Z
UID:10002545-1670956200-1670959800@www.lovemylibrary.ca
SUMMARY:Tik Tok for Teens
DESCRIPTION:You spoke and we listened! Join us as we create kindness. For ages 13-18. \nDrop-in\, no registration required.
URL:https://www.lovemylibrary.ca/event/tik-tok-for-teens/
LOCATION:Stewiacke Library\, 295 George Street\, Stewiacke\, Nova Scotia\, Canada
CATEGORIES:Events For Teens,Location: Stewiacke
ATTACH;FMTTYPE=image/png:https://www.lovemylibrary.ca/wp-content/uploads/2022/11/Untitled-design-2022-11-29T112019.106.png
END:VEVENT
BEGIN:VEVENT
DTSTART;TZID=America/Halifax:20221213T183000
DTEND;TZID=America/Halifax:20221213T200000
DTSTAMP:20260425T072632
CREATED:20221020T193052Z
LAST-MODIFIED:20230926T211554Z
UID:10002533-1670956200-1670961600@www.lovemylibrary.ca
SUMMARY:Ewe-niacke Yarn Club
DESCRIPTION:Fiber art for all ages and abilities. Learn to knit or crochet\, bring a project you are working on\, or just come hang out with the club for some social time. All ages welcome. \nDrop in\, no registration required.
URL:https://www.lovemylibrary.ca/event/ewe-niacke-yarn-club-3/2022-12-13/
LOCATION:Mount Uniacke Library\, 555\, Highway 1\, Mount Uniacke\, Nova Scotia\, Canada
CATEGORIES:Crafting,Events For Adults,Events For Kids,Events For Seniors,Location: Mount Uniacke
ATTACH;FMTTYPE=image/png:https://www.lovemylibrary.ca/wp-content/uploads/2022/03/Untitled-design-89.png
END:VEVENT
BEGIN:VEVENT
DTSTART;TZID=America/Halifax:20221213T183000
DTEND;TZID=America/Halifax:20221213T200000
DTSTAMP:20260425T072632
CREATED:20221020T195846Z
LAST-MODIFIED:20230222T184014Z
UID:10002537-1670956200-1670961600@www.lovemylibrary.ca
SUMMARY:Seniors Learn to Knit with Ewe-niacke Yarn Club
DESCRIPTION:Want to learn to knit or crochet? Already know how\, but need a refresher? Not sure what supplies you need? We have everything you need for your first project. Hants Count Senior Safety Association is providing the supplies necessary to start your project. \nDrop in\, no registration required.
URL:https://www.lovemylibrary.ca/event/seniors-learn-to-knit-with-ewe-niacke-yarn-club-2/2022-12-13/
LOCATION:Mount Uniacke Library\, 555\, Highway 1\, Mount Uniacke\, Nova Scotia\, Canada
CATEGORIES:Events For Seniors,Location: Mount Uniacke
ATTACH;FMTTYPE=image/png:https://www.lovemylibrary.ca/wp-content/uploads/2022/04/Untitled-design-2022-04-29T171348.604.png
END:VEVENT
BEGIN:VEVENT
DTSTART;TZID=America/Halifax:20221214T103000
DTEND;TZID=America/Halifax:20221214T110000
DTSTAMP:20260425T072632
CREATED:20221020T175929Z
LAST-MODIFIED:20221129T141902Z
UID:10002127-1671013800-1671015600@www.lovemylibrary.ca
SUMMARY:Storytime
DESCRIPTION:Join Karri or Bernie for a story and activity.For pre schoolers and home schoolers. \nThis is a drop-in program. No registration is required.
URL:https://www.lovemylibrary.ca/event/storytime-4/2022-12-14/
LOCATION:Mount Uniacke Library\, 555\, Highway 1\, Mount Uniacke\, Nova Scotia\, Canada
CATEGORIES:Events For Kids,Location: Mount Uniacke
ATTACH;FMTTYPE=image/png:https://www.lovemylibrary.ca/wp-content/uploads/2022/05/Untitled-design-2.png
END:VEVENT
BEGIN:VEVENT
DTSTART;TZID=America/Halifax:20221214T173000
DTEND;TZID=America/Halifax:20221214T193000
DTSTAMP:20260425T072632
CREATED:20221020T172838Z
LAST-MODIFIED:20230215T202420Z
UID:10003597-1671039000-1671046200@www.lovemylibrary.ca
SUMMARY:Adult Board Games Night
DESCRIPTION:Get your game on! Come on out for an evening of board games. This is your chance to play some old favourites or learn a new one. For teens and adults. \nThis is a drop-in program. No registration is required.
URL:https://www.lovemylibrary.ca/event/adult-board-games-night-6/2022-12-14/
LOCATION:Elmsdale Library\, 15 Commerce Ct\, Elmsdale\, Nova Scotia\, Canada
CATEGORIES:Events For Adults,Events For Seniors,Events For Teens,Location: Elmsdale
ATTACH;FMTTYPE=image/png:https://www.lovemylibrary.ca/wp-content/uploads/2022/06/Untitled-700-×-500-px.png
END:VEVENT
BEGIN:VEVENT
DTSTART;TZID=America/Halifax:20221215T140000
DTEND;TZID=America/Halifax:20221215T150000
DTSTAMP:20260425T072632
CREATED:20220330T133247Z
LAST-MODIFIED:20221129T141954Z
UID:10002524-1671112800-1671116400@www.lovemylibrary.ca
SUMMARY:Homework Hangout
DESCRIPTION:Time to unwind\, get your homework done\, and hangout with your friends. For ages 8-12.
URL:https://www.lovemylibrary.ca/event/homework-hangout/2022-12-15/
LOCATION:Mount Uniacke Library\, 555\, Highway 1\, Mount Uniacke\, Nova Scotia\, Canada
CATEGORIES:Events For Kids,Location: Mount Uniacke
ATTACH;FMTTYPE=image/png:https://www.lovemylibrary.ca/wp-content/uploads/2022/03/Untitled-design-91.png
END:VEVENT
BEGIN:VEVENT
DTSTART;TZID=America/Halifax:20221215T144500
DTEND;TZID=America/Halifax:20221215T170000
DTSTAMP:20260425T072632
CREATED:20221021T180121Z
LAST-MODIFIED:20230525T180406Z
UID:10004206-1671115500-1671123600@www.lovemylibrary.ca
SUMMARY:Dungeons and Dragons
DESCRIPTION:The campaign is going to be an adventure of a group of fighters\, trying to complete 20 challenges\, each harder than the next. Ages 12-16. \nRegistration by phone 902-657-3064 or email: tatamago@cehpubliclibrary.ca
URL:https://www.lovemylibrary.ca/event/d-d-group/2022-12-15/
LOCATION:Tatamagouche Library\, 170 Main Street\, Tatamagouche\, Nova Scotia\, Canada
CATEGORIES:Events For Kids,Events For Teens,Location: Tatamagouche
ATTACH;FMTTYPE=image/png:https://www.lovemylibrary.ca/wp-content/uploads/2022/06/D-and-D.png
END:VEVENT
BEGIN:VEVENT
DTSTART;TZID=America/Halifax:20221215T173000
DTEND;TZID=America/Halifax:20221215T193000
DTSTAMP:20260425T072632
CREATED:20221020T172838Z
LAST-MODIFIED:20230215T202420Z
UID:10002548-1671125400-1671132600@www.lovemylibrary.ca
SUMMARY:Adult Board Games Night
DESCRIPTION:Get your game on! Come on out for an evening of board games. This is your chance to play some old favourites or learn a new one. For teens and adults. \nThis is a drop-in program. No registration is required.
URL:https://www.lovemylibrary.ca/event/adult-board-games-night-6/2022-12-15/
LOCATION:Elmsdale Library\, 15 Commerce Ct\, Elmsdale\, Nova Scotia\, Canada
CATEGORIES:Events For Adults,Events For Seniors,Events For Teens,Location: Elmsdale
ATTACH;FMTTYPE=image/png:https://www.lovemylibrary.ca/wp-content/uploads/2022/06/Untitled-700-×-500-px.png
END:VEVENT
BEGIN:VEVENT
DTSTART;TZID=America/Halifax:20221216T100000
DTEND;TZID=America/Halifax:20221216T120000
DTSTAMP:20260425T072632
CREATED:20221019T195514Z
LAST-MODIFIED:20230118T200434Z
UID:10001899-1671184800-1671192000@www.lovemylibrary.ca
SUMMARY:One on One Tech Help
DESCRIPTION:Issues with your phone? Laptop? Social Media? Meet in-person with our digital literacy trainer to get your tech questions answered. \nPlease call 902-883-9838 or email at elmsdale@cehpubliclibrary.ca to book an appointment
URL:https://www.lovemylibrary.ca/event/one-on-one-tech-help-7/2022-12-16/
LOCATION:Elmsdale Library\, 15 Commerce Ct\, Elmsdale\, Nova Scotia\, Canada
CATEGORIES:Events For Adults,Location: Elmsdale
ATTACH;FMTTYPE=image/png:https://www.lovemylibrary.ca/wp-content/uploads/2022/03/Untitled-design-80.png
END:VEVENT
BEGIN:VEVENT
DTSTART;TZID=America/Halifax:20221216T100000
DTEND;TZID=America/Halifax:20221216T163000
DTSTAMP:20260425T072632
CREATED:20221118T205519Z
LAST-MODIFIED:20230524T173127Z
UID:10002419-1671184800-1671208200@www.lovemylibrary.ca
SUMMARY:Employment Services
DESCRIPTION:Need help getting hired or promoted? Learn to communicate your value and skills. Valerie Manuel\, Career Practitoner with Nova Scotia Works and YMCA of Greater Halifax/Dartmouth will be available to assist you. For ages 16+ \nDrop In or register at valerie.manuel@halifax.ymca.ca
URL:https://www.lovemylibrary.ca/event/employment-services/2022-12-16/
LOCATION:Stewiacke Library\, 295 George Street\, Stewiacke\, Nova Scotia\, Canada
CATEGORIES:Events For Adults,Events For Teens,Location: Stewiacke
ATTACH;FMTTYPE=image/png:https://www.lovemylibrary.ca/wp-content/uploads/2022/10/Untitled-design-49.png
END:VEVENT
BEGIN:VEVENT
DTSTART;TZID=America/Halifax:20221216T103000
DTEND;TZID=America/Halifax:20221216T110000
DTSTAMP:20260425T072632
CREATED:20221018T160756Z
LAST-MODIFIED:20221118T203945Z
UID:10001782-1671186600-1671188400@www.lovemylibrary.ca
SUMMARY:Picture Book Junction
DESCRIPTION:Fun and Interactive! Share the magic of stories\, songs and crafts. Suitable For 3-5 year olds with a caregiver \nThis is a drop-in program. No registration is required.
URL:https://www.lovemylibrary.ca/event/picture-book-junction-5/2022-12-16/
LOCATION:Stewiacke Library\, 295 George Street\, Stewiacke\, Nova Scotia\, Canada
CATEGORIES:Events For Kids,Location: Stewiacke
ATTACH;FMTTYPE=image/png:https://www.lovemylibrary.ca/wp-content/uploads/2022/03/Untitled-design-81.png
END:VEVENT
BEGIN:VEVENT
DTSTART;TZID=America/Halifax:20221216T113000
DTEND;TZID=America/Halifax:20221216T123000
DTSTAMP:20260425T072632
CREATED:20221129T135340Z
LAST-MODIFIED:20221129T135340Z
UID:10002496-1671190200-1671193800@www.lovemylibrary.ca
SUMMARY:Craft Evening: Winter Gnomes (Seniors)
DESCRIPTION:Lets celebrate this festive season with a fun craft and little socializing! For seniors. \nTo register\, please call 902-657-3065 or email tatamago@cehpubliclibrary.ca
URL:https://www.lovemylibrary.ca/event/craft-evening-winter-gnomes-seniors/
LOCATION:Tatamagouche Library\, 170 Main Street\, Tatamagouche\, Nova Scotia\, Canada
CATEGORIES:Events For Seniors,Location: Tatamagouche
ATTACH;FMTTYPE=image/png:https://www.lovemylibrary.ca/wp-content/uploads/2022/11/Untitled-design-2022-11-29T095512.987.png
END:VEVENT
BEGIN:VEVENT
DTSTART;TZID=America/Halifax:20221216T140000
DTEND;TZID=America/Halifax:20221216T150000
DTSTAMP:20260425T072632
CREATED:20220330T133247Z
LAST-MODIFIED:20221129T141954Z
UID:10002525-1671199200-1671202800@www.lovemylibrary.ca
SUMMARY:Homework Hangout
DESCRIPTION:Time to unwind\, get your homework done\, and hangout with your friends. For ages 8-12.
URL:https://www.lovemylibrary.ca/event/homework-hangout/2022-12-16/
LOCATION:Mount Uniacke Library\, 555\, Highway 1\, Mount Uniacke\, Nova Scotia\, Canada
CATEGORIES:Events For Kids,Location: Mount Uniacke
ATTACH;FMTTYPE=image/png:https://www.lovemylibrary.ca/wp-content/uploads/2022/03/Untitled-design-91.png
END:VEVENT
BEGIN:VEVENT
DTSTART;TZID=America/Halifax:20221216T140000
DTEND;TZID=America/Halifax:20221216T150000
DTSTAMP:20260425T072632
CREATED:20221018T154438Z
LAST-MODIFIED:20230524T173018Z
UID:10001668-1671199200-1671202800@www.lovemylibrary.ca
SUMMARY:Walking Club
DESCRIPTION:Mind your distance! Strava will map our walk\, record distance and provide a satellite image.Meet at the library at 2 and enjoy a walk around town. All adults welcome. \nThis is a drop-in program. No registration is required.
URL:https://www.lovemylibrary.ca/event/walking-club-5/2022-12-16/
LOCATION:Stewiacke Library\, 295 George Street\, Stewiacke\, Nova Scotia\, Canada
CATEGORIES:Events For Adults,Events For Seniors,Location: Stewiacke
ATTACH;FMTTYPE=image/png:https://www.lovemylibrary.ca/wp-content/uploads/2022/05/Untitled-design-2022-05-02T165147.740.png
END:VEVENT
BEGIN:VEVENT
DTSTART;TZID=America/Halifax:20221216T173000
DTEND;TZID=America/Halifax:20221216T193000
DTSTAMP:20260425T072632
CREATED:20221020T172838Z
LAST-MODIFIED:20230215T202420Z
UID:10003598-1671211800-1671219000@www.lovemylibrary.ca
SUMMARY:Adult Board Games Night
DESCRIPTION:Get your game on! Come on out for an evening of board games. This is your chance to play some old favourites or learn a new one. For teens and adults. \nThis is a drop-in program. No registration is required.
URL:https://www.lovemylibrary.ca/event/adult-board-games-night-6/2022-12-16/
LOCATION:Elmsdale Library\, 15 Commerce Ct\, Elmsdale\, Nova Scotia\, Canada
CATEGORIES:Events For Adults,Events For Seniors,Events For Teens,Location: Elmsdale
ATTACH;FMTTYPE=image/png:https://www.lovemylibrary.ca/wp-content/uploads/2022/06/Untitled-700-×-500-px.png
END:VEVENT
BEGIN:VEVENT
DTSTART;TZID=America/Halifax:20221217T173000
DTEND;TZID=America/Halifax:20221217T193000
DTSTAMP:20260425T072632
CREATED:20221020T172838Z
LAST-MODIFIED:20230215T202420Z
UID:10003599-1671298200-1671305400@www.lovemylibrary.ca
SUMMARY:Adult Board Games Night
DESCRIPTION:Get your game on! Come on out for an evening of board games. This is your chance to play some old favourites or learn a new one. For teens and adults. \nThis is a drop-in program. No registration is required.
URL:https://www.lovemylibrary.ca/event/adult-board-games-night-6/2022-12-17/
LOCATION:Elmsdale Library\, 15 Commerce Ct\, Elmsdale\, Nova Scotia\, Canada
CATEGORIES:Events For Adults,Events For Seniors,Events For Teens,Location: Elmsdale
ATTACH;FMTTYPE=image/png:https://www.lovemylibrary.ca/wp-content/uploads/2022/06/Untitled-700-×-500-px.png
END:VEVENT
BEGIN:VEVENT
DTSTART;TZID=America/Halifax:20221218T173000
DTEND;TZID=America/Halifax:20221218T193000
DTSTAMP:20260425T072632
CREATED:20221020T172838Z
LAST-MODIFIED:20230215T202420Z
UID:10003600-1671384600-1671391800@www.lovemylibrary.ca
SUMMARY:Adult Board Games Night
DESCRIPTION:Get your game on! Come on out for an evening of board games. This is your chance to play some old favourites or learn a new one. For teens and adults. \nThis is a drop-in program. No registration is required.
URL:https://www.lovemylibrary.ca/event/adult-board-games-night-6/2022-12-18/
LOCATION:Elmsdale Library\, 15 Commerce Ct\, Elmsdale\, Nova Scotia\, Canada
CATEGORIES:Events For Adults,Events For Seniors,Events For Teens,Location: Elmsdale
ATTACH;FMTTYPE=image/png:https://www.lovemylibrary.ca/wp-content/uploads/2022/06/Untitled-700-×-500-px.png
END:VEVENT
END:VCALENDAR