BEGIN:VCALENDAR
VERSION:2.0
PRODID:-//Colchester East Hants Public Library - ECPv6.15.20//NONSGML v1.0//EN
CALSCALE:GREGORIAN
METHOD:PUBLISH
X-ORIGINAL-URL:https://www.lovemylibrary.ca
X-WR-CALDESC:Events for Colchester East Hants Public Library
REFRESH-INTERVAL;VALUE=DURATION:PT1H
X-Robots-Tag:noindex
X-PUBLISHED-TTL:PT1H
BEGIN:VTIMEZONE
TZID:America/Halifax
BEGIN:DAYLIGHT
TZOFFSETFROM:-0400
TZOFFSETTO:-0300
TZNAME:ADT
DTSTART:20220313T060000
END:DAYLIGHT
BEGIN:STANDARD
TZOFFSETFROM:-0300
TZOFFSETTO:-0400
TZNAME:AST
DTSTART:20221106T050000
END:STANDARD
BEGIN:DAYLIGHT
TZOFFSETFROM:-0400
TZOFFSETTO:-0300
TZNAME:ADT
DTSTART:20230312T060000
END:DAYLIGHT
BEGIN:STANDARD
TZOFFSETFROM:-0300
TZOFFSETTO:-0400
TZNAME:AST
DTSTART:20231105T050000
END:STANDARD
BEGIN:DAYLIGHT
TZOFFSETFROM:-0400
TZOFFSETTO:-0300
TZNAME:ADT
DTSTART:20240310T060000
END:DAYLIGHT
BEGIN:STANDARD
TZOFFSETFROM:-0300
TZOFFSETTO:-0400
TZNAME:AST
DTSTART:20241103T050000
END:STANDARD
END:VTIMEZONE
BEGIN:VEVENT
DTSTART;TZID=America/Halifax:20230102T173000
DTEND;TZID=America/Halifax:20230102T193000
DTSTAMP:20260425T134833
CREATED:20221020T172838Z
LAST-MODIFIED:20230215T202420Z
UID:10003614-1672680600-1672687800@www.lovemylibrary.ca
SUMMARY:Adult Board Games Night
DESCRIPTION:Get your game on! Come on out for an evening of board games. This is your chance to play some old favourites or learn a new one. For teens and adults. \nThis is a drop-in program. No registration is required.
URL:https://www.lovemylibrary.ca/event/adult-board-games-night-6/2023-01-02/
LOCATION:Elmsdale Library\, 15 Commerce Ct\, Elmsdale\, Nova Scotia\, Canada
CATEGORIES:Events For Adults,Events For Seniors,Events For Teens,Location: Elmsdale
ATTACH;FMTTYPE=image/png:https://www.lovemylibrary.ca/wp-content/uploads/2022/06/Untitled-700-×-500-px.png
END:VEVENT
BEGIN:VEVENT
DTSTART;VALUE=DATE:20230103
DTEND;VALUE=DATE:20230201
DTSTAMP:20260425T134833
CREATED:20221019T145409Z
LAST-MODIFIED:20221214T175027Z
UID:10001834-1672704000-1675209599@www.lovemylibrary.ca
SUMMARY:Around the House Scavenger Hunt
DESCRIPTION:Solve the rhyming clues to help you find the correct images. How many of these things do you have at home? All ages are welcome to participate. \nThis is a drop-in program. No registration is required.
URL:https://www.lovemylibrary.ca/event/ice-age-mammals-scavenger-hunt/
LOCATION:Stewiacke Library\, 295 George Street\, Stewiacke\, Nova Scotia\, Canada
CATEGORIES:Events For Kids,Location: Stewiacke
ATTACH;FMTTYPE=image/png:https://www.lovemylibrary.ca/wp-content/uploads/2022/06/scavenger-hunt-1.png
END:VEVENT
BEGIN:VEVENT
DTSTART;VALUE=DATE:20230103
DTEND;VALUE=DATE:20230224
DTSTAMP:20260425T134833
CREATED:20221214T183927Z
LAST-MODIFIED:20221214T183927Z
UID:10002578-1672704000-1677196799@www.lovemylibrary.ca
SUMMARY:“Sketches of Historic Truro” Art Exhibit by Minette Murphy
DESCRIPTION:Come see beautiful sketches of historic Truro buildings in the art exhibit running through January and February at the Truro Library. The artist Minette Murphy will be on site to talk with you about their art and the inspiration behind the exhibit on Tuesday\, January 3 @6-8pm. All ages are welcome \nThis is a drop-in program. No registration is required.
URL:https://www.lovemylibrary.ca/event/sketches-of-historic-truro-art-exhibit-by-minette-murphy/
LOCATION:Truro Library\, 754 Prince St\, Truro\, Nova Scotia\, Canada
CATEGORIES:Events For Adults,Events For Kids,Events For Seniors,Events For Teens,Location: Truro
ATTACH;FMTTYPE=image/png:https://www.lovemylibrary.ca/wp-content/uploads/2022/12/Untitled-design-35.png
END:VEVENT
BEGIN:VEVENT
DTSTART;TZID=America/Halifax:20230103T123000
DTEND;TZID=America/Halifax:20230103T130000
DTSTAMP:20260425T134833
CREATED:20220406T163620Z
LAST-MODIFIED:20221121T133446Z
UID:10001589-1672749000-1672750800@www.lovemylibrary.ca
SUMMARY:Preschool Storytime
DESCRIPTION:Looking to connect your preschooler with other little ones? Join the gang while we entertain with themed songs\, storybooks and craft time. Drop-ins are always welcome! Ages 3-5.
URL:https://www.lovemylibrary.ca/event/preschool-storytime-2/2023-01-03/
LOCATION:Tatamagouche Library\, 170 Main Street\, Tatamagouche\, Nova Scotia\, Canada
CATEGORIES:Events For Kids,Location: Tatamagouche
ATTACH;FMTTYPE=image/png:https://www.lovemylibrary.ca/wp-content/uploads/2022/04/Untitled-design-98.png
END:VEVENT
BEGIN:VEVENT
DTSTART;TZID=America/Halifax:20230103T140000
DTEND;TZID=America/Halifax:20230103T150000
DTSTAMP:20260425T134833
CREATED:20221220T231218Z
LAST-MODIFIED:20230525T163330Z
UID:10002619-1672754400-1672758000@www.lovemylibrary.ca
SUMMARY:Homework Hangout
DESCRIPTION:Time to unwind\, get your homework done\, and hangout with your friends.  For ages 8-15. \nThis is a drop-in program. No registration is required.
URL:https://www.lovemylibrary.ca/event/homework-hangout-2/2023-01-03/
LOCATION:Mount Uniacke Library\, 555\, Highway 1\, Mount Uniacke\, Nova Scotia\, Canada
CATEGORIES:Events For Kids,Events For Teens,Location: Mount Uniacke
ATTACH;FMTTYPE=image/png:https://www.lovemylibrary.ca/wp-content/uploads/2022/03/Untitled-design-91.png
END:VEVENT
BEGIN:VEVENT
DTSTART;TZID=America/Halifax:20230103T140000
DTEND;TZID=America/Halifax:20230103T160000
DTSTAMP:20260425T134833
CREATED:20221020T172221Z
LAST-MODIFIED:20221216T190735Z
UID:10001949-1672754400-1672761600@www.lovemylibrary.ca
SUMMARY:Cards\, Crafts\, and Chat
DESCRIPTION:Stop by the Elmsdale library for social time. Meet new people\, share your creative projects\, and try your hand at a game of cards and other activities. For adults of all ages. \nThis is a drop-in program. Call 902-883-9838 for more details
URL:https://www.lovemylibrary.ca/event/cards-crafts-and-chat-2/
LOCATION:Elmsdale Library\, 15 Commerce Ct\, Elmsdale\, Nova Scotia\, Canada
CATEGORIES:Events For Adults,Events For Seniors,Location: Elmsdale
ATTACH;FMTTYPE=image/png:https://www.lovemylibrary.ca/wp-content/uploads/2022/08/Untitled-design-6.png
END:VEVENT
BEGIN:VEVENT
DTSTART;TZID=America/Halifax:20230103T173000
DTEND;TZID=America/Halifax:20230103T193000
DTSTAMP:20260425T134833
CREATED:20221020T172838Z
LAST-MODIFIED:20230215T202420Z
UID:10003615-1672767000-1672774200@www.lovemylibrary.ca
SUMMARY:Adult Board Games Night
DESCRIPTION:Get your game on! Come on out for an evening of board games. This is your chance to play some old favourites or learn a new one. For teens and adults. \nThis is a drop-in program. No registration is required.
URL:https://www.lovemylibrary.ca/event/adult-board-games-night-6/2023-01-03/
LOCATION:Elmsdale Library\, 15 Commerce Ct\, Elmsdale\, Nova Scotia\, Canada
CATEGORIES:Events For Adults,Events For Seniors,Events For Teens,Location: Elmsdale
ATTACH;FMTTYPE=image/png:https://www.lovemylibrary.ca/wp-content/uploads/2022/06/Untitled-700-×-500-px.png
END:VEVENT
BEGIN:VEVENT
DTSTART;TZID=America/Halifax:20230103T173000
DTEND;TZID=America/Halifax:20230103T200000
DTSTAMP:20260425T134833
CREATED:20221116T204822Z
LAST-MODIFIED:20230919T183845Z
UID:10002589-1672767000-1672776000@www.lovemylibrary.ca
SUMMARY:Heroes & Adventurers
DESCRIPTION:Role-playing game nights with extraordinary people! We provide the supplies\, you provide the imagination. No experience needed. All ages welcome! \nRegister to play by emailing: HAATruro@gmail.com Sorry\, no drop-in players at this time.
URL:https://www.lovemylibrary.ca/event/heroes-adventurers-3/2023-01-03/
LOCATION:Truro Library\, 754 Prince St\, Truro\, Nova Scotia\, Canada
CATEGORIES:Location: Truro
ATTACH;FMTTYPE=image/png:https://www.lovemylibrary.ca/wp-content/uploads/2022/06/D-and-D.png
END:VEVENT
BEGIN:VEVENT
DTSTART;TZID=America/Halifax:20230103T180000
DTEND;TZID=America/Halifax:20230103T200000
DTSTAMP:20260425T134833
CREATED:20221214T184721Z
LAST-MODIFIED:20221214T184721Z
UID:10002579-1672768800-1672776000@www.lovemylibrary.ca
SUMMARY:Minette Murphy: Meet the Artist
DESCRIPTION:Minette Murphy is the creator behind the art exhibit “Sketches of Historic Truro” running through January and February at the Truro Library. They will be on site to talk with you about their art and the inspiration behind the exhibit. All ages welcome. The artist will be on the 2nd floor with their exhibit. \nThis is a drop-in program. No registration is required.
URL:https://www.lovemylibrary.ca/event/minette-murphy-meet-the-artist/
LOCATION:Truro Library\, 754 Prince St\, Truro\, Nova Scotia\, Canada
CATEGORIES:Events For Adults,Events For Kids,Events For Seniors,Events For Teens,Location: Truro
ATTACH;FMTTYPE=image/png:https://www.lovemylibrary.ca/wp-content/uploads/2022/12/Untitled-design-36.png
END:VEVENT
BEGIN:VEVENT
DTSTART;TZID=America/Halifax:20230103T183000
DTEND;TZID=America/Halifax:20230103T200000
DTSTAMP:20260425T134833
CREATED:20221020T193052Z
LAST-MODIFIED:20230926T211554Z
UID:10002637-1672770600-1672776000@www.lovemylibrary.ca
SUMMARY:Ewe-niacke Yarn Club
DESCRIPTION:Fiber art for all ages and abilities. Learn to knit or crochet\, bring a project you are working on\, or just come hang out with the club for some social time. All ages welcome. \nDrop in\, no registration required.
URL:https://www.lovemylibrary.ca/event/ewe-niacke-yarn-club-3/2023-01-03/
LOCATION:Mount Uniacke Library\, 555\, Highway 1\, Mount Uniacke\, Nova Scotia\, Canada
CATEGORIES:Crafting,Events For Adults,Events For Kids,Events For Seniors,Location: Mount Uniacke
ATTACH;FMTTYPE=image/png:https://www.lovemylibrary.ca/wp-content/uploads/2022/03/Untitled-design-89.png
END:VEVENT
BEGIN:VEVENT
DTSTART;TZID=America/Halifax:20230103T183000
DTEND;TZID=America/Halifax:20230103T200000
DTSTAMP:20260425T134833
CREATED:20221020T195846Z
LAST-MODIFIED:20230222T184014Z
UID:10002642-1672770600-1672776000@www.lovemylibrary.ca
SUMMARY:Seniors Learn to Knit with Ewe-niacke Yarn Club
DESCRIPTION:Want to learn to knit or crochet? Already know how\, but need a refresher? Not sure what supplies you need? We have everything you need for your first project. Hants Count Senior Safety Association is providing the supplies necessary to start your project. \nDrop in\, no registration required.
URL:https://www.lovemylibrary.ca/event/seniors-learn-to-knit-with-ewe-niacke-yarn-club-2/2023-01-03/
LOCATION:Mount Uniacke Library\, 555\, Highway 1\, Mount Uniacke\, Nova Scotia\, Canada
CATEGORIES:Events For Seniors,Location: Mount Uniacke
ATTACH;FMTTYPE=image/png:https://www.lovemylibrary.ca/wp-content/uploads/2022/04/Untitled-design-2022-04-29T171348.604.png
END:VEVENT
BEGIN:VEVENT
DTSTART;TZID=America/Halifax:20230104T103000
DTEND;TZID=America/Halifax:20230104T110000
DTSTAMP:20260425T134833
CREATED:20221220T230021Z
LAST-MODIFIED:20230525T163111Z
UID:10002128-1672828200-1672830000@www.lovemylibrary.ca
SUMMARY:Storytime
DESCRIPTION:Enjoy a picture book read by Karri or Bernie and then participate in an activity. For pre schoolers and home schoolers. \nThis is a drop-in program. No registration is required.
URL:https://www.lovemylibrary.ca/event/storytime-4-2/2023-01-04/
LOCATION:Mount Uniacke Library\, 555\, Highway 1\, Mount Uniacke\, Nova Scotia\, Canada
CATEGORIES:Events For Kids,Location: Mount Uniacke
ATTACH;FMTTYPE=image/png:https://www.lovemylibrary.ca/wp-content/uploads/2022/05/Untitled-design-2.png
END:VEVENT
BEGIN:VEVENT
DTSTART;TZID=America/Halifax:20230104T173000
DTEND;TZID=America/Halifax:20230104T193000
DTSTAMP:20260425T134833
CREATED:20221020T172838Z
LAST-MODIFIED:20230215T202420Z
UID:10003616-1672853400-1672860600@www.lovemylibrary.ca
SUMMARY:Adult Board Games Night
DESCRIPTION:Get your game on! Come on out for an evening of board games. This is your chance to play some old favourites or learn a new one. For teens and adults. \nThis is a drop-in program. No registration is required.
URL:https://www.lovemylibrary.ca/event/adult-board-games-night-6/2023-01-04/
LOCATION:Elmsdale Library\, 15 Commerce Ct\, Elmsdale\, Nova Scotia\, Canada
CATEGORIES:Events For Adults,Events For Seniors,Events For Teens,Location: Elmsdale
ATTACH;FMTTYPE=image/png:https://www.lovemylibrary.ca/wp-content/uploads/2022/06/Untitled-700-×-500-px.png
END:VEVENT
BEGIN:VEVENT
DTSTART;TZID=America/Halifax:20230105T103000
DTEND;TZID=America/Halifax:20230105T110000
DTSTAMP:20260425T134833
CREATED:20221018T160406Z
LAST-MODIFIED:20230524T172811Z
UID:10002550-1672914600-1672916400@www.lovemylibrary.ca
SUMMARY:Baby Rhyme Time
DESCRIPTION:Discover the joy of songs\, finger plays \, bouncing rhymes and simple books. Suitable for Infant-2 years old with a caregiver \nThis is an in-person program. No registration is required.
URL:https://www.lovemylibrary.ca/event/baby-rhyme-time-6/2023-01-05/
LOCATION:Stewiacke Library\, 295 George Street\, Stewiacke\, Nova Scotia\, Canada
CATEGORIES:Events For Kids,Location: Stewiacke
ATTACH;FMTTYPE=image/png:https://www.lovemylibrary.ca/wp-content/uploads/2022/03/Untitled-design-75.png
END:VEVENT
BEGIN:VEVENT
DTSTART;TZID=America/Halifax:20230105T110000
DTEND;TZID=America/Halifax:20230105T112000
DTSTAMP:20260425T134833
CREATED:20221025T221411Z
LAST-MODIFIED:20230428T164111Z
UID:10002663-1672916400-1672917600@www.lovemylibrary.ca
SUMMARY:Tales for Tots
DESCRIPTION:Join us Thursday mornings for stories\, songs\, and activities that are just right for terrific toddlers! \n18 months-4 years with a parent/caregiver. \nDrop-in\, no registration required.
URL:https://www.lovemylibrary.ca/event/tales-for-tots/2023-01-05/
LOCATION:Truro Library\, 754 Prince St\, Truro\, Nova Scotia\, Canada
CATEGORIES:Events For Kids,Location: Truro
ATTACH;FMTTYPE=image/png:https://www.lovemylibrary.ca/wp-content/uploads/2022/03/Untitled-design-81.png
END:VEVENT
BEGIN:VEVENT
DTSTART;TZID=America/Halifax:20230105T140000
DTEND;TZID=America/Halifax:20230105T150000
DTSTAMP:20260425T134833
CREATED:20221220T231218Z
LAST-MODIFIED:20230525T163330Z
UID:10002620-1672927200-1672930800@www.lovemylibrary.ca
SUMMARY:Homework Hangout
DESCRIPTION:Time to unwind\, get your homework done\, and hangout with your friends.  For ages 8-15. \nThis is a drop-in program. No registration is required.
URL:https://www.lovemylibrary.ca/event/homework-hangout-2/2023-01-05/
LOCATION:Mount Uniacke Library\, 555\, Highway 1\, Mount Uniacke\, Nova Scotia\, Canada
CATEGORIES:Events For Kids,Events For Teens,Location: Mount Uniacke
ATTACH;FMTTYPE=image/png:https://www.lovemylibrary.ca/wp-content/uploads/2022/03/Untitled-design-91.png
END:VEVENT
BEGIN:VEVENT
DTSTART;TZID=America/Halifax:20230105T144500
DTEND;TZID=America/Halifax:20230105T170000
DTSTAMP:20260425T134833
CREATED:20221021T180121Z
LAST-MODIFIED:20230525T180406Z
UID:10004209-1672929900-1672938000@www.lovemylibrary.ca
SUMMARY:Dungeons and Dragons
DESCRIPTION:The campaign is going to be an adventure of a group of fighters\, trying to complete 20 challenges\, each harder than the next. Ages 12-16. \nRegistration by phone 902-657-3064 or email: tatamago@cehpubliclibrary.ca
URL:https://www.lovemylibrary.ca/event/d-d-group/2023-01-05/
LOCATION:Tatamagouche Library\, 170 Main Street\, Tatamagouche\, Nova Scotia\, Canada
CATEGORIES:Events For Kids,Events For Teens,Location: Tatamagouche
ATTACH;FMTTYPE=image/png:https://www.lovemylibrary.ca/wp-content/uploads/2022/06/D-and-D.png
END:VEVENT
BEGIN:VEVENT
DTSTART;TZID=America/Halifax:20230105T173000
DTEND;TZID=America/Halifax:20230105T193000
DTSTAMP:20260425T134833
CREATED:20221020T172838Z
LAST-MODIFIED:20230215T202420Z
UID:10003617-1672939800-1672947000@www.lovemylibrary.ca
SUMMARY:Adult Board Games Night
DESCRIPTION:Get your game on! Come on out for an evening of board games. This is your chance to play some old favourites or learn a new one. For teens and adults. \nThis is a drop-in program. No registration is required.
URL:https://www.lovemylibrary.ca/event/adult-board-games-night-6/2023-01-05/
LOCATION:Elmsdale Library\, 15 Commerce Ct\, Elmsdale\, Nova Scotia\, Canada
CATEGORIES:Events For Adults,Events For Seniors,Events For Teens,Location: Elmsdale
ATTACH;FMTTYPE=image/png:https://www.lovemylibrary.ca/wp-content/uploads/2022/06/Untitled-700-×-500-px.png
END:VEVENT
BEGIN:VEVENT
DTSTART;TZID=America/Halifax:20230105T183000
DTEND;TZID=America/Halifax:20230105T193000
DTSTAMP:20260425T134833
CREATED:20221214T150559Z
LAST-MODIFIED:20230419T182412Z
UID:10002570-1672943400-1672947000@www.lovemylibrary.ca
SUMMARY:Photography Club
DESCRIPTION:“A photograph is an opportunity to keep a moment forever.”….Destin Sparks. Learn some tips and tricks with local photographers\, including Al Eastman. All adults are welcome. \nThis is a drop-in program. No registration is required
URL:https://www.lovemylibrary.ca/event/photography-club-2/2023-01-05/
LOCATION:Stewiacke Library\, 295 George Street\, Stewiacke\, Nova Scotia\, Canada
CATEGORIES:Events For Adults,Location: Stewiacke
ATTACH;FMTTYPE=image/png:https://www.lovemylibrary.ca/wp-content/uploads/2022/11/Untitled-design-2022-11-29T111821.809.png
END:VEVENT
BEGIN:VEVENT
DTSTART;TZID=America/Halifax:20230106T100000
DTEND;TZID=America/Halifax:20230106T120000
DTSTAMP:20260425T134833
CREATED:20221019T195514Z
LAST-MODIFIED:20230118T200434Z
UID:10002597-1672999200-1673006400@www.lovemylibrary.ca
SUMMARY:One on One Tech Help
DESCRIPTION:Issues with your phone? Laptop? Social Media? Meet in-person with our digital literacy trainer to get your tech questions answered. \nPlease call 902-883-9838 or email at elmsdale@cehpubliclibrary.ca to book an appointment
URL:https://www.lovemylibrary.ca/event/one-on-one-tech-help-7/2023-01-06/
LOCATION:Elmsdale Library\, 15 Commerce Ct\, Elmsdale\, Nova Scotia\, Canada
CATEGORIES:Events For Adults,Location: Elmsdale
ATTACH;FMTTYPE=image/png:https://www.lovemylibrary.ca/wp-content/uploads/2022/03/Untitled-design-80.png
END:VEVENT
BEGIN:VEVENT
DTSTART;TZID=America/Halifax:20230106T100000
DTEND;TZID=America/Halifax:20230106T163000
DTSTAMP:20260425T134833
CREATED:20221118T205519Z
LAST-MODIFIED:20230524T173127Z
UID:10002562-1672999200-1673022600@www.lovemylibrary.ca
SUMMARY:Employment Services
DESCRIPTION:Need help getting hired or promoted? Learn to communicate your value and skills. Valerie Manuel\, Career Practitoner with Nova Scotia Works and YMCA of Greater Halifax/Dartmouth will be available to assist you. For ages 16+ \nDrop In or register at valerie.manuel@halifax.ymca.ca
URL:https://www.lovemylibrary.ca/event/employment-services/2023-01-06/
LOCATION:Stewiacke Library\, 295 George Street\, Stewiacke\, Nova Scotia\, Canada
CATEGORIES:Events For Adults,Events For Teens,Location: Stewiacke
ATTACH;FMTTYPE=image/png:https://www.lovemylibrary.ca/wp-content/uploads/2022/10/Untitled-design-49.png
END:VEVENT
BEGIN:VEVENT
DTSTART;TZID=America/Halifax:20230106T103000
DTEND;TZID=America/Halifax:20230106T110000
DTSTAMP:20260425T134833
CREATED:20221214T145032Z
LAST-MODIFIED:20230524T172910Z
UID:10002554-1673001000-1673002800@www.lovemylibrary.ca
SUMMARY:Picture Book Junction
DESCRIPTION:Fun and Interactive! Share the magic of stories\, songs and crafts. Suitable For 3-5 years old with a caregiver. \nThis is a drop in program. No registration is necessary.\n 
URL:https://www.lovemylibrary.ca/event/picture-book-junction-6/2023-01-06/
LOCATION:Stewiacke Library\, 295 George Street\, Stewiacke\, Nova Scotia\, Canada
CATEGORIES:Events For Kids,Location: Stewiacke
ATTACH;FMTTYPE=image/png:https://www.lovemylibrary.ca/wp-content/uploads/2022/03/Untitled-design-81.png
END:VEVENT
BEGIN:VEVENT
DTSTART;TZID=America/Halifax:20230106T140000
DTEND;TZID=America/Halifax:20230106T150000
DTSTAMP:20260425T134833
CREATED:20221018T154438Z
LAST-MODIFIED:20230524T173018Z
UID:10002558-1673013600-1673017200@www.lovemylibrary.ca
SUMMARY:Walking Club
DESCRIPTION:Mind your distance! Strava will map our walk\, record distance and provide a satellite image.Meet at the library at 2 and enjoy a walk around town. All adults welcome. \nThis is a drop-in program. No registration is required.
URL:https://www.lovemylibrary.ca/event/walking-club-5/2023-01-06/
LOCATION:Stewiacke Library\, 295 George Street\, Stewiacke\, Nova Scotia\, Canada
CATEGORIES:Events For Adults,Events For Seniors,Location: Stewiacke
ATTACH;FMTTYPE=image/png:https://www.lovemylibrary.ca/wp-content/uploads/2022/05/Untitled-design-2022-05-02T165147.740.png
END:VEVENT
BEGIN:VEVENT
DTSTART;TZID=America/Halifax:20230106T140000
DTEND;TZID=America/Halifax:20230106T150000
DTSTAMP:20260425T134833
CREATED:20221220T231218Z
LAST-MODIFIED:20230525T163330Z
UID:10002621-1673013600-1673017200@www.lovemylibrary.ca
SUMMARY:Homework Hangout
DESCRIPTION:Time to unwind\, get your homework done\, and hangout with your friends.  For ages 8-15. \nThis is a drop-in program. No registration is required.
URL:https://www.lovemylibrary.ca/event/homework-hangout-2/2023-01-06/
LOCATION:Mount Uniacke Library\, 555\, Highway 1\, Mount Uniacke\, Nova Scotia\, Canada
CATEGORIES:Events For Kids,Events For Teens,Location: Mount Uniacke
ATTACH;FMTTYPE=image/png:https://www.lovemylibrary.ca/wp-content/uploads/2022/03/Untitled-design-91.png
END:VEVENT
BEGIN:VEVENT
DTSTART;TZID=America/Halifax:20230106T173000
DTEND;TZID=America/Halifax:20230106T193000
DTSTAMP:20260425T134833
CREATED:20221020T172838Z
LAST-MODIFIED:20230215T202420Z
UID:10003618-1673026200-1673033400@www.lovemylibrary.ca
SUMMARY:Adult Board Games Night
DESCRIPTION:Get your game on! Come on out for an evening of board games. This is your chance to play some old favourites or learn a new one. For teens and adults. \nThis is a drop-in program. No registration is required.
URL:https://www.lovemylibrary.ca/event/adult-board-games-night-6/2023-01-06/
LOCATION:Elmsdale Library\, 15 Commerce Ct\, Elmsdale\, Nova Scotia\, Canada
CATEGORIES:Events For Adults,Events For Seniors,Events For Teens,Location: Elmsdale
ATTACH;FMTTYPE=image/png:https://www.lovemylibrary.ca/wp-content/uploads/2022/06/Untitled-700-×-500-px.png
END:VEVENT
BEGIN:VEVENT
DTSTART;TZID=America/Halifax:20230107T103000
DTEND;TZID=America/Halifax:20230107T110000
DTSTAMP:20260425T134833
CREATED:20221220T230021Z
LAST-MODIFIED:20230525T163111Z
UID:10002612-1673087400-1673089200@www.lovemylibrary.ca
SUMMARY:Storytime
DESCRIPTION:Enjoy a picture book read by Karri or Bernie and then participate in an activity. For pre schoolers and home schoolers. \nThis is a drop-in program. No registration is required.
URL:https://www.lovemylibrary.ca/event/storytime-4-2/2023-01-07/
LOCATION:Mount Uniacke Library\, 555\, Highway 1\, Mount Uniacke\, Nova Scotia\, Canada
CATEGORIES:Events For Kids,Location: Mount Uniacke
ATTACH;FMTTYPE=image/png:https://www.lovemylibrary.ca/wp-content/uploads/2022/05/Untitled-design-2.png
END:VEVENT
BEGIN:VEVENT
DTSTART;TZID=America/Halifax:20230107T110000
DTEND;TZID=America/Halifax:20230107T120000
DTSTAMP:20260425T134833
CREATED:20221020T190431Z
LAST-MODIFIED:20221220T234041Z
UID:10002188-1673089200-1673092800@www.lovemylibrary.ca
SUMMARY:Board Games Saturday
DESCRIPTION:Pop into the library to try a new board game or play an old favorite. We have lots of games to choose from. All ages are welcome. \nDrop in\, registration not required.\n 
URL:https://www.lovemylibrary.ca/event/board-games-saturday-2/
LOCATION:Mount Uniacke Library\, 555\, Highway 1\, Mount Uniacke\, Nova Scotia\, Canada
CATEGORIES:Events For Adults,Events For Kids,Events For Seniors,Events For Teens,Location: Mount Uniacke
ATTACH;FMTTYPE=image/png:https://www.lovemylibrary.ca/wp-content/uploads/2022/06/Untitled-700-×-500-px.png
END:VEVENT
BEGIN:VEVENT
DTSTART;TZID=America/Halifax:20230107T173000
DTEND;TZID=America/Halifax:20230107T193000
DTSTAMP:20260425T134833
CREATED:20221020T172838Z
LAST-MODIFIED:20230215T202420Z
UID:10003619-1673112600-1673119800@www.lovemylibrary.ca
SUMMARY:Adult Board Games Night
DESCRIPTION:Get your game on! Come on out for an evening of board games. This is your chance to play some old favourites or learn a new one. For teens and adults. \nThis is a drop-in program. No registration is required.
URL:https://www.lovemylibrary.ca/event/adult-board-games-night-6/2023-01-07/
LOCATION:Elmsdale Library\, 15 Commerce Ct\, Elmsdale\, Nova Scotia\, Canada
CATEGORIES:Events For Adults,Events For Seniors,Events For Teens,Location: Elmsdale
ATTACH;FMTTYPE=image/png:https://www.lovemylibrary.ca/wp-content/uploads/2022/06/Untitled-700-×-500-px.png
END:VEVENT
BEGIN:VEVENT
DTSTART;TZID=America/Halifax:20230108T173000
DTEND;TZID=America/Halifax:20230108T193000
DTSTAMP:20260425T134833
CREATED:20221020T172838Z
LAST-MODIFIED:20230215T202420Z
UID:10003620-1673199000-1673206200@www.lovemylibrary.ca
SUMMARY:Adult Board Games Night
DESCRIPTION:Get your game on! Come on out for an evening of board games. This is your chance to play some old favourites or learn a new one. For teens and adults. \nThis is a drop-in program. No registration is required.
URL:https://www.lovemylibrary.ca/event/adult-board-games-night-6/2023-01-08/
LOCATION:Elmsdale Library\, 15 Commerce Ct\, Elmsdale\, Nova Scotia\, Canada
CATEGORIES:Events For Adults,Events For Seniors,Events For Teens,Location: Elmsdale
ATTACH;FMTTYPE=image/png:https://www.lovemylibrary.ca/wp-content/uploads/2022/06/Untitled-700-×-500-px.png
END:VEVENT
END:VCALENDAR