BEGIN:VCALENDAR
VERSION:2.0
PRODID:-//Colchester East Hants Public Library - ECPv6.15.20//NONSGML v1.0//EN
CALSCALE:GREGORIAN
METHOD:PUBLISH
X-ORIGINAL-URL:https://www.lovemylibrary.ca
X-WR-CALDESC:Events for Colchester East Hants Public Library
REFRESH-INTERVAL;VALUE=DURATION:PT1H
X-Robots-Tag:noindex
X-PUBLISHED-TTL:PT1H
BEGIN:VTIMEZONE
TZID:America/Halifax
BEGIN:DAYLIGHT
TZOFFSETFROM:-0400
TZOFFSETTO:-0300
TZNAME:ADT
DTSTART:20220313T060000
END:DAYLIGHT
BEGIN:STANDARD
TZOFFSETFROM:-0300
TZOFFSETTO:-0400
TZNAME:AST
DTSTART:20221106T050000
END:STANDARD
BEGIN:DAYLIGHT
TZOFFSETFROM:-0400
TZOFFSETTO:-0300
TZNAME:ADT
DTSTART:20230312T060000
END:DAYLIGHT
BEGIN:STANDARD
TZOFFSETFROM:-0300
TZOFFSETTO:-0400
TZNAME:AST
DTSTART:20231105T050000
END:STANDARD
BEGIN:DAYLIGHT
TZOFFSETFROM:-0400
TZOFFSETTO:-0300
TZNAME:ADT
DTSTART:20240310T060000
END:DAYLIGHT
BEGIN:STANDARD
TZOFFSETFROM:-0300
TZOFFSETTO:-0400
TZNAME:AST
DTSTART:20241103T050000
END:STANDARD
END:VTIMEZONE
BEGIN:VEVENT
DTSTART;VALUE=DATE:20230103
DTEND;VALUE=DATE:20230201
DTSTAMP:20260425T122922
CREATED:20221019T145409Z
LAST-MODIFIED:20221214T175027Z
UID:10001834-1672704000-1675209599@www.lovemylibrary.ca
SUMMARY:Around the House Scavenger Hunt
DESCRIPTION:Solve the rhyming clues to help you find the correct images. How many of these things do you have at home? All ages are welcome to participate. \nThis is a drop-in program. No registration is required.
URL:https://www.lovemylibrary.ca/event/ice-age-mammals-scavenger-hunt/
LOCATION:Stewiacke Library\, 295 George Street\, Stewiacke\, Nova Scotia\, Canada
CATEGORIES:Events For Kids,Location: Stewiacke
ATTACH;FMTTYPE=image/png:https://www.lovemylibrary.ca/wp-content/uploads/2022/06/scavenger-hunt-1.png
END:VEVENT
BEGIN:VEVENT
DTSTART;VALUE=DATE:20230103
DTEND;VALUE=DATE:20230224
DTSTAMP:20260425T122922
CREATED:20221214T183927Z
LAST-MODIFIED:20221214T183927Z
UID:10002578-1672704000-1677196799@www.lovemylibrary.ca
SUMMARY:“Sketches of Historic Truro” Art Exhibit by Minette Murphy
DESCRIPTION:Come see beautiful sketches of historic Truro buildings in the art exhibit running through January and February at the Truro Library. The artist Minette Murphy will be on site to talk with you about their art and the inspiration behind the exhibit on Tuesday\, January 3 @6-8pm. All ages are welcome \nThis is a drop-in program. No registration is required.
URL:https://www.lovemylibrary.ca/event/sketches-of-historic-truro-art-exhibit-by-minette-murphy/
LOCATION:Truro Library\, 754 Prince St\, Truro\, Nova Scotia\, Canada
CATEGORIES:Events For Adults,Events For Kids,Events For Seniors,Events For Teens,Location: Truro
ATTACH;FMTTYPE=image/png:https://www.lovemylibrary.ca/wp-content/uploads/2022/12/Untitled-design-35.png
END:VEVENT
BEGIN:VEVENT
DTSTART;TZID=America/Halifax:20230123T133000
DTEND;TZID=America/Halifax:20230123T163000
DTSTAMP:20260425T122922
CREATED:20221026T175545Z
LAST-MODIFIED:20230919T182903Z
UID:10002587-1674480600-1674491400@www.lovemylibrary.ca
SUMMARY:Scrabble Group
DESCRIPTION:What spells F-U-N? Playing Scrabble with friends! \nThis is a drop-in program.  No registration is required.
URL:https://www.lovemylibrary.ca/event/scrabble-group-3-2/2023-01-23/
LOCATION:Truro Library\, 754 Prince St\, Truro\, Nova Scotia\, Canada
CATEGORIES:Events For Adults,Events For Seniors,Location: Truro
ATTACH;FMTTYPE=image/png:https://www.lovemylibrary.ca/wp-content/uploads/2022/05/Add-a-subheading-700-×-500-px-3.png
END:VEVENT
BEGIN:VEVENT
DTSTART;TZID=America/Halifax:20230123T173000
DTEND;TZID=America/Halifax:20230123T193000
DTSTAMP:20260425T122922
CREATED:20221020T172838Z
LAST-MODIFIED:20230215T202420Z
UID:10003633-1674495000-1674502200@www.lovemylibrary.ca
SUMMARY:Adult Board Games Night
DESCRIPTION:Get your game on! Come on out for an evening of board games. This is your chance to play some old favourites or learn a new one. For teens and adults. \nThis is a drop-in program. No registration is required.
URL:https://www.lovemylibrary.ca/event/adult-board-games-night-6/2023-01-23/
LOCATION:Elmsdale Library\, 15 Commerce Ct\, Elmsdale\, Nova Scotia\, Canada
CATEGORIES:Events For Adults,Events For Seniors,Events For Teens,Location: Elmsdale
ATTACH;FMTTYPE=image/png:https://www.lovemylibrary.ca/wp-content/uploads/2022/06/Untitled-700-×-500-px.png
END:VEVENT
BEGIN:VEVENT
DTSTART;VALUE=DATE:20230124
DTEND;VALUE=DATE:20230129
DTSTAMP:20260425T122922
CREATED:20221216T192846Z
LAST-MODIFIED:20221216T192846Z
UID:10002607-1674518400-1674950399@www.lovemylibrary.ca
SUMMARY:Find a Book Scavenger Hunt
DESCRIPTION:Family Literacy Week – come in and help us celebrate! All ages are welcome to participate. \nDrop in – call 902-883-9838 or email elmsdale@cehpubliclibrary.ca
URL:https://www.lovemylibrary.ca/event/find-a-book-scavenger-hunt/
LOCATION:Elmsdale Library\, 15 Commerce Ct\, Elmsdale\, Nova Scotia\, Canada
ATTACH;FMTTYPE=image/png:https://www.lovemylibrary.ca/wp-content/uploads/2021/08/Untitled-design-23.png
END:VEVENT
BEGIN:VEVENT
DTSTART;TZID=America/Halifax:20230124T100000
DTEND;TZID=America/Halifax:20230124T104500
DTSTAMP:20260425T122922
CREATED:20221222T194311Z
LAST-MODIFIED:20230218T203025Z
UID:10002684-1674554400-1674557100@www.lovemylibrary.ca
SUMMARY:Baby\, Me\, & Mother Goose
DESCRIPTION:Learn rhymes\, songs and have fun with your baby. For all parents with babies 3-18 months. The session will take place at Maggie’s Place. \nTo register\, please call 902-895-0200
URL:https://www.lovemylibrary.ca/event/baby-me-mother-goose-2/2023-01-24/
LOCATION:Maggie’s Place\, 1027 Prince Street\, Truro\, Nova Scotia\, B2N 1H7\, Canada
CATEGORIES:Events For Kids,Location: Truro
ATTACH;FMTTYPE=image/png:https://www.lovemylibrary.ca/wp-content/uploads/2022/03/Untitled-design-75.png
END:VEVENT
BEGIN:VEVENT
DTSTART;TZID=America/Halifax:20230124T110000
DTEND;TZID=America/Halifax:20230124T120000
DTSTAMP:20260425T122922
CREATED:20221214T192815Z
LAST-MODIFIED:20230218T201150Z
UID:10002583-1674558000-1674561600@www.lovemylibrary.ca
SUMMARY:Conversational English
DESCRIPTION:Is English your 2nd language? Or maybe your 4th? Our Conversational English program is for those who would like to practice their English in a fun and friendly environment. In partnership with YREACH. \nThis is a drop-in program.  No registration is required.
URL:https://www.lovemylibrary.ca/event/conversational-english-2-2-2/2023-01-24/
LOCATION:Truro Library\, 754 Prince St\, Truro\, Nova Scotia\, Canada
CATEGORIES:Events For Adults,Events For Seniors,Location: Truro
ATTACH;FMTTYPE=image/jpeg:https://www.lovemylibrary.ca/wp-content/uploads/2021/08/13.jpg
END:VEVENT
BEGIN:VEVENT
DTSTART;TZID=America/Halifax:20230124T133000
DTEND;TZID=America/Halifax:20230124T143000
DTSTAMP:20260425T122922
CREATED:20221025T222519Z
LAST-MODIFIED:20230529T180520Z
UID:10002670-1674567000-1674570600@www.lovemylibrary.ca
SUMMARY:Homeschoolers Haven
DESCRIPTION:Homeschoolers Haven is a place for Homeschool families to meet and share resources. There will be  activities for the children. We will be taking a summer break during the months of July and August.  For ages 5+ \nThis is a drop-in program. No registration is required.
URL:https://www.lovemylibrary.ca/event/homeschoolers-haven-2/2023-01-24/
LOCATION:Truro Library\, 754 Prince St\, Truro\, Nova Scotia\, Canada
CATEGORIES:Events For Kids,Events For Teens,Location: Truro
ATTACH;FMTTYPE=image/png:https://www.lovemylibrary.ca/wp-content/uploads/2022/07/Untitled-design-9.png
END:VEVENT
BEGIN:VEVENT
DTSTART;TZID=America/Halifax:20230124T140000
DTEND;TZID=America/Halifax:20230124T150000
DTSTAMP:20260425T122922
CREATED:20221220T231218Z
LAST-MODIFIED:20230525T163330Z
UID:10002628-1674568800-1674572400@www.lovemylibrary.ca
SUMMARY:Homework Hangout
DESCRIPTION:Time to unwind\, get your homework done\, and hangout with your friends.  For ages 8-15. \nThis is a drop-in program. No registration is required.
URL:https://www.lovemylibrary.ca/event/homework-hangout-2/2023-01-24/
LOCATION:Mount Uniacke Library\, 555\, Highway 1\, Mount Uniacke\, Nova Scotia\, Canada
CATEGORIES:Events For Kids,Events For Teens,Location: Mount Uniacke
ATTACH;FMTTYPE=image/png:https://www.lovemylibrary.ca/wp-content/uploads/2022/03/Untitled-design-91.png
END:VEVENT
BEGIN:VEVENT
DTSTART;TZID=America/Halifax:20230124T153000
DTEND;TZID=America/Halifax:20230124T163000
DTSTAMP:20260425T122922
CREATED:20221020T184343Z
LAST-MODIFIED:20230222T172457Z
UID:10002636-1674574200-1674577800@www.lovemylibrary.ca
SUMMARY:Tuesday Crafternoon
DESCRIPTION:Spring is just around the corner and the birds will need some food. Bernie has a bird feeder craft to help feed all the birds coming North. For children ages 4-15 \nRegister in branch or by email mtuniack@cehpubliclibrary.ca
URL:https://www.lovemylibrary.ca/event/tuesday-crafternoon-2/2023-01-24/
LOCATION:Mount Uniacke Library\, 555\, Highway 1\, Mount Uniacke\, Nova Scotia\, Canada
CATEGORIES:Crafting,Events For Kids,Location: Mount Uniacke
ATTACH;FMTTYPE=image/png:https://www.lovemylibrary.ca/wp-content/uploads/2022/06/Untitled-700-×-500-px-1.png
END:VEVENT
BEGIN:VEVENT
DTSTART;TZID=America/Halifax:20230124T173000
DTEND;TZID=America/Halifax:20230124T193000
DTSTAMP:20260425T122922
CREATED:20221020T172838Z
LAST-MODIFIED:20230215T202420Z
UID:10003634-1674581400-1674588600@www.lovemylibrary.ca
SUMMARY:Adult Board Games Night
DESCRIPTION:Get your game on! Come on out for an evening of board games. This is your chance to play some old favourites or learn a new one. For teens and adults. \nThis is a drop-in program. No registration is required.
URL:https://www.lovemylibrary.ca/event/adult-board-games-night-6/2023-01-24/
LOCATION:Elmsdale Library\, 15 Commerce Ct\, Elmsdale\, Nova Scotia\, Canada
CATEGORIES:Events For Adults,Events For Seniors,Events For Teens,Location: Elmsdale
ATTACH;FMTTYPE=image/png:https://www.lovemylibrary.ca/wp-content/uploads/2022/06/Untitled-700-×-500-px.png
END:VEVENT
BEGIN:VEVENT
DTSTART;TZID=America/Halifax:20230124T173000
DTEND;TZID=America/Halifax:20230124T200000
DTSTAMP:20260425T122922
CREATED:20221116T204822Z
LAST-MODIFIED:20230919T183845Z
UID:10002592-1674581400-1674590400@www.lovemylibrary.ca
SUMMARY:Heroes & Adventurers
DESCRIPTION:Role-playing game nights with extraordinary people! We provide the supplies\, you provide the imagination. No experience needed. All ages welcome! \nRegister to play by emailing: HAATruro@gmail.com Sorry\, no drop-in players at this time.
URL:https://www.lovemylibrary.ca/event/heroes-adventurers-3/2023-01-24/
LOCATION:Truro Library\, 754 Prince St\, Truro\, Nova Scotia\, Canada
CATEGORIES:Location: Truro
ATTACH;FMTTYPE=image/png:https://www.lovemylibrary.ca/wp-content/uploads/2022/06/D-and-D.png
END:VEVENT
BEGIN:VEVENT
DTSTART;TZID=America/Halifax:20230124T183000
DTEND;TZID=America/Halifax:20230124T193000
DTSTAMP:20260425T122922
CREATED:20221214T150320Z
LAST-MODIFIED:20230323T194656Z
UID:10002569-1674585000-1674588600@www.lovemylibrary.ca
SUMMARY:Intergenerational Book Buddies
DESCRIPTION:One on one time with seniors helps children improve their reading\, grow in confidence and create a sense of community connection and purpose.For ages 5 and up. \nTo register email:  stewiacke@cehpubliclibrary.ca or call 902 639-2481\n 
URL:https://www.lovemylibrary.ca/event/intergenerational-book-buddies-2/2023-01-24/
LOCATION:Stewiacke Library\, 295 George Street\, Stewiacke\, Nova Scotia\, Canada
CATEGORIES:Events For Adults,Events For Kids,Events For Seniors,Location: Stewiacke
ATTACH;FMTTYPE=image/png:https://www.lovemylibrary.ca/wp-content/uploads/2022/11/Untitled-design-2022-11-29T111628.045.png
END:VEVENT
BEGIN:VEVENT
DTSTART;TZID=America/Halifax:20230124T183000
DTEND;TZID=America/Halifax:20230124T193000
DTSTAMP:20260425T122922
CREATED:20221216T203431Z
LAST-MODIFIED:20221216T203431Z
UID:10002608-1674585000-1674588600@www.lovemylibrary.ca
SUMMARY:Author Reading: Rebecca Thomas
DESCRIPTION:Join award winning Mi’kmaw Author and poet for a reading from her collection “I Place You Into the Fire” along with some new work. She promises to bum you out\, lift you up and throw in a few laughs along the way. \nRegistration is not required for this program.
URL:https://www.lovemylibrary.ca/event/author-reading-rebecca-thomas/
LOCATION:Nova Scotia
CATEGORIES:Events For Adults,Location: Truro
ATTACH;FMTTYPE=image/png:https://www.lovemylibrary.ca/wp-content/uploads/2022/12/Untitled-design-25.png
END:VEVENT
BEGIN:VEVENT
DTSTART;TZID=America/Halifax:20230124T183000
DTEND;TZID=America/Halifax:20230124T200000
DTSTAMP:20260425T122922
CREATED:20221020T193052Z
LAST-MODIFIED:20230926T211554Z
UID:10002640-1674585000-1674590400@www.lovemylibrary.ca
SUMMARY:Ewe-niacke Yarn Club
DESCRIPTION:Fiber art for all ages and abilities. Learn to knit or crochet\, bring a project you are working on\, or just come hang out with the club for some social time. All ages welcome. \nDrop in\, no registration required.
URL:https://www.lovemylibrary.ca/event/ewe-niacke-yarn-club-3/2023-01-24/
LOCATION:Mount Uniacke Library\, 555\, Highway 1\, Mount Uniacke\, Nova Scotia\, Canada
CATEGORIES:Crafting,Events For Adults,Events For Kids,Events For Seniors,Location: Mount Uniacke
ATTACH;FMTTYPE=image/png:https://www.lovemylibrary.ca/wp-content/uploads/2022/03/Untitled-design-89.png
END:VEVENT
BEGIN:VEVENT
DTSTART;TZID=America/Halifax:20230124T183000
DTEND;TZID=America/Halifax:20230124T200000
DTSTAMP:20260425T122922
CREATED:20221020T195846Z
LAST-MODIFIED:20230222T184014Z
UID:10002645-1674585000-1674590400@www.lovemylibrary.ca
SUMMARY:Seniors Learn to Knit with Ewe-niacke Yarn Club
DESCRIPTION:Want to learn to knit or crochet? Already know how\, but need a refresher? Not sure what supplies you need? We have everything you need for your first project. Hants Count Senior Safety Association is providing the supplies necessary to start your project. \nDrop in\, no registration required.
URL:https://www.lovemylibrary.ca/event/seniors-learn-to-knit-with-ewe-niacke-yarn-club-2/2023-01-24/
LOCATION:Mount Uniacke Library\, 555\, Highway 1\, Mount Uniacke\, Nova Scotia\, Canada
CATEGORIES:Events For Seniors,Location: Mount Uniacke
ATTACH;FMTTYPE=image/png:https://www.lovemylibrary.ca/wp-content/uploads/2022/04/Untitled-design-2022-04-29T171348.604.png
END:VEVENT
BEGIN:VEVENT
DTSTART;TZID=America/Halifax:20230125T103000
DTEND;TZID=America/Halifax:20230125T110000
DTSTAMP:20260425T122922
CREATED:20221220T230021Z
LAST-MODIFIED:20230525T163111Z
UID:10002617-1674642600-1674644400@www.lovemylibrary.ca
SUMMARY:Storytime
DESCRIPTION:Enjoy a picture book read by Karri or Bernie and then participate in an activity. For pre schoolers and home schoolers. \nThis is a drop-in program. No registration is required.
URL:https://www.lovemylibrary.ca/event/storytime-4-2/2023-01-25/
LOCATION:Mount Uniacke Library\, 555\, Highway 1\, Mount Uniacke\, Nova Scotia\, Canada
CATEGORIES:Events For Kids,Location: Mount Uniacke
ATTACH;FMTTYPE=image/png:https://www.lovemylibrary.ca/wp-content/uploads/2022/05/Untitled-design-2.png
END:VEVENT
BEGIN:VEVENT
DTSTART;TZID=America/Halifax:20230125T103000
DTEND;TZID=America/Halifax:20230125T113000
DTSTAMP:20260425T122922
CREATED:20221021T175543Z
LAST-MODIFIED:20221221T201052Z
UID:10002651-1674642600-1674646200@www.lovemylibrary.ca
SUMMARY:Tots and Moms Social Time
DESCRIPTION:Join us for story time\, songs and social time. Ages 0-3 \nRegistration by phone 902-657-3064 or email: tatamago@cehpubliclibrary.ca
URL:https://www.lovemylibrary.ca/event/tots-and-moms-social-time-2/2023-01-25/
LOCATION:Tatamagouche Library\, 170 Main Street\, Tatamagouche\, Nova Scotia\, Canada
CATEGORIES:Events For Kids,Location: Tatamagouche
ATTACH;FMTTYPE=image/png:https://www.lovemylibrary.ca/wp-content/uploads/2022/03/Untitled-design-75.png
END:VEVENT
BEGIN:VEVENT
DTSTART;TZID=America/Halifax:20230125T103000
DTEND;TZID=America/Halifax:20230125T113000
DTSTAMP:20260425T122922
CREATED:20221216T204301Z
LAST-MODIFIED:20230330T192453Z
UID:10002610-1674642600-1674646200@www.lovemylibrary.ca
SUMMARY:Francophone Seniors Social Time
DESCRIPTION:Don’t let winter weather keep you at home. Our bi-weekly seniors craft and social time will warm you inside and out. \nThis is a drop-in program. No registration is required.
URL:https://www.lovemylibrary.ca/event/francophone-seniors-social-time/2023-01-25/
LOCATION:Truro Library\, 754 Prince St\, Truro\, Nova Scotia\, Canada
CATEGORIES:Events For Seniors,Location: Truro
ATTACH;FMTTYPE=image/png:https://www.lovemylibrary.ca/wp-content/uploads/2022/08/Untitled-design-6.png
END:VEVENT
BEGIN:VEVENT
DTSTART;TZID=America/Halifax:20230125T173000
DTEND;TZID=America/Halifax:20230125T193000
DTSTAMP:20260425T122922
CREATED:20221020T172838Z
LAST-MODIFIED:20230215T202420Z
UID:10003635-1674667800-1674675000@www.lovemylibrary.ca
SUMMARY:Adult Board Games Night
DESCRIPTION:Get your game on! Come on out for an evening of board games. This is your chance to play some old favourites or learn a new one. For teens and adults. \nThis is a drop-in program. No registration is required.
URL:https://www.lovemylibrary.ca/event/adult-board-games-night-6/2023-01-25/
LOCATION:Elmsdale Library\, 15 Commerce Ct\, Elmsdale\, Nova Scotia\, Canada
CATEGORIES:Events For Adults,Events For Seniors,Events For Teens,Location: Elmsdale
ATTACH;FMTTYPE=image/png:https://www.lovemylibrary.ca/wp-content/uploads/2022/06/Untitled-700-×-500-px.png
END:VEVENT
BEGIN:VEVENT
DTSTART;TZID=America/Halifax:20230125T183000
DTEND;TZID=America/Halifax:20230125T193000
DTSTAMP:20260425T122922
CREATED:20221222T185918Z
LAST-MODIFIED:20221222T185918Z
UID:10002678-1674671400-1674675000@www.lovemylibrary.ca
SUMMARY:Teen Colouring Night
DESCRIPTION:Chill out to some music\, relax as you colour\, and de-stress. Materials are provided but feel free to bring your own!  Ages 13-18 in the Teen Room \nThis is a drop-in program.
URL:https://www.lovemylibrary.ca/event/teen-colouring-night/
LOCATION:Nova Scotia
CATEGORIES:Events For Teens,Location: Truro
ATTACH;FMTTYPE=image/png:https://www.lovemylibrary.ca/wp-content/uploads/2022/06/Untitled-design-3-1.png
END:VEVENT
BEGIN:VEVENT
DTSTART;TZID=America/Halifax:20230126T103000
DTEND;TZID=America/Halifax:20230126T110000
DTSTAMP:20260425T122922
CREATED:20221018T160406Z
LAST-MODIFIED:20230524T172811Z
UID:10002553-1674729000-1674730800@www.lovemylibrary.ca
SUMMARY:Baby Rhyme Time
DESCRIPTION:Discover the joy of songs\, finger plays \, bouncing rhymes and simple books. Suitable for Infant-2 years old with a caregiver \nThis is an in-person program. No registration is required.
URL:https://www.lovemylibrary.ca/event/baby-rhyme-time-6/2023-01-26/
LOCATION:Stewiacke Library\, 295 George Street\, Stewiacke\, Nova Scotia\, Canada
CATEGORIES:Events For Kids,Location: Stewiacke
ATTACH;FMTTYPE=image/png:https://www.lovemylibrary.ca/wp-content/uploads/2022/03/Untitled-design-75.png
END:VEVENT
BEGIN:VEVENT
DTSTART;TZID=America/Halifax:20230126T110000
DTEND;TZID=America/Halifax:20230126T112000
DTSTAMP:20260425T122922
CREATED:20221025T221411Z
LAST-MODIFIED:20230428T164111Z
UID:10002666-1674730800-1674732000@www.lovemylibrary.ca
SUMMARY:Tales for Tots
DESCRIPTION:Join us Thursday mornings for stories\, songs\, and activities that are just right for terrific toddlers! \n18 months-4 years with a parent/caregiver. \nDrop-in\, no registration required.
URL:https://www.lovemylibrary.ca/event/tales-for-tots/2023-01-26/
LOCATION:Truro Library\, 754 Prince St\, Truro\, Nova Scotia\, Canada
CATEGORIES:Events For Kids,Location: Truro
ATTACH;FMTTYPE=image/png:https://www.lovemylibrary.ca/wp-content/uploads/2022/03/Untitled-design-81.png
END:VEVENT
BEGIN:VEVENT
DTSTART;TZID=America/Halifax:20230126T130000
DTEND;TZID=America/Halifax:20230126T140000
DTSTAMP:20260425T122922
CREATED:20230118T195543Z
LAST-MODIFIED:20230421T172154Z
UID:10002713-1674738000-1674741600@www.lovemylibrary.ca
SUMMARY:Crafty Story Time
DESCRIPTION:Come along and enjoy an hour of fun filled story and craft time. For ages 3-5 \nTo register call 902-883-9838 or email elmsdale@cehpubliclibrary.ca
URL:https://www.lovemylibrary.ca/event/crafty-story-time-2-2-2/2023-01-26/
LOCATION:Elmsdale Library\, 15 Commerce Ct\, Elmsdale\, Nova Scotia\, Canada
CATEGORIES:Crafting,Events For Kids,Location: Elmsdale
ATTACH;FMTTYPE=image/png:https://www.lovemylibrary.ca/wp-content/uploads/2022/09/Untitled-design-43.png
END:VEVENT
BEGIN:VEVENT
DTSTART;TZID=America/Halifax:20230126T140000
DTEND;TZID=America/Halifax:20230126T150000
DTSTAMP:20260425T122922
CREATED:20221220T231218Z
LAST-MODIFIED:20230525T163330Z
UID:10002629-1674741600-1674745200@www.lovemylibrary.ca
SUMMARY:Homework Hangout
DESCRIPTION:Time to unwind\, get your homework done\, and hangout with your friends.  For ages 8-15. \nThis is a drop-in program. No registration is required.
URL:https://www.lovemylibrary.ca/event/homework-hangout-2/2023-01-26/
LOCATION:Mount Uniacke Library\, 555\, Highway 1\, Mount Uniacke\, Nova Scotia\, Canada
CATEGORIES:Events For Kids,Events For Teens,Location: Mount Uniacke
ATTACH;FMTTYPE=image/png:https://www.lovemylibrary.ca/wp-content/uploads/2022/03/Untitled-design-91.png
END:VEVENT
BEGIN:VEVENT
DTSTART;TZID=America/Halifax:20230126T144500
DTEND;TZID=America/Halifax:20230126T170000
DTSTAMP:20260425T122922
CREATED:20221021T180121Z
LAST-MODIFIED:20230525T180406Z
UID:10004212-1674744300-1674752400@www.lovemylibrary.ca
SUMMARY:Dungeons and Dragons
DESCRIPTION:The campaign is going to be an adventure of a group of fighters\, trying to complete 20 challenges\, each harder than the next. Ages 12-16. \nRegistration by phone 902-657-3064 or email: tatamago@cehpubliclibrary.ca
URL:https://www.lovemylibrary.ca/event/d-d-group/2023-01-26/
LOCATION:Tatamagouche Library\, 170 Main Street\, Tatamagouche\, Nova Scotia\, Canada
CATEGORIES:Events For Kids,Events For Teens,Location: Tatamagouche
ATTACH;FMTTYPE=image/png:https://www.lovemylibrary.ca/wp-content/uploads/2022/06/D-and-D.png
END:VEVENT
BEGIN:VEVENT
DTSTART;TZID=America/Halifax:20230126T150000
DTEND;TZID=America/Halifax:20230126T160000
DTSTAMP:20260425T122922
CREATED:20221020T182836Z
LAST-MODIFIED:20260221T174505Z
UID:10002632-1674745200-1674748800@www.lovemylibrary.ca
SUMMARY:Teen Time
DESCRIPTION:It’s your time in the Program room. Play games\, hangout\, enjoy a board game without the younger kids. Ages 13-18 \nThis is a drop-in program. No registration is required.
URL:https://www.lovemylibrary.ca/event/teen-time-5/2023-01-26/
LOCATION:Mount Uniacke Library\, 555\, Highway 1\, Mount Uniacke\, Nova Scotia\, Canada
CATEGORIES:Events For Teens,Location: Mount Uniacke
ATTACH;FMTTYPE=image/png:https://www.lovemylibrary.ca/wp-content/uploads/2022/10/Untitled-design-53.png
END:VEVENT
BEGIN:VEVENT
DTSTART;TZID=America/Halifax:20230126T150000
DTEND;TZID=America/Halifax:20230126T163000
DTSTAMP:20260425T122923
CREATED:20221222T144827Z
LAST-MODIFIED:20221222T144827Z
UID:10002661-1674745200-1674750600@www.lovemylibrary.ca
SUMMARY:Lego robotics
DESCRIPTION:Using Lego\, build robots and other vehicles\, and program them to move and perform other functions. For ages 7-12 \nRegistration by phone 902-657-3064 or email: tatamago@cehpubliclibrary.ca
URL:https://www.lovemylibrary.ca/event/lego-robotics/
LOCATION:Tatamagouche Library\, 170 Main Street\, Tatamagouche\, Nova Scotia\, Canada
CATEGORIES:Events For Kids,Location: Tatamagouche
ATTACH;FMTTYPE=application/pdf:https://www.lovemylibrary.ca/wp-content/uploads/2022/12/Untitled-design-11.pdf
END:VEVENT
BEGIN:VEVENT
DTSTART;TZID=America/Halifax:20230126T153000
DTEND;TZID=America/Halifax:20230126T160000
DTSTAMP:20260425T122923
CREATED:20221214T174202Z
LAST-MODIFIED:20221214T174202Z
UID:10002577-1674747000-1674748800@www.lovemylibrary.ca
SUMMARY:Minute to Win It for Teens
DESCRIPTION:Are you suffering from Cabin Fever? Have the Winter Blues? Stop in to the library for silly\, 60 second challenges\, friendly competition and lots of laughs. For ages 13-18 \nThis is a drop-in program. No registration is required.
URL:https://www.lovemylibrary.ca/event/minute-to-win-it-for-teens/
LOCATION:Stewiacke Library\, 295 George Street\, Stewiacke\, Nova Scotia\, Canada
CATEGORIES:Events For Teens,Location: Stewiacke
ATTACH;FMTTYPE=image/png:https://www.lovemylibrary.ca/wp-content/uploads/2022/10/Untitled-design-53.png
END:VEVENT
BEGIN:VEVENT
DTSTART;TZID=America/Halifax:20230126T173000
DTEND;TZID=America/Halifax:20230126T193000
DTSTAMP:20260425T122923
CREATED:20221020T172838Z
LAST-MODIFIED:20230215T202420Z
UID:10002602-1674754200-1674761400@www.lovemylibrary.ca
SUMMARY:Adult Board Games Night
DESCRIPTION:Get your game on! Come on out for an evening of board games. This is your chance to play some old favourites or learn a new one. For teens and adults. \nThis is a drop-in program. No registration is required.
URL:https://www.lovemylibrary.ca/event/adult-board-games-night-6/2023-01-26/
LOCATION:Elmsdale Library\, 15 Commerce Ct\, Elmsdale\, Nova Scotia\, Canada
CATEGORIES:Events For Adults,Events For Seniors,Events For Teens,Location: Elmsdale
ATTACH;FMTTYPE=image/png:https://www.lovemylibrary.ca/wp-content/uploads/2022/06/Untitled-700-×-500-px.png
END:VEVENT
END:VCALENDAR