BEGIN:VCALENDAR
VERSION:2.0
PRODID:-//Colchester East Hants Public Library - ECPv6.15.20//NONSGML v1.0//EN
CALSCALE:GREGORIAN
METHOD:PUBLISH
X-WR-CALNAME:Colchester East Hants Public Library
X-ORIGINAL-URL:https://www.lovemylibrary.ca
X-WR-CALDESC:Events for Colchester East Hants Public Library
REFRESH-INTERVAL;VALUE=DURATION:PT1H
X-Robots-Tag:noindex
X-PUBLISHED-TTL:PT1H
BEGIN:VTIMEZONE
TZID:America/Halifax
BEGIN:DAYLIGHT
TZOFFSETFROM:-0400
TZOFFSETTO:-0300
TZNAME:ADT
DTSTART:20220313T060000
END:DAYLIGHT
BEGIN:STANDARD
TZOFFSETFROM:-0300
TZOFFSETTO:-0400
TZNAME:AST
DTSTART:20221106T050000
END:STANDARD
BEGIN:DAYLIGHT
TZOFFSETFROM:-0400
TZOFFSETTO:-0300
TZNAME:ADT
DTSTART:20230312T060000
END:DAYLIGHT
BEGIN:STANDARD
TZOFFSETFROM:-0300
TZOFFSETTO:-0400
TZNAME:AST
DTSTART:20231105T050000
END:STANDARD
BEGIN:DAYLIGHT
TZOFFSETFROM:-0400
TZOFFSETTO:-0300
TZNAME:ADT
DTSTART:20240310T060000
END:DAYLIGHT
BEGIN:STANDARD
TZOFFSETFROM:-0300
TZOFFSETTO:-0400
TZNAME:AST
DTSTART:20241103T050000
END:STANDARD
END:VTIMEZONE
BEGIN:VEVENT
DTSTART;VALUE=DATE:20230103
DTEND;VALUE=DATE:20230201
DTSTAMP:20260424T115659
CREATED:20221019T145409Z
LAST-MODIFIED:20221214T175027Z
UID:10001834-1672704000-1675209599@www.lovemylibrary.ca
SUMMARY:Around the House Scavenger Hunt
DESCRIPTION:Solve the rhyming clues to help you find the correct images. How many of these things do you have at home? All ages are welcome to participate. \nThis is a drop-in program. No registration is required.
URL:https://www.lovemylibrary.ca/event/ice-age-mammals-scavenger-hunt/
LOCATION:Stewiacke Library\, 295 George Street\, Stewiacke\, Nova Scotia\, Canada
CATEGORIES:Events For Kids,Location: Stewiacke
ATTACH;FMTTYPE=image/png:https://www.lovemylibrary.ca/wp-content/uploads/2022/06/scavenger-hunt-1.png
END:VEVENT
BEGIN:VEVENT
DTSTART;VALUE=DATE:20230103
DTEND;VALUE=DATE:20230224
DTSTAMP:20260424T115659
CREATED:20221214T183927Z
LAST-MODIFIED:20221214T183927Z
UID:10002578-1672704000-1677196799@www.lovemylibrary.ca
SUMMARY:“Sketches of Historic Truro” Art Exhibit by Minette Murphy
DESCRIPTION:Come see beautiful sketches of historic Truro buildings in the art exhibit running through January and February at the Truro Library. The artist Minette Murphy will be on site to talk with you about their art and the inspiration behind the exhibit on Tuesday\, January 3 @6-8pm. All ages are welcome \nThis is a drop-in program. No registration is required.
URL:https://www.lovemylibrary.ca/event/sketches-of-historic-truro-art-exhibit-by-minette-murphy/
LOCATION:Truro Library\, 754 Prince St\, Truro\, Nova Scotia\, Canada
CATEGORIES:Events For Adults,Events For Kids,Events For Seniors,Events For Teens,Location: Truro
ATTACH;FMTTYPE=image/png:https://www.lovemylibrary.ca/wp-content/uploads/2022/12/Untitled-design-35.png
END:VEVENT
BEGIN:VEVENT
DTSTART;TZID=America/Halifax:20230130T133000
DTEND;TZID=America/Halifax:20230130T163000
DTSTAMP:20260424T115659
CREATED:20221026T175545Z
LAST-MODIFIED:20230919T182903Z
UID:10002588-1675085400-1675096200@www.lovemylibrary.ca
SUMMARY:Scrabble Group
DESCRIPTION:What spells F-U-N? Playing Scrabble with friends! \nThis is a drop-in program.  No registration is required.
URL:https://www.lovemylibrary.ca/event/scrabble-group-3-2/2023-01-30/
LOCATION:Truro Library\, 754 Prince St\, Truro\, Nova Scotia\, Canada
CATEGORIES:Events For Adults,Events For Seniors,Location: Truro
ATTACH;FMTTYPE=image/png:https://www.lovemylibrary.ca/wp-content/uploads/2022/05/Add-a-subheading-700-×-500-px-3.png
END:VEVENT
BEGIN:VEVENT
DTSTART;TZID=America/Halifax:20230130T173000
DTEND;TZID=America/Halifax:20230130T193000
DTSTAMP:20260424T115659
CREATED:20221020T172838Z
LAST-MODIFIED:20230215T202420Z
UID:10003639-1675099800-1675107000@www.lovemylibrary.ca
SUMMARY:Adult Board Games Night
DESCRIPTION:Get your game on! Come on out for an evening of board games. This is your chance to play some old favourites or learn a new one. For teens and adults. \nThis is a drop-in program. No registration is required.
URL:https://www.lovemylibrary.ca/event/adult-board-games-night-6/2023-01-30/
LOCATION:Elmsdale Library\, 15 Commerce Ct\, Elmsdale\, Nova Scotia\, Canada
CATEGORIES:Events For Adults,Events For Seniors,Events For Teens,Location: Elmsdale
ATTACH;FMTTYPE=image/png:https://www.lovemylibrary.ca/wp-content/uploads/2022/06/Untitled-700-×-500-px.png
END:VEVENT
BEGIN:VEVENT
DTSTART;TZID=America/Halifax:20230131T100000
DTEND;TZID=America/Halifax:20230131T104500
DTSTAMP:20260424T115659
CREATED:20221222T194311Z
LAST-MODIFIED:20230218T203025Z
UID:10002685-1675159200-1675161900@www.lovemylibrary.ca
SUMMARY:Baby\, Me\, & Mother Goose
DESCRIPTION:Learn rhymes\, songs and have fun with your baby. For all parents with babies 3-18 months. The session will take place at Maggie’s Place. \nTo register\, please call 902-895-0200
URL:https://www.lovemylibrary.ca/event/baby-me-mother-goose-2/2023-01-31/
LOCATION:Maggie’s Place\, 1027 Prince Street\, Truro\, Nova Scotia\, B2N 1H7\, Canada
CATEGORIES:Events For Kids,Location: Truro
ATTACH;FMTTYPE=image/png:https://www.lovemylibrary.ca/wp-content/uploads/2022/03/Untitled-design-75.png
END:VEVENT
BEGIN:VEVENT
DTSTART;TZID=America/Halifax:20230131T110000
DTEND;TZID=America/Halifax:20230131T120000
DTSTAMP:20260424T115659
CREATED:20221214T192815Z
LAST-MODIFIED:20230218T201150Z
UID:10002584-1675162800-1675166400@www.lovemylibrary.ca
SUMMARY:Conversational English
DESCRIPTION:Is English your 2nd language? Or maybe your 4th? Our Conversational English program is for those who would like to practice their English in a fun and friendly environment. In partnership with YREACH. \nThis is a drop-in program.  No registration is required.
URL:https://www.lovemylibrary.ca/event/conversational-english-2-2-2/2023-01-31/
LOCATION:Truro Library\, 754 Prince St\, Truro\, Nova Scotia\, Canada
CATEGORIES:Events For Adults,Events For Seniors,Location: Truro
ATTACH;FMTTYPE=image/jpeg:https://www.lovemylibrary.ca/wp-content/uploads/2021/08/13.jpg
END:VEVENT
BEGIN:VEVENT
DTSTART;TZID=America/Halifax:20230131T133000
DTEND;TZID=America/Halifax:20230131T143000
DTSTAMP:20260424T115659
CREATED:20221025T222519Z
LAST-MODIFIED:20230529T180520Z
UID:10002668-1675171800-1675175400@www.lovemylibrary.ca
SUMMARY:Homeschoolers Haven
DESCRIPTION:Homeschoolers Haven is a place for Homeschool families to meet and share resources. There will be  activities for the children. We will be taking a summer break during the months of July and August.  For ages 5+ \nThis is a drop-in program. No registration is required.
URL:https://www.lovemylibrary.ca/event/homeschoolers-haven-2/2023-01-31/
LOCATION:Truro Library\, 754 Prince St\, Truro\, Nova Scotia\, Canada
CATEGORIES:Events For Kids,Events For Teens,Location: Truro
ATTACH;FMTTYPE=image/png:https://www.lovemylibrary.ca/wp-content/uploads/2022/07/Untitled-design-9.png
END:VEVENT
BEGIN:VEVENT
DTSTART;TZID=America/Halifax:20230131T140000
DTEND;TZID=America/Halifax:20230131T150000
DTSTAMP:20260424T115659
CREATED:20221220T231218Z
LAST-MODIFIED:20230525T163330Z
UID:10003540-1675173600-1675177200@www.lovemylibrary.ca
SUMMARY:Homework Hangout
DESCRIPTION:Time to unwind\, get your homework done\, and hangout with your friends.  For ages 8-15. \nThis is a drop-in program. No registration is required.
URL:https://www.lovemylibrary.ca/event/homework-hangout-2/2023-01-31/
LOCATION:Mount Uniacke Library\, 555\, Highway 1\, Mount Uniacke\, Nova Scotia\, Canada
CATEGORIES:Events For Kids,Events For Teens,Location: Mount Uniacke
ATTACH;FMTTYPE=image/png:https://www.lovemylibrary.ca/wp-content/uploads/2022/03/Untitled-design-91.png
END:VEVENT
BEGIN:VEVENT
DTSTART;TZID=America/Halifax:20230131T173000
DTEND;TZID=America/Halifax:20230131T193000
DTSTAMP:20260424T115659
CREATED:20221020T172838Z
LAST-MODIFIED:20230215T202420Z
UID:10003640-1675186200-1675193400@www.lovemylibrary.ca
SUMMARY:Adult Board Games Night
DESCRIPTION:Get your game on! Come on out for an evening of board games. This is your chance to play some old favourites or learn a new one. For teens and adults. \nThis is a drop-in program. No registration is required.
URL:https://www.lovemylibrary.ca/event/adult-board-games-night-6/2023-01-31/
LOCATION:Elmsdale Library\, 15 Commerce Ct\, Elmsdale\, Nova Scotia\, Canada
CATEGORIES:Events For Adults,Events For Seniors,Events For Teens,Location: Elmsdale
ATTACH;FMTTYPE=image/png:https://www.lovemylibrary.ca/wp-content/uploads/2022/06/Untitled-700-×-500-px.png
END:VEVENT
BEGIN:VEVENT
DTSTART;TZID=America/Halifax:20230131T173000
DTEND;TZID=America/Halifax:20230131T200000
DTSTAMP:20260424T115659
CREATED:20221116T204822Z
LAST-MODIFIED:20230919T183845Z
UID:10002593-1675186200-1675195200@www.lovemylibrary.ca
SUMMARY:Heroes & Adventurers
DESCRIPTION:Role-playing game nights with extraordinary people! We provide the supplies\, you provide the imagination. No experience needed. All ages welcome! \nRegister to play by emailing: HAATruro@gmail.com Sorry\, no drop-in players at this time.
URL:https://www.lovemylibrary.ca/event/heroes-adventurers-3/2023-01-31/
LOCATION:Truro Library\, 754 Prince St\, Truro\, Nova Scotia\, Canada
CATEGORIES:Location: Truro
ATTACH;FMTTYPE=image/png:https://www.lovemylibrary.ca/wp-content/uploads/2022/06/D-and-D.png
END:VEVENT
BEGIN:VEVENT
DTSTART;TZID=America/Halifax:20230131T183000
DTEND;TZID=America/Halifax:20230131T200000
DTSTAMP:20260424T115659
CREATED:20221020T193052Z
LAST-MODIFIED:20230926T211554Z
UID:10002641-1675189800-1675195200@www.lovemylibrary.ca
SUMMARY:Ewe-niacke Yarn Club
DESCRIPTION:Fiber art for all ages and abilities. Learn to knit or crochet\, bring a project you are working on\, or just come hang out with the club for some social time. All ages welcome. \nDrop in\, no registration required.
URL:https://www.lovemylibrary.ca/event/ewe-niacke-yarn-club-3/2023-01-31/
LOCATION:Mount Uniacke Library\, 555\, Highway 1\, Mount Uniacke\, Nova Scotia\, Canada
CATEGORIES:Crafting,Events For Adults,Events For Kids,Events For Seniors,Location: Mount Uniacke
ATTACH;FMTTYPE=image/png:https://www.lovemylibrary.ca/wp-content/uploads/2022/03/Untitled-design-89.png
END:VEVENT
BEGIN:VEVENT
DTSTART;TZID=America/Halifax:20230131T183000
DTEND;TZID=America/Halifax:20230131T200000
DTSTAMP:20260424T115659
CREATED:20221020T195846Z
LAST-MODIFIED:20230222T184014Z
UID:10002646-1675189800-1675195200@www.lovemylibrary.ca
SUMMARY:Seniors Learn to Knit with Ewe-niacke Yarn Club
DESCRIPTION:Want to learn to knit or crochet? Already know how\, but need a refresher? Not sure what supplies you need? We have everything you need for your first project. Hants Count Senior Safety Association is providing the supplies necessary to start your project. \nDrop in\, no registration required.
URL:https://www.lovemylibrary.ca/event/seniors-learn-to-knit-with-ewe-niacke-yarn-club-2/2023-01-31/
LOCATION:Mount Uniacke Library\, 555\, Highway 1\, Mount Uniacke\, Nova Scotia\, Canada
CATEGORIES:Events For Seniors,Location: Mount Uniacke
ATTACH;FMTTYPE=image/png:https://www.lovemylibrary.ca/wp-content/uploads/2022/04/Untitled-design-2022-04-29T171348.604.png
END:VEVENT
BEGIN:VEVENT
DTSTART;VALUE=DATE:20230201
DTEND;VALUE=DATE:20230219
DTSTAMP:20260424T115659
CREATED:20230124T155413Z
LAST-MODIFIED:20230124T155413Z
UID:10003433-1675209600-1676764799@www.lovemylibrary.ca
SUMMARY:Winter Sport Scavenger Hunt
DESCRIPTION:Come in out of the wintery weather and enjoy a scavenger hunt in the Library. All ages are welcome to participate. \nDrop in\, no registration required.
URL:https://www.lovemylibrary.ca/event/winter-sport-scavenger-hunt/
LOCATION:Tatamagouche Library\, 170 Main Street\, Tatamagouche\, Nova Scotia\, Canada
CATEGORIES:Events For Kids,Location: Tatamagouche
ATTACH;FMTTYPE=image/png:https://www.lovemylibrary.ca/wp-content/uploads/2022/06/scavenger-hunt-1.png
END:VEVENT
BEGIN:VEVENT
DTSTART;VALUE=DATE:20230201
DTEND;VALUE=DATE:20230301
DTSTAMP:20260424T115659
CREATED:20230118T205032Z
LAST-MODIFIED:20230118T205032Z
UID:10002757-1675209600-1677628799@www.lovemylibrary.ca
SUMMARY:Winter Scavenger Hunt
DESCRIPTION:Come in out of the wintery weather and enjoy a scavenger hunt with the library. All ages are welcome to participate \nDrop in – call 902-883-9838 or email elmsdale@cehpubliclibrary.ca
URL:https://www.lovemylibrary.ca/event/winter-scavenger-hunt-2/
LOCATION:Elmsdale Library\, 15 Commerce Ct\, Elmsdale\, Nova Scotia\, Canada
CATEGORIES:Events For Kids,Location: Elmsdale
ATTACH;FMTTYPE=image/png:https://www.lovemylibrary.ca/wp-content/uploads/2022/06/scavenger-hunt-1.png
END:VEVENT
BEGIN:VEVENT
DTSTART;VALUE=DATE:20230201
DTEND;VALUE=DATE:20230301
DTSTAMP:20260424T115659
CREATED:20230124T150804Z
LAST-MODIFIED:20230124T150836Z
UID:10002804-1675209600-1677628799@www.lovemylibrary.ca
SUMMARY:Take Home Craft Kits
DESCRIPTION:Take-and-make craft kits contain all the supplies needed to complete the craft.  Ages 5-12. \nTo participate\, drop by and pick up your kit. No registration required.
URL:https://www.lovemylibrary.ca/event/take-home-craft-kits-7/
LOCATION:Tatamagouche Library\, 170 Main Street\, Tatamagouche\, Nova Scotia\, Canada
CATEGORIES:Events For Kids,Location: Tatamagouche
ATTACH;FMTTYPE=image/png:https://www.lovemylibrary.ca/wp-content/uploads/2022/02/Untitled-design-42.png
END:VEVENT
BEGIN:VEVENT
DTSTART;VALUE=DATE:20230201
DTEND;VALUE=DATE:20230301
DTSTAMP:20260424T115659
CREATED:20230125T183237Z
LAST-MODIFIED:20230125T183237Z
UID:10003571-1675209600-1677628799@www.lovemylibrary.ca
SUMMARY:Blind Date with a Book
DESCRIPTION:We want to set you up with the book of your dreams\, featuring books with sharp and witty profiles better than anything you’ll find on Tinder. \nBlind Date with a Book is your chance to peruse a display of discreetly wrapped books and their descriptive tags. You’re sure to find one that quickens your pulse. \nDrop in anytime during February!
URL:https://www.lovemylibrary.ca/event/blind-date-with-a-book/
LOCATION:Mount Uniacke Library\, 555\, Highway 1\, Mount Uniacke\, Nova Scotia\, Canada
CATEGORIES:Events For Adults,Events For Kids,Events For Seniors,Events For Teens,Location: Mount Uniacke
ATTACH;FMTTYPE=image/png:https://www.lovemylibrary.ca/wp-content/uploads/2023/01/Untitled-design-2023-01-25T143344.764.png
END:VEVENT
BEGIN:VEVENT
DTSTART;TZID=America/Halifax:20230201T103000
DTEND;TZID=America/Halifax:20230201T110000
DTSTAMP:20260424T115659
CREATED:20221220T230021Z
LAST-MODIFIED:20230525T163111Z
UID:10003532-1675247400-1675249200@www.lovemylibrary.ca
SUMMARY:Storytime
DESCRIPTION:Enjoy a picture book read by Karri or Bernie and then participate in an activity. For pre schoolers and home schoolers. \nThis is a drop-in program. No registration is required.
URL:https://www.lovemylibrary.ca/event/storytime-4-2/2023-02-01/
LOCATION:Mount Uniacke Library\, 555\, Highway 1\, Mount Uniacke\, Nova Scotia\, Canada
CATEGORIES:Events For Kids,Location: Mount Uniacke
ATTACH;FMTTYPE=image/png:https://www.lovemylibrary.ca/wp-content/uploads/2022/05/Untitled-design-2.png
END:VEVENT
BEGIN:VEVENT
DTSTART;TZID=America/Halifax:20230201T130000
DTEND;TZID=America/Halifax:20230201T150000
DTSTAMP:20260424T115659
CREATED:20230124T160124Z
LAST-MODIFIED:20230124T160124Z
UID:10003434-1675256400-1675263600@www.lovemylibrary.ca
SUMMARY:Truro Urban Sketchers
DESCRIPTION:Watch the Truro Urban Sketchers in action as they sketch around the Library! Bring along a notepad and practice sketching yourself. \nDrop-in\, no registration required.
URL:https://www.lovemylibrary.ca/event/truro-urban-sketchers/
LOCATION:Truro Library\, 754 Prince St\, Truro\, Nova Scotia\, Canada
CATEGORIES:Events For Adults,Events For Seniors,Location: Truro
ATTACH;FMTTYPE=image/png:https://www.lovemylibrary.ca/wp-content/uploads/2023/01/Untitled-design-2023-01-24T120443.288.png
END:VEVENT
BEGIN:VEVENT
DTSTART;TZID=America/Halifax:20230201T143000
DTEND;TZID=America/Halifax:20230201T190000
DTSTAMP:20260424T115659
CREATED:20210830T161210Z
LAST-MODIFIED:20231213T141030Z
UID:10002695-1675261800-1675278000@www.lovemylibrary.ca
SUMMARY:Satellite Library Visit: Middle Stewiacke Recreation Centre
DESCRIPTION:Meet us at the Middle Stewiacke Recreation Centre where you can browse and borrow materials\, sign up for a Library card\, and use the public WiFi!
URL:https://www.lovemylibrary.ca/event/satellite-library-visit-middle-stewiacke-recreation-centre/2023-02-01/
LOCATION:Middle Stewiacke Recreation Centre\, 2395 Highway 289\, Middle Stewiacke\, Nova Scotia\, Canada
CATEGORIES:Events For Adults,Events For Kids,Events For Seniors,Events For Teens,Location: Middle Stewiacke
ATTACH;FMTTYPE=image/jpeg:https://www.lovemylibrary.ca/wp-content/uploads/2021/08/16.jpg
END:VEVENT
BEGIN:VEVENT
DTSTART;TZID=America/Halifax:20230201T173000
DTEND;TZID=America/Halifax:20230201T193000
DTSTAMP:20260424T115700
CREATED:20221020T172838Z
LAST-MODIFIED:20230215T202420Z
UID:10003641-1675272600-1675279800@www.lovemylibrary.ca
SUMMARY:Adult Board Games Night
DESCRIPTION:Get your game on! Come on out for an evening of board games. This is your chance to play some old favourites or learn a new one. For teens and adults. \nThis is a drop-in program. No registration is required.
URL:https://www.lovemylibrary.ca/event/adult-board-games-night-6/2023-02-01/
LOCATION:Elmsdale Library\, 15 Commerce Ct\, Elmsdale\, Nova Scotia\, Canada
CATEGORIES:Events For Adults,Events For Seniors,Events For Teens,Location: Elmsdale
ATTACH;FMTTYPE=image/png:https://www.lovemylibrary.ca/wp-content/uploads/2022/06/Untitled-700-×-500-px.png
END:VEVENT
BEGIN:VEVENT
DTSTART;TZID=America/Halifax:20230201T183000
DTEND;TZID=America/Halifax:20230201T193000
DTSTAMP:20260424T115700
CREATED:20230124T201510Z
LAST-MODIFIED:20230124T201510Z
UID:10003512-1675276200-1675279800@www.lovemylibrary.ca
SUMMARY:Teen Board Game Night
DESCRIPTION:Codenames\, Clue\, Uno\, and more! Drop by the teen room for board games with friends – and treats to take home.  Ages 13-18.
URL:https://www.lovemylibrary.ca/event/teen-board-game-night/
LOCATION:Truro Library\, 754 Prince St\, Truro\, Nova Scotia\, Canada
CATEGORIES:Events For Teens,Location: Truro
ATTACH;FMTTYPE=image/png:https://www.lovemylibrary.ca/wp-content/uploads/2023/01/Untitled-design-2023-01-24T161837.620.png
END:VEVENT
BEGIN:VEVENT
DTSTART;VALUE=DATE:20230202
DTEND;VALUE=DATE:20230301
DTSTAMP:20260424T115700
CREATED:20230119T185322Z
LAST-MODIFIED:20230119T185322Z
UID:10002802-1675296000-1677628799@www.lovemylibrary.ca
SUMMARY:Googly Eyes Scavenger Hunt
DESCRIPTION:You have heard of a photo bomb? Well\, Stewiacke library has been eye-bombed. How many pairs of googly eyes can you find? All ages are welcome to participate. \nThis is a drop in program. No registration is required.
URL:https://www.lovemylibrary.ca/event/googly-eyes-scavenger-hunt/
LOCATION:Stewiacke Library\, 295 George Street\, Stewiacke\, Nova Scotia\, Canada
CATEGORIES:Events For Kids,Location: Stewiacke
ATTACH;FMTTYPE=image/png:https://www.lovemylibrary.ca/wp-content/uploads/2021/08/Untitled-design-23.png
END:VEVENT
BEGIN:VEVENT
DTSTART;VALUE=DATE:20230202
DTEND;VALUE=DATE:20230301
DTSTAMP:20260424T115700
CREATED:20230119T200659Z
LAST-MODIFIED:20230119T200659Z
UID:10002803-1675296000-1677628799@www.lovemylibrary.ca
SUMMARY:NS Heritage 3D Museum Tours
DESCRIPTION:We will have dedicated stations for people to come in and tour these museums virtually. A collection of immersive 360 degree tours of popular heritage and culture sites that feature Canadian history developed by the Black Cultural Centre for Nova Scotia along with content 3D scanning developer Smarter Spaces. This project will provide a greater understanding of our diverse heritage as Canadians. For ages 8-99 \nThis is an in person program. No registration is required.
URL:https://www.lovemylibrary.ca/event/ns-heritage-3d-museum-tours/
LOCATION:Stewiacke Library\, 295 George Street\, Stewiacke\, Nova Scotia\, Canada
CATEGORIES:Events For Adults,Events For Kids,Events For Seniors,Location: Stewiacke
ATTACH;FMTTYPE=image/png:https://www.lovemylibrary.ca/wp-content/uploads/2023/01/Untitled-design-65.png
END:VEVENT
BEGIN:VEVENT
DTSTART;VALUE=DATE:20230202
DTEND;VALUE=DATE:20230430
DTSTAMP:20260424T115700
CREATED:20221018T154842Z
LAST-MODIFIED:20230324T181958Z
UID:10001718-1675296000-1682812799@www.lovemylibrary.ca
SUMMARY:Take Home Craft Kits
DESCRIPTION:Kits change on a weekly basis and contain all supplies needed to complete the craft. Suitable For Preschool and early elementary children. \nThis is a drop-in program. No registration is required.
URL:https://www.lovemylibrary.ca/event/take-home-craft-kits-4/
LOCATION:Stewiacke Library\, 295 George Street\, Stewiacke\, Nova Scotia\, Canada
CATEGORIES:Crafting,Events For Kids,Location: Stewiacke
ATTACH;FMTTYPE=image/png:https://www.lovemylibrary.ca/wp-content/uploads/2022/03/Untitled-design-57.png
END:VEVENT
BEGIN:VEVENT
DTSTART;TZID=America/Halifax:20230202T103000
DTEND;TZID=America/Halifax:20230202T110000
DTSTAMP:20260424T115700
CREATED:20221018T160406Z
LAST-MODIFIED:20230524T172811Z
UID:10002758-1675333800-1675335600@www.lovemylibrary.ca
SUMMARY:Baby Rhyme Time
DESCRIPTION:Discover the joy of songs\, finger plays \, bouncing rhymes and simple books. Suitable for Infant-2 years old with a caregiver \nThis is an in-person program. No registration is required.
URL:https://www.lovemylibrary.ca/event/baby-rhyme-time-6/2023-02-02/
LOCATION:Stewiacke Library\, 295 George Street\, Stewiacke\, Nova Scotia\, Canada
CATEGORIES:Events For Kids,Location: Stewiacke
ATTACH;FMTTYPE=image/png:https://www.lovemylibrary.ca/wp-content/uploads/2022/03/Untitled-design-75.png
END:VEVENT
BEGIN:VEVENT
DTSTART;TZID=America/Halifax:20230202T110000
DTEND;TZID=America/Halifax:20230202T112000
DTSTAMP:20260424T115700
CREATED:20221025T221411Z
LAST-MODIFIED:20230428T164111Z
UID:10003513-1675335600-1675336800@www.lovemylibrary.ca
SUMMARY:Tales for Tots
DESCRIPTION:Join us Thursday mornings for stories\, songs\, and activities that are just right for terrific toddlers! \n18 months-4 years with a parent/caregiver. \nDrop-in\, no registration required.
URL:https://www.lovemylibrary.ca/event/tales-for-tots/2023-02-02/
LOCATION:Truro Library\, 754 Prince St\, Truro\, Nova Scotia\, Canada
CATEGORIES:Events For Kids,Location: Truro
ATTACH;FMTTYPE=image/png:https://www.lovemylibrary.ca/wp-content/uploads/2022/03/Untitled-design-81.png
END:VEVENT
BEGIN:VEVENT
DTSTART;TZID=America/Halifax:20230202T130000
DTEND;TZID=America/Halifax:20230202T140000
DTSTAMP:20260424T115700
CREATED:20230118T195543Z
LAST-MODIFIED:20230421T172154Z
UID:10002595-1675342800-1675346400@www.lovemylibrary.ca
SUMMARY:Crafty Story Time
DESCRIPTION:Come along and enjoy an hour of fun filled story and craft time. For ages 3-5 \nTo register call 902-883-9838 or email elmsdale@cehpubliclibrary.ca
URL:https://www.lovemylibrary.ca/event/crafty-story-time-2-2-2/2023-02-02/
LOCATION:Elmsdale Library\, 15 Commerce Ct\, Elmsdale\, Nova Scotia\, Canada
CATEGORIES:Crafting,Events For Kids,Location: Elmsdale
ATTACH;FMTTYPE=image/png:https://www.lovemylibrary.ca/wp-content/uploads/2022/09/Untitled-design-43.png
END:VEVENT
BEGIN:VEVENT
DTSTART;TZID=America/Halifax:20230202T140000
DTEND;TZID=America/Halifax:20230202T150000
DTSTAMP:20260424T115700
CREATED:20221220T231218Z
LAST-MODIFIED:20230525T163330Z
UID:10003541-1675346400-1675350000@www.lovemylibrary.ca
SUMMARY:Homework Hangout
DESCRIPTION:Time to unwind\, get your homework done\, and hangout with your friends.  For ages 8-15. \nThis is a drop-in program. No registration is required.
URL:https://www.lovemylibrary.ca/event/homework-hangout-2/2023-02-02/
LOCATION:Mount Uniacke Library\, 555\, Highway 1\, Mount Uniacke\, Nova Scotia\, Canada
CATEGORIES:Events For Kids,Events For Teens,Location: Mount Uniacke
ATTACH;FMTTYPE=image/png:https://www.lovemylibrary.ca/wp-content/uploads/2022/03/Untitled-design-91.png
END:VEVENT
BEGIN:VEVENT
DTSTART;TZID=America/Halifax:20230202T143000
DTEND;TZID=America/Halifax:20230202T163000
DTSTAMP:20260424T115700
CREATED:20230124T153255Z
LAST-MODIFIED:20230124T153359Z
UID:10002882-1675348200-1675355400@www.lovemylibrary.ca
SUMMARY:Chill Zone
DESCRIPTION:School is out\, so let’s do something fun. Drop by the Library for crafts\, board games\, Lego\, and more! For ages 5-12. \nDrop in. No registration is required.
URL:https://www.lovemylibrary.ca/event/chill-zone/2023-02-02/
LOCATION:Tatamagouche Library\, 170 Main Street\, Tatamagouche\, Nova Scotia\, Canada
CATEGORIES:Events For Kids,Location: Tatamagouche
ATTACH;FMTTYPE=image/png:https://www.lovemylibrary.ca/wp-content/uploads/2022/10/Untitled-design-54.png
END:VEVENT
BEGIN:VEVENT
DTSTART;TZID=America/Halifax:20230202T144500
DTEND;TZID=America/Halifax:20230202T170000
DTSTAMP:20260424T115700
CREATED:20221021T180121Z
LAST-MODIFIED:20230525T180406Z
UID:10004213-1675349100-1675357200@www.lovemylibrary.ca
SUMMARY:Dungeons and Dragons
DESCRIPTION:The campaign is going to be an adventure of a group of fighters\, trying to complete 20 challenges\, each harder than the next. Ages 12-16. \nRegistration by phone 902-657-3064 or email: tatamago@cehpubliclibrary.ca
URL:https://www.lovemylibrary.ca/event/d-d-group/2023-02-02/
LOCATION:Tatamagouche Library\, 170 Main Street\, Tatamagouche\, Nova Scotia\, Canada
CATEGORIES:Events For Kids,Events For Teens,Location: Tatamagouche
ATTACH;FMTTYPE=image/png:https://www.lovemylibrary.ca/wp-content/uploads/2022/06/D-and-D.png
END:VEVENT
END:VCALENDAR