BEGIN:VCALENDAR
VERSION:2.0
PRODID:-//Colchester East Hants Public Library - ECPv6.15.20//NONSGML v1.0//EN
CALSCALE:GREGORIAN
METHOD:PUBLISH
X-WR-CALNAME:Colchester East Hants Public Library
X-ORIGINAL-URL:https://www.lovemylibrary.ca
X-WR-CALDESC:Events for Colchester East Hants Public Library
REFRESH-INTERVAL;VALUE=DURATION:PT1H
X-Robots-Tag:noindex
X-PUBLISHED-TTL:PT1H
BEGIN:VTIMEZONE
TZID:America/Halifax
BEGIN:DAYLIGHT
TZOFFSETFROM:-0400
TZOFFSETTO:-0300
TZNAME:ADT
DTSTART:20220313T060000
END:DAYLIGHT
BEGIN:STANDARD
TZOFFSETFROM:-0300
TZOFFSETTO:-0400
TZNAME:AST
DTSTART:20221106T050000
END:STANDARD
BEGIN:DAYLIGHT
TZOFFSETFROM:-0400
TZOFFSETTO:-0300
TZNAME:ADT
DTSTART:20230312T060000
END:DAYLIGHT
BEGIN:STANDARD
TZOFFSETFROM:-0300
TZOFFSETTO:-0400
TZNAME:AST
DTSTART:20231105T050000
END:STANDARD
BEGIN:DAYLIGHT
TZOFFSETFROM:-0400
TZOFFSETTO:-0300
TZNAME:ADT
DTSTART:20240310T060000
END:DAYLIGHT
BEGIN:STANDARD
TZOFFSETFROM:-0300
TZOFFSETTO:-0400
TZNAME:AST
DTSTART:20241103T050000
END:STANDARD
END:VTIMEZONE
BEGIN:VEVENT
DTSTART;VALUE=DATE:20230201
DTEND;VALUE=DATE:20230301
DTSTAMP:20260424T103435
CREATED:20230118T205032Z
LAST-MODIFIED:20230118T205032Z
UID:10002757-1675209600-1677628799@www.lovemylibrary.ca
SUMMARY:Winter Scavenger Hunt
DESCRIPTION:Come in out of the wintery weather and enjoy a scavenger hunt with the library. All ages are welcome to participate \nDrop in – call 902-883-9838 or email elmsdale@cehpubliclibrary.ca
URL:https://www.lovemylibrary.ca/event/winter-scavenger-hunt-2/
LOCATION:Elmsdale Library\, 15 Commerce Ct\, Elmsdale\, Nova Scotia\, Canada
CATEGORIES:Events For Kids,Location: Elmsdale
ATTACH;FMTTYPE=image/png:https://www.lovemylibrary.ca/wp-content/uploads/2022/06/scavenger-hunt-1.png
END:VEVENT
BEGIN:VEVENT
DTSTART;VALUE=DATE:20230201
DTEND;VALUE=DATE:20230301
DTSTAMP:20260424T103435
CREATED:20230124T150804Z
LAST-MODIFIED:20230124T150836Z
UID:10002804-1675209600-1677628799@www.lovemylibrary.ca
SUMMARY:Take Home Craft Kits
DESCRIPTION:Take-and-make craft kits contain all the supplies needed to complete the craft.  Ages 5-12. \nTo participate\, drop by and pick up your kit. No registration required.
URL:https://www.lovemylibrary.ca/event/take-home-craft-kits-7/
LOCATION:Tatamagouche Library\, 170 Main Street\, Tatamagouche\, Nova Scotia\, Canada
CATEGORIES:Events For Kids,Location: Tatamagouche
ATTACH;FMTTYPE=image/png:https://www.lovemylibrary.ca/wp-content/uploads/2022/02/Untitled-design-42.png
END:VEVENT
BEGIN:VEVENT
DTSTART;VALUE=DATE:20230201
DTEND;VALUE=DATE:20230301
DTSTAMP:20260424T103435
CREATED:20230125T183237Z
LAST-MODIFIED:20230125T183237Z
UID:10003571-1675209600-1677628799@www.lovemylibrary.ca
SUMMARY:Blind Date with a Book
DESCRIPTION:We want to set you up with the book of your dreams\, featuring books with sharp and witty profiles better than anything you’ll find on Tinder. \nBlind Date with a Book is your chance to peruse a display of discreetly wrapped books and their descriptive tags. You’re sure to find one that quickens your pulse. \nDrop in anytime during February!
URL:https://www.lovemylibrary.ca/event/blind-date-with-a-book/
LOCATION:Mount Uniacke Library\, 555\, Highway 1\, Mount Uniacke\, Nova Scotia\, Canada
CATEGORIES:Events For Adults,Events For Kids,Events For Seniors,Events For Teens,Location: Mount Uniacke
ATTACH;FMTTYPE=image/png:https://www.lovemylibrary.ca/wp-content/uploads/2023/01/Untitled-design-2023-01-25T143344.764.png
END:VEVENT
BEGIN:VEVENT
DTSTART;VALUE=DATE:20230202
DTEND;VALUE=DATE:20230301
DTSTAMP:20260424T103435
CREATED:20230119T185322Z
LAST-MODIFIED:20230119T185322Z
UID:10002802-1675296000-1677628799@www.lovemylibrary.ca
SUMMARY:Googly Eyes Scavenger Hunt
DESCRIPTION:You have heard of a photo bomb? Well\, Stewiacke library has been eye-bombed. How many pairs of googly eyes can you find? All ages are welcome to participate. \nThis is a drop in program. No registration is required.
URL:https://www.lovemylibrary.ca/event/googly-eyes-scavenger-hunt/
LOCATION:Stewiacke Library\, 295 George Street\, Stewiacke\, Nova Scotia\, Canada
CATEGORIES:Events For Kids,Location: Stewiacke
ATTACH;FMTTYPE=image/png:https://www.lovemylibrary.ca/wp-content/uploads/2021/08/Untitled-design-23.png
END:VEVENT
BEGIN:VEVENT
DTSTART;VALUE=DATE:20230202
DTEND;VALUE=DATE:20230301
DTSTAMP:20260424T103435
CREATED:20230119T200659Z
LAST-MODIFIED:20230119T200659Z
UID:10002803-1675296000-1677628799@www.lovemylibrary.ca
SUMMARY:NS Heritage 3D Museum Tours
DESCRIPTION:We will have dedicated stations for people to come in and tour these museums virtually. A collection of immersive 360 degree tours of popular heritage and culture sites that feature Canadian history developed by the Black Cultural Centre for Nova Scotia along with content 3D scanning developer Smarter Spaces. This project will provide a greater understanding of our diverse heritage as Canadians. For ages 8-99 \nThis is an in person program. No registration is required.
URL:https://www.lovemylibrary.ca/event/ns-heritage-3d-museum-tours/
LOCATION:Stewiacke Library\, 295 George Street\, Stewiacke\, Nova Scotia\, Canada
CATEGORIES:Events For Adults,Events For Kids,Events For Seniors,Location: Stewiacke
ATTACH;FMTTYPE=image/png:https://www.lovemylibrary.ca/wp-content/uploads/2023/01/Untitled-design-65.png
END:VEVENT
BEGIN:VEVENT
DTSTART;VALUE=DATE:20230202
DTEND;VALUE=DATE:20230430
DTSTAMP:20260424T103435
CREATED:20221018T154842Z
LAST-MODIFIED:20230324T181958Z
UID:10001718-1675296000-1682812799@www.lovemylibrary.ca
SUMMARY:Take Home Craft Kits
DESCRIPTION:Kits change on a weekly basis and contain all supplies needed to complete the craft. Suitable For Preschool and early elementary children. \nThis is a drop-in program. No registration is required.
URL:https://www.lovemylibrary.ca/event/take-home-craft-kits-4/
LOCATION:Stewiacke Library\, 295 George Street\, Stewiacke\, Nova Scotia\, Canada
CATEGORIES:Crafting,Events For Kids,Location: Stewiacke
ATTACH;FMTTYPE=image/png:https://www.lovemylibrary.ca/wp-content/uploads/2022/03/Untitled-design-57.png
END:VEVENT
BEGIN:VEVENT
DTSTART;TZID=America/Halifax:20230227T133000
DTEND;TZID=America/Halifax:20230227T163000
DTSTAMP:20260424T103435
CREATED:20221026T175545Z
LAST-MODIFIED:20230919T182903Z
UID:10003448-1677504600-1677515400@www.lovemylibrary.ca
SUMMARY:Scrabble Group
DESCRIPTION:What spells F-U-N? Playing Scrabble with friends! \nThis is a drop-in program.  No registration is required.
URL:https://www.lovemylibrary.ca/event/scrabble-group-3-2/2023-02-27/
LOCATION:Truro Library\, 754 Prince St\, Truro\, Nova Scotia\, Canada
CATEGORIES:Events For Adults,Events For Seniors,Location: Truro
ATTACH;FMTTYPE=image/png:https://www.lovemylibrary.ca/wp-content/uploads/2022/05/Add-a-subheading-700-×-500-px-3.png
END:VEVENT
BEGIN:VEVENT
DTSTART;TZID=America/Halifax:20230228T100000
DTEND;TZID=America/Halifax:20230228T104500
DTSTAMP:20260424T103435
CREATED:20221222T194311Z
LAST-MODIFIED:20230218T203025Z
UID:10002689-1677578400-1677581100@www.lovemylibrary.ca
SUMMARY:Baby\, Me\, & Mother Goose
DESCRIPTION:Learn rhymes\, songs and have fun with your baby. For all parents with babies 3-18 months. The session will take place at Maggie’s Place. \nTo register\, please call 902-895-0200
URL:https://www.lovemylibrary.ca/event/baby-me-mother-goose-2/2023-02-28/
LOCATION:Maggie’s Place\, 1027 Prince Street\, Truro\, Nova Scotia\, B2N 1H7\, Canada
CATEGORIES:Events For Kids,Location: Truro
ATTACH;FMTTYPE=image/png:https://www.lovemylibrary.ca/wp-content/uploads/2022/03/Untitled-design-75.png
END:VEVENT
BEGIN:VEVENT
DTSTART;TZID=America/Halifax:20230228T110000
DTEND;TZID=America/Halifax:20230228T120000
DTSTAMP:20260424T103435
CREATED:20221214T192815Z
LAST-MODIFIED:20230218T201150Z
UID:10003445-1677582000-1677585600@www.lovemylibrary.ca
SUMMARY:Conversational English
DESCRIPTION:Is English your 2nd language? Or maybe your 4th? Our Conversational English program is for those who would like to practice their English in a fun and friendly environment. In partnership with YREACH. \nThis is a drop-in program.  No registration is required.
URL:https://www.lovemylibrary.ca/event/conversational-english-2-2-2/2023-02-28/
LOCATION:Truro Library\, 754 Prince St\, Truro\, Nova Scotia\, Canada
CATEGORIES:Events For Adults,Events For Seniors,Location: Truro
ATTACH;FMTTYPE=image/jpeg:https://www.lovemylibrary.ca/wp-content/uploads/2021/08/13.jpg
END:VEVENT
BEGIN:VEVENT
DTSTART;TZID=America/Halifax:20230228T133000
DTEND;TZID=America/Halifax:20230228T143000
DTSTAMP:20260424T103435
CREATED:20221025T222519Z
LAST-MODIFIED:20230529T180520Z
UID:10003511-1677591000-1677594600@www.lovemylibrary.ca
SUMMARY:Homeschoolers Haven
DESCRIPTION:Homeschoolers Haven is a place for Homeschool families to meet and share resources. There will be  activities for the children. We will be taking a summer break during the months of July and August.  For ages 5+ \nThis is a drop-in program. No registration is required.
URL:https://www.lovemylibrary.ca/event/homeschoolers-haven-2/2023-02-28/
LOCATION:Truro Library\, 754 Prince St\, Truro\, Nova Scotia\, Canada
CATEGORIES:Events For Kids,Events For Teens,Location: Truro
ATTACH;FMTTYPE=image/png:https://www.lovemylibrary.ca/wp-content/uploads/2022/07/Untitled-design-9.png
END:VEVENT
BEGIN:VEVENT
DTSTART;TZID=America/Halifax:20230228T140000
DTEND;TZID=America/Halifax:20230228T150000
DTSTAMP:20260424T103435
CREATED:20221220T231218Z
LAST-MODIFIED:20230525T163330Z
UID:10003552-1677592800-1677596400@www.lovemylibrary.ca
SUMMARY:Homework Hangout
DESCRIPTION:Time to unwind\, get your homework done\, and hangout with your friends.  For ages 8-15. \nThis is a drop-in program. No registration is required.
URL:https://www.lovemylibrary.ca/event/homework-hangout-2/2023-02-28/
LOCATION:Mount Uniacke Library\, 555\, Highway 1\, Mount Uniacke\, Nova Scotia\, Canada
CATEGORIES:Events For Kids,Events For Teens,Location: Mount Uniacke
ATTACH;FMTTYPE=image/png:https://www.lovemylibrary.ca/wp-content/uploads/2022/03/Untitled-design-91.png
END:VEVENT
BEGIN:VEVENT
DTSTART;TZID=America/Halifax:20230228T173000
DTEND;TZID=America/Halifax:20230228T200000
DTSTAMP:20260424T103435
CREATED:20221116T204822Z
LAST-MODIFIED:20230919T183845Z
UID:10003453-1677605400-1677614400@www.lovemylibrary.ca
SUMMARY:Heroes & Adventurers
DESCRIPTION:Role-playing game nights with extraordinary people! We provide the supplies\, you provide the imagination. No experience needed. All ages welcome! \nRegister to play by emailing: HAATruro@gmail.com Sorry\, no drop-in players at this time.
URL:https://www.lovemylibrary.ca/event/heroes-adventurers-3/2023-02-28/
LOCATION:Truro Library\, 754 Prince St\, Truro\, Nova Scotia\, Canada
CATEGORIES:Location: Truro
ATTACH;FMTTYPE=image/png:https://www.lovemylibrary.ca/wp-content/uploads/2022/06/D-and-D.png
END:VEVENT
BEGIN:VEVENT
DTSTART;TZID=America/Halifax:20230228T183000
DTEND;TZID=America/Halifax:20230228T193000
DTSTAMP:20260424T103435
CREATED:20220825T130611Z
LAST-MODIFIED:20230218T200935Z
UID:10001319-1677609000-1677612600@www.lovemylibrary.ca
SUMMARY:Adult Colouring Night
DESCRIPTION:A great way to spend an evening! Chill out to some music\, relax as you colour\, and de-stress. Materials provided. Have your own supplies? Feel free to bring your own! \nDrop-in\, no registration required.
URL:https://www.lovemylibrary.ca/event/adult-colouring-night-2/2023-02-28/
LOCATION:Truro Library\, 754 Prince St\, Truro\, Nova Scotia\, Canada
CATEGORIES:Crafting,Events For Adults,Location: Truro
ATTACH;FMTTYPE=image/png:https://www.lovemylibrary.ca/wp-content/uploads/2022/06/Untitled-design-3-1.png
END:VEVENT
BEGIN:VEVENT
DTSTART;TZID=America/Halifax:20230228T183000
DTEND;TZID=America/Halifax:20230228T193000
DTSTAMP:20260424T103435
CREATED:20230124T193035Z
LAST-MODIFIED:20230124T193035Z
UID:10003438-1677609000-1677612600@www.lovemylibrary.ca
SUMMARY:Virtual Author Reading: Sharon Robart-Johnson
DESCRIPTION:In honour of African Heritage Month\, join us online to listen to Sharon Robart-Johnson read from her book Jude and Diana that chronicles two enslaved sisters in nineteenth century Nova Scotia. \nTo register\, please call 902-895-4183 or email info@cehpubliclibrary.ca
URL:https://www.lovemylibrary.ca/event/virtual-author-reading-sharon-robart-johnson/
LOCATION:Nova Scotia
CATEGORIES:Events For Adults,Events For Seniors,Events For Teens,Location: Virtual
ATTACH;FMTTYPE=image/png:https://www.lovemylibrary.ca/wp-content/uploads/2023/01/Untitled-design-2023-01-24T153409.310.png
END:VEVENT
BEGIN:VEVENT
DTSTART;TZID=America/Halifax:20230228T183000
DTEND;TZID=America/Halifax:20230228T200000
DTSTAMP:20260424T103435
CREATED:20221020T193052Z
LAST-MODIFIED:20230926T211554Z
UID:10003563-1677609000-1677614400@www.lovemylibrary.ca
SUMMARY:Ewe-niacke Yarn Club
DESCRIPTION:Fiber art for all ages and abilities. Learn to knit or crochet\, bring a project you are working on\, or just come hang out with the club for some social time. All ages welcome. \nDrop in\, no registration required.
URL:https://www.lovemylibrary.ca/event/ewe-niacke-yarn-club-3/2023-02-28/
LOCATION:Mount Uniacke Library\, 555\, Highway 1\, Mount Uniacke\, Nova Scotia\, Canada
CATEGORIES:Crafting,Events For Adults,Events For Kids,Events For Seniors,Location: Mount Uniacke
ATTACH;FMTTYPE=image/png:https://www.lovemylibrary.ca/wp-content/uploads/2022/03/Untitled-design-89.png
END:VEVENT
BEGIN:VEVENT
DTSTART;TZID=America/Halifax:20230228T183000
DTEND;TZID=America/Halifax:20230228T200000
DTSTAMP:20260424T103435
CREATED:20221020T195846Z
LAST-MODIFIED:20230222T184014Z
UID:10003567-1677609000-1677614400@www.lovemylibrary.ca
SUMMARY:Seniors Learn to Knit with Ewe-niacke Yarn Club
DESCRIPTION:Want to learn to knit or crochet? Already know how\, but need a refresher? Not sure what supplies you need? We have everything you need for your first project. Hants Count Senior Safety Association is providing the supplies necessary to start your project. \nDrop in\, no registration required.
URL:https://www.lovemylibrary.ca/event/seniors-learn-to-knit-with-ewe-niacke-yarn-club-2/2023-02-28/
LOCATION:Mount Uniacke Library\, 555\, Highway 1\, Mount Uniacke\, Nova Scotia\, Canada
CATEGORIES:Events For Seniors,Location: Mount Uniacke
ATTACH;FMTTYPE=image/png:https://www.lovemylibrary.ca/wp-content/uploads/2022/04/Untitled-design-2022-04-29T171348.604.png
END:VEVENT
BEGIN:VEVENT
DTSTART;VALUE=DATE:20230301
DTEND;VALUE=DATE:20230329
DTSTAMP:20260424T103435
CREATED:20221221T203915Z
LAST-MODIFIED:20230525T180744Z
UID:10003814-1677628800-1680040799@www.lovemylibrary.ca
SUMMARY:Take Home Craft Kits
DESCRIPTION:Weekly take-and-make craft kits are available for pick up in-branch. For preschool and early elementary children. \nThis is a drop-in program. No registration is required.
URL:https://www.lovemylibrary.ca/event/take-home-craft-kits-6/2023-03-01/
LOCATION:Tatamagouche Library\, 170 Main Street\, Tatamagouche\, Nova Scotia\, Canada
CATEGORIES:Crafting,Events For Kids,Location: Tatamagouche
ATTACH;FMTTYPE=image/png:https://www.lovemylibrary.ca/wp-content/uploads/2022/02/Untitled-design-42.png
END:VEVENT
BEGIN:VEVENT
DTSTART;VALUE=DATE:20230301
DTEND;VALUE=DATE:20230601
DTSTAMP:20260424T103435
CREATED:20221222T145501Z
LAST-MODIFIED:20230426T173012Z
UID:10002662-1677628800-1685577599@www.lovemylibrary.ca
SUMMARY:Creatures Big and Small Scavenger Hunt
DESCRIPTION:Enjoy a scavenger hunt with the library.  All ages are welcome to participate. \nThis is a drop-in program. No registration is required.
URL:https://www.lovemylibrary.ca/event/winter-scavenger-hunt/
LOCATION:Tatamagouche Library\, 170 Main Street\, Tatamagouche\, Nova Scotia\, Canada
CATEGORIES:Events For Kids,Location: Tatamagouche
ATTACH;FMTTYPE=image/png:https://www.lovemylibrary.ca/wp-content/uploads/2022/06/scavenger-hunt-1.png
END:VEVENT
BEGIN:VEVENT
DTSTART;TZID=America/Halifax:20230301T103000
DTEND;TZID=America/Halifax:20230301T110000
DTSTAMP:20260424T103435
CREATED:20221220T230021Z
LAST-MODIFIED:20230525T163111Z
UID:10003752-1677666600-1677668400@www.lovemylibrary.ca
SUMMARY:Storytime
DESCRIPTION:Enjoy a picture book read by Karri or Bernie and then participate in an activity. For pre schoolers and home schoolers. \nThis is a drop-in program. No registration is required.
URL:https://www.lovemylibrary.ca/event/storytime-4-2/2023-03-01/
LOCATION:Mount Uniacke Library\, 555\, Highway 1\, Mount Uniacke\, Nova Scotia\, Canada
CATEGORIES:Events For Kids,Location: Mount Uniacke
ATTACH;FMTTYPE=image/png:https://www.lovemylibrary.ca/wp-content/uploads/2022/05/Untitled-design-2.png
END:VEVENT
BEGIN:VEVENT
DTSTART;TZID=America/Halifax:20230301T130000
DTEND;TZID=America/Halifax:20230301T150000
DTSTAMP:20260424T103435
CREATED:20230218T202830Z
LAST-MODIFIED:20230919T161657Z
UID:10003747-1677675600-1677682800@www.lovemylibrary.ca
SUMMARY:Makers in the Maker Lab
DESCRIPTION:Calling all Makers! Drop by for a relaxing afternoon to hang out with fellow crafters. Bring along your ongoing projects like knitting\, crochet\, needlework\, painting or other hands on crafts. For adults \nThis is a drop in program. No registration is required.\n 
URL:https://www.lovemylibrary.ca/event/makers-in-the-maker-lab-2/2023-03-01/
LOCATION:Truro Library\, 754 Prince St\, Truro\, Nova Scotia\, Canada
CATEGORIES:Crafting,Events For Adults,Location: Truro
ATTACH;FMTTYPE=image/png:https://www.lovemylibrary.ca/wp-content/uploads/2023/01/Untitled-design-2023-01-24T155257.327.png
END:VEVENT
BEGIN:VEVENT
DTSTART;TZID=America/Halifax:20230301T143000
DTEND;TZID=America/Halifax:20230301T190000
DTSTAMP:20260424T103435
CREATED:20210830T143625Z
LAST-MODIFIED:20231213T140902Z
UID:10002703-1677681000-1677697200@www.lovemylibrary.ca
SUMMARY:Satellite Library Visit: Kennetcook Fire Hall
DESCRIPTION:Meet us at the Kennetcook Fire Hall where you can browse and borrow materials\, sign up for a Library card\, and hear about our upcoming programs! \n 
URL:https://www.lovemylibrary.ca/event/satellite-library-visit-kennetcook-fire-hall/2023-03-01/
LOCATION:Kennetcook Fire Hall\, 32 Martin Walsh Road\, Kennetcook\, Nova Scotia\, Canada
CATEGORIES:Events For Adults,Events For Kids,Events For Seniors,Events For Teens,Location: Kennetcook
ATTACH;FMTTYPE=image/jpeg:https://www.lovemylibrary.ca/wp-content/uploads/2021/08/16.jpg
END:VEVENT
BEGIN:VEVENT
DTSTART;VALUE=DATE:20230302
DTEND;VALUE=DATE:20230428
DTSTAMP:20260424T103435
CREATED:20230218T181721Z
LAST-MODIFIED:20230218T203502Z
UID:10003727-1677715200-1682639999@www.lovemylibrary.ca
SUMMARY:Every Child Matters – Finding a Way Forward Project\, an art exhibit at the Truro Library
DESCRIPTION:The Rug Hooking Guild of Nova Scotia commissioned five Indigenous artists from New Brunswick\, Prince Edward Island and Nova Scotia to produce rug hooking designs that honour the Indigenous children who suffered and died in Residential Schools and to honour the survivors who were taken from their families and culture. These mats have been offered by the artists and the guild with love and respect\, in hopes to raise awareness for this issue as a path moving forward towards reconciliation and healing. The Opening Ceremony for the exhibit will be held on Saturday\, March 4 from 2-4pm. Opening words will be given by Elder Debbie Eisan and members of the Rug Hooking Guild of Nova Scotia will be present to answer questions. A guestbook is available at the second floor information desk\, where comments of solidarity may be left. All ages are welcome. The exhibit will be housed on the second floor of the library.
URL:https://www.lovemylibrary.ca/event/every-child-matters-finding-a-way-forward-project-an-art-exhibit-at-the-truro-library/
LOCATION:Truro Library\, 754 Prince St\, Truro\, Nova Scotia\, Canada
CATEGORIES:Events For Adults,Events For Kids,Events For Seniors,Events For Teens,Location: Truro
ATTACH;FMTTYPE=image/png:https://www.lovemylibrary.ca/wp-content/uploads/2023/02/Copy-of-Full-Colour-Every-Child-Matters-Art-Exhibit-.pdf-Instagram-Post-Square-1.png
END:VEVENT
BEGIN:VEVENT
DTSTART;VALUE=DATE:20230302
DTEND;VALUE=DATE:20230430
DTSTAMP:20260424T103435
CREATED:20230218T180033Z
LAST-MODIFIED:20230324T182233Z
UID:10003725-1677715200-1682805599@www.lovemylibrary.ca
SUMMARY:April Flowers Scavenger Hunt
DESCRIPTION:Find the 12 flower pictures hidden around the library. How many can you name? All ages are welcome to participate. \nThis is a drop-in program. No registration is required.
URL:https://www.lovemylibrary.ca/event/green-scavenger-hunt/2023-03-02/1/
LOCATION:Stewiacke Library\, 295 George Street\, Stewiacke\, Nova Scotia\, Canada
CATEGORIES:Events For Kids,Location: Stewiacke
ATTACH;FMTTYPE=image/png:https://www.lovemylibrary.ca/wp-content/uploads/2021/08/Untitled-design-23.png
END:VEVENT
BEGIN:VEVENT
DTSTART;VALUE=DATE:20230302
DTEND;VALUE=DATE:20230303
DTSTAMP:20260424T103435
CREATED:20230218T180033Z
LAST-MODIFIED:20230324T182233Z
UID:10003892-1677744000-1677776400@www.lovemylibrary.ca
SUMMARY:April Flowers Scavenger Hunt
DESCRIPTION:Find the 12 flower pictures hidden around the library. How many can you name? All ages are welcome to participate. \nThis is a drop-in program. No registration is required.
URL:https://www.lovemylibrary.ca/event/green-scavenger-hunt/2023-03-02/2/
LOCATION:Stewiacke Library\, 295 George Street\, Stewiacke\, Nova Scotia\, Canada
CATEGORIES:Events For Kids,Location: Stewiacke
ATTACH;FMTTYPE=image/png:https://www.lovemylibrary.ca/wp-content/uploads/2021/08/Untitled-design-23.png
END:VEVENT
BEGIN:VEVENT
DTSTART;TZID=America/Halifax:20230302T103000
DTEND;TZID=America/Halifax:20230302T110000
DTSTAMP:20260424T103435
CREATED:20221018T160406Z
LAST-MODIFIED:20230524T172811Z
UID:10003673-1677753000-1677754800@www.lovemylibrary.ca
SUMMARY:Baby Rhyme Time
DESCRIPTION:Discover the joy of songs\, finger plays \, bouncing rhymes and simple books. Suitable for Infant-2 years old with a caregiver \nThis is an in-person program. No registration is required.
URL:https://www.lovemylibrary.ca/event/baby-rhyme-time-6/2023-03-02/
LOCATION:Stewiacke Library\, 295 George Street\, Stewiacke\, Nova Scotia\, Canada
CATEGORIES:Events For Kids,Location: Stewiacke
ATTACH;FMTTYPE=image/png:https://www.lovemylibrary.ca/wp-content/uploads/2022/03/Untitled-design-75.png
END:VEVENT
BEGIN:VEVENT
DTSTART;TZID=America/Halifax:20230302T110000
DTEND;TZID=America/Halifax:20230302T112000
DTSTAMP:20260424T103435
CREATED:20221025T221411Z
LAST-MODIFIED:20230428T164111Z
UID:10003832-1677754800-1677756000@www.lovemylibrary.ca
SUMMARY:Tales for Tots
DESCRIPTION:Join us Thursday mornings for stories\, songs\, and activities that are just right for terrific toddlers! \n18 months-4 years with a parent/caregiver. \nDrop-in\, no registration required.
URL:https://www.lovemylibrary.ca/event/tales-for-tots/2023-03-02/
LOCATION:Truro Library\, 754 Prince St\, Truro\, Nova Scotia\, Canada
CATEGORIES:Events For Kids,Location: Truro
ATTACH;FMTTYPE=image/png:https://www.lovemylibrary.ca/wp-content/uploads/2022/03/Untitled-design-81.png
END:VEVENT
BEGIN:VEVENT
DTSTART;TZID=America/Halifax:20230302T130000
DTEND;TZID=America/Halifax:20230302T140000
DTSTAMP:20260424T103435
CREATED:20230118T195543Z
LAST-MODIFIED:20230421T172154Z
UID:10003573-1677762000-1677765600@www.lovemylibrary.ca
SUMMARY:Crafty Story Time
DESCRIPTION:Come along and enjoy an hour of fun filled story and craft time. For ages 3-5 \nTo register call 902-883-9838 or email elmsdale@cehpubliclibrary.ca
URL:https://www.lovemylibrary.ca/event/crafty-story-time-2-2-2/2023-03-02/
LOCATION:Elmsdale Library\, 15 Commerce Ct\, Elmsdale\, Nova Scotia\, Canada
CATEGORIES:Crafting,Events For Kids,Location: Elmsdale
ATTACH;FMTTYPE=image/png:https://www.lovemylibrary.ca/wp-content/uploads/2022/09/Untitled-design-43.png
END:VEVENT
BEGIN:VEVENT
DTSTART;TZID=America/Halifax:20230302T140000
DTEND;TZID=America/Halifax:20230302T150000
DTSTAMP:20260424T103435
CREATED:20221220T231218Z
LAST-MODIFIED:20230525T163330Z
UID:10003761-1677765600-1677769200@www.lovemylibrary.ca
SUMMARY:Homework Hangout
DESCRIPTION:Time to unwind\, get your homework done\, and hangout with your friends.  For ages 8-15. \nThis is a drop-in program. No registration is required.
URL:https://www.lovemylibrary.ca/event/homework-hangout-2/2023-03-02/
LOCATION:Mount Uniacke Library\, 555\, Highway 1\, Mount Uniacke\, Nova Scotia\, Canada
CATEGORIES:Events For Kids,Events For Teens,Location: Mount Uniacke
ATTACH;FMTTYPE=image/png:https://www.lovemylibrary.ca/wp-content/uploads/2022/03/Untitled-design-91.png
END:VEVENT
BEGIN:VEVENT
DTSTART;TZID=America/Halifax:20230302T143000
DTEND;TZID=America/Halifax:20230302T170000
DTSTAMP:20260424T103435
CREATED:20230222T200950Z
LAST-MODIFIED:20240221T182107Z
UID:10003818-1677767400-1677776400@www.lovemylibrary.ca
SUMMARY:After-school Chill Zone with Games and Craft
DESCRIPTION:Relax and have fun after school with computers\, books\, and games in the chill zone. For ages 8-14 \nThis is a drop-in program. No registration is required.
URL:https://www.lovemylibrary.ca/event/after-school-chill-zone-with-games-and-craft/2023-03-02/
LOCATION:Tatamagouche Library\, 170 Main Street\, Tatamagouche\, Nova Scotia\, Canada
CATEGORIES:Events For Kids,Location: Tatamagouche
ATTACH;FMTTYPE=image/jpeg:https://www.lovemylibrary.ca/wp-content/uploads/2023/02/pexels-artem-podrez-8087869-scaled.jpg
END:VEVENT
BEGIN:VEVENT
DTSTART;TZID=America/Halifax:20230302T144500
DTEND;TZID=America/Halifax:20230302T170000
DTSTAMP:20260424T103435
CREATED:20221021T180121Z
LAST-MODIFIED:20230525T180406Z
UID:10004217-1677768300-1677776400@www.lovemylibrary.ca
SUMMARY:Dungeons and Dragons
DESCRIPTION:The campaign is going to be an adventure of a group of fighters\, trying to complete 20 challenges\, each harder than the next. Ages 12-16. \nRegistration by phone 902-657-3064 or email: tatamago@cehpubliclibrary.ca
URL:https://www.lovemylibrary.ca/event/d-d-group/2023-03-02/
LOCATION:Tatamagouche Library\, 170 Main Street\, Tatamagouche\, Nova Scotia\, Canada
CATEGORIES:Events For Kids,Events For Teens,Location: Tatamagouche
ATTACH;FMTTYPE=image/png:https://www.lovemylibrary.ca/wp-content/uploads/2022/06/D-and-D.png
END:VEVENT
END:VCALENDAR