BEGIN:VCALENDAR
VERSION:2.0
PRODID:-//Colchester East Hants Public Library - ECPv6.15.20//NONSGML v1.0//EN
CALSCALE:GREGORIAN
METHOD:PUBLISH
X-ORIGINAL-URL:https://www.lovemylibrary.ca
X-WR-CALDESC:Events for Colchester East Hants Public Library
REFRESH-INTERVAL;VALUE=DURATION:PT1H
X-Robots-Tag:noindex
X-PUBLISHED-TTL:PT1H
BEGIN:VTIMEZONE
TZID:America/Halifax
BEGIN:DAYLIGHT
TZOFFSETFROM:-0400
TZOFFSETTO:-0300
TZNAME:ADT
DTSTART:20220313T060000
END:DAYLIGHT
BEGIN:STANDARD
TZOFFSETFROM:-0300
TZOFFSETTO:-0400
TZNAME:AST
DTSTART:20221106T050000
END:STANDARD
BEGIN:DAYLIGHT
TZOFFSETFROM:-0400
TZOFFSETTO:-0300
TZNAME:ADT
DTSTART:20230312T060000
END:DAYLIGHT
BEGIN:STANDARD
TZOFFSETFROM:-0300
TZOFFSETTO:-0400
TZNAME:AST
DTSTART:20231105T050000
END:STANDARD
BEGIN:DAYLIGHT
TZOFFSETFROM:-0400
TZOFFSETTO:-0300
TZNAME:ADT
DTSTART:20240310T060000
END:DAYLIGHT
BEGIN:STANDARD
TZOFFSETFROM:-0300
TZOFFSETTO:-0400
TZNAME:AST
DTSTART:20241103T050000
END:STANDARD
END:VTIMEZONE
BEGIN:VEVENT
DTSTART;VALUE=DATE:20230202
DTEND;VALUE=DATE:20230430
DTSTAMP:20260424T081552
CREATED:20221018T154842Z
LAST-MODIFIED:20230324T181958Z
UID:10001718-1675296000-1682812799@www.lovemylibrary.ca
SUMMARY:Take Home Craft Kits
DESCRIPTION:Kits change on a weekly basis and contain all supplies needed to complete the craft. Suitable For Preschool and early elementary children. \nThis is a drop-in program. No registration is required.
URL:https://www.lovemylibrary.ca/event/take-home-craft-kits-4/
LOCATION:Stewiacke Library\, 295 George Street\, Stewiacke\, Nova Scotia\, Canada
CATEGORIES:Crafting,Events For Kids,Location: Stewiacke
ATTACH;FMTTYPE=image/png:https://www.lovemylibrary.ca/wp-content/uploads/2022/03/Untitled-design-57.png
END:VEVENT
BEGIN:VEVENT
DTSTART;VALUE=DATE:20230301
DTEND;VALUE=DATE:20230329
DTSTAMP:20260424T081552
CREATED:20221221T203915Z
LAST-MODIFIED:20230525T180744Z
UID:10003814-1677628800-1680040799@www.lovemylibrary.ca
SUMMARY:Take Home Craft Kits
DESCRIPTION:Weekly take-and-make craft kits are available for pick up in-branch. For preschool and early elementary children. \nThis is a drop-in program. No registration is required.
URL:https://www.lovemylibrary.ca/event/take-home-craft-kits-6/2023-03-01/
LOCATION:Tatamagouche Library\, 170 Main Street\, Tatamagouche\, Nova Scotia\, Canada
CATEGORIES:Crafting,Events For Kids,Location: Tatamagouche
ATTACH;FMTTYPE=image/png:https://www.lovemylibrary.ca/wp-content/uploads/2022/02/Untitled-design-42.png
END:VEVENT
BEGIN:VEVENT
DTSTART;VALUE=DATE:20230301
DTEND;VALUE=DATE:20230601
DTSTAMP:20260424T081552
CREATED:20221222T145501Z
LAST-MODIFIED:20230426T173012Z
UID:10002662-1677628800-1685577599@www.lovemylibrary.ca
SUMMARY:Creatures Big and Small Scavenger Hunt
DESCRIPTION:Enjoy a scavenger hunt with the library.  All ages are welcome to participate. \nThis is a drop-in program. No registration is required.
URL:https://www.lovemylibrary.ca/event/winter-scavenger-hunt/
LOCATION:Tatamagouche Library\, 170 Main Street\, Tatamagouche\, Nova Scotia\, Canada
CATEGORIES:Events For Kids,Location: Tatamagouche
ATTACH;FMTTYPE=image/png:https://www.lovemylibrary.ca/wp-content/uploads/2022/06/scavenger-hunt-1.png
END:VEVENT
BEGIN:VEVENT
DTSTART;VALUE=DATE:20230302
DTEND;VALUE=DATE:20230428
DTSTAMP:20260424T081552
CREATED:20230218T181721Z
LAST-MODIFIED:20230218T203502Z
UID:10003727-1677715200-1682639999@www.lovemylibrary.ca
SUMMARY:Every Child Matters – Finding a Way Forward Project\, an art exhibit at the Truro Library
DESCRIPTION:The Rug Hooking Guild of Nova Scotia commissioned five Indigenous artists from New Brunswick\, Prince Edward Island and Nova Scotia to produce rug hooking designs that honour the Indigenous children who suffered and died in Residential Schools and to honour the survivors who were taken from their families and culture. These mats have been offered by the artists and the guild with love and respect\, in hopes to raise awareness for this issue as a path moving forward towards reconciliation and healing. The Opening Ceremony for the exhibit will be held on Saturday\, March 4 from 2-4pm. Opening words will be given by Elder Debbie Eisan and members of the Rug Hooking Guild of Nova Scotia will be present to answer questions. A guestbook is available at the second floor information desk\, where comments of solidarity may be left. All ages are welcome. The exhibit will be housed on the second floor of the library.
URL:https://www.lovemylibrary.ca/event/every-child-matters-finding-a-way-forward-project-an-art-exhibit-at-the-truro-library/
LOCATION:Truro Library\, 754 Prince St\, Truro\, Nova Scotia\, Canada
CATEGORIES:Events For Adults,Events For Kids,Events For Seniors,Events For Teens,Location: Truro
ATTACH;FMTTYPE=image/png:https://www.lovemylibrary.ca/wp-content/uploads/2023/02/Copy-of-Full-Colour-Every-Child-Matters-Art-Exhibit-.pdf-Instagram-Post-Square-1.png
END:VEVENT
BEGIN:VEVENT
DTSTART;VALUE=DATE:20230302
DTEND;VALUE=DATE:20230430
DTSTAMP:20260424T081552
CREATED:20230218T180033Z
LAST-MODIFIED:20230324T182233Z
UID:10003725-1677715200-1682805599@www.lovemylibrary.ca
SUMMARY:April Flowers Scavenger Hunt
DESCRIPTION:Find the 12 flower pictures hidden around the library. How many can you name? All ages are welcome to participate. \nThis is a drop-in program. No registration is required.
URL:https://www.lovemylibrary.ca/event/green-scavenger-hunt/2023-03-02/1/
LOCATION:Stewiacke Library\, 295 George Street\, Stewiacke\, Nova Scotia\, Canada
CATEGORIES:Events For Kids,Location: Stewiacke
ATTACH;FMTTYPE=image/png:https://www.lovemylibrary.ca/wp-content/uploads/2021/08/Untitled-design-23.png
END:VEVENT
BEGIN:VEVENT
DTSTART;VALUE=DATE:20230313
DTEND;VALUE=DATE:20230318
DTSTAMP:20260424T081552
CREATED:20230218T180632Z
LAST-MODIFIED:20230218T180632Z
UID:10003726-1678665600-1679097599@www.lovemylibrary.ca
SUMMARY:March Break Take Home Kits
DESCRIPTION:Enjoy from the comfort of your own home! Each kit contains 5 activities: science\, engineering\, art\, movement and cooking. While supplies last. For ages 5 and up. \nThis is a drop-in program. No registration is required.
URL:https://www.lovemylibrary.ca/event/march-break-take-home-kits/
LOCATION:Stewiacke Library\, 295 George Street\, Stewiacke\, Nova Scotia\, Canada
CATEGORIES:Events For Kids,Location: Stewiacke,March Break
ATTACH;FMTTYPE=image/png:https://www.lovemylibrary.ca/wp-content/uploads/2022/02/Untitled-design-42.png
END:VEVENT
BEGIN:VEVENT
DTSTART;VALUE=DATE:20230313
DTEND;VALUE=DATE:20230319
DTSTAMP:20260424T081552
CREATED:20230218T190756Z
LAST-MODIFIED:20230227T182616Z
UID:10003729-1678665600-1679183999@www.lovemylibrary.ca
SUMMARY:March Break Survival Kits
DESCRIPTION:Feeling stressed? A fun kit to help adults get through March Break! For adults. \nDrop by the Truro branch and pick one up\, while supplies last.
URL:https://www.lovemylibrary.ca/event/march-break-survival-kits/
LOCATION:Truro Library\, 754 Prince St\, Truro\, Nova Scotia\, Canada
CATEGORIES:Events For Adults,Location: Truro,March Break
ATTACH;FMTTYPE=image/png:https://www.lovemylibrary.ca/wp-content/uploads/2023/02/Untitled-design-44.png
END:VEVENT
BEGIN:VEVENT
DTSTART;VALUE=DATE:20230313
DTEND;VALUE=DATE:20230320
DTSTAMP:20260424T081552
CREATED:20230223T201921Z
LAST-MODIFIED:20230223T201921Z
UID:10003853-1678665600-1679270399@www.lovemylibrary.ca
SUMMARY:March Break Take & Make
DESCRIPTION:Pick up a special March Break craft kit at your library! While supplies last. For ages 5-12
URL:https://www.lovemylibrary.ca/event/march-break-take-make/
LOCATION:Truro Library\, 754 Prince St\, Truro\, Nova Scotia\, Canada
CATEGORIES:Crafting,Events For Kids,Location: Truro,March Break
ATTACH;FMTTYPE=image/png:https://www.lovemylibrary.ca/wp-content/uploads/2022/02/Untitled-design-42.png
END:VEVENT
BEGIN:VEVENT
DTSTART;TZID=America/Halifax:20230313T133000
DTEND;TZID=America/Halifax:20230313T163000
DTSTAMP:20260424T081552
CREATED:20221026T175545Z
LAST-MODIFIED:20230919T182903Z
UID:10003739-1678714200-1678725000@www.lovemylibrary.ca
SUMMARY:Scrabble Group
DESCRIPTION:What spells F-U-N? Playing Scrabble with friends! \nThis is a drop-in program.  No registration is required.
URL:https://www.lovemylibrary.ca/event/scrabble-group-3-2/2023-03-13/
LOCATION:Truro Library\, 754 Prince St\, Truro\, Nova Scotia\, Canada
CATEGORIES:Events For Adults,Events For Seniors,Location: Truro
ATTACH;FMTTYPE=image/png:https://www.lovemylibrary.ca/wp-content/uploads/2022/05/Add-a-subheading-700-×-500-px-3.png
END:VEVENT
BEGIN:VEVENT
DTSTART;VALUE=DATE:20230314
DTEND;VALUE=DATE:20230315
DTSTAMP:20260424T081552
CREATED:20230216T174055Z
LAST-MODIFIED:20230216T174055Z
UID:10003668-1678752000-1678838399@www.lovemylibrary.ca
SUMMARY:Build a Creature Day
DESCRIPTION:Create a new species of an animal or a creature from outer space. Put your imagination to work using all sort of craft materials. All are welcome! \nDrop in – call 902-883-9838 or email us at elmsdale@cehpubliclibrary.ca
URL:https://www.lovemylibrary.ca/event/build-a-creature-day/
LOCATION:Elmsdale Library\, 15 Commerce Ct\, Elmsdale\, Nova Scotia\, Canada
CATEGORIES:Events For Kids,Location: Elmsdale,March Break
ATTACH;FMTTYPE=application/pdf:https://www.lovemylibrary.ca/wp-content/uploads/2023/02/Untitled-design-13.pdf
END:VEVENT
BEGIN:VEVENT
DTSTART;TZID=America/Halifax:20230314T130000
DTEND;TZID=America/Halifax:20230314T180000
DTSTAMP:20260424T081552
CREATED:20230217T202454Z
LAST-MODIFIED:20230227T183237Z
UID:10003721-1678798800-1678816800@www.lovemylibrary.ca
SUMMARY:Make Your Own Tie-Dye Bag
DESCRIPTION:Come get your groove on while making your own tie-dye library bag!  All ages are welcome. \nThis is a drop-in program. No registration is required.
URL:https://www.lovemylibrary.ca/event/make-your-own-tie-dye-bag/
LOCATION:Stewiacke Library\, 295 George Street\, Stewiacke\, Nova Scotia\, Canada
CATEGORIES:Crafting,Events For Adults,Events For Kids,Events For Teens,Location: Stewiacke,March Break
ATTACH;FMTTYPE=image/png:https://www.lovemylibrary.ca/wp-content/uploads/2023/02/Untitled-design-26.png
END:VEVENT
BEGIN:VEVENT
DTSTART;TZID=America/Halifax:20230314T140000
DTEND;TZID=America/Halifax:20230314T150000
DTSTAMP:20260424T081552
CREATED:20221220T231218Z
LAST-MODIFIED:20230525T163330Z
UID:10003766-1678802400-1678806000@www.lovemylibrary.ca
SUMMARY:Homework Hangout
DESCRIPTION:Time to unwind\, get your homework done\, and hangout with your friends.  For ages 8-15. \nThis is a drop-in program. No registration is required.
URL:https://www.lovemylibrary.ca/event/homework-hangout-2/2023-03-14/
LOCATION:Mount Uniacke Library\, 555\, Highway 1\, Mount Uniacke\, Nova Scotia\, Canada
CATEGORIES:Events For Kids,Events For Teens,Location: Mount Uniacke
ATTACH;FMTTYPE=image/png:https://www.lovemylibrary.ca/wp-content/uploads/2022/03/Untitled-design-91.png
END:VEVENT
BEGIN:VEVENT
DTSTART;TZID=America/Halifax:20230314T140000
DTEND;TZID=America/Halifax:20230314T153000
DTSTAMP:20260424T081552
CREATED:20230223T185253Z
LAST-MODIFIED:20230223T185253Z
UID:10003844-1678802400-1678807800@www.lovemylibrary.ca
SUMMARY:Roar Like a Dinosaur!
DESCRIPTION:Roary the Dinosaur invites you to visit the Library\, where you’ll dig for fossils\, feed the T-Rex\, make a button and more. For ages 5-12 \nThis is a drop-in program. No registration is required.
URL:https://www.lovemylibrary.ca/event/roar-like-a-dinosaur/
LOCATION:Truro Library\, 754 Prince St\, Truro\, Nova Scotia\, Canada
CATEGORIES:Events For Kids,Location: Truro,March Break,STEAM Programs
ATTACH;FMTTYPE=image/png:https://www.lovemylibrary.ca/wp-content/uploads/2023/02/Untitled-design-74.png
END:VEVENT
BEGIN:VEVENT
DTSTART;TZID=America/Halifax:20230314T150000
DTEND;TZID=America/Halifax:20230314T160000
DTSTAMP:20260424T081552
CREATED:20230222T190657Z
LAST-MODIFIED:20230222T190657Z
UID:10003808-1678806000-1678809600@www.lovemylibrary.ca
SUMMARY:March Break- Unbirthday Party
DESCRIPTION:Not your birthday but you want to have one\, problem solved. Bernie and Kim are throwing an Unbirthday Party. Play pin the tail on something\, bash a pinata\, make a craft. We are celebrating without the candles on the cake. For ages 5-12 \nRegister in branch or by email mtuniack@cehpubliclibrary.ca
URL:https://www.lovemylibrary.ca/event/march-break-unbirthday-party/
LOCATION:Mount Uniacke Library\, 555\, Highway 1\, Mount Uniacke\, Nova Scotia\, Canada
CATEGORIES:Events For Kids,Location: Mount Uniacke,March Break
ATTACH;FMTTYPE=image/png:https://www.lovemylibrary.ca/wp-content/uploads/2023/02/Untitled-design-46.png
END:VEVENT
BEGIN:VEVENT
DTSTART;TZID=America/Halifax:20230314T163000
DTEND;TZID=America/Halifax:20230314T180000
DTSTAMP:20260424T081552
CREATED:20230223T163537Z
LAST-MODIFIED:20230223T163537Z
UID:10003829-1678811400-1678816800@www.lovemylibrary.ca
SUMMARY:Exploring Henna Art
DESCRIPTION:Learn how to use henna to create beautiful designs. For ages 8-14 \nTo register call 902-657-3064 or email Tatamago@cehpubliclibrary.ca
URL:https://www.lovemylibrary.ca/event/exploring-henna-art/
LOCATION:Tatamagouche Library\, 170 Main Street\, Tatamagouche\, Nova Scotia\, Canada
CATEGORIES:Events For Kids,Location: Tatamagouche,March Break
ATTACH;FMTTYPE=image/png:https://www.lovemylibrary.ca/wp-content/uploads/2023/02/Untitled-design-69.png
END:VEVENT
BEGIN:VEVENT
DTSTART;TZID=America/Halifax:20230314T173000
DTEND;TZID=America/Halifax:20230314T200000
DTSTAMP:20260424T081552
CREATED:20221116T204822Z
LAST-MODIFIED:20230919T183845Z
UID:10003744-1678815000-1678824000@www.lovemylibrary.ca
SUMMARY:Heroes & Adventurers
DESCRIPTION:Role-playing game nights with extraordinary people! We provide the supplies\, you provide the imagination. No experience needed. All ages welcome! \nRegister to play by emailing: HAATruro@gmail.com Sorry\, no drop-in players at this time.
URL:https://www.lovemylibrary.ca/event/heroes-adventurers-3/2023-03-14/
LOCATION:Truro Library\, 754 Prince St\, Truro\, Nova Scotia\, Canada
CATEGORIES:Location: Truro
ATTACH;FMTTYPE=image/png:https://www.lovemylibrary.ca/wp-content/uploads/2022/06/D-and-D.png
END:VEVENT
BEGIN:VEVENT
DTSTART;TZID=America/Halifax:20230314T183000
DTEND;TZID=America/Halifax:20230314T200000
DTSTAMP:20260424T081552
CREATED:20221020T193052Z
LAST-MODIFIED:20230926T211554Z
UID:10003797-1678818600-1678824000@www.lovemylibrary.ca
SUMMARY:Ewe-niacke Yarn Club
DESCRIPTION:Fiber art for all ages and abilities. Learn to knit or crochet\, bring a project you are working on\, or just come hang out with the club for some social time. All ages welcome. \nDrop in\, no registration required.
URL:https://www.lovemylibrary.ca/event/ewe-niacke-yarn-club-3/2023-03-14/
LOCATION:Mount Uniacke Library\, 555\, Highway 1\, Mount Uniacke\, Nova Scotia\, Canada
CATEGORIES:Crafting,Events For Adults,Events For Kids,Events For Seniors,Location: Mount Uniacke
ATTACH;FMTTYPE=image/png:https://www.lovemylibrary.ca/wp-content/uploads/2022/03/Untitled-design-89.png
END:VEVENT
BEGIN:VEVENT
DTSTART;TZID=America/Halifax:20230314T183000
DTEND;TZID=America/Halifax:20230314T200000
DTSTAMP:20260424T081552
CREATED:20221020T195846Z
LAST-MODIFIED:20230222T184014Z
UID:10003801-1678818600-1678824000@www.lovemylibrary.ca
SUMMARY:Seniors Learn to Knit with Ewe-niacke Yarn Club
DESCRIPTION:Want to learn to knit or crochet? Already know how\, but need a refresher? Not sure what supplies you need? We have everything you need for your first project. Hants Count Senior Safety Association is providing the supplies necessary to start your project. \nDrop in\, no registration required.
URL:https://www.lovemylibrary.ca/event/seniors-learn-to-knit-with-ewe-niacke-yarn-club-2/2023-03-14/
LOCATION:Mount Uniacke Library\, 555\, Highway 1\, Mount Uniacke\, Nova Scotia\, Canada
CATEGORIES:Events For Seniors,Location: Mount Uniacke
ATTACH;FMTTYPE=image/png:https://www.lovemylibrary.ca/wp-content/uploads/2022/04/Untitled-design-2022-04-29T171348.604.png
END:VEVENT
BEGIN:VEVENT
DTSTART;TZID=America/Halifax:20230315T103000
DTEND;TZID=America/Halifax:20230315T110000
DTSTAMP:20260424T081552
CREATED:20221220T230021Z
LAST-MODIFIED:20230525T163111Z
UID:10003756-1678876200-1678878000@www.lovemylibrary.ca
SUMMARY:Storytime
DESCRIPTION:Enjoy a picture book read by Karri or Bernie and then participate in an activity. For pre schoolers and home schoolers. \nThis is a drop-in program. No registration is required.
URL:https://www.lovemylibrary.ca/event/storytime-4-2/2023-03-15/
LOCATION:Mount Uniacke Library\, 555\, Highway 1\, Mount Uniacke\, Nova Scotia\, Canada
CATEGORIES:Events For Kids,Location: Mount Uniacke
ATTACH;FMTTYPE=image/png:https://www.lovemylibrary.ca/wp-content/uploads/2022/05/Untitled-design-2.png
END:VEVENT
BEGIN:VEVENT
DTSTART;TZID=America/Halifax:20230315T103000
DTEND;TZID=America/Halifax:20230315T120000
DTSTAMP:20260424T081553
CREATED:20220920T183446Z
LAST-MODIFIED:20230227T182825Z
UID:10001364-1678876200-1678881600@www.lovemylibrary.ca
SUMMARY:Water Ways with Clean Foundation
DESCRIPTION:See the water cycle as you’ve never seen it before! Join Clean Foundation for a workshop exploring how water moves in our natural world\, through observation\, experimentation\, condensation… and a whole lot of fun! For ages 5-12 \nTo register\, please call 902-895-4183\, or email info@cehpubliclibrary.ca
URL:https://www.lovemylibrary.ca/event/water-ways-with-clean-foundation/
LOCATION:Truro Library\, 754 Prince St\, Truro\, Nova Scotia\, Canada
CATEGORIES:Events For Kids,Location: Truro,March Break
ATTACH;FMTTYPE=image/png:https://www.lovemylibrary.ca/wp-content/uploads/2022/09/Untitled-design-39.png
END:VEVENT
BEGIN:VEVENT
DTSTART;TZID=America/Halifax:20230315T120000
DTEND;TZID=America/Halifax:20230315T140000
DTSTAMP:20260424T081553
CREATED:20230223T165603Z
LAST-MODIFIED:20230223T165603Z
UID:10003830-1678881600-1678888800@www.lovemylibrary.ca
SUMMARY:Xbox Marks the Spot
DESCRIPTION:Get moving with Xbox games. Stop by the library and challenge a friend to an Xbox game. For ages 7-14. \nThis is a drop-in program. No registration is required.
URL:https://www.lovemylibrary.ca/event/xbox-marks-the-spot/
LOCATION:Tatamagouche Library\, 170 Main Street\, Tatamagouche\, Nova Scotia\, Canada
CATEGORIES:Events For Kids,Events For Teens,Location: Tatamagouche
ATTACH;FMTTYPE=image/png:https://www.lovemylibrary.ca/wp-content/uploads/2023/02/Untitled-design-70.png
END:VEVENT
BEGIN:VEVENT
DTSTART;TZID=America/Halifax:20230315T130000
DTEND;TZID=America/Halifax:20230315T150000
DTSTAMP:20260424T081553
CREATED:20230218T202830Z
LAST-MODIFIED:20230919T161657Z
UID:10003749-1678885200-1678892400@www.lovemylibrary.ca
SUMMARY:Makers in the Maker Lab
DESCRIPTION:Calling all Makers! Drop by for a relaxing afternoon to hang out with fellow crafters. Bring along your ongoing projects like knitting\, crochet\, needlework\, painting or other hands on crafts. For adults \nThis is a drop in program. No registration is required.\n 
URL:https://www.lovemylibrary.ca/event/makers-in-the-maker-lab-2/2023-03-15/
LOCATION:Truro Library\, 754 Prince St\, Truro\, Nova Scotia\, Canada
CATEGORIES:Crafting,Events For Adults,Location: Truro
ATTACH;FMTTYPE=image/png:https://www.lovemylibrary.ca/wp-content/uploads/2023/01/Untitled-design-2023-01-24T155257.327.png
END:VEVENT
BEGIN:VEVENT
DTSTART;TZID=America/Halifax:20230315T140000
DTEND;TZID=America/Halifax:20230315T153000
DTSTAMP:20260424T081553
CREATED:20220922T180934Z
LAST-MODIFIED:20230227T182850Z
UID:10001413-1678888800-1678894200@www.lovemylibrary.ca
SUMMARY:Water Ways with Clean Foundation
DESCRIPTION:See the water cycle as you’ve never seen it before! Join CEHPL and the Clean Foundation for a workshop exploring how water moves in our natural world\, through observation\, experimentation\, condensation… and a whole lot of fun! For ages 5-12 \nCall to register at 902-883-9838 or email elmsdale@cehpubliclibrary.ca
URL:https://www.lovemylibrary.ca/event/water-ways-with-clean-foundation-2/
LOCATION:Elmsdale Library\, 15 Commerce Ct\, Elmsdale\, Nova Scotia\, Canada
CATEGORIES:Events For Kids,Location: Elmsdale,March Break
ATTACH;FMTTYPE=image/png:https://www.lovemylibrary.ca/wp-content/uploads/2022/09/Untitled-design-39.png
END:VEVENT
BEGIN:VEVENT
DTSTART;TZID=America/Halifax:20230315T143000
DTEND;TZID=America/Halifax:20230315T190000
DTSTAMP:20260424T081553
CREATED:20210830T161210Z
LAST-MODIFIED:20231213T141030Z
UID:10002697-1678890600-1678906800@www.lovemylibrary.ca
SUMMARY:Satellite Library Visit: Middle Stewiacke Recreation Centre
DESCRIPTION:Meet us at the Middle Stewiacke Recreation Centre where you can browse and borrow materials\, sign up for a Library card\, and use the public WiFi!
URL:https://www.lovemylibrary.ca/event/satellite-library-visit-middle-stewiacke-recreation-centre/2023-03-15/
LOCATION:Middle Stewiacke Recreation Centre\, 2395 Highway 289\, Middle Stewiacke\, Nova Scotia\, Canada
CATEGORIES:Events For Adults,Events For Kids,Events For Seniors,Events For Teens,Location: Middle Stewiacke
ATTACH;FMTTYPE=image/jpeg:https://www.lovemylibrary.ca/wp-content/uploads/2021/08/16.jpg
END:VEVENT
BEGIN:VEVENT
DTSTART;TZID=America/Halifax:20230315T180000
DTEND;TZID=America/Halifax:20230315T193000
DTSTAMP:20260424T081553
CREATED:20230223T184310Z
LAST-MODIFIED:20230227T182539Z
UID:10003841-1678903200-1678908600@www.lovemylibrary.ca
SUMMARY:March Break Teen Extravaganza
DESCRIPTION:Head up to the teen room for an extended\, all-out teen night! Games\, crafts\, snacks\, henna art\, prizes\, and more await you at the March Break Teen Extravaganza. For ages 13-18 \nThis is a drop-in program. No registration is required.
URL:https://www.lovemylibrary.ca/event/march-break-teen-extravaganza/
LOCATION:Truro Library\, 754 Prince St\, Truro\, Nova Scotia\, Canada
CATEGORIES:Events For Teens,Location: Truro,March Break
ATTACH;FMTTYPE=image/png:https://www.lovemylibrary.ca/wp-content/uploads/2022/10/Untitled-design-53.png
END:VEVENT
BEGIN:VEVENT
DTSTART;VALUE=DATE:20230316
DTEND;VALUE=DATE:20230317
DTSTAMP:20260424T081553
CREATED:20230216T180346Z
LAST-MODIFIED:20230216T180346Z
UID:10003671-1678924800-1679011199@www.lovemylibrary.ca
SUMMARY:3D Art
DESCRIPTION:Come in and make your canvas come alive by using your artistic skills! Add some foam shapes\, small stones\, colour\, and other interesting objects. For children and teens. \nDrop in – call 902-883-9838 or email elmsdale@cehpubliclibrary.ca
URL:https://www.lovemylibrary.ca/event/3d-art/
LOCATION:Elmsdale Library\, 15 Commerce Ct\, Elmsdale\, Nova Scotia\, Canada
CATEGORIES:Crafting,Location: Elmsdale,March Break
ATTACH;FMTTYPE=image/png:https://www.lovemylibrary.ca/wp-content/uploads/2023/02/Untitled-design-67.png
END:VEVENT
BEGIN:VEVENT
DTSTART;TZID=America/Halifax:20230316T103000
DTEND;TZID=America/Halifax:20230316T110000
DTSTAMP:20260424T081553
CREATED:20221018T160406Z
LAST-MODIFIED:20230524T172811Z
UID:10003675-1678962600-1678964400@www.lovemylibrary.ca
SUMMARY:Baby Rhyme Time
DESCRIPTION:Discover the joy of songs\, finger plays \, bouncing rhymes and simple books. Suitable for Infant-2 years old with a caregiver \nThis is an in-person program. No registration is required.
URL:https://www.lovemylibrary.ca/event/baby-rhyme-time-6/2023-03-16/
LOCATION:Stewiacke Library\, 295 George Street\, Stewiacke\, Nova Scotia\, Canada
CATEGORIES:Events For Kids,Location: Stewiacke
ATTACH;FMTTYPE=image/png:https://www.lovemylibrary.ca/wp-content/uploads/2022/03/Untitled-design-75.png
END:VEVENT
BEGIN:VEVENT
DTSTART;TZID=America/Halifax:20230316T103000
DTEND;TZID=America/Halifax:20230316T120000
DTSTAMP:20260424T081553
CREATED:20230223T185636Z
LAST-MODIFIED:20230223T185636Z
UID:10003845-1678962600-1678968000@www.lovemylibrary.ca
SUMMARY:Mission: SPACE!
DESCRIPTION:Calling all space cadets! Drop by the library and see if you have what it takes to make it to space! Straw rockets\, colouring\, comets and more! For ages 5-12 \nThis is a drop-in program. No registration is required.
URL:https://www.lovemylibrary.ca/event/mission-space/
LOCATION:Truro Library\, 754 Prince St\, Truro\, Nova Scotia\, Canada
CATEGORIES:Events For Kids,March Break,STEAM Programs
ATTACH;FMTTYPE=image/png:https://www.lovemylibrary.ca/wp-content/uploads/2023/02/Untitled-design-75.png
END:VEVENT
BEGIN:VEVENT
DTSTART;TZID=America/Halifax:20230316T120000
DTEND;TZID=America/Halifax:20230316T180000
DTSTAMP:20260424T081553
CREATED:20230217T202903Z
LAST-MODIFIED:20230217T202903Z
UID:10003722-1678968000-1678989600@www.lovemylibrary.ca
SUMMARY:Bazinga Brains
DESCRIPTION:Drop In Science and Tech Day Hands on activities all afternoon! Bridges\, boats and catapults and more. For ages 5 and up \nThis is a drop in program. No registration is required.
URL:https://www.lovemylibrary.ca/event/bazinga-brains/
LOCATION:Stewiacke Library\, 295 George Street\, Stewiacke\, Nova Scotia\, Canada
CATEGORIES:Events For Kids,Location: Stewiacke,March Break
ATTACH;FMTTYPE=image/png:https://www.lovemylibrary.ca/wp-content/uploads/2022/08/Untitled-700-×-500-px-5.png
END:VEVENT
BEGIN:VEVENT
DTSTART;TZID=America/Halifax:20230316T140000
DTEND;TZID=America/Halifax:20230316T150000
DTSTAMP:20260424T081553
CREATED:20221220T231218Z
LAST-MODIFIED:20230525T163330Z
UID:10003767-1678975200-1678978800@www.lovemylibrary.ca
SUMMARY:Homework Hangout
DESCRIPTION:Time to unwind\, get your homework done\, and hangout with your friends.  For ages 8-15. \nThis is a drop-in program. No registration is required.
URL:https://www.lovemylibrary.ca/event/homework-hangout-2/2023-03-16/
LOCATION:Mount Uniacke Library\, 555\, Highway 1\, Mount Uniacke\, Nova Scotia\, Canada
CATEGORIES:Events For Kids,Events For Teens,Location: Mount Uniacke
ATTACH;FMTTYPE=image/png:https://www.lovemylibrary.ca/wp-content/uploads/2022/03/Untitled-design-91.png
END:VEVENT
END:VCALENDAR