BEGIN:VCALENDAR
VERSION:2.0
PRODID:-//Colchester East Hants Public Library - ECPv6.15.20//NONSGML v1.0//EN
CALSCALE:GREGORIAN
METHOD:PUBLISH
X-ORIGINAL-URL:https://www.lovemylibrary.ca
X-WR-CALDESC:Events for Colchester East Hants Public Library
REFRESH-INTERVAL;VALUE=DURATION:PT1H
X-Robots-Tag:noindex
X-PUBLISHED-TTL:PT1H
BEGIN:VTIMEZONE
TZID:America/Halifax
BEGIN:DAYLIGHT
TZOFFSETFROM:-0400
TZOFFSETTO:-0300
TZNAME:ADT
DTSTART:20220313T060000
END:DAYLIGHT
BEGIN:STANDARD
TZOFFSETFROM:-0300
TZOFFSETTO:-0400
TZNAME:AST
DTSTART:20221106T050000
END:STANDARD
BEGIN:DAYLIGHT
TZOFFSETFROM:-0400
TZOFFSETTO:-0300
TZNAME:ADT
DTSTART:20230312T060000
END:DAYLIGHT
BEGIN:STANDARD
TZOFFSETFROM:-0300
TZOFFSETTO:-0400
TZNAME:AST
DTSTART:20231105T050000
END:STANDARD
BEGIN:DAYLIGHT
TZOFFSETFROM:-0400
TZOFFSETTO:-0300
TZNAME:ADT
DTSTART:20240310T060000
END:DAYLIGHT
BEGIN:STANDARD
TZOFFSETFROM:-0300
TZOFFSETTO:-0400
TZNAME:AST
DTSTART:20241103T050000
END:STANDARD
END:VTIMEZONE
BEGIN:VEVENT
DTSTART;VALUE=DATE:20230202
DTEND;VALUE=DATE:20230430
DTSTAMP:20260423T210648
CREATED:20221018T154842Z
LAST-MODIFIED:20230324T181958Z
UID:10001718-1675296000-1682812799@www.lovemylibrary.ca
SUMMARY:Take Home Craft Kits
DESCRIPTION:Kits change on a weekly basis and contain all supplies needed to complete the craft. Suitable For Preschool and early elementary children. \nThis is a drop-in program. No registration is required.
URL:https://www.lovemylibrary.ca/event/take-home-craft-kits-4/
LOCATION:Stewiacke Library\, 295 George Street\, Stewiacke\, Nova Scotia\, Canada
CATEGORIES:Crafting,Events For Kids,Location: Stewiacke
ATTACH;FMTTYPE=image/png:https://www.lovemylibrary.ca/wp-content/uploads/2022/03/Untitled-design-57.png
END:VEVENT
BEGIN:VEVENT
DTSTART;VALUE=DATE:20230301
DTEND;VALUE=DATE:20230329
DTSTAMP:20260423T210648
CREATED:20221221T203915Z
LAST-MODIFIED:20230525T180744Z
UID:10003814-1677628800-1680040799@www.lovemylibrary.ca
SUMMARY:Take Home Craft Kits
DESCRIPTION:Weekly take-and-make craft kits are available for pick up in-branch. For preschool and early elementary children. \nThis is a drop-in program. No registration is required.
URL:https://www.lovemylibrary.ca/event/take-home-craft-kits-6/2023-03-01/
LOCATION:Tatamagouche Library\, 170 Main Street\, Tatamagouche\, Nova Scotia\, Canada
CATEGORIES:Crafting,Events For Kids,Location: Tatamagouche
ATTACH;FMTTYPE=image/png:https://www.lovemylibrary.ca/wp-content/uploads/2022/02/Untitled-design-42.png
END:VEVENT
BEGIN:VEVENT
DTSTART;VALUE=DATE:20230301
DTEND;VALUE=DATE:20230601
DTSTAMP:20260423T210648
CREATED:20221222T145501Z
LAST-MODIFIED:20230426T173012Z
UID:10002662-1677628800-1685577599@www.lovemylibrary.ca
SUMMARY:Creatures Big and Small Scavenger Hunt
DESCRIPTION:Enjoy a scavenger hunt with the library.  All ages are welcome to participate. \nThis is a drop-in program. No registration is required.
URL:https://www.lovemylibrary.ca/event/winter-scavenger-hunt/
LOCATION:Tatamagouche Library\, 170 Main Street\, Tatamagouche\, Nova Scotia\, Canada
CATEGORIES:Events For Kids,Location: Tatamagouche
ATTACH;FMTTYPE=image/png:https://www.lovemylibrary.ca/wp-content/uploads/2022/06/scavenger-hunt-1.png
END:VEVENT
BEGIN:VEVENT
DTSTART;VALUE=DATE:20230302
DTEND;VALUE=DATE:20230428
DTSTAMP:20260423T210648
CREATED:20230218T181721Z
LAST-MODIFIED:20230218T203502Z
UID:10003727-1677715200-1682639999@www.lovemylibrary.ca
SUMMARY:Every Child Matters – Finding a Way Forward Project\, an art exhibit at the Truro Library
DESCRIPTION:The Rug Hooking Guild of Nova Scotia commissioned five Indigenous artists from New Brunswick\, Prince Edward Island and Nova Scotia to produce rug hooking designs that honour the Indigenous children who suffered and died in Residential Schools and to honour the survivors who were taken from their families and culture. These mats have been offered by the artists and the guild with love and respect\, in hopes to raise awareness for this issue as a path moving forward towards reconciliation and healing. The Opening Ceremony for the exhibit will be held on Saturday\, March 4 from 2-4pm. Opening words will be given by Elder Debbie Eisan and members of the Rug Hooking Guild of Nova Scotia will be present to answer questions. A guestbook is available at the second floor information desk\, where comments of solidarity may be left. All ages are welcome. The exhibit will be housed on the second floor of the library.
URL:https://www.lovemylibrary.ca/event/every-child-matters-finding-a-way-forward-project-an-art-exhibit-at-the-truro-library/
LOCATION:Truro Library\, 754 Prince St\, Truro\, Nova Scotia\, Canada
CATEGORIES:Events For Adults,Events For Kids,Events For Seniors,Events For Teens,Location: Truro
ATTACH;FMTTYPE=image/png:https://www.lovemylibrary.ca/wp-content/uploads/2023/02/Copy-of-Full-Colour-Every-Child-Matters-Art-Exhibit-.pdf-Instagram-Post-Square-1.png
END:VEVENT
BEGIN:VEVENT
DTSTART;VALUE=DATE:20230302
DTEND;VALUE=DATE:20230430
DTSTAMP:20260423T210648
CREATED:20230218T180033Z
LAST-MODIFIED:20230324T182233Z
UID:10003725-1677715200-1682805599@www.lovemylibrary.ca
SUMMARY:April Flowers Scavenger Hunt
DESCRIPTION:Find the 12 flower pictures hidden around the library. How many can you name? All ages are welcome to participate. \nThis is a drop-in program. No registration is required.
URL:https://www.lovemylibrary.ca/event/green-scavenger-hunt/2023-03-02/1/
LOCATION:Stewiacke Library\, 295 George Street\, Stewiacke\, Nova Scotia\, Canada
CATEGORIES:Events For Kids,Location: Stewiacke
ATTACH;FMTTYPE=image/png:https://www.lovemylibrary.ca/wp-content/uploads/2021/08/Untitled-design-23.png
END:VEVENT
BEGIN:VEVENT
DTSTART;TZID=America/Halifax:20230320T133000
DTEND;TZID=America/Halifax:20230320T163000
DTSTAMP:20260423T210648
CREATED:20221026T175545Z
LAST-MODIFIED:20230919T182903Z
UID:10003740-1679319000-1679329800@www.lovemylibrary.ca
SUMMARY:Scrabble Group
DESCRIPTION:What spells F-U-N? Playing Scrabble with friends! \nThis is a drop-in program.  No registration is required.
URL:https://www.lovemylibrary.ca/event/scrabble-group-3-2/2023-03-20/
LOCATION:Truro Library\, 754 Prince St\, Truro\, Nova Scotia\, Canada
CATEGORIES:Events For Adults,Events For Seniors,Location: Truro
ATTACH;FMTTYPE=image/png:https://www.lovemylibrary.ca/wp-content/uploads/2022/05/Add-a-subheading-700-×-500-px-3.png
END:VEVENT
BEGIN:VEVENT
DTSTART;TZID=America/Halifax:20230321T110000
DTEND;TZID=America/Halifax:20230321T120000
DTSTAMP:20260423T210648
CREATED:20221214T192815Z
LAST-MODIFIED:20230218T201150Z
UID:10003736-1679396400-1679400000@www.lovemylibrary.ca
SUMMARY:Conversational English
DESCRIPTION:Is English your 2nd language? Or maybe your 4th? Our Conversational English program is for those who would like to practice their English in a fun and friendly environment. In partnership with YREACH. \nThis is a drop-in program.  No registration is required.
URL:https://www.lovemylibrary.ca/event/conversational-english-2-2-2/2023-03-21/
LOCATION:Truro Library\, 754 Prince St\, Truro\, Nova Scotia\, Canada
CATEGORIES:Events For Adults,Events For Seniors,Location: Truro
ATTACH;FMTTYPE=image/jpeg:https://www.lovemylibrary.ca/wp-content/uploads/2021/08/13.jpg
END:VEVENT
BEGIN:VEVENT
DTSTART;TZID=America/Halifax:20230321T133000
DTEND;TZID=America/Halifax:20230321T143000
DTSTAMP:20260423T210648
CREATED:20221025T222519Z
LAST-MODIFIED:20230529T180520Z
UID:10003838-1679405400-1679409000@www.lovemylibrary.ca
SUMMARY:Homeschoolers Haven
DESCRIPTION:Homeschoolers Haven is a place for Homeschool families to meet and share resources. There will be  activities for the children. We will be taking a summer break during the months of July and August.  For ages 5+ \nThis is a drop-in program. No registration is required.
URL:https://www.lovemylibrary.ca/event/homeschoolers-haven-2/2023-03-21/
LOCATION:Truro Library\, 754 Prince St\, Truro\, Nova Scotia\, Canada
CATEGORIES:Events For Kids,Events For Teens,Location: Truro
ATTACH;FMTTYPE=image/png:https://www.lovemylibrary.ca/wp-content/uploads/2022/07/Untitled-design-9.png
END:VEVENT
BEGIN:VEVENT
DTSTART;TZID=America/Halifax:20230321T140000
DTEND;TZID=America/Halifax:20230321T150000
DTSTAMP:20260423T210648
CREATED:20221214T173801Z
LAST-MODIFIED:20230217T204325Z
UID:10002576-1679407200-1679410800@www.lovemylibrary.ca
SUMMARY:Seniors’ Social
DESCRIPTION:It’s all fun and games until someone yells bingo! Try your luck at bingo and see what you win. All seniors welcome. \nThis is a drop-in program. No registration is required
URL:https://www.lovemylibrary.ca/event/seniors-social-5/
LOCATION:Stewiacke Library\, 295 George Street\, Stewiacke\, Nova Scotia\, Canada
CATEGORIES:Events For Seniors,Location: Stewiacke
ATTACH;FMTTYPE=image/png:https://www.lovemylibrary.ca/wp-content/uploads/2022/08/Untitled-design-6.png
END:VEVENT
BEGIN:VEVENT
DTSTART;TZID=America/Halifax:20230321T140000
DTEND;TZID=America/Halifax:20230321T150000
DTSTAMP:20260423T210648
CREATED:20221220T231218Z
LAST-MODIFIED:20230525T163330Z
UID:10003769-1679407200-1679410800@www.lovemylibrary.ca
SUMMARY:Homework Hangout
DESCRIPTION:Time to unwind\, get your homework done\, and hangout with your friends.  For ages 8-15. \nThis is a drop-in program. No registration is required.
URL:https://www.lovemylibrary.ca/event/homework-hangout-2/2023-03-21/
LOCATION:Mount Uniacke Library\, 555\, Highway 1\, Mount Uniacke\, Nova Scotia\, Canada
CATEGORIES:Events For Kids,Events For Teens,Location: Mount Uniacke
ATTACH;FMTTYPE=image/png:https://www.lovemylibrary.ca/wp-content/uploads/2022/03/Untitled-design-91.png
END:VEVENT
BEGIN:VEVENT
DTSTART;TZID=America/Halifax:20230321T140000
DTEND;TZID=America/Halifax:20230321T160000
DTSTAMP:20260423T210648
CREATED:20230118T201106Z
LAST-MODIFIED:20230215T201404Z
UID:10003582-1679407200-1679414400@www.lovemylibrary.ca
SUMMARY:Tuesday Social
DESCRIPTION:Stop in at the Elmsdale library for social time. Meet new people\, share your creative projects\, try your hand at a game of cards\, crafts and other activities. This is a program for adults of all ages. \nThis is a drop in program. No registration is required. Call 902-883-9838 for more details
URL:https://www.lovemylibrary.ca/event/tuesday-social/2023-03-21/
LOCATION:Elmsdale Library\, 15 Commerce Ct\, Elmsdale\, Nova Scotia\, Canada
CATEGORIES:Events For Adults,Events For Seniors
ATTACH;FMTTYPE=image/png:https://www.lovemylibrary.ca/wp-content/uploads/2022/08/Untitled-design-6.png
END:VEVENT
BEGIN:VEVENT
DTSTART;TZID=America/Halifax:20230321T160000
DTEND;TZID=America/Halifax:20230321T170000
DTSTAMP:20260423T210648
CREATED:20230217T204703Z
LAST-MODIFIED:20230227T183454Z
UID:10003724-1679414400-1679418000@www.lovemylibrary.ca
SUMMARY:Stewiacke Library-The Place Where People and Wildlife Meet
DESCRIPTION:Hope for Wildlife will be visiting the library with some of their animal friends. Learn the importance of conservation\, wildlife management and how rehabilitation and release of animals happens. For ages 7-99 \nRegister by March 16: stewiacke@cehpubliclibrary.ca
URL:https://www.lovemylibrary.ca/event/stewiacke-library-the-place-where-people-and-wildlife-meet/
LOCATION:Stewiacke Library\, 295 George Street\, Stewiacke\, Nova Scotia\, Canada
CATEGORIES:Events For Adults,Events For Kids,Events For Seniors,Events For Teens,Location: Stewiacke,March Break
ATTACH;FMTTYPE=image/png:https://www.lovemylibrary.ca/wp-content/uploads/2023/02/Untitled-design-28.png
END:VEVENT
BEGIN:VEVENT
DTSTART;TZID=America/Halifax:20230321T173000
DTEND;TZID=America/Halifax:20230321T200000
DTSTAMP:20260423T210648
CREATED:20221116T204822Z
LAST-MODIFIED:20230919T183845Z
UID:10003745-1679419800-1679428800@www.lovemylibrary.ca
SUMMARY:Heroes & Adventurers
DESCRIPTION:Role-playing game nights with extraordinary people! We provide the supplies\, you provide the imagination. No experience needed. All ages welcome! \nRegister to play by emailing: HAATruro@gmail.com Sorry\, no drop-in players at this time.
URL:https://www.lovemylibrary.ca/event/heroes-adventurers-3/2023-03-21/
LOCATION:Truro Library\, 754 Prince St\, Truro\, Nova Scotia\, Canada
CATEGORIES:Location: Truro
ATTACH;FMTTYPE=image/png:https://www.lovemylibrary.ca/wp-content/uploads/2022/06/D-and-D.png
END:VEVENT
BEGIN:VEVENT
DTSTART;TZID=America/Halifax:20230321T183000
DTEND;TZID=America/Halifax:20230321T193000
DTSTAMP:20260423T210648
CREATED:20221214T150320Z
LAST-MODIFIED:20230323T194656Z
UID:10003702-1679423400-1679427000@www.lovemylibrary.ca
SUMMARY:Intergenerational Book Buddies
DESCRIPTION:One on one time with seniors helps children improve their reading\, grow in confidence and create a sense of community connection and purpose.For ages 5 and up. \nTo register email:  stewiacke@cehpubliclibrary.ca or call 902 639-2481\n 
URL:https://www.lovemylibrary.ca/event/intergenerational-book-buddies-2/2023-03-21/
LOCATION:Stewiacke Library\, 295 George Street\, Stewiacke\, Nova Scotia\, Canada
CATEGORIES:Events For Adults,Events For Kids,Events For Seniors,Location: Stewiacke
ATTACH;FMTTYPE=image/png:https://www.lovemylibrary.ca/wp-content/uploads/2022/11/Untitled-design-2022-11-29T111628.045.png
END:VEVENT
BEGIN:VEVENT
DTSTART;TZID=America/Halifax:20230321T183000
DTEND;TZID=America/Halifax:20230321T200000
DTSTAMP:20260423T210648
CREATED:20221020T193052Z
LAST-MODIFIED:20230926T211554Z
UID:10003798-1679423400-1679428800@www.lovemylibrary.ca
SUMMARY:Ewe-niacke Yarn Club
DESCRIPTION:Fiber art for all ages and abilities. Learn to knit or crochet\, bring a project you are working on\, or just come hang out with the club for some social time. All ages welcome. \nDrop in\, no registration required.
URL:https://www.lovemylibrary.ca/event/ewe-niacke-yarn-club-3/2023-03-21/
LOCATION:Mount Uniacke Library\, 555\, Highway 1\, Mount Uniacke\, Nova Scotia\, Canada
CATEGORIES:Crafting,Events For Adults,Events For Kids,Events For Seniors,Location: Mount Uniacke
ATTACH;FMTTYPE=image/png:https://www.lovemylibrary.ca/wp-content/uploads/2022/03/Untitled-design-89.png
END:VEVENT
BEGIN:VEVENT
DTSTART;TZID=America/Halifax:20230321T183000
DTEND;TZID=America/Halifax:20230321T200000
DTSTAMP:20260423T210648
CREATED:20221020T195846Z
LAST-MODIFIED:20230222T184014Z
UID:10003802-1679423400-1679428800@www.lovemylibrary.ca
SUMMARY:Seniors Learn to Knit with Ewe-niacke Yarn Club
DESCRIPTION:Want to learn to knit or crochet? Already know how\, but need a refresher? Not sure what supplies you need? We have everything you need for your first project. Hants Count Senior Safety Association is providing the supplies necessary to start your project. \nDrop in\, no registration required.
URL:https://www.lovemylibrary.ca/event/seniors-learn-to-knit-with-ewe-niacke-yarn-club-2/2023-03-21/
LOCATION:Mount Uniacke Library\, 555\, Highway 1\, Mount Uniacke\, Nova Scotia\, Canada
CATEGORIES:Events For Seniors,Location: Mount Uniacke
ATTACH;FMTTYPE=image/png:https://www.lovemylibrary.ca/wp-content/uploads/2022/04/Untitled-design-2022-04-29T171348.604.png
END:VEVENT
BEGIN:VEVENT
DTSTART;TZID=America/Halifax:20230322T103000
DTEND;TZID=America/Halifax:20230322T110000
DTSTAMP:20260423T210648
CREATED:20221220T230021Z
LAST-MODIFIED:20230525T163111Z
UID:10003758-1679481000-1679482800@www.lovemylibrary.ca
SUMMARY:Storytime
DESCRIPTION:Enjoy a picture book read by Karri or Bernie and then participate in an activity. For pre schoolers and home schoolers. \nThis is a drop-in program. No registration is required.
URL:https://www.lovemylibrary.ca/event/storytime-4-2/2023-03-22/
LOCATION:Mount Uniacke Library\, 555\, Highway 1\, Mount Uniacke\, Nova Scotia\, Canada
CATEGORIES:Events For Kids,Location: Mount Uniacke
ATTACH;FMTTYPE=image/png:https://www.lovemylibrary.ca/wp-content/uploads/2022/05/Untitled-design-2.png
END:VEVENT
BEGIN:VEVENT
DTSTART;TZID=America/Halifax:20230322T103000
DTEND;TZID=America/Halifax:20230322T113000
DTSTAMP:20260423T210648
CREATED:20220922T194727Z
LAST-MODIFIED:20230329T182425Z
UID:10003817-1679481000-1679484600@www.lovemylibrary.ca
SUMMARY:Parents and Tots Social Time
DESCRIPTION:Join us for story time\, songs and social time. For ages 0-3. \nDrop-in\, no registration required.
URL:https://www.lovemylibrary.ca/event/tots-and-moms-social-time/2023-03-22/
LOCATION:Tatamagouche Library\, 170 Main Street\, Tatamagouche\, Nova Scotia\, Canada
CATEGORIES:Events For Kids,Location: Tatamagouche
ATTACH;FMTTYPE=image/png:https://www.lovemylibrary.ca/wp-content/uploads/2022/03/Untitled-design-75.png
END:VEVENT
BEGIN:VEVENT
DTSTART;TZID=America/Halifax:20230322T103000
DTEND;TZID=America/Halifax:20230322T113000
DTSTAMP:20260423T210648
CREATED:20221216T204301Z
LAST-MODIFIED:20230330T192453Z
UID:10003733-1679481000-1679484600@www.lovemylibrary.ca
SUMMARY:Francophone Seniors Social Time
DESCRIPTION:Don’t let winter weather keep you at home. Our bi-weekly seniors craft and social time will warm you inside and out. \nThis is a drop-in program. No registration is required.
URL:https://www.lovemylibrary.ca/event/francophone-seniors-social-time/2023-03-22/
LOCATION:Truro Library\, 754 Prince St\, Truro\, Nova Scotia\, Canada
CATEGORIES:Events For Seniors,Location: Truro
ATTACH;FMTTYPE=image/png:https://www.lovemylibrary.ca/wp-content/uploads/2022/08/Untitled-design-6.png
END:VEVENT
BEGIN:VEVENT
DTSTART;TZID=America/Halifax:20230322T130000
DTEND;TZID=America/Halifax:20230322T150000
DTSTAMP:20260423T210648
CREATED:20230218T202830Z
LAST-MODIFIED:20230919T161657Z
UID:10003750-1679490000-1679497200@www.lovemylibrary.ca
SUMMARY:Makers in the Maker Lab
DESCRIPTION:Calling all Makers! Drop by for a relaxing afternoon to hang out with fellow crafters. Bring along your ongoing projects like knitting\, crochet\, needlework\, painting or other hands on crafts. For adults \nThis is a drop in program. No registration is required.\n 
URL:https://www.lovemylibrary.ca/event/makers-in-the-maker-lab-2/2023-03-22/
LOCATION:Truro Library\, 754 Prince St\, Truro\, Nova Scotia\, Canada
CATEGORIES:Crafting,Events For Adults,Location: Truro
ATTACH;FMTTYPE=image/png:https://www.lovemylibrary.ca/wp-content/uploads/2023/01/Untitled-design-2023-01-24T155257.327.png
END:VEVENT
BEGIN:VEVENT
DTSTART;TZID=America/Halifax:20230322T143000
DTEND;TZID=America/Halifax:20230322T190000
DTSTAMP:20260423T210648
CREATED:20210830T143625Z
LAST-MODIFIED:20231213T140902Z
UID:10002704-1679495400-1679511600@www.lovemylibrary.ca
SUMMARY:Satellite Library Visit: Kennetcook Fire Hall
DESCRIPTION:Meet us at the Kennetcook Fire Hall where you can browse and borrow materials\, sign up for a Library card\, and hear about our upcoming programs! \n 
URL:https://www.lovemylibrary.ca/event/satellite-library-visit-kennetcook-fire-hall/2023-03-22/
LOCATION:Kennetcook Fire Hall\, 32 Martin Walsh Road\, Kennetcook\, Nova Scotia\, Canada
CATEGORIES:Events For Adults,Events For Kids,Events For Seniors,Events For Teens,Location: Kennetcook
ATTACH;FMTTYPE=image/jpeg:https://www.lovemylibrary.ca/wp-content/uploads/2021/08/16.jpg
END:VEVENT
BEGIN:VEVENT
DTSTART;TZID=America/Halifax:20230323T100000
DTEND;TZID=America/Halifax:20230323T110000
DTSTAMP:20260423T210648
CREATED:20230223T200257Z
LAST-MODIFIED:20230223T200257Z
UID:10003849-1679565600-1679569200@www.lovemylibrary.ca
SUMMARY:Author Visit with Gordon Korman
DESCRIPTION:Gordon Korman is the #1 New York Times bestselling author of 100 middle-grade and young adult books! He’s received countless awards and honours and his books have been translated into more than 30 languages. Join us on Zoom to laugh\, learn\, and hear the story of how Gordon Korman wrote his first book\, This Can’t Be Happening at Macdonald Hall\, when he was 12! For ages 7+ \nTo register\, email info@cehpubliclibrary.ca . You will receive a follow up email with your Zoom link.
URL:https://www.lovemylibrary.ca/event/author-visit-with-gordon-korman/
LOCATION:Virtual
CATEGORIES:Events For Kids,Location: Virtual
ATTACH;FMTTYPE=image/png:https://www.lovemylibrary.ca/wp-content/uploads/2023/02/Untitled-design-78.png
END:VEVENT
BEGIN:VEVENT
DTSTART;TZID=America/Halifax:20230323T103000
DTEND;TZID=America/Halifax:20230323T110000
DTSTAMP:20260423T210648
CREATED:20221018T160406Z
LAST-MODIFIED:20230524T172811Z
UID:10003676-1679567400-1679569200@www.lovemylibrary.ca
SUMMARY:Baby Rhyme Time
DESCRIPTION:Discover the joy of songs\, finger plays \, bouncing rhymes and simple books. Suitable for Infant-2 years old with a caregiver \nThis is an in-person program. No registration is required.
URL:https://www.lovemylibrary.ca/event/baby-rhyme-time-6/2023-03-23/
LOCATION:Stewiacke Library\, 295 George Street\, Stewiacke\, Nova Scotia\, Canada
CATEGORIES:Events For Kids,Location: Stewiacke
ATTACH;FMTTYPE=image/png:https://www.lovemylibrary.ca/wp-content/uploads/2022/03/Untitled-design-75.png
END:VEVENT
BEGIN:VEVENT
DTSTART;TZID=America/Halifax:20230323T110000
DTEND;TZID=America/Halifax:20230323T112000
DTSTAMP:20260423T210648
CREATED:20221025T221411Z
LAST-MODIFIED:20230428T164111Z
UID:10003834-1679569200-1679570400@www.lovemylibrary.ca
SUMMARY:Tales for Tots
DESCRIPTION:Join us Thursday mornings for stories\, songs\, and activities that are just right for terrific toddlers! \n18 months-4 years with a parent/caregiver. \nDrop-in\, no registration required.
URL:https://www.lovemylibrary.ca/event/tales-for-tots/2023-03-23/
LOCATION:Truro Library\, 754 Prince St\, Truro\, Nova Scotia\, Canada
CATEGORIES:Events For Kids,Location: Truro
ATTACH;FMTTYPE=image/png:https://www.lovemylibrary.ca/wp-content/uploads/2022/03/Untitled-design-81.png
END:VEVENT
BEGIN:VEVENT
DTSTART;TZID=America/Halifax:20230323T130000
DTEND;TZID=America/Halifax:20230323T140000
DTSTAMP:20260423T210648
CREATED:20230118T195543Z
LAST-MODIFIED:20230421T172154Z
UID:10003575-1679576400-1679580000@www.lovemylibrary.ca
SUMMARY:Crafty Story Time
DESCRIPTION:Come along and enjoy an hour of fun filled story and craft time. For ages 3-5 \nTo register call 902-883-9838 or email elmsdale@cehpubliclibrary.ca
URL:https://www.lovemylibrary.ca/event/crafty-story-time-2-2-2/2023-03-23/
LOCATION:Elmsdale Library\, 15 Commerce Ct\, Elmsdale\, Nova Scotia\, Canada
CATEGORIES:Crafting,Events For Kids,Location: Elmsdale
ATTACH;FMTTYPE=image/png:https://www.lovemylibrary.ca/wp-content/uploads/2022/09/Untitled-design-43.png
END:VEVENT
BEGIN:VEVENT
DTSTART;TZID=America/Halifax:20230323T130000
DTEND;TZID=America/Halifax:20230323T140000
DTSTAMP:20260423T210648
CREATED:20230124T151108Z
LAST-MODIFIED:20230227T182337Z
UID:10003857-1679576400-1679580000@www.lovemylibrary.ca
SUMMARY:Preschool Storytime
DESCRIPTION:Looking to connect your preschooler with other little ones? Join the gang while we entertain with themed songs\, storybooks\, and craft time. Ages 3-7. \nDrop-in\, no registration required.
URL:https://www.lovemylibrary.ca/event/preschool-storytime-2-2/2023-03-23/
LOCATION:Tatamagouche Library\, 170 Main Street\, Tatamagouche\, Nova Scotia\, Canada
CATEGORIES:Events For Kids,Location: Tatamagouche
ATTACH;FMTTYPE=image/png:https://www.lovemylibrary.ca/wp-content/uploads/2022/04/Untitled-design-98.png
END:VEVENT
BEGIN:VEVENT
DTSTART;TZID=America/Halifax:20230323T140000
DTEND;TZID=America/Halifax:20230323T150000
DTSTAMP:20260423T210648
CREATED:20221220T231218Z
LAST-MODIFIED:20230525T163330Z
UID:10003770-1679580000-1679583600@www.lovemylibrary.ca
SUMMARY:Homework Hangout
DESCRIPTION:Time to unwind\, get your homework done\, and hangout with your friends.  For ages 8-15. \nThis is a drop-in program. No registration is required.
URL:https://www.lovemylibrary.ca/event/homework-hangout-2/2023-03-23/
LOCATION:Mount Uniacke Library\, 555\, Highway 1\, Mount Uniacke\, Nova Scotia\, Canada
CATEGORIES:Events For Kids,Events For Teens,Location: Mount Uniacke
ATTACH;FMTTYPE=image/png:https://www.lovemylibrary.ca/wp-content/uploads/2022/03/Untitled-design-91.png
END:VEVENT
BEGIN:VEVENT
DTSTART;TZID=America/Halifax:20230323T143000
DTEND;TZID=America/Halifax:20230323T170000
DTSTAMP:20260423T210648
CREATED:20230222T200950Z
LAST-MODIFIED:20240221T182107Z
UID:10003820-1679581800-1679590800@www.lovemylibrary.ca
SUMMARY:After-school Chill Zone with Games and Craft
DESCRIPTION:Relax and have fun after school with computers\, books\, and games in the chill zone. For ages 8-14 \nThis is a drop-in program. No registration is required.
URL:https://www.lovemylibrary.ca/event/after-school-chill-zone-with-games-and-craft/2023-03-23/
LOCATION:Tatamagouche Library\, 170 Main Street\, Tatamagouche\, Nova Scotia\, Canada
CATEGORIES:Events For Kids,Location: Tatamagouche
ATTACH;FMTTYPE=image/jpeg:https://www.lovemylibrary.ca/wp-content/uploads/2023/02/pexels-artem-podrez-8087869-scaled.jpg
END:VEVENT
BEGIN:VEVENT
DTSTART;TZID=America/Halifax:20230323T144500
DTEND;TZID=America/Halifax:20230323T170000
DTSTAMP:20260423T210648
CREATED:20221021T180121Z
LAST-MODIFIED:20230525T180406Z
UID:10004220-1679582700-1679590800@www.lovemylibrary.ca
SUMMARY:Dungeons and Dragons
DESCRIPTION:The campaign is going to be an adventure of a group of fighters\, trying to complete 20 challenges\, each harder than the next. Ages 12-16. \nRegistration by phone 902-657-3064 or email: tatamago@cehpubliclibrary.ca
URL:https://www.lovemylibrary.ca/event/d-d-group/2023-03-23/
LOCATION:Tatamagouche Library\, 170 Main Street\, Tatamagouche\, Nova Scotia\, Canada
CATEGORIES:Events For Kids,Events For Teens,Location: Tatamagouche
ATTACH;FMTTYPE=image/png:https://www.lovemylibrary.ca/wp-content/uploads/2022/06/D-and-D.png
END:VEVENT
BEGIN:VEVENT
DTSTART;TZID=America/Halifax:20230323T173000
DTEND;TZID=America/Halifax:20230323T193000
DTSTAMP:20260423T210648
CREATED:20230215T203141Z
LAST-MODIFIED:20230919T213828Z
UID:10003658-1679592600-1679599800@www.lovemylibrary.ca
SUMMARY:Adult Board Games Night
DESCRIPTION:Get your game on! Come on out for an evening of board games. This is your chance to play some old favourites or learn a new one. For teens and adults. \nThis is a drop-in program. No registration is required. Please call 902-883-9838 or email at elmsdale@cehpubliclibrary.ca for more details
URL:https://www.lovemylibrary.ca/event/adult-board-games-night-6-2/2023-03-23/
LOCATION:Elmsdale Library\, 15 Commerce Ct\, Elmsdale\, Nova Scotia\, Canada
CATEGORIES:Events For Adults,Events For Seniors,Events For Teens,Location: Elmsdale
ATTACH;FMTTYPE=image/png:https://www.lovemylibrary.ca/wp-content/uploads/2023/02/Untitled-design-2023-05-16T103613.895.png
END:VEVENT
END:VCALENDAR