BEGIN:VCALENDAR
VERSION:2.0
PRODID:-//Colchester East Hants Public Library - ECPv6.15.20//NONSGML v1.0//EN
CALSCALE:GREGORIAN
METHOD:PUBLISH
X-ORIGINAL-URL:https://www.lovemylibrary.ca
X-WR-CALDESC:Events for Colchester East Hants Public Library
REFRESH-INTERVAL;VALUE=DURATION:PT1H
X-Robots-Tag:noindex
X-PUBLISHED-TTL:PT1H
BEGIN:VTIMEZONE
TZID:America/Halifax
BEGIN:DAYLIGHT
TZOFFSETFROM:-0400
TZOFFSETTO:-0300
TZNAME:ADT
DTSTART:20220313T060000
END:DAYLIGHT
BEGIN:STANDARD
TZOFFSETFROM:-0300
TZOFFSETTO:-0400
TZNAME:AST
DTSTART:20221106T050000
END:STANDARD
BEGIN:DAYLIGHT
TZOFFSETFROM:-0400
TZOFFSETTO:-0300
TZNAME:ADT
DTSTART:20230312T060000
END:DAYLIGHT
BEGIN:STANDARD
TZOFFSETFROM:-0300
TZOFFSETTO:-0400
TZNAME:AST
DTSTART:20231105T050000
END:STANDARD
BEGIN:DAYLIGHT
TZOFFSETFROM:-0400
TZOFFSETTO:-0300
TZNAME:ADT
DTSTART:20240310T060000
END:DAYLIGHT
BEGIN:STANDARD
TZOFFSETFROM:-0300
TZOFFSETTO:-0400
TZNAME:AST
DTSTART:20241103T050000
END:STANDARD
END:VTIMEZONE
BEGIN:VEVENT
DTSTART;VALUE=DATE:20230301
DTEND;VALUE=DATE:20230601
DTSTAMP:20260422T201519
CREATED:20221222T145501Z
LAST-MODIFIED:20230426T173012Z
UID:10002662-1677628800-1685577599@www.lovemylibrary.ca
SUMMARY:Creatures Big and Small Scavenger Hunt
DESCRIPTION:Enjoy a scavenger hunt with the library.  All ages are welcome to participate. \nThis is a drop-in program. No registration is required.
URL:https://www.lovemylibrary.ca/event/winter-scavenger-hunt/
LOCATION:Tatamagouche Library\, 170 Main Street\, Tatamagouche\, Nova Scotia\, Canada
CATEGORIES:Events For Kids,Location: Tatamagouche
ATTACH;FMTTYPE=image/png:https://www.lovemylibrary.ca/wp-content/uploads/2022/06/scavenger-hunt-1.png
END:VEVENT
BEGIN:VEVENT
DTSTART;VALUE=DATE:20230401
DTEND;VALUE=DATE:20230701
DTSTAMP:20260422T201519
CREATED:20230222T190032Z
LAST-MODIFIED:20230525T172021Z
UID:10003806-1680307200-1688169599@www.lovemylibrary.ca
SUMMARY:June Take and Makes (preschool)
DESCRIPTION:Drop by for a craft to do at home with your little. All supplies are provided to make a fun project. (while supplies last) For ages 2-5 \nThis is a drop-in program. No registration is required.
URL:https://www.lovemylibrary.ca/event/march-take-and-makes-preschool/
LOCATION:Mount Uniacke Library\, 555\, Highway 1\, Mount Uniacke\, Nova Scotia\, Canada
CATEGORIES:Crafting,Events For Kids,Location: Mount Uniacke
ATTACH;FMTTYPE=image/png:https://www.lovemylibrary.ca/wp-content/uploads/2022/03/Untitled-design-57.png
END:VEVENT
BEGIN:VEVENT
DTSTART;VALUE=DATE:20230401
DTEND;VALUE=DATE:20230701
DTSTAMP:20260422T201519
CREATED:20230222T190308Z
LAST-MODIFIED:20230525T172129Z
UID:10003807-1680307200-1688169599@www.lovemylibrary.ca
SUMMARY:June Take and Makes (school age)
DESCRIPTION:Monthly take and make for school age kids. Pick up in June and take home for something to do when you are bored. (while supplies last) For ages 6-12 \nThis is a drop in program. No registration is required.
URL:https://www.lovemylibrary.ca/event/march-take-and-makes-school-age/
LOCATION:Mount Uniacke Library\, 555\, Highway 1\, Mount Uniacke\, Nova Scotia\, Canada
CATEGORIES:Crafting,Events For Kids,Location: Mount Uniacke
ATTACH;FMTTYPE=image/png:https://www.lovemylibrary.ca/wp-content/uploads/2022/03/Untitled-design-57.png
END:VEVENT
BEGIN:VEVENT
DTSTART;VALUE=DATE:20230501
DTEND;VALUE=DATE:20230601
DTSTAMP:20260422T201519
CREATED:20230421T174615Z
LAST-MODIFIED:20230421T174615Z
UID:10004112-1682899200-1685577599@www.lovemylibrary.ca
SUMMARY:Spring May Flowers Scavenger Hunt
DESCRIPTION:Spring has sprung with flowers. Let’s celebrate with a scavenger hunt. All ages are welcome to participate. \nDrop in – Please call 902-883-9838 or email us at elmsdale@cehpubliclibrary.ca
URL:https://www.lovemylibrary.ca/event/spring-may-flowers-scavenger-hunt/
LOCATION:Elmsdale Library\, 15 Commerce Ct\, Elmsdale\, Nova Scotia\, Canada
CATEGORIES:Events For Kids,Location: Elmsdale
ATTACH;FMTTYPE=image/png:https://www.lovemylibrary.ca/wp-content/uploads/2022/06/scavenger-hunt-1.png
END:VEVENT
BEGIN:VEVENT
DTSTART;VALUE=DATE:20230501
DTEND;VALUE=DATE:20230601
DTSTAMP:20260422T201519
CREATED:20230421T184331Z
LAST-MODIFIED:20230421T184331Z
UID:10004119-1682899200-1685577599@www.lovemylibrary.ca
SUMMARY:Shelf Care Bingo
DESCRIPTION:Give yourself some shelf care! Take home your Shelf Care Bingo Sheet from your local library and combine reading with self-care. Complete the challenge by getting five in a row and be entered into a draw for a $25 Indigo Card!  All ages may participate. \nPick up your shelf care challenge and complete it by the end of May to be entered into the draw.\n 
URL:https://www.lovemylibrary.ca/event/shelf-care-bingo-2/
LOCATION:Truro Library\, 754 Prince St\, Truro\, Nova Scotia\, Canada
CATEGORIES:Location: Elmsdale,Location: Kennetcook,Location: Middle Stewiacke,Location: Mount Uniacke,Location: Stewiacke,Location: Tatamagouche,Location: Truro
ATTACH;FMTTYPE=image/png:https://www.lovemylibrary.ca/wp-content/uploads/2023/04/Untitled-design-32.png
END:VEVENT
BEGIN:VEVENT
DTSTART;VALUE=DATE:20230502
DTEND;VALUE=DATE:20230601
DTSTAMP:20260422T201519
CREATED:20230422T193721Z
LAST-MODIFIED:20230422T193721Z
UID:10004151-1682985600-1685577599@www.lovemylibrary.ca
SUMMARY:Sneaker Scavenger Hunt
DESCRIPTION:We will join our neighbours “across the pond” as they celebrate National Walking Month. Find all the sneakers hidden around the library. All ages are welcome \nThis is a drop-in program. No registration is required.
URL:https://www.lovemylibrary.ca/event/sneaker-scavenger-hunt/
LOCATION:Stewiacke Library\, 295 George Street\, Stewiacke\, Nova Scotia\, Canada
CATEGORIES:Events For Kids,Location: Stewiacke
ATTACH;FMTTYPE=image/png:https://www.lovemylibrary.ca/wp-content/uploads/2021/08/Untitled-design-23.png
END:VEVENT
BEGIN:VEVENT
DTSTART;VALUE=DATE:20230502
DTEND;VALUE=DATE:20230701
DTSTAMP:20260422T201519
CREATED:20221021T181049Z
LAST-MODIFIED:20230525T144814Z
UID:10002262-1682985600-1688169599@www.lovemylibrary.ca
SUMMARY:Take Home Craft Kits
DESCRIPTION:Kits change on a weekly basis and contain all supplies needed to complete the craft. . For preschool and early elementary kids. \nDrop In: No registration necessary
URL:https://www.lovemylibrary.ca/event/take-home-craft-kits-5/
LOCATION:Stewiacke Library\, 295 George Street\, Stewiacke\, Nova Scotia\, Canada
CATEGORIES:Events For Kids,Location: Stewiacke
ATTACH;FMTTYPE=image/png:https://www.lovemylibrary.ca/wp-content/uploads/2022/03/Untitled-design-57.png
END:VEVENT
BEGIN:VEVENT
DTSTART;VALUE=DATE:20230504
DTEND;VALUE=DATE:20230621
DTSTAMP:20260422T201519
CREATED:20230421T184619Z
LAST-MODIFIED:20230421T184619Z
UID:10004120-1683158400-1687305599@www.lovemylibrary.ca
SUMMARY:The Attic Painters: Captured Moments art exhibit
DESCRIPTION:A captivating group art exhibit from the Attic Painters will be running through May and June at the Truro Library. The Attic Painters will be on site to talk with you about their art and the inspiration behind the exhibit on Saturday\, May 13 @2-4pm. \nThis is a drop-in program. No registration is required.\n 
URL:https://www.lovemylibrary.ca/event/the-attic-painters-captured-moments-art-exhibit/
LOCATION:Truro Library\, 754 Prince St\, Truro\, Nova Scotia\, Canada
CATEGORIES:Events For Adults,Events For Kids,Events For Seniors,Location: Truro
ATTACH;FMTTYPE=image/png:https://www.lovemylibrary.ca/wp-content/uploads/2023/04/Untitled-design-33.png
END:VEVENT
BEGIN:VEVENT
DTSTART;TZID=America/Halifax:20230522T133000
DTEND;TZID=America/Halifax:20230522T163000
DTSTAMP:20260422T201519
CREATED:20221026T175545Z
LAST-MODIFIED:20230919T182903Z
UID:10004142-1684762200-1684773000@www.lovemylibrary.ca
SUMMARY:Scrabble Group
DESCRIPTION:What spells F-U-N? Playing Scrabble with friends! \nThis is a drop-in program.  No registration is required.
URL:https://www.lovemylibrary.ca/event/scrabble-group-3-2/2023-05-22/
LOCATION:Truro Library\, 754 Prince St\, Truro\, Nova Scotia\, Canada
CATEGORIES:Events For Adults,Events For Seniors,Location: Truro
ATTACH;FMTTYPE=image/png:https://www.lovemylibrary.ca/wp-content/uploads/2022/05/Add-a-subheading-700-×-500-px-3.png
END:VEVENT
BEGIN:VEVENT
DTSTART;TZID=America/Halifax:20230523T110000
DTEND;TZID=America/Halifax:20230523T120000
DTSTAMP:20260422T201519
CREATED:20230330T192755Z
LAST-MODIFIED:20230422T190627Z
UID:10004137-1684839600-1684843200@www.lovemylibrary.ca
SUMMARY:Conversational English
DESCRIPTION:Is English your 2nd language? Or maybe your 4th? Our Conversational English program is for those who would like to practice their English in a fun and friendly environment. In partnership with YREACH. \nThis is a drop-in program.  No registration is required.
URL:https://www.lovemylibrary.ca/event/conversational-english-2-2-2-2/2023-05-23/
LOCATION:Truro Library\, 754 Prince St\, Truro\, Nova Scotia\, Canada
CATEGORIES:Events For Adults,Events For Seniors,Location: Truro
ATTACH;FMTTYPE=image/jpeg:https://www.lovemylibrary.ca/wp-content/uploads/2021/08/13.jpg
END:VEVENT
BEGIN:VEVENT
DTSTART;TZID=America/Halifax:20230523T133000
DTEND;TZID=America/Halifax:20230523T143000
DTSTAMP:20260422T201519
CREATED:20221025T222519Z
LAST-MODIFIED:20230529T180520Z
UID:10004249-1684848600-1684852200@www.lovemylibrary.ca
SUMMARY:Homeschoolers Haven
DESCRIPTION:Homeschoolers Haven is a place for Homeschool families to meet and share resources. There will be  activities for the children. We will be taking a summer break during the months of July and August.  For ages 5+ \nThis is a drop-in program. No registration is required.
URL:https://www.lovemylibrary.ca/event/homeschoolers-haven-2/2023-05-23/
LOCATION:Truro Library\, 754 Prince St\, Truro\, Nova Scotia\, Canada
CATEGORIES:Events For Kids,Events For Teens,Location: Truro
ATTACH;FMTTYPE=image/png:https://www.lovemylibrary.ca/wp-content/uploads/2022/07/Untitled-design-9.png
END:VEVENT
BEGIN:VEVENT
DTSTART;TZID=America/Halifax:20230523T140000
DTEND;TZID=America/Halifax:20230523T150000
DTSTAMP:20260422T201519
CREATED:20221220T231218Z
LAST-MODIFIED:20230525T163330Z
UID:10004169-1684850400-1684854000@www.lovemylibrary.ca
SUMMARY:Homework Hangout
DESCRIPTION:Time to unwind\, get your homework done\, and hangout with your friends.  For ages 8-15. \nThis is a drop-in program. No registration is required.
URL:https://www.lovemylibrary.ca/event/homework-hangout-2/2023-05-23/
LOCATION:Mount Uniacke Library\, 555\, Highway 1\, Mount Uniacke\, Nova Scotia\, Canada
CATEGORIES:Events For Kids,Events For Teens,Location: Mount Uniacke
ATTACH;FMTTYPE=image/png:https://www.lovemylibrary.ca/wp-content/uploads/2022/03/Untitled-design-91.png
END:VEVENT
BEGIN:VEVENT
DTSTART;TZID=America/Halifax:20230523T173000
DTEND;TZID=America/Halifax:20230523T200000
DTSTAMP:20260422T201519
CREATED:20221116T204822Z
LAST-MODIFIED:20230919T183845Z
UID:10004148-1684863000-1684872000@www.lovemylibrary.ca
SUMMARY:Heroes & Adventurers
DESCRIPTION:Role-playing game nights with extraordinary people! We provide the supplies\, you provide the imagination. No experience needed. All ages welcome! \nRegister to play by emailing: HAATruro@gmail.com Sorry\, no drop-in players at this time.
URL:https://www.lovemylibrary.ca/event/heroes-adventurers-3/2023-05-23/
LOCATION:Truro Library\, 754 Prince St\, Truro\, Nova Scotia\, Canada
CATEGORIES:Location: Truro
ATTACH;FMTTYPE=image/png:https://www.lovemylibrary.ca/wp-content/uploads/2022/06/D-and-D.png
END:VEVENT
BEGIN:VEVENT
DTSTART;TZID=America/Halifax:20230523T180000
DTEND;TZID=America/Halifax:20230523T184500
DTSTAMP:20260422T201519
CREATED:20230218T191310Z
LAST-MODIFIED:20230919T155515Z
UID:10003730-1684864800-1684867500@www.lovemylibrary.ca
SUMMARY:Media Lab Certification Class
DESCRIPTION:Curious about the Media Lab and what kind of podcasting\, music\, photography\, and video equipment we have to use? Sign up\, take a tour\, get certified\, and get ready to start using the Media Lab for your own projects! For ages 16+ \nTo register email info@cehpubliclibrary.ca
URL:https://www.lovemylibrary.ca/event/media-lab-certification-class-2/2023-05-23/
LOCATION:Truro Library\, 754 Prince St\, Truro\, Nova Scotia\, Canada
CATEGORIES:Events For Adults,Events For Seniors,Events For Teens,Location: Truro
ATTACH;FMTTYPE=image/png:https://www.lovemylibrary.ca/wp-content/uploads/2023/01/Untitled-design-2023-01-24T120808.300.png
END:VEVENT
BEGIN:VEVENT
DTSTART;TZID=America/Halifax:20230523T183000
DTEND;TZID=America/Halifax:20230523T193000
DTSTAMP:20260422T201519
CREATED:20221214T171917Z
LAST-MODIFIED:20230419T183623Z
UID:10004093-1684866600-1684870200@www.lovemylibrary.ca
SUMMARY:Crochet Class
DESCRIPTION:Looking to perfect your technique? Need a new project? Learn how to read a pattern. This is the class for you! Ages 8-adult \nThis is a drop-in program. No registration is required.
URL:https://www.lovemylibrary.ca/event/crochet-class/2023-05-23/
LOCATION:Stewiacke Library\, 295 George Street\, Stewiacke\, Nova Scotia\, Canada
CATEGORIES:Events For Adults,Events For Seniors,Location: Stewiacke
ATTACH;FMTTYPE=image/png:https://www.lovemylibrary.ca/wp-content/uploads/2022/12/Untitled-design-33.png
END:VEVENT
BEGIN:VEVENT
DTSTART;TZID=America/Halifax:20230523T183000
DTEND;TZID=America/Halifax:20230523T193000
DTSTAMP:20260422T201519
CREATED:20230428T172718Z
LAST-MODIFIED:20230428T172718Z
UID:10004260-1684866600-1684870200@www.lovemylibrary.ca
SUMMARY:Family Fort Night
DESCRIPTION:Stories are so much better in a blanket fort. We provide the building supplies and snacks. You provide the pillow\, blanket or stuffed animal. \nThis is a drop in program. No registration is required.
URL:https://www.lovemylibrary.ca/event/family-fort-night/
LOCATION:Truro Library\, 754 Prince St\, Truro\, Nova Scotia\, Canada
CATEGORIES:Events For Kids,Location: Truro
ATTACH;FMTTYPE=image/png:https://www.lovemylibrary.ca/wp-content/uploads/2023/04/Untitled-design-44.png
END:VEVENT
BEGIN:VEVENT
DTSTART;TZID=America/Halifax:20230523T183000
DTEND;TZID=America/Halifax:20230523T200000
DTSTAMP:20260422T201519
CREATED:20221020T193052Z
LAST-MODIFIED:20230926T211554Z
UID:10004178-1684866600-1684872000@www.lovemylibrary.ca
SUMMARY:Ewe-niacke Yarn Club
DESCRIPTION:Fiber art for all ages and abilities. Learn to knit or crochet\, bring a project you are working on\, or just come hang out with the club for some social time. All ages welcome. \nDrop in\, no registration required.
URL:https://www.lovemylibrary.ca/event/ewe-niacke-yarn-club-3/2023-05-23/
LOCATION:Mount Uniacke Library\, 555\, Highway 1\, Mount Uniacke\, Nova Scotia\, Canada
CATEGORIES:Crafting,Events For Adults,Events For Kids,Events For Seniors,Location: Mount Uniacke
ATTACH;FMTTYPE=image/png:https://www.lovemylibrary.ca/wp-content/uploads/2022/03/Untitled-design-89.png
END:VEVENT
BEGIN:VEVENT
DTSTART;TZID=America/Halifax:20230523T184500
DTEND;TZID=America/Halifax:20230523T200000
DTSTAMP:20260422T201519
CREATED:20230421T195254Z
LAST-MODIFIED:20230919T161535Z
UID:10004124-1684867500-1684872000@www.lovemylibrary.ca
SUMMARY:Podcasting PLUS
DESCRIPTION:Curious about the world of podcasting and how you could make a podcast in the Media Lab? Join us for an introduction to designing\, equipping\, recording\, editing\, hosting\, and launching a podcast with a take-home workbook guide and a beginners podcasting technology tutorial in the Media Lab. For ages 16+ \nTo register: email info@cehpubliclibrary.ca
URL:https://www.lovemylibrary.ca/event/podcasting-plus/2023-05-23/
LOCATION:Truro Library\, 754 Prince St\, Truro\, Nova Scotia\, Canada
CATEGORIES:Events For Adults,Events For Seniors,Events For Teens,Location: Truro
ATTACH;FMTTYPE=image/png:https://www.lovemylibrary.ca/wp-content/uploads/2023/04/Untitled-design-36.png
END:VEVENT
BEGIN:VEVENT
DTSTART;TZID=America/Halifax:20230524T103000
DTEND;TZID=America/Halifax:20230524T110000
DTSTAMP:20260422T201519
CREATED:20221220T230021Z
LAST-MODIFIED:20230525T163111Z
UID:10004158-1684924200-1684926000@www.lovemylibrary.ca
SUMMARY:Storytime
DESCRIPTION:Enjoy a picture book read by Karri or Bernie and then participate in an activity. For pre schoolers and home schoolers. \nThis is a drop-in program. No registration is required.
URL:https://www.lovemylibrary.ca/event/storytime-4-2/2023-05-24/
LOCATION:Mount Uniacke Library\, 555\, Highway 1\, Mount Uniacke\, Nova Scotia\, Canada
CATEGORIES:Events For Kids,Location: Mount Uniacke
ATTACH;FMTTYPE=image/png:https://www.lovemylibrary.ca/wp-content/uploads/2022/05/Untitled-design-2.png
END:VEVENT
BEGIN:VEVENT
DTSTART;TZID=America/Halifax:20230524T103000
DTEND;TZID=America/Halifax:20230524T113000
DTSTAMP:20260422T201519
CREATED:20230329T184218Z
LAST-MODIFIED:20230525T180903Z
UID:10004231-1684924200-1684927800@www.lovemylibrary.ca
SUMMARY:Seniors Social Café!
DESCRIPTION:Come in for a coffee or tea and share a story or two with your friends. \nThis is a drop-in program. No registration is required.
URL:https://www.lovemylibrary.ca/event/seniors-social-cafe/2023-05-24/
LOCATION:Tatamagouche Library\, 170 Main Street\, Tatamagouche\, Nova Scotia\, Canada
CATEGORIES:Events For Seniors,Location: Tatamagouche
ATTACH;FMTTYPE=image/png:https://www.lovemylibrary.ca/wp-content/uploads/2022/08/Untitled-design-6.png
END:VEVENT
BEGIN:VEVENT
DTSTART;TZID=America/Halifax:20230524T111500
DTEND;TZID=America/Halifax:20230524T121500
DTSTAMP:20260422T201519
CREATED:20230328T215926Z
LAST-MODIFIED:20230628T142802Z
UID:10004184-1684926900-1684930500@www.lovemylibrary.ca
SUMMARY:Baby Time
DESCRIPTION:Want to spend some time with new parents? Have your baby interact with other babies? Get support from other new parents in a laid back\, casual space. \nThis is a drop-in program.
URL:https://www.lovemylibrary.ca/event/baby-time/2023-05-24/
LOCATION:Mount Uniacke Library\, 555\, Highway 1\, Mount Uniacke\, Nova Scotia\, Canada
CATEGORIES:Events For Adults,Events For Kids,Location: Mount Uniacke
ATTACH;FMTTYPE=image/png:https://www.lovemylibrary.ca/wp-content/uploads/2023/03/Untitled-design-53.png
END:VEVENT
BEGIN:VEVENT
DTSTART;TZID=America/Halifax:20230524T130000
DTEND;TZID=America/Halifax:20230524T150000
DTSTAMP:20260422T201519
CREATED:20230218T202830Z
LAST-MODIFIED:20230919T161657Z
UID:10004131-1684933200-1684940400@www.lovemylibrary.ca
SUMMARY:Makers in the Maker Lab
DESCRIPTION:Calling all Makers! Drop by for a relaxing afternoon to hang out with fellow crafters. Bring along your ongoing projects like knitting\, crochet\, needlework\, painting or other hands on crafts. For adults \nThis is a drop in program. No registration is required.\n 
URL:https://www.lovemylibrary.ca/event/makers-in-the-maker-lab-2/2023-05-24/
LOCATION:Truro Library\, 754 Prince St\, Truro\, Nova Scotia\, Canada
CATEGORIES:Crafting,Events For Adults,Location: Truro
ATTACH;FMTTYPE=image/png:https://www.lovemylibrary.ca/wp-content/uploads/2023/01/Untitled-design-2023-01-24T155257.327.png
END:VEVENT
BEGIN:VEVENT
DTSTART;TZID=America/Halifax:20230524T143000
DTEND;TZID=America/Halifax:20230524T190000
DTSTAMP:20260422T201519
CREATED:20210830T143625Z
LAST-MODIFIED:20231213T140902Z
UID:10002707-1684938600-1684954800@www.lovemylibrary.ca
SUMMARY:Satellite Library Visit: Kennetcook Fire Hall
DESCRIPTION:Meet us at the Kennetcook Fire Hall where you can browse and borrow materials\, sign up for a Library card\, and hear about our upcoming programs! \n 
URL:https://www.lovemylibrary.ca/event/satellite-library-visit-kennetcook-fire-hall/2023-05-24/
LOCATION:Kennetcook Fire Hall\, 32 Martin Walsh Road\, Kennetcook\, Nova Scotia\, Canada
CATEGORIES:Events For Adults,Events For Kids,Events For Seniors,Events For Teens,Location: Kennetcook
ATTACH;FMTTYPE=image/jpeg:https://www.lovemylibrary.ca/wp-content/uploads/2021/08/16.jpg
END:VEVENT
BEGIN:VEVENT
DTSTART;TZID=America/Halifax:20230524T183000
DTEND;TZID=America/Halifax:20230524T193000
DTSTAMP:20260422T201519
CREATED:20230428T165741Z
LAST-MODIFIED:20230428T165741Z
UID:10004257-1684953000-1684956600@www.lovemylibrary.ca
SUMMARY:Full S.T.E.A.M. Ahead: Build a Boat
DESCRIPTION:Will you make a raft or a rowboat\, a cruise ship or a canoe? Transform unusual materials into a boat – and try your best to make it float! Ages 8-14 \nThis is a drop in program. No registration is required.
URL:https://www.lovemylibrary.ca/event/full-s-t-e-a-m-ahead-build-a-boat/
LOCATION:Truro Library\, 754 Prince St\, Truro\, Nova Scotia\, Canada
CATEGORIES:Events For Kids,Events For Teens,Location: Truro
ATTACH;FMTTYPE=image/png:https://www.lovemylibrary.ca/wp-content/uploads/2023/04/Untitled-design-41.png
END:VEVENT
BEGIN:VEVENT
DTSTART;TZID=America/Halifax:20230525T103000
DTEND;TZID=America/Halifax:20230525T110000
DTSTAMP:20260422T201519
CREATED:20221018T160406Z
LAST-MODIFIED:20230524T172811Z
UID:10004070-1685010600-1685012400@www.lovemylibrary.ca
SUMMARY:Baby Rhyme Time
DESCRIPTION:Discover the joy of songs\, finger plays \, bouncing rhymes and simple books. Suitable for Infant-2 years old with a caregiver \nThis is an in-person program. No registration is required.
URL:https://www.lovemylibrary.ca/event/baby-rhyme-time-6/2023-05-25/
LOCATION:Stewiacke Library\, 295 George Street\, Stewiacke\, Nova Scotia\, Canada
CATEGORIES:Events For Kids,Location: Stewiacke
ATTACH;FMTTYPE=image/png:https://www.lovemylibrary.ca/wp-content/uploads/2022/03/Untitled-design-75.png
END:VEVENT
BEGIN:VEVENT
DTSTART;TZID=America/Halifax:20230525T103000
DTEND;TZID=America/Halifax:20230525T113000
DTSTAMP:20260422T201519
CREATED:20230428T173146Z
LAST-MODIFIED:20230428T173146Z
UID:10004261-1685010600-1685014200@www.lovemylibrary.ca
SUMMARY:Virtual Author Reading: Cynthia Sweeney
DESCRIPTION:Join us as Cynthia Sweeney reads from her book “The Pink Balloon”.  Cynthia is a diversity\, equity and inclusion educator\, who along with BriAnna Simons wrote The Pink Balloon as a resource for parents and educators who might feel unsure about talking with young children about their identities. \nTo register: email info@cehpubliclibrary.ca \nYou may expect a follow up email with the Zoom link.
URL:https://www.lovemylibrary.ca/event/virtual-author-reading-cynthia-sweeney/
LOCATION:Virtual
CATEGORIES:Events For Kids,Location: Virtual
ATTACH;FMTTYPE=image/png:https://www.lovemylibrary.ca/wp-content/uploads/2023/04/Untitled-design-45.png
END:VEVENT
BEGIN:VEVENT
DTSTART;TZID=America/Halifax:20230525T130000
DTEND;TZID=America/Halifax:20230525T140000
DTSTAMP:20260422T201519
CREATED:20230118T195543Z
LAST-MODIFIED:20230421T172154Z
UID:10004101-1685019600-1685023200@www.lovemylibrary.ca
SUMMARY:Crafty Story Time
DESCRIPTION:Come along and enjoy an hour of fun filled story and craft time. For ages 3-5 \nTo register call 902-883-9838 or email elmsdale@cehpubliclibrary.ca
URL:https://www.lovemylibrary.ca/event/crafty-story-time-2-2-2/2023-05-25/
LOCATION:Elmsdale Library\, 15 Commerce Ct\, Elmsdale\, Nova Scotia\, Canada
CATEGORIES:Crafting,Events For Kids,Location: Elmsdale
ATTACH;FMTTYPE=image/png:https://www.lovemylibrary.ca/wp-content/uploads/2022/09/Untitled-design-43.png
END:VEVENT
BEGIN:VEVENT
DTSTART;TZID=America/Halifax:20230525T140000
DTEND;TZID=America/Halifax:20230525T150000
DTSTAMP:20260422T201519
CREATED:20221220T231218Z
LAST-MODIFIED:20230525T163330Z
UID:10004170-1685023200-1685026800@www.lovemylibrary.ca
SUMMARY:Homework Hangout
DESCRIPTION:Time to unwind\, get your homework done\, and hangout with your friends.  For ages 8-15. \nThis is a drop-in program. No registration is required.
URL:https://www.lovemylibrary.ca/event/homework-hangout-2/2023-05-25/
LOCATION:Mount Uniacke Library\, 555\, Highway 1\, Mount Uniacke\, Nova Scotia\, Canada
CATEGORIES:Events For Kids,Events For Teens,Location: Mount Uniacke
ATTACH;FMTTYPE=image/png:https://www.lovemylibrary.ca/wp-content/uploads/2022/03/Untitled-design-91.png
END:VEVENT
BEGIN:VEVENT
DTSTART;TZID=America/Halifax:20230525T144500
DTEND;TZID=America/Halifax:20230525T170000
DTSTAMP:20260422T201519
CREATED:20221021T180121Z
LAST-MODIFIED:20230525T180406Z
UID:10004229-1685025900-1685034000@www.lovemylibrary.ca
SUMMARY:Dungeons and Dragons
DESCRIPTION:The campaign is going to be an adventure of a group of fighters\, trying to complete 20 challenges\, each harder than the next. Ages 12-16. \nRegistration by phone 902-657-3064 or email: tatamago@cehpubliclibrary.ca
URL:https://www.lovemylibrary.ca/event/d-d-group/2023-05-25/
LOCATION:Tatamagouche Library\, 170 Main Street\, Tatamagouche\, Nova Scotia\, Canada
CATEGORIES:Events For Kids,Events For Teens,Location: Tatamagouche
ATTACH;FMTTYPE=image/png:https://www.lovemylibrary.ca/wp-content/uploads/2022/06/D-and-D.png
END:VEVENT
BEGIN:VEVENT
DTSTART;TZID=America/Halifax:20230525T150000
DTEND;TZID=America/Halifax:20230525T163000
DTSTAMP:20260422T201519
CREATED:20230328T213137Z
LAST-MODIFIED:20230525T171047Z
UID:10004174-1685026800-1685032200@www.lovemylibrary.ca
SUMMARY:Dungeons and Dragons
DESCRIPTION:Join the adventure to the lost mine of Phandelver. Avoid the Black Spider. Encounter goblins and other creatures as you try to find the lost mine. Your adventure awaits. For ages 10-15 \nThis is a drop-in program. No registration is required.
URL:https://www.lovemylibrary.ca/event/dungeons-and-dragons-7/2023-05-25/
LOCATION:Mount Uniacke Library\, 555\, Highway 1\, Mount Uniacke\, Nova Scotia\, Canada
CATEGORIES:Events For Kids,Events For Teens,Location: Mount Uniacke
ATTACH;FMTTYPE=image/png:https://www.lovemylibrary.ca/wp-content/uploads/2022/06/D-and-D.png
END:VEVENT
END:VCALENDAR