BEGIN:VCALENDAR
VERSION:2.0
PRODID:-//Colchester East Hants Public Library - ECPv6.15.20//NONSGML v1.0//EN
CALSCALE:GREGORIAN
METHOD:PUBLISH
X-ORIGINAL-URL:https://www.lovemylibrary.ca
X-WR-CALDESC:Events for Colchester East Hants Public Library
REFRESH-INTERVAL;VALUE=DURATION:PT1H
X-Robots-Tag:noindex
X-PUBLISHED-TTL:PT1H
BEGIN:VTIMEZONE
TZID:America/Halifax
BEGIN:DAYLIGHT
TZOFFSETFROM:-0400
TZOFFSETTO:-0300
TZNAME:ADT
DTSTART:20220313T060000
END:DAYLIGHT
BEGIN:STANDARD
TZOFFSETFROM:-0300
TZOFFSETTO:-0400
TZNAME:AST
DTSTART:20221106T050000
END:STANDARD
BEGIN:DAYLIGHT
TZOFFSETFROM:-0400
TZOFFSETTO:-0300
TZNAME:ADT
DTSTART:20230312T060000
END:DAYLIGHT
BEGIN:STANDARD
TZOFFSETFROM:-0300
TZOFFSETTO:-0400
TZNAME:AST
DTSTART:20231105T050000
END:STANDARD
BEGIN:DAYLIGHT
TZOFFSETFROM:-0400
TZOFFSETTO:-0300
TZNAME:ADT
DTSTART:20240310T060000
END:DAYLIGHT
BEGIN:STANDARD
TZOFFSETFROM:-0300
TZOFFSETTO:-0400
TZNAME:AST
DTSTART:20241103T050000
END:STANDARD
END:VTIMEZONE
BEGIN:VEVENT
DTSTART;VALUE=DATE:20230401
DTEND;VALUE=DATE:20230701
DTSTAMP:20260421T220757
CREATED:20230222T190032Z
LAST-MODIFIED:20230525T172021Z
UID:10003806-1680307200-1688169599@www.lovemylibrary.ca
SUMMARY:June Take and Makes (preschool)
DESCRIPTION:Drop by for a craft to do at home with your little. All supplies are provided to make a fun project. (while supplies last) For ages 2-5 \nThis is a drop-in program. No registration is required.
URL:https://www.lovemylibrary.ca/event/march-take-and-makes-preschool/
LOCATION:Mount Uniacke Library\, 555\, Highway 1\, Mount Uniacke\, Nova Scotia\, Canada
CATEGORIES:Crafting,Events For Kids,Location: Mount Uniacke
ATTACH;FMTTYPE=image/png:https://www.lovemylibrary.ca/wp-content/uploads/2022/03/Untitled-design-57.png
END:VEVENT
BEGIN:VEVENT
DTSTART;VALUE=DATE:20230401
DTEND;VALUE=DATE:20230701
DTSTAMP:20260421T220757
CREATED:20230222T190308Z
LAST-MODIFIED:20230525T172129Z
UID:10003807-1680307200-1688169599@www.lovemylibrary.ca
SUMMARY:June Take and Makes (school age)
DESCRIPTION:Monthly take and make for school age kids. Pick up in June and take home for something to do when you are bored. (while supplies last) For ages 6-12 \nThis is a drop in program. No registration is required.
URL:https://www.lovemylibrary.ca/event/march-take-and-makes-school-age/
LOCATION:Mount Uniacke Library\, 555\, Highway 1\, Mount Uniacke\, Nova Scotia\, Canada
CATEGORIES:Crafting,Events For Kids,Location: Mount Uniacke
ATTACH;FMTTYPE=image/png:https://www.lovemylibrary.ca/wp-content/uploads/2022/03/Untitled-design-57.png
END:VEVENT
BEGIN:VEVENT
DTSTART;VALUE=DATE:20230502
DTEND;VALUE=DATE:20230701
DTSTAMP:20260421T220757
CREATED:20221021T181049Z
LAST-MODIFIED:20230525T144814Z
UID:10002262-1682985600-1688169599@www.lovemylibrary.ca
SUMMARY:Take Home Craft Kits
DESCRIPTION:Kits change on a weekly basis and contain all supplies needed to complete the craft. . For preschool and early elementary kids. \nDrop In: No registration necessary
URL:https://www.lovemylibrary.ca/event/take-home-craft-kits-5/
LOCATION:Stewiacke Library\, 295 George Street\, Stewiacke\, Nova Scotia\, Canada
CATEGORIES:Events For Kids,Location: Stewiacke
ATTACH;FMTTYPE=image/png:https://www.lovemylibrary.ca/wp-content/uploads/2022/03/Untitled-design-57.png
END:VEVENT
BEGIN:VEVENT
DTSTART;VALUE=DATE:20230504
DTEND;VALUE=DATE:20230621
DTSTAMP:20260421T220757
CREATED:20230421T184619Z
LAST-MODIFIED:20230421T184619Z
UID:10004120-1683158400-1687305599@www.lovemylibrary.ca
SUMMARY:The Attic Painters: Captured Moments art exhibit
DESCRIPTION:A captivating group art exhibit from the Attic Painters will be running through May and June at the Truro Library. The Attic Painters will be on site to talk with you about their art and the inspiration behind the exhibit on Saturday\, May 13 @2-4pm. \nThis is a drop-in program. No registration is required.\n 
URL:https://www.lovemylibrary.ca/event/the-attic-painters-captured-moments-art-exhibit/
LOCATION:Truro Library\, 754 Prince St\, Truro\, Nova Scotia\, Canada
CATEGORIES:Events For Adults,Events For Kids,Events For Seniors,Location: Truro
ATTACH;FMTTYPE=image/png:https://www.lovemylibrary.ca/wp-content/uploads/2023/04/Untitled-design-33.png
END:VEVENT
BEGIN:VEVENT
DTSTART;VALUE=DATE:20230601
DTEND;VALUE=DATE:20230701
DTSTAMP:20260421T220757
CREATED:20221229T195157Z
LAST-MODIFIED:20230529T175714Z
UID:10002693-1685577600-1688169599@www.lovemylibrary.ca
SUMMARY:Celebrate You! Scavenger Hunt
DESCRIPTION:Drop by your library during the month of June to search for hidden images of all kinds of different people!. All ages are welcome to participate. \nThis is a drop-in program.
URL:https://www.lovemylibrary.ca/event/polar-bear-scavenger-hunt/
LOCATION:Truro Library\, 754 Prince St\, Truro\, Nova Scotia\, Canada
CATEGORIES:Events For Kids,Location: Truro
ATTACH;FMTTYPE=image/png:https://www.lovemylibrary.ca/wp-content/uploads/2022/05/Untitled-design-23.png
END:VEVENT
BEGIN:VEVENT
DTSTART;VALUE=DATE:20230601
DTEND;VALUE=DATE:20230701
DTSTAMP:20260421T220757
CREATED:20230331T180053Z
LAST-MODIFIED:20230529T175504Z
UID:10004047-1685577600-1688169599@www.lovemylibrary.ca
SUMMARY:Take-and-Make Craft
DESCRIPTION:Pick up the supplies to make an adorable pine cone animal.  All ages are welcome to participate. While supplies last. \nThis is a drop in program.
URL:https://www.lovemylibrary.ca/event/take-and-make-craft/
LOCATION:Truro Library\, 754 Prince St\, Truro\, Nova Scotia\, Canada
CATEGORIES:Crafting,Events For Kids,Location: Truro
ATTACH;FMTTYPE=image/png:https://www.lovemylibrary.ca/wp-content/uploads/2022/03/Untitled-design-57.png
END:VEVENT
BEGIN:VEVENT
DTSTART;VALUE=DATE:20230601
DTEND;VALUE=DATE:20230701
DTSTAMP:20260421T220757
CREATED:20230524T170846Z
LAST-MODIFIED:20230524T170846Z
UID:10004295-1685577600-1688169599@www.lovemylibrary.ca
SUMMARY:Dinosaur Scavenger Hunt
DESCRIPTION:What’s your favourite dinosaur? Help us find it with a scavenger hunt. All ages are welcome \nDrop in – Please call 902-883-9838 or email us at elmsdale@cehpubliclibrary.ca
URL:https://www.lovemylibrary.ca/event/dinosaur-scavenger-hunt/
LOCATION:Elmsdale Library\, 15 Commerce Ct\, Elmsdale\, Nova Scotia\, Canada
CATEGORIES:Events For Kids,Location: Elmsdale
ATTACH;FMTTYPE=image/png:https://www.lovemylibrary.ca/wp-content/uploads/2022/05/Untitled-design-23.png
END:VEVENT
BEGIN:VEVENT
DTSTART;VALUE=DATE:20230601
DTEND;VALUE=DATE:20230701
DTSTAMP:20260421T220757
CREATED:20230525T145045Z
LAST-MODIFIED:20230525T145045Z
UID:10004353-1685577600-1688169599@www.lovemylibrary.ca
SUMMARY:Rainbow Scavenger Hunt
DESCRIPTION:Truro Pride Week is June 23-30 but we will have our Scavenger Hunt all month. All ages are welcome
URL:https://www.lovemylibrary.ca/event/rainbow-scavenger-hunt/
LOCATION:Stewiacke Library\, 295 George Street\, Stewiacke\, Nova Scotia\, Canada
ATTACH;FMTTYPE=image/png:https://www.lovemylibrary.ca/wp-content/uploads/2022/06/scavenger-hunt-1.png
END:VEVENT
BEGIN:VEVENT
DTSTART;VALUE=DATE:20230601
DTEND;VALUE=DATE:20230701
DTSTAMP:20260421T220757
CREATED:20230525T190025Z
LAST-MODIFIED:20230525T190025Z
UID:10004427-1685577600-1688169599@www.lovemylibrary.ca
SUMMARY:Gone Fishing Scavenger Hunt
DESCRIPTION:Get your line and hook ready\, as fishing season is upon us.  We guarantee you’ll catch some fun with our fishing themed scavenger hunt. All ages are welcome to participate. \nThis is a drop in program. No registration is required.
URL:https://www.lovemylibrary.ca/event/gone-fishing-scavenger-hunt/
LOCATION:Tatamagouche Library\, 170 Main Street\, Tatamagouche\, Nova Scotia\, Canada
CATEGORIES:Events For Kids,Location: Tatamagouche
ATTACH;FMTTYPE=image/png:https://www.lovemylibrary.ca/wp-content/uploads/2021/08/Untitled-design-23.png
END:VEVENT
BEGIN:VEVENT
DTSTART;VALUE=DATE:20230601
DTEND;VALUE=DATE:20230701
DTSTAMP:20260421T220757
CREATED:20221221T203915Z
LAST-MODIFIED:20230525T180744Z
UID:10004405-1685606400-1688144400@www.lovemylibrary.ca
SUMMARY:Take Home Craft Kits
DESCRIPTION:Weekly take-and-make craft kits are available for pick up in-branch. For preschool and early elementary children. \nThis is a drop-in program. No registration is required.
URL:https://www.lovemylibrary.ca/event/take-home-craft-kits-6/2023-06-01/
LOCATION:Tatamagouche Library\, 170 Main Street\, Tatamagouche\, Nova Scotia\, Canada
CATEGORIES:Crafting,Events For Kids,Location: Tatamagouche
ATTACH;FMTTYPE=image/png:https://www.lovemylibrary.ca/wp-content/uploads/2022/02/Untitled-design-42.png
END:VEVENT
BEGIN:VEVENT
DTSTART;TZID=America/Halifax:20230605T133000
DTEND;TZID=America/Halifax:20230605T163000
DTSTAMP:20260421T220757
CREATED:20221026T175545Z
LAST-MODIFIED:20230919T182903Z
UID:10004275-1685971800-1685982600@www.lovemylibrary.ca
SUMMARY:Scrabble Group
DESCRIPTION:What spells F-U-N? Playing Scrabble with friends! \nThis is a drop-in program.  No registration is required.
URL:https://www.lovemylibrary.ca/event/scrabble-group-3-2/2023-06-05/
LOCATION:Truro Library\, 754 Prince St\, Truro\, Nova Scotia\, Canada
CATEGORIES:Events For Adults,Events For Seniors,Location: Truro
ATTACH;FMTTYPE=image/png:https://www.lovemylibrary.ca/wp-content/uploads/2022/05/Add-a-subheading-700-×-500-px-3.png
END:VEVENT
BEGIN:VEVENT
DTSTART;TZID=America/Halifax:20230606T133000
DTEND;TZID=America/Halifax:20230606T143000
DTSTAMP:20260421T220757
CREATED:20221025T222519Z
LAST-MODIFIED:20230529T180520Z
UID:10004436-1686058200-1686061800@www.lovemylibrary.ca
SUMMARY:Homeschoolers Haven
DESCRIPTION:Homeschoolers Haven is a place for Homeschool families to meet and share resources. There will be  activities for the children. We will be taking a summer break during the months of July and August.  For ages 5+ \nThis is a drop-in program. No registration is required.
URL:https://www.lovemylibrary.ca/event/homeschoolers-haven-2/2023-06-06/
LOCATION:Truro Library\, 754 Prince St\, Truro\, Nova Scotia\, Canada
CATEGORIES:Events For Kids,Events For Teens,Location: Truro
ATTACH;FMTTYPE=image/png:https://www.lovemylibrary.ca/wp-content/uploads/2022/07/Untitled-design-9.png
END:VEVENT
BEGIN:VEVENT
DTSTART;TZID=America/Halifax:20230606T140000
DTEND;TZID=America/Halifax:20230606T150000
DTSTAMP:20260421T220757
CREATED:20221220T231218Z
LAST-MODIFIED:20230525T163330Z
UID:10004367-1686060000-1686063600@www.lovemylibrary.ca
SUMMARY:Homework Hangout
DESCRIPTION:Time to unwind\, get your homework done\, and hangout with your friends.  For ages 8-15. \nThis is a drop-in program. No registration is required.
URL:https://www.lovemylibrary.ca/event/homework-hangout-2/2023-06-06/
LOCATION:Mount Uniacke Library\, 555\, Highway 1\, Mount Uniacke\, Nova Scotia\, Canada
CATEGORIES:Events For Kids,Events For Teens,Location: Mount Uniacke
ATTACH;FMTTYPE=image/png:https://www.lovemylibrary.ca/wp-content/uploads/2022/03/Untitled-design-91.png
END:VEVENT
BEGIN:VEVENT
DTSTART;TZID=America/Halifax:20230606T173000
DTEND;TZID=America/Halifax:20230606T200000
DTSTAMP:20260421T220757
CREATED:20221116T204822Z
LAST-MODIFIED:20230919T183845Z
UID:10004279-1686072600-1686081600@www.lovemylibrary.ca
SUMMARY:Heroes & Adventurers
DESCRIPTION:Role-playing game nights with extraordinary people! We provide the supplies\, you provide the imagination. No experience needed. All ages welcome! \nRegister to play by emailing: HAATruro@gmail.com Sorry\, no drop-in players at this time.
URL:https://www.lovemylibrary.ca/event/heroes-adventurers-3/2023-06-06/
LOCATION:Truro Library\, 754 Prince St\, Truro\, Nova Scotia\, Canada
CATEGORIES:Location: Truro
ATTACH;FMTTYPE=image/png:https://www.lovemylibrary.ca/wp-content/uploads/2022/06/D-and-D.png
END:VEVENT
BEGIN:VEVENT
DTSTART;TZID=America/Halifax:20230606T183000
DTEND;TZID=America/Halifax:20230606T190000
DTSTAMP:20260421T220757
CREATED:20230529T180257Z
LAST-MODIFIED:20230529T180257Z
UID:10004433-1686076200-1686078000@www.lovemylibrary.ca
SUMMARY:Summer Reading Club Virtual Information Sessions
DESCRIPTION:Our 2023 Summer Reading Club theme is CHOOSE YOUR OWN ADVENTURE and we can’t wait to tell you all about it. If you are an educator\, caregiver\, or parent of children ages 3-12\, we invite you and your children to join us on Zoom for a fun-filled information session about how SRC works… including all the fabulous prizes and programs we have to offer! \nEmail info@cehpubliclibrary.ca or call (902) 895-4183 to register and specify the date you’d like to attend. You will receive a follow up email with the Zoom session link.
URL:https://www.lovemylibrary.ca/event/summer-reading-club-virtual-information-sessions/2023-06-06/
LOCATION:Virtual
CATEGORIES:Events For Kids,Location: Virtual
ATTACH;FMTTYPE=image/png:https://www.lovemylibrary.ca/wp-content/uploads/2023/05/Untitled-design-90.png
END:VEVENT
BEGIN:VEVENT
DTSTART;TZID=America/Halifax:20230606T183000
DTEND;TZID=America/Halifax:20230606T200000
DTSTAMP:20260421T220757
CREATED:20221020T193052Z
LAST-MODIFIED:20230926T211554Z
UID:10004382-1686076200-1686081600@www.lovemylibrary.ca
SUMMARY:Ewe-niacke Yarn Club
DESCRIPTION:Fiber art for all ages and abilities. Learn to knit or crochet\, bring a project you are working on\, or just come hang out with the club for some social time. All ages welcome. \nDrop in\, no registration required.
URL:https://www.lovemylibrary.ca/event/ewe-niacke-yarn-club-3/2023-06-06/
LOCATION:Mount Uniacke Library\, 555\, Highway 1\, Mount Uniacke\, Nova Scotia\, Canada
CATEGORIES:Crafting,Events For Adults,Events For Kids,Events For Seniors,Location: Mount Uniacke
ATTACH;FMTTYPE=image/png:https://www.lovemylibrary.ca/wp-content/uploads/2022/03/Untitled-design-89.png
END:VEVENT
BEGIN:VEVENT
DTSTART;TZID=America/Halifax:20230607T103000
DTEND;TZID=America/Halifax:20230607T110000
DTSTAMP:20260421T220757
CREATED:20221220T230021Z
LAST-MODIFIED:20230525T163111Z
UID:10004357-1686133800-1686135600@www.lovemylibrary.ca
SUMMARY:Storytime
DESCRIPTION:Enjoy a picture book read by Karri or Bernie and then participate in an activity. For pre schoolers and home schoolers. \nThis is a drop-in program. No registration is required.
URL:https://www.lovemylibrary.ca/event/storytime-4-2/2023-06-07/
LOCATION:Mount Uniacke Library\, 555\, Highway 1\, Mount Uniacke\, Nova Scotia\, Canada
CATEGORIES:Events For Kids,Location: Mount Uniacke
ATTACH;FMTTYPE=image/png:https://www.lovemylibrary.ca/wp-content/uploads/2022/05/Untitled-design-2.png
END:VEVENT
BEGIN:VEVENT
DTSTART;TZID=America/Halifax:20230607T103000
DTEND;TZID=America/Halifax:20230607T110000
DTSTAMP:20260421T220757
CREATED:20230529T180257Z
LAST-MODIFIED:20230529T180257Z
UID:10004434-1686133800-1686135600@www.lovemylibrary.ca
SUMMARY:Summer Reading Club Virtual Information Sessions
DESCRIPTION:Our 2023 Summer Reading Club theme is CHOOSE YOUR OWN ADVENTURE and we can’t wait to tell you all about it. If you are an educator\, caregiver\, or parent of children ages 3-12\, we invite you and your children to join us on Zoom for a fun-filled information session about how SRC works… including all the fabulous prizes and programs we have to offer! \nEmail info@cehpubliclibrary.ca or call (902) 895-4183 to register and specify the date you’d like to attend. You will receive a follow up email with the Zoom session link.
URL:https://www.lovemylibrary.ca/event/summer-reading-club-virtual-information-sessions/2023-06-07/
LOCATION:Virtual
CATEGORIES:Events For Kids,Location: Virtual
ATTACH;FMTTYPE=image/png:https://www.lovemylibrary.ca/wp-content/uploads/2023/05/Untitled-design-90.png
END:VEVENT
BEGIN:VEVENT
DTSTART;TZID=America/Halifax:20230607T103000
DTEND;TZID=America/Halifax:20230607T113000
DTSTAMP:20260421T220757
CREATED:20230329T184218Z
LAST-MODIFIED:20230525T180903Z
UID:10004406-1686133800-1686137400@www.lovemylibrary.ca
SUMMARY:Seniors Social Café!
DESCRIPTION:Come in for a coffee or tea and share a story or two with your friends. \nThis is a drop-in program. No registration is required.
URL:https://www.lovemylibrary.ca/event/seniors-social-cafe/2023-06-07/
LOCATION:Tatamagouche Library\, 170 Main Street\, Tatamagouche\, Nova Scotia\, Canada
CATEGORIES:Events For Seniors,Location: Tatamagouche
ATTACH;FMTTYPE=image/png:https://www.lovemylibrary.ca/wp-content/uploads/2022/08/Untitled-design-6.png
END:VEVENT
BEGIN:VEVENT
DTSTART;TZID=America/Halifax:20230607T111500
DTEND;TZID=America/Halifax:20230607T121500
DTSTAMP:20260421T220757
CREATED:20230328T215926Z
LAST-MODIFIED:20230628T142802Z
UID:10004386-1686136500-1686140100@www.lovemylibrary.ca
SUMMARY:Baby Time
DESCRIPTION:Want to spend some time with new parents? Have your baby interact with other babies? Get support from other new parents in a laid back\, casual space. \nThis is a drop-in program.
URL:https://www.lovemylibrary.ca/event/baby-time/2023-06-07/
LOCATION:Mount Uniacke Library\, 555\, Highway 1\, Mount Uniacke\, Nova Scotia\, Canada
CATEGORIES:Events For Adults,Events For Kids,Location: Mount Uniacke
ATTACH;FMTTYPE=image/png:https://www.lovemylibrary.ca/wp-content/uploads/2023/03/Untitled-design-53.png
END:VEVENT
BEGIN:VEVENT
DTSTART;TZID=America/Halifax:20230607T130000
DTEND;TZID=America/Halifax:20230607T150000
DTSTAMP:20260421T220757
CREATED:20230218T202830Z
LAST-MODIFIED:20230919T161657Z
UID:10004271-1686142800-1686150000@www.lovemylibrary.ca
SUMMARY:Makers in the Maker Lab
DESCRIPTION:Calling all Makers! Drop by for a relaxing afternoon to hang out with fellow crafters. Bring along your ongoing projects like knitting\, crochet\, needlework\, painting or other hands on crafts. For adults \nThis is a drop in program. No registration is required.\n 
URL:https://www.lovemylibrary.ca/event/makers-in-the-maker-lab-2/2023-06-07/
LOCATION:Truro Library\, 754 Prince St\, Truro\, Nova Scotia\, Canada
CATEGORIES:Crafting,Events For Adults,Location: Truro
ATTACH;FMTTYPE=image/png:https://www.lovemylibrary.ca/wp-content/uploads/2023/01/Untitled-design-2023-01-24T155257.327.png
END:VEVENT
BEGIN:VEVENT
DTSTART;TZID=America/Halifax:20230607T143000
DTEND;TZID=America/Halifax:20230607T190000
DTSTAMP:20260421T220757
CREATED:20210830T161210Z
LAST-MODIFIED:20231213T141030Z
UID:10002701-1686148200-1686164400@www.lovemylibrary.ca
SUMMARY:Satellite Library Visit: Middle Stewiacke Recreation Centre
DESCRIPTION:Meet us at the Middle Stewiacke Recreation Centre where you can browse and borrow materials\, sign up for a Library card\, and use the public WiFi!
URL:https://www.lovemylibrary.ca/event/satellite-library-visit-middle-stewiacke-recreation-centre/2023-06-07/
LOCATION:Middle Stewiacke Recreation Centre\, 2395 Highway 289\, Middle Stewiacke\, Nova Scotia\, Canada
CATEGORIES:Events For Adults,Events For Kids,Events For Seniors,Events For Teens,Location: Middle Stewiacke
ATTACH;FMTTYPE=image/jpeg:https://www.lovemylibrary.ca/wp-content/uploads/2021/08/16.jpg
END:VEVENT
BEGIN:VEVENT
DTSTART;TZID=America/Halifax:20230608T103000
DTEND;TZID=America/Halifax:20230608T110000
DTSTAMP:20260421T220757
CREATED:20221018T160406Z
LAST-MODIFIED:20230524T172811Z
UID:10004302-1686220200-1686222000@www.lovemylibrary.ca
SUMMARY:Baby Rhyme Time
DESCRIPTION:Discover the joy of songs\, finger plays \, bouncing rhymes and simple books. Suitable for Infant-2 years old with a caregiver \nThis is an in-person program. No registration is required.
URL:https://www.lovemylibrary.ca/event/baby-rhyme-time-6/2023-06-08/
LOCATION:Stewiacke Library\, 295 George Street\, Stewiacke\, Nova Scotia\, Canada
CATEGORIES:Events For Kids,Location: Stewiacke
ATTACH;FMTTYPE=image/png:https://www.lovemylibrary.ca/wp-content/uploads/2022/03/Untitled-design-75.png
END:VEVENT
BEGIN:VEVENT
DTSTART;TZID=America/Halifax:20230608T103000
DTEND;TZID=America/Halifax:20230608T110000
DTSTAMP:20260421T220757
CREATED:20230529T180257Z
LAST-MODIFIED:20230529T180257Z
UID:10004435-1686220200-1686222000@www.lovemylibrary.ca
SUMMARY:Summer Reading Club Virtual Information Sessions
DESCRIPTION:Our 2023 Summer Reading Club theme is CHOOSE YOUR OWN ADVENTURE and we can’t wait to tell you all about it. If you are an educator\, caregiver\, or parent of children ages 3-12\, we invite you and your children to join us on Zoom for a fun-filled information session about how SRC works… including all the fabulous prizes and programs we have to offer! \nEmail info@cehpubliclibrary.ca or call (902) 895-4183 to register and specify the date you’d like to attend. You will receive a follow up email with the Zoom session link.
URL:https://www.lovemylibrary.ca/event/summer-reading-club-virtual-information-sessions/2023-06-08/
LOCATION:Virtual
CATEGORIES:Events For Kids,Location: Virtual
ATTACH;FMTTYPE=image/png:https://www.lovemylibrary.ca/wp-content/uploads/2023/05/Untitled-design-90.png
END:VEVENT
BEGIN:VEVENT
DTSTART;TZID=America/Halifax:20230608T140000
DTEND;TZID=America/Halifax:20230608T150000
DTSTAMP:20260421T220757
CREATED:20221220T231218Z
LAST-MODIFIED:20230525T163330Z
UID:10004368-1686232800-1686236400@www.lovemylibrary.ca
SUMMARY:Homework Hangout
DESCRIPTION:Time to unwind\, get your homework done\, and hangout with your friends.  For ages 8-15. \nThis is a drop-in program. No registration is required.
URL:https://www.lovemylibrary.ca/event/homework-hangout-2/2023-06-08/
LOCATION:Mount Uniacke Library\, 555\, Highway 1\, Mount Uniacke\, Nova Scotia\, Canada
CATEGORIES:Events For Kids,Events For Teens,Location: Mount Uniacke
ATTACH;FMTTYPE=image/png:https://www.lovemylibrary.ca/wp-content/uploads/2022/03/Untitled-design-91.png
END:VEVENT
BEGIN:VEVENT
DTSTART;TZID=America/Halifax:20230608T140000
DTEND;TZID=America/Halifax:20230608T150000
DTSTAMP:20260421T220757
CREATED:20230524T184113Z
LAST-MODIFIED:20230524T184113Z
UID:10004328-1686232800-1686236400@www.lovemylibrary.ca
SUMMARY:Story of the Little White Schoolhouse Museum
DESCRIPTION:Step back to the days of slates and handbells. Former educator\, David W. McKillop\, will be sharing the story of the Little White Schoolhouse Museum. This is an adult program. \nThis is a drop in program. No registration is required.
URL:https://www.lovemylibrary.ca/event/story-of-the-little-white-schoolhouse-museum/
LOCATION:Stewiacke Library\, 295 George Street\, Stewiacke\, Nova Scotia\, Canada
CATEGORIES:Events For Adults,Events For Seniors,Location: Stewiacke
ATTACH;FMTTYPE=image/png:https://www.lovemylibrary.ca/wp-content/uploads/2023/05/Untitled-design-74.png
END:VEVENT
BEGIN:VEVENT
DTSTART;TZID=America/Halifax:20230608T144500
DTEND;TZID=America/Halifax:20230608T170000
DTSTAMP:20260421T220757
CREATED:20221021T180121Z
LAST-MODIFIED:20230525T180406Z
UID:10004401-1686235500-1686243600@www.lovemylibrary.ca
SUMMARY:Dungeons and Dragons
DESCRIPTION:The campaign is going to be an adventure of a group of fighters\, trying to complete 20 challenges\, each harder than the next. Ages 12-16. \nRegistration by phone 902-657-3064 or email: tatamago@cehpubliclibrary.ca
URL:https://www.lovemylibrary.ca/event/d-d-group/2023-06-08/
LOCATION:Tatamagouche Library\, 170 Main Street\, Tatamagouche\, Nova Scotia\, Canada
CATEGORIES:Events For Kids,Events For Teens,Location: Tatamagouche
ATTACH;FMTTYPE=image/png:https://www.lovemylibrary.ca/wp-content/uploads/2022/06/D-and-D.png
END:VEVENT
BEGIN:VEVENT
DTSTART;TZID=America/Halifax:20230608T183000
DTEND;TZID=America/Halifax:20230608T193000
DTSTAMP:20260421T220757
CREATED:20221221T200852Z
LAST-MODIFIED:20230525T180042Z
UID:10004394-1686249000-1686252600@www.lovemylibrary.ca
SUMMARY:Ukulele Night with Lyn(beginners welcome)
DESCRIPTION:Learn to play the Ukelele in 8 weeks. This is an ongoing program\, but beginners are welcome to join. All ages welcome. \nRegistration by phone 902-657-3064 or email: tatamago@cehpubliclibrary.ca
URL:https://www.lovemylibrary.ca/event/ukelele-with-lyn-beginners-welcome/2023-06-08/
LOCATION:Tatamagouche Library\, 170 Main Street\, Tatamagouche\, Nova Scotia\, Canada
CATEGORIES:Events For Adults,Events For Kids,Events For Seniors,Events For Teens,Location: Tatamagouche
ATTACH;FMTTYPE=image/png:https://www.lovemylibrary.ca/wp-content/uploads/2022/10/Untitled-design-17.png
END:VEVENT
BEGIN:VEVENT
DTSTART;TZID=America/Halifax:20230609T100000
DTEND;TZID=America/Halifax:20230609T110000
DTSTAMP:20260421T220757
CREATED:20230330T184820Z
LAST-MODIFIED:20230525T181618Z
UID:10004409-1686304800-1686308400@www.lovemylibrary.ca
SUMMARY:English for beginners
DESCRIPTION:Is English your second language? If you are wanting to learn English\, then we can help. Learn English with Eve. All are welcome. \nRegistration by phone 902-657-3064 or email: tatamago@cehpubliclibrary.ca
URL:https://www.lovemylibrary.ca/event/english-for-beginners-2/2023-06-09/
LOCATION:Tatamagouche Library\, 170 Main Street\, Tatamagouche\, Nova Scotia\, Canada
CATEGORIES:Location: Tatamagouche
ATTACH;FMTTYPE=image/jpeg:https://www.lovemylibrary.ca/wp-content/uploads/2023/03/pexels-tima-miroshnichenko-5428012-scaled.jpg
END:VEVENT
BEGIN:VEVENT
DTSTART;TZID=America/Halifax:20230609T100000
DTEND;TZID=America/Halifax:20230609T120000
DTSTAMP:20260421T220757
CREATED:20230215T201212Z
LAST-MODIFIED:20231214T201545Z
UID:10004284-1686304800-1686312000@www.lovemylibrary.ca
SUMMARY:One on One Tech Help
DESCRIPTION:Issues with your phone? Laptop? Social Media? Meet in-person with our digital literacy trainer to get your tech questions answered. \nPlease call 902-883-9838 or email at elmsdale@cehpubliclibrary.ca to book an appointment
URL:https://www.lovemylibrary.ca/event/one-on-one-tech-help-7-2/2023-06-09/
LOCATION:Elmsdale Library\, 15 Commerce Ct\, Elmsdale\, Nova Scotia\, Canada
CATEGORIES:Events For Adults,Location: Elmsdale
ATTACH;FMTTYPE=image/png:https://www.lovemylibrary.ca/wp-content/uploads/2022/03/Untitled-design-80.png
END:VEVENT
END:VCALENDAR