BEGIN:VCALENDAR
VERSION:2.0
PRODID:-//Colchester East Hants Public Library - ECPv6.15.20//NONSGML v1.0//EN
CALSCALE:GREGORIAN
METHOD:PUBLISH
X-ORIGINAL-URL:https://www.lovemylibrary.ca
X-WR-CALDESC:Events for Colchester East Hants Public Library
REFRESH-INTERVAL;VALUE=DURATION:PT1H
X-Robots-Tag:noindex
X-PUBLISHED-TTL:PT1H
BEGIN:VTIMEZONE
TZID:America/Halifax
BEGIN:DAYLIGHT
TZOFFSETFROM:-0400
TZOFFSETTO:-0300
TZNAME:ADT
DTSTART:20220313T060000
END:DAYLIGHT
BEGIN:STANDARD
TZOFFSETFROM:-0300
TZOFFSETTO:-0400
TZNAME:AST
DTSTART:20221106T050000
END:STANDARD
BEGIN:DAYLIGHT
TZOFFSETFROM:-0400
TZOFFSETTO:-0300
TZNAME:ADT
DTSTART:20230312T060000
END:DAYLIGHT
BEGIN:STANDARD
TZOFFSETFROM:-0300
TZOFFSETTO:-0400
TZNAME:AST
DTSTART:20231105T050000
END:STANDARD
BEGIN:DAYLIGHT
TZOFFSETFROM:-0400
TZOFFSETTO:-0300
TZNAME:ADT
DTSTART:20240310T060000
END:DAYLIGHT
BEGIN:STANDARD
TZOFFSETFROM:-0300
TZOFFSETTO:-0400
TZNAME:AST
DTSTART:20241103T050000
END:STANDARD
END:VTIMEZONE
BEGIN:VEVENT
DTSTART;VALUE=DATE:20230701
DTEND;VALUE=DATE:20230801
DTSTAMP:20260419T185844
CREATED:20230614T195108Z
LAST-MODIFIED:20230614T195108Z
UID:10004570-1688169600-1690847999@www.lovemylibrary.ca
SUMMARY:Nature Scavenger Hunt
DESCRIPTION:Do you love nature?  Visit us at the library for a nature scavenger hunt and receive your own nature journal to take home!  All ages are welcome to participate. \nThis is a drop in program. No registration is required. For details\, please call 902-883-9838 or email us at elmsdale@cehpubliclibrary.ca
URL:https://www.lovemylibrary.ca/event/nature-scavenger-hunt-2/
LOCATION:Elmsdale Library\, 15 Commerce Ct\, Elmsdale\, Nova Scotia\, Canada
ATTACH;FMTTYPE=image/png:https://www.lovemylibrary.ca/wp-content/uploads/2022/06/scavenger-hunt-1.png
END:VEVENT
BEGIN:VEVENT
DTSTART;VALUE=DATE:20230704
DTEND;VALUE=DATE:20230901
DTSTAMP:20260419T185844
CREATED:20230617T161559Z
LAST-MODIFIED:20230617T161559Z
UID:10004584-1688428800-1693526399@www.lovemylibrary.ca
SUMMARY:Truro Art Society: Transformation art exhibit
DESCRIPTION:A transformational art exhibit from the Truro Art Society will be running through July and August at the Truro Library. Members of the Truro Art Society will be on site to talk with you about their art and the inspiration behind the exhibit on Saturday\, July 15 @1:30-3pm. \nThis is a drop in program.
URL:https://www.lovemylibrary.ca/event/truro-art-society-transformation-art-exhibit/
LOCATION:Truro Library\, 754 Prince St\, Truro\, Nova Scotia\, Canada
CATEGORIES:Events For Adults,Events For Seniors,Location: Truro
ATTACH;FMTTYPE=image/png:https://www.lovemylibrary.ca/wp-content/uploads/2023/06/Untitled-design-95.png
END:VEVENT
BEGIN:VEVENT
DTSTART;VALUE=DATE:20230724
DTEND;VALUE=DATE:20230725
DTSTAMP:20260419T185844
CREATED:20230614T125914Z
LAST-MODIFIED:20230614T125914Z
UID:10004544-1690156800-1690243199@www.lovemylibrary.ca
SUMMARY:Paper Craft
DESCRIPTION:Drop by the children’s section and try your hand at a craft. Make it\, then take it!  For ages 5 and up \nThis is a drop in program. No registration is required.
URL:https://www.lovemylibrary.ca/event/paper-craft/
LOCATION:Truro Library\, 754 Prince St\, Truro\, Nova Scotia\, Canada
CATEGORIES:Crafting,Events For Kids,Location: Truro
ATTACH;FMTTYPE=image/png:https://www.lovemylibrary.ca/wp-content/uploads/2022/09/Untitled-design-43.png
END:VEVENT
BEGIN:VEVENT
DTSTART;TZID=America/Halifax:20230724T133000
DTEND;TZID=America/Halifax:20230724T163000
DTSTAMP:20260419T185844
CREATED:20221026T175545Z
LAST-MODIFIED:20230919T182903Z
UID:10004598-1690205400-1690216200@www.lovemylibrary.ca
SUMMARY:Scrabble Group
DESCRIPTION:What spells F-U-N? Playing Scrabble with friends! \nThis is a drop-in program.  No registration is required.
URL:https://www.lovemylibrary.ca/event/scrabble-group-3-2/2023-07-24/
LOCATION:Truro Library\, 754 Prince St\, Truro\, Nova Scotia\, Canada
CATEGORIES:Events For Adults,Events For Seniors,Location: Truro
ATTACH;FMTTYPE=image/png:https://www.lovemylibrary.ca/wp-content/uploads/2022/05/Add-a-subheading-700-×-500-px-3.png
END:VEVENT
BEGIN:VEVENT
DTSTART;VALUE=DATE:20230725
DTEND;VALUE=DATE:20230726
DTSTAMP:20260419T185844
CREATED:20230615T172106Z
LAST-MODIFIED:20230615T172106Z
UID:10004579-1690243200-1690329599@www.lovemylibrary.ca
SUMMARY:Paper Bag Painting
DESCRIPTION:Show off your artistic skills by creating a one-of-a-kind paper bag.  What a great gift! \nThis is a drop in program. No registration is required. For details\, please call us at 902-883-9838 or email us at elmsdale@cehpubliclibrary.ca\n 
URL:https://www.lovemylibrary.ca/event/paper-bag-painting/
LOCATION:Elmsdale Library\, 15 Commerce Ct\, Elmsdale\, Nova Scotia\, Canada
CATEGORIES:Events For Kids,Location: Elmsdale
ATTACH;FMTTYPE=image/png:https://www.lovemylibrary.ca/wp-content/uploads/2023/06/s-1.png
END:VEVENT
BEGIN:VEVENT
DTSTART;TZID=America/Halifax:20230725T140000
DTEND;TZID=America/Halifax:20230725T150000
DTSTAMP:20260419T185844
CREATED:20230619T141229Z
LAST-MODIFIED:20230619T141229Z
UID:10004605-1690293600-1690297200@www.lovemylibrary.ca
SUMMARY:Overbooked Social
DESCRIPTION:Are you new to the area? Retired? Just want to get out of the house? Join us for a monthly gab session and get to know the people in your community. Light refreshments will be available. \nDrop-in\, no registration required.
URL:https://www.lovemylibrary.ca/event/overbooked-social-2/
LOCATION:Stewiacke Library\, 295 George Street\, Stewiacke\, Nova Scotia\, Canada
CATEGORIES:Events For Adults,Events For Seniors,Location: Stewiacke
ATTACH;FMTTYPE=image/png:https://www.lovemylibrary.ca/wp-content/uploads/2023/06/Untitled-design-2023-06-19T111314.785.png
END:VEVENT
BEGIN:VEVENT
DTSTART;TZID=America/Halifax:20230725T140000
DTEND;TZID=America/Halifax:20230725T160000
DTSTAMP:20260419T185844
CREATED:20230613T203815Z
LAST-MODIFIED:20230613T203815Z
UID:10004522-1690293600-1690300800@www.lovemylibrary.ca
SUMMARY:Teen Room Drop In
DESCRIPTION:Get out of the sun this summer in the newly reopened Teen Room!  Grab a snack\, play some games\, make art\, or just hang out with old friends or new ones! For ages 13-18 \nThis is a drop in program. No registration is required.
URL:https://www.lovemylibrary.ca/event/teen-room-drop-in-2/2023-07-25/
LOCATION:Truro Library\, 754 Prince St\, Truro\, Nova Scotia\, Canada
CATEGORIES:Events For Teens,Location: Truro
ATTACH;FMTTYPE=image/png:https://www.lovemylibrary.ca/wp-content/uploads/2023/06/Untitled-design-78.png
END:VEVENT
BEGIN:VEVENT
DTSTART;TZID=America/Halifax:20230725T173000
DTEND;TZID=America/Halifax:20230725T193000
DTSTAMP:20260419T185844
CREATED:20230614T193807Z
LAST-MODIFIED:20230704T185547Z
UID:10004564-1690306200-1690313400@www.lovemylibrary.ca
SUMMARY:Dungeons & Dragons (Youth)
DESCRIPTION:Ready to embark on a fantasy adventure? Join us at the Elmsdale library for action\, drama\, and dice! No experience required; all materials provided! For ages 10-13 \nRegistration required.  Please call at 902-883-9838 or email us at elmsdale@cehpubliclibrary.ca to register 
URL:https://www.lovemylibrary.ca/event/dungeons-dragons-youth/2023-07-25/
LOCATION:Elmsdale Library\, 15 Commerce Ct\, Elmsdale\, Nova Scotia\, Canada
CATEGORIES:Events For Kids,Events For Teens,Location: Elmsdale
ATTACH;FMTTYPE=image/png:https://www.lovemylibrary.ca/wp-content/uploads/2022/06/D-and-D.png
END:VEVENT
BEGIN:VEVENT
DTSTART;TZID=America/Halifax:20230725T173000
DTEND;TZID=America/Halifax:20230725T200000
DTSTAMP:20260419T185844
CREATED:20221116T204822Z
LAST-MODIFIED:20230919T183845Z
UID:10004603-1690306200-1690315200@www.lovemylibrary.ca
SUMMARY:Heroes & Adventurers
DESCRIPTION:Role-playing game nights with extraordinary people! We provide the supplies\, you provide the imagination. No experience needed. All ages welcome! \nRegister to play by emailing: HAATruro@gmail.com Sorry\, no drop-in players at this time.
URL:https://www.lovemylibrary.ca/event/heroes-adventurers-3/2023-07-25/
LOCATION:Truro Library\, 754 Prince St\, Truro\, Nova Scotia\, Canada
CATEGORIES:Location: Truro
ATTACH;FMTTYPE=image/png:https://www.lovemylibrary.ca/wp-content/uploads/2022/06/D-and-D.png
END:VEVENT
BEGIN:VEVENT
DTSTART;TZID=America/Halifax:20230725T180000
DTEND;TZID=America/Halifax:20230725T190000
DTSTAMP:20260419T185844
CREATED:20230331T185437Z
LAST-MODIFIED:20230614T143522Z
UID:10004060-1690308000-1690311600@www.lovemylibrary.ca
SUMMARY:Bedtime Storytime
DESCRIPTION:You are getting sleepy. Your eye lids are feeling heavy. Quick\, slip into your pjs and grab your favourite stuffy\, and head to the library as we prepare for a bedtime storytime. All ages are welcome. \nThis is a drop-in program. No registration is needed.
URL:https://www.lovemylibrary.ca/event/bedtime-storytime/
LOCATION:Truro Library\, 754 Prince St\, Truro\, Nova Scotia\, Canada
CATEGORIES:Events For Kids,Location: Truro
ATTACH;FMTTYPE=image/png:https://www.lovemylibrary.ca/wp-content/uploads/2023/03/Untitled-design-35.png
END:VEVENT
BEGIN:VEVENT
DTSTART;TZID=America/Halifax:20230725T183000
DTEND;TZID=America/Halifax:20230725T193000
DTSTAMP:20260419T185844
CREATED:20230422T190214Z
LAST-MODIFIED:20230617T164524Z
UID:10004593-1690309800-1690313400@www.lovemylibrary.ca
SUMMARY:Lego Night for Adults
DESCRIPTION:Love LEGOs? Drop by the Truro Library’s Maker Lab and join our LEGO program\, for adults! All are welcome\, and welcome to bring a LEGO kit you’ve been working on. We will also have a kit available to work on as a group. \nThis is a drop-in program. No registration is required.
URL:https://www.lovemylibrary.ca/event/lego-night-for-adults/2023-07-25/
LOCATION:Truro Library\, 754 Prince St\, Truro\, Nova Scotia\, Canada
CATEGORIES:Events For Adults,Location: Truro
ATTACH;FMTTYPE=image/png:https://www.lovemylibrary.ca/wp-content/uploads/2022/03/Untitled-design3.png
END:VEVENT
BEGIN:VEVENT
DTSTART;TZID=America/Halifax:20230725T183000
DTEND;TZID=America/Halifax:20230725T200000
DTSTAMP:20260419T185844
CREATED:20221020T193052Z
LAST-MODIFIED:20230926T211554Z
UID:10004473-1690309800-1690315200@www.lovemylibrary.ca
SUMMARY:Ewe-niacke Yarn Club
DESCRIPTION:Fiber art for all ages and abilities. Learn to knit or crochet\, bring a project you are working on\, or just come hang out with the club for some social time. All ages welcome. \nDrop in\, no registration required.
URL:https://www.lovemylibrary.ca/event/ewe-niacke-yarn-club-3/2023-07-25/
LOCATION:Mount Uniacke Library\, 555\, Highway 1\, Mount Uniacke\, Nova Scotia\, Canada
CATEGORIES:Crafting,Events For Adults,Events For Kids,Events For Seniors,Location: Mount Uniacke
ATTACH;FMTTYPE=image/png:https://www.lovemylibrary.ca/wp-content/uploads/2022/03/Untitled-design-89.png
END:VEVENT
BEGIN:VEVENT
DTSTART;VALUE=DATE:20230726
DTEND;VALUE=DATE:20230727
DTSTAMP:20260419T185844
CREATED:20230612T185614Z
LAST-MODIFIED:20230612T185614Z
UID:10004469-1690329600-1690415999@www.lovemylibrary.ca
SUMMARY:Choose Your Adventure
DESCRIPTION:Drop into the branch and choose an adventure to complete from our Board of Adventures! Try a new adventure every day. For ages 3-12. \nNo registration required.
URL:https://www.lovemylibrary.ca/event/choose-your-adventure/2023-07-26/
LOCATION:Mount Uniacke Library\, 555\, Highway 1\, Mount Uniacke\, Nova Scotia\, Canada
CATEGORIES:Events For Kids,Location: Mount Uniacke
ATTACH;FMTTYPE=image/png:https://www.lovemylibrary.ca/wp-content/uploads/2023/06/Your-paragraph-text-3.png
END:VEVENT
BEGIN:VEVENT
DTSTART;TZID=America/Halifax:20230726T080000
DTEND;TZID=America/Halifax:20230726T170000
DTSTAMP:20260419T185844
CREATED:20230617T164920Z
LAST-MODIFIED:20230919T161855Z
UID:10005412-1690358400-1690390800@www.lovemylibrary.ca
SUMMARY:Overbooked Social Time
DESCRIPTION:Feeling disconnected and a little out of the loop? Maybe some friendly conversation and companionship would help. Drop by the library for our Overbooked Social Time. Snacks and activities will be on offer. Open to all adults and seniors. \nThis is a drop in program. No registration is required.
URL:https://www.lovemylibrary.ca/event/overbooked-social-time/2023-07-26/1/
LOCATION:Truro Library\, 754 Prince St\, Truro\, Nova Scotia\, Canada
CATEGORIES:Events For Adults,Events For Seniors,Location: Truro
ATTACH;FMTTYPE=image/png:https://www.lovemylibrary.ca/wp-content/uploads/2023/06/Untitled-design-98.png
END:VEVENT
BEGIN:VEVENT
DTSTART;TZID=America/Halifax:20230726T103000
DTEND;TZID=America/Halifax:20230726T113000
DTSTAMP:20260419T185844
CREATED:20230609T165625Z
LAST-MODIFIED:20230609T165625Z
UID:10004448-1690367400-1690371000@www.lovemylibrary.ca
SUMMARY:Summer Storytime
DESCRIPTION:Celebrate summer outdoors with some seasonal storybooks\, songs\, and social time! If the weather doesn’t co-operate\, we will read inside in the Children’s Area. For ages 0-5. \nThis is a drop-in program.  No registration is required.
URL:https://www.lovemylibrary.ca/event/summer-storytime/2023-07-26/
LOCATION:Tatamagouche Library\, 170 Main Street\, Tatamagouche\, Nova Scotia\, Canada
CATEGORIES:Events For Kids,Location: Tatamagouche
ATTACH;FMTTYPE=image/png:https://www.lovemylibrary.ca/wp-content/uploads/2023/06/Add-a-subheading-700-×-500-px-4.png
END:VEVENT
BEGIN:VEVENT
DTSTART;TZID=America/Halifax:20230726T103000
DTEND;TZID=America/Halifax:20230726T113000
DTSTAMP:20260419T185844
CREATED:20230617T164920Z
LAST-MODIFIED:20230919T161855Z
UID:10004594-1690367400-1690371000@www.lovemylibrary.ca
SUMMARY:Overbooked Social Time
DESCRIPTION:Feeling disconnected and a little out of the loop? Maybe some friendly conversation and companionship would help. Drop by the library for our Overbooked Social Time. Snacks and activities will be on offer. Open to all adults and seniors. \nThis is a drop in program. No registration is required.
URL:https://www.lovemylibrary.ca/event/overbooked-social-time/2023-07-26/2/
LOCATION:Truro Library\, 754 Prince St\, Truro\, Nova Scotia\, Canada
CATEGORIES:Events For Adults,Events For Seniors,Location: Truro
ATTACH;FMTTYPE=image/png:https://www.lovemylibrary.ca/wp-content/uploads/2023/06/Untitled-design-98.png
END:VEVENT
BEGIN:VEVENT
DTSTART;TZID=America/Halifax:20230726T110000
DTEND;TZID=America/Halifax:20230726T120000
DTSTAMP:20260419T185844
CREATED:20230614T194611Z
LAST-MODIFIED:20230628T192918Z
UID:10004568-1690369200-1690372800@www.lovemylibrary.ca
SUMMARY:Youth Writing Circle
DESCRIPTION:Do you enjoy writing?  Meet us at the library to share your stories and hone your craft. For ages 9-14 \nThis is a drop in program. No registration is required. For details\, please call 902-883-9838 or email us at elmsdale@cehpubliclibrary.ca
URL:https://www.lovemylibrary.ca/event/youth-writing-circle/2023-07-26/
LOCATION:Nova Scotia
CATEGORIES:Events For Kids,Events For Teens,Location: Elmsdale
ATTACH;FMTTYPE=image/png:https://www.lovemylibrary.ca/wp-content/uploads/2023/06/Untitled-design-93-1.png
END:VEVENT
BEGIN:VEVENT
DTSTART;TZID=America/Halifax:20230726T130000
DTEND;TZID=America/Halifax:20230726T150000
DTSTAMP:20260419T185844
CREATED:20230218T202830Z
LAST-MODIFIED:20230919T161657Z
UID:10004592-1690376400-1690383600@www.lovemylibrary.ca
SUMMARY:Makers in the Maker Lab
DESCRIPTION:Calling all Makers! Drop by for a relaxing afternoon to hang out with fellow crafters. Bring along your ongoing projects like knitting\, crochet\, needlework\, painting or other hands on crafts. For adults \nThis is a drop in program. No registration is required.\n 
URL:https://www.lovemylibrary.ca/event/makers-in-the-maker-lab-2/2023-07-26/
LOCATION:Truro Library\, 754 Prince St\, Truro\, Nova Scotia\, Canada
CATEGORIES:Crafting,Events For Adults,Location: Truro
ATTACH;FMTTYPE=image/png:https://www.lovemylibrary.ca/wp-content/uploads/2023/01/Untitled-design-2023-01-24T155257.327.png
END:VEVENT
BEGIN:VEVENT
DTSTART;TZID=America/Halifax:20230726T140000
DTEND;TZID=America/Halifax:20230726T160000
DTSTAMP:20260419T185844
CREATED:20230615T153422Z
LAST-MODIFIED:20230628T193350Z
UID:10004574-1690380000-1690387200@www.lovemylibrary.ca
SUMMARY:Overbooked Social
DESCRIPTION:Are you looking to connect with people\, retired\, or new to the area?  We would love to see you and welcome you to the library.  Light refreshments available. All adults are welcome. \nThis is a drop in program. No registration is required. For details\, please call us at 902-883-9838 or email us at elmsdale@cehpubliclibrary.ca
URL:https://www.lovemylibrary.ca/event/overbooked-social/2023-07-26/
LOCATION:Elmsdale Library\, 15 Commerce Ct\, Elmsdale\, Nova Scotia\, Canada
CATEGORIES:Events For Adults,Location: Elmsdale
ATTACH;FMTTYPE=image/png:https://www.lovemylibrary.ca/wp-content/uploads/2023/06/Untitled-design-2023-06-19T111314.785.png
END:VEVENT
BEGIN:VEVENT
DTSTART;TZID=America/Halifax:20230726T143000
DTEND;TZID=America/Halifax:20230726T153000
DTSTAMP:20260419T185844
CREATED:20230614T143838Z
LAST-MODIFIED:20230614T144117Z
UID:10004545-1690381800-1690385400@www.lovemylibrary.ca
SUMMARY:Get Crafty!
DESCRIPTION:What will you create? Drop in to the Lab for an unstructured craft time and let your imagination run free! All supplies provided.For ages 5 and up \n 
URL:https://www.lovemylibrary.ca/event/get-crafty/
LOCATION:Truro Library\, 754 Prince St\, Truro\, Nova Scotia\, Canada
CATEGORIES:Crafting,Events For Kids,Location: Truro
ATTACH;FMTTYPE=image/png:https://www.lovemylibrary.ca/wp-content/uploads/2022/03/Untitled-design-57.png
END:VEVENT
BEGIN:VEVENT
DTSTART;TZID=America/Halifax:20230726T143000
DTEND;TZID=America/Halifax:20230726T190000
DTSTAMP:20260419T185844
CREATED:20210830T143625Z
LAST-MODIFIED:20231213T140902Z
UID:10006140-1690381800-1690398000@www.lovemylibrary.ca
SUMMARY:Satellite Library Visit: Kennetcook Fire Hall
DESCRIPTION:Meet us at the Kennetcook Fire Hall where you can browse and borrow materials\, sign up for a Library card\, and hear about our upcoming programs! \n 
URL:https://www.lovemylibrary.ca/event/satellite-library-visit-kennetcook-fire-hall/2023-07-26/
LOCATION:Kennetcook Fire Hall\, 32 Martin Walsh Road\, Kennetcook\, Nova Scotia\, Canada
CATEGORIES:Events For Adults,Events For Kids,Events For Seniors,Events For Teens,Location: Kennetcook
ATTACH;FMTTYPE=image/jpeg:https://www.lovemylibrary.ca/wp-content/uploads/2021/08/16.jpg
END:VEVENT
BEGIN:VEVENT
DTSTART;TZID=America/Halifax:20230726T183000
DTEND;TZID=America/Halifax:20230726T193000
DTSTAMP:20260419T185844
CREATED:20230614T144028Z
LAST-MODIFIED:20230614T144028Z
UID:10004546-1690396200-1690399800@www.lovemylibrary.ca
SUMMARY:Get Crafty!: Tiny Art
DESCRIPTION:Make a mini masterpiece that fits in the palm of your hand! Tiny canvases and normal-sized art supplies provided. For ages 8-14 \nThis is a drop in program. No registration is required.\n 
URL:https://www.lovemylibrary.ca/event/get-crafty-tiny-art/
LOCATION:Truro Library\, 754 Prince St\, Truro\, Nova Scotia\, Canada
CATEGORIES:Events For Kids,Events For Teens,Location: Truro
ATTACH;FMTTYPE=image/png:https://www.lovemylibrary.ca/wp-content/uploads/2023/04/Untitled-design-43.png
END:VEVENT
BEGIN:VEVENT
DTSTART;TZID=America/Halifax:20230727T100000
DTEND;TZID=America/Halifax:20230727T140000
DTSTAMP:20260419T185844
CREATED:20230615T172342Z
LAST-MODIFIED:20230816T145549Z
UID:10004580-1690452000-1690466400@www.lovemylibrary.ca
SUMMARY:scavenger hunt
DESCRIPTION:Let’s get building!  We have tons of LEGO for you to build your masterpiece. All ages are welcome! \nThis is a drop in program. No registration is required. For details\, please call 902-883-9838 or email us at elmsdale@cehpubliclibrary.ca
URL:https://www.lovemylibrary.ca/event/lego-day-2/
LOCATION:Elmsdale Library\, 15 Commerce Ct\, Elmsdale\, Nova Scotia\, Canada
CATEGORIES:Events For Kids,Location: Elmsdale
ATTACH;FMTTYPE=image/png:https://www.lovemylibrary.ca/wp-content/uploads/2022/06/Untitled-design-20.png
END:VEVENT
BEGIN:VEVENT
DTSTART;TZID=America/Halifax:20230727T103000
DTEND;TZID=America/Halifax:20230727T113000
DTSTAMP:20260419T185844
CREATED:20230613T210632Z
LAST-MODIFIED:20230629T174311Z
UID:10004535-1690453800-1690457400@www.lovemylibrary.ca
SUMMARY:Summer Storytime Series
DESCRIPTION:Join us for stories\, songs\, and activities perfect for little ones and their families! All ages are welcome. \nThis is a drop in program. No registration is required.
URL:https://www.lovemylibrary.ca/event/summer-storytime-series/2023-07-27/
LOCATION:Truro Library\, 754 Prince St\, Truro\, Nova Scotia\, Canada
CATEGORIES:Events For Kids,Location: Truro
ATTACH;FMTTYPE=image/png:https://www.lovemylibrary.ca/wp-content/uploads/2022/09/Untitled-design-38.png
END:VEVENT
BEGIN:VEVENT
DTSTART;TZID=America/Halifax:20230727T103000
DTEND;TZID=America/Halifax:20230727T120000
DTSTAMP:20260419T185844
CREATED:20230612T193702Z
LAST-MODIFIED:20230612T193702Z
UID:10004506-1690453800-1690459200@www.lovemylibrary.ca
SUMMARY:Abstract Art
DESCRIPTION:Make your abstract watercolor creation in a stress free\, relaxing environment. For ages 8+. \nNo registration required.
URL:https://www.lovemylibrary.ca/event/abstract-art/
LOCATION:Stewiacke Library\, 295 George Street\, Stewiacke\, Nova Scotia\, Canada
CATEGORIES:Events For Adults,Events For Kids,Events For Seniors,Events For Teens,Location: Stewiacke
ATTACH;FMTTYPE=image/png:https://www.lovemylibrary.ca/wp-content/uploads/2023/06/Your-paragraph-text-17.png
END:VEVENT
BEGIN:VEVENT
DTSTART;TZID=America/Halifax:20230727T140000
DTEND;TZID=America/Halifax:20230727T160000
DTSTAMP:20260419T185844
CREATED:20230613T203815Z
LAST-MODIFIED:20230613T203815Z
UID:10004523-1690466400-1690473600@www.lovemylibrary.ca
SUMMARY:Teen Room Drop In
DESCRIPTION:Get out of the sun this summer in the newly reopened Teen Room!  Grab a snack\, play some games\, make art\, or just hang out with old friends or new ones! For ages 13-18 \nThis is a drop in program. No registration is required.
URL:https://www.lovemylibrary.ca/event/teen-room-drop-in-2/2023-07-27/
LOCATION:Truro Library\, 754 Prince St\, Truro\, Nova Scotia\, Canada
CATEGORIES:Events For Teens,Location: Truro
ATTACH;FMTTYPE=image/png:https://www.lovemylibrary.ca/wp-content/uploads/2023/06/Untitled-design-78.png
END:VEVENT
BEGIN:VEVENT
DTSTART;TZID=America/Halifax:20230727T143000
DTEND;TZID=America/Halifax:20230727T153000
DTSTAMP:20260419T185844
CREATED:20230708T170508Z
LAST-MODIFIED:20230708T170508Z
UID:10004702-1690468200-1690471800@www.lovemylibrary.ca
SUMMARY:Library Camp Out
DESCRIPTION:We are bringing all the fun of camping to the library\, with none of the work. There will be campfire songs\, stories\, games and of course\, snacks. Don’t miss out on the fun. For ages 5-12 \nThis is a drop in program. No registration is required
URL:https://www.lovemylibrary.ca/event/library-camp-out/
LOCATION:Truro Library\, 754 Prince St\, Truro\, Nova Scotia\, Canada
CATEGORIES:Events For Kids,Location: Truro
ATTACH;FMTTYPE=image/png:https://www.lovemylibrary.ca/wp-content/uploads/2023/07/Untitled-design-2023-07-08T141108.576.png
END:VEVENT
BEGIN:VEVENT
DTSTART;TZID=America/Halifax:20230727T150000
DTEND;TZID=America/Halifax:20230727T160000
DTSTAMP:20260419T185844
CREATED:20230612T184238Z
LAST-MODIFIED:20230612T184238Z
UID:10004464-1690470000-1690473600@www.lovemylibrary.ca
SUMMARY:Nature Adventures
DESCRIPTION:We are going on a Nature Adventure. We will start by making binoculars to help on our nature scavenger hunt then head outside to find everything. For ages 3-12. \nTo register\, email mtuniacke@cehpubliclibrary.ca or call 902-866-0124.
URL:https://www.lovemylibrary.ca/event/nature-adventures/
LOCATION:Mount Uniacke Library\, 555\, Highway 1\, Mount Uniacke\, Nova Scotia\, Canada
CATEGORIES:Events For Kids,Location: Mount Uniacke
ATTACH;FMTTYPE=image/png:https://www.lovemylibrary.ca/wp-content/uploads/2023/06/Your-paragraph-text.png
END:VEVENT
BEGIN:VEVENT
DTSTART;TZID=America/Halifax:20230727T173000
DTEND;TZID=America/Halifax:20230727T193000
DTSTAMP:20260419T185844
CREATED:20230215T203141Z
LAST-MODIFIED:20230919T213828Z
UID:10004560-1690479000-1690486200@www.lovemylibrary.ca
SUMMARY:Adult Board Games Night
DESCRIPTION:Get your game on! Come on out for an evening of board games. This is your chance to play some old favourites or learn a new one. For teens and adults. \nThis is a drop-in program. No registration is required. Please call 902-883-9838 or email at elmsdale@cehpubliclibrary.ca for more details
URL:https://www.lovemylibrary.ca/event/adult-board-games-night-6-2/2023-07-27/
LOCATION:Elmsdale Library\, 15 Commerce Ct\, Elmsdale\, Nova Scotia\, Canada
CATEGORIES:Events For Adults,Events For Seniors,Events For Teens,Location: Elmsdale
ATTACH;FMTTYPE=image/png:https://www.lovemylibrary.ca/wp-content/uploads/2023/02/Untitled-design-2023-05-16T103613.895.png
END:VEVENT
BEGIN:VEVENT
DTSTART;TZID=America/Halifax:20230728T100000
DTEND;TZID=America/Halifax:20230728T110000
DTSTAMP:20260419T185844
CREATED:20230609T171053Z
LAST-MODIFIED:20230630T124627Z
UID:10004454-1690538400-1690542000@www.lovemylibrary.ca
SUMMARY:English for Beginners
DESCRIPTION:Is English your second language? If you are wanting to learn English\, then we can help. Learn English with Eve. All are welcome. \nRegistration by phone 902-657-3064 or email: tatamago@cehpubliclibrary.ca
URL:https://www.lovemylibrary.ca/event/english-for-beginners-2-2/2023-07-28/
LOCATION:Tatamagouche Library\, 170 Main Street\, Tatamagouche\, Nova Scotia\, Canada
CATEGORIES:Location: Tatamagouche
ATTACH;FMTTYPE=image/jpeg:https://www.lovemylibrary.ca/wp-content/uploads/2023/03/pexels-tima-miroshnichenko-5428012-scaled.jpg
END:VEVENT
END:VCALENDAR